{"text_format":"1","workbook":"xlsx","n_sheets":4,"sheets":["Cover","Dashboard","Explainer","Database"],"not_rendered":{"charts":0,"images":6,"macros":1,"external_links":0,"defined_names":30,"comments":0,"pivot_tables":0},"unopened":[],"bounds":{"document_bytes":16777216,"sheet_cells":100000,"rows_first":2000,"rows_last":500,"rows_between":2000,"halvings":0,"cell_chars":16384,"cell_head_chars":4096},"cells_cut":0,"cells_raw":0,"read":"whole","date_system":"1900"}

{"sheet":"Cover","index":0,"n_rows":52,"n_cols":12,"rows_kept":52,"cut":false,"hidden":false,"merged":[[51,2,69,20],[12,2,12,20],[49,2,49,20],[14,2,22,20],[23,11,23,14],[25,2,25,20]]}
[]
[]
[]
[]
[]
[]
[]
[null,"NEM Reform Program"]
[null,"Participant Impact Assessment"]
[null,"Last updated: 29 April 2025"]
[]
[]
[null,null,"Overview"]
[]
[null,null,"Version 6 of the NEM Reform Implementation Roadmap highlights a significant number of inflight and anticipated initiatives to be delivered over the coming months and years. These initiatives range in complexity and will have wide ranging impacts across participants with delivery and regulatory congestion remaining a key risk across the NEM Reform Program (Program). \n\nThe Participant Impact Assessment dashboard, developed in collaboration with the Reform Delivery Committee, provides stakeholders with an understanding of the impacts resulting from the current and anticipated delivery schedule under the Program. The dashboard allows users to identify those impacts by industry segment (Wholesale, Network, and Retail / Metering) and individual Participant types alike and can be used as an input to support stakeholders better understand the requirements from the Program over time, allowing this information to be factored into their own planning activities moving forward.\n\n"]
[]
[]
[]
[]
[]
[]
[]
[]
[null,null,"The dashboard is updated on a quarterly basis and  available via AEMO's website è",null,null,null,null,null,null,null,null,"Participant Impact Assessment"]
[]
[null,null,"Dashboard Function"]
[]
[null,null,"The dashboard contains macro enabled functionality. Stakeholders will be required to enable macros in order to utilise the dashboard."]
[]
[]
[]
[]
[]
[]
[]
[]
[]
[]
[]
[]
[]
[]
[]
[]
[]
[]
[]
[]
[]
[null,null,"Important Notice"]
[]
[null,null,"Purpose\nAEMO has prepared this document to provide information about potential impacts resulting from the current and anticipated delivery schedule under the NEM Reform Program, as at the date of publication. \n\nDisclaimer\nThe information in this document is provided for explanatory purposes and may be subsequently updated or amended. This document does not constitute legal, business, engineering or technical advice, and should not be relied on as a substitute for obtaining detailed advice about the National Electricity Law, the National Electricity Rules, or any other applicable laws, procedures or policies. AEMO has made reasonable efforts to ensure the quality of the information in this document but cannot guarantee its accuracy or completeness. \n\nAccordingly, to the maximum extent permitted by law, AEMO and its officers, employees and consultants involved in the preparation of this document:\n• make no representation or warranty, express or implied, as to the currency, accuracy, reliability or completeness of the information in this document; and\n• are not liable (whether by reason of negligence or otherwise) for any statements or representations in this document, or any omissions from it, or for any use or reliance on the information in it.\n\nParticipants are strongly encouraged to conduct their own impact assessment of the NEM Reform Program accounting for their individual circumstances, including other programs of work that may be underway.\n\nCopyright\n© 2025 Australian Energy Market Operator Limited. The material in this publication may be used in accordance with the copyright permissions on AEMO’s website."]

{"sheet":"Dashboard","index":1,"n_rows":207,"n_cols":19,"rows_kept":207,"cut":false,"hidden":false,"merged":[[16,17,17,18],[16,11,17,16],[20,15,20,16],[20,17,20,18],[19,11,19,18],[26,13,26,14],[26,15,26,16],[26,17,26,18],[2,3,6,9],[14,2,14,18],[16,3,17,4],[16,5,17,6],[16,7,17,8],[117,3,117,6],[117,7,117,10],[27,15,27,16],[27,17,27,18],[21,15,21,16],[21,17,21,18],[22,15,22,16],[22,17,22,18],[23,15,23,16],[23,17,23,18],[25,17,25,18],[24,15,24,16],[24,17,24,18],[25,11,25,12],[25,13,25,14],[25,15,25,16],[31,11,31,12],[31,13,31,14],[31,15,31,16],[31,17,31,18],[32,11,32,12],[32,13,32,14],[32,15,32,16],[32,17,32,18],[117,2,118,2],[106,2,107,2],[106,3,106,6],[106,7,106,10],[19,2,20,2],[19,3,19,6],[19,7,19,10],[55,11,55,12],[55,13,55,14],[56,11,56,12],[56,13,56,14],[20,13,20,14],[27,11,27,12],[27,13,27,14],[21,11,21,12],[21,13,21,14],[22,11,22,12],[22,13,22,14],[23,11,23,12],[23,13,23,14],[26,11,26,12],[20,11,20,12],[24,11,24,12],[24,13,24,14],[204,2,205,2],[204,3,204,6],[204,7,204,10],[57,11,57,12],[57,13,57,14],[57,15,57,16],[57,17,57,18],[58,11,58,12],[58,13,58,14],[107,15,107,16],[107,17,107,18],[58,15,58,16],[58,17,58,18],[59,11,59,12],[59,13,59,14],[59,15,59,16],[59,17,59,18],[60,11,60,12],[60,13,60,14],[60,15,60,16],[60,17,60,18],[61,11,61,12],[62,11,62,12],[61,15,61,16],[33,11,33,12],[33,13,33,14],[33,15,33,16],[33,17,33,18],[28,11,28,12],[28,13,28,14],[28,17,28,18],[29,11,29,12],[29,13,29,14],[29,15,29,16],[29,17,29,18],[30,11,30,12],[30,13,30,14],[30,15,30,16],[30,17,30,18],[28,15,28,16],[34,11,34,12],[34,13,34,14],[34,15,34,16],[34,17,34,18],[35,11,35,12],[35,13,35,14],[35,15,35,16],[35,17,35,18],[36,11,36,12],[36,13,36,14],[36,15,36,16],[36,17,36,18],[37,11,37,12],[37,13,37,14],[37,15,37,16],[37,17,37,18],[38,11,38,12],[38,13,38,14],[38,15,38,16],[38,17,38,18],[39,11,39,12],[39,13,39,14],[39,15,39,16],[39,17,39,18],[40,11,40,12],[40,13,40,14],[40,15,40,16],[40,17,40,18],[41,11,41,12],[41,13,41,14],[41,15,41,16],[41,17,41,18],[42,11,42,12],[42,13,42,14],[42,15,42,16],[42,17,42,18],[43,11,43,12],[43,13,43,14],[43,15,43,16],[43,17,43,18],[44,11,44,12],[44,13,44,14],[44,15,44,16],[44,17,44,18],[45,11,45,12],[45,13,45,14],[45,15,45,16],[45,17,45,18],[46,11,46,12],[46,13,46,14],[46,15,46,16],[46,17,46,18],[47,11,47,12],[47,13,47,14],[47,15,47,16],[47,17,47,18],[48,11,48,12],[48,13,48,14],[48,15,48,16],[48,17,48,18],[49,11,49,12],[49,13,49,14],[49,15,49,16],[49,17,49,18],[50,11,50,12],[50,13,50,14],[50,15,50,16],[50,17,50,18],[51,11,51,12],[51,13,51,14],[51,15,51,16],[51,17,51,18],[52,11,52,12],[52,13,52,14],[52,15,52,16],[52,17,52,18],[53,11,53,12],[53,13,53,14],[53,15,53,16],[53,17,53,18],[54,11,54,12],[54,13,54,14],[54,15,54,16],[54,17,54,18],[61,17,61,18],[61,13,61,14],[55,15,55,16],[55,17,55,18],[56,15,56,16],[56,17,56,18],[62,13,62,14],[62,15,62,16],[62,17,62,18],[63,11,63,12],[63,13,63,14],[63,15,63,16],[63,17,63,18],[64,11,64,12],[64,13,64,14],[64,15,64,16],[64,17,64,18],[65,11,65,12],[65,13,65,14],[65,15,65,16],[65,17,65,18],[66,11,66,12],[66,13,66,14],[66,15,66,16],[66,17,66,18],[67,11,67,12],[67,13,67,14],[67,15,67,16],[67,17,67,18],[68,11,68,12],[68,13,68,14],[68,15,68,16],[68,17,68,18],[69,11,69,12],[69,13,69,14],[69,15,69,16],[69,17,69,18],[70,11,70,12],[70,13,70,14],[70,15,70,16],[70,17,70,18],[71,11,71,12],[71,13,71,14],[71,15,71,16],[71,17,71,18],[72,11,72,12],[72,13,72,14],[72,15,72,16],[72,17,72,18],[73,11,73,12],[73,13,73,14],[73,15,73,16],[73,17,73,18],[74,11,74,12],[74,13,74,14],[74,15,74,16],[74,17,74,18],[75,11,75,12],[75,13,75,14],[75,15,75,16],[75,17,75,18],[76,11,76,12],[76,13,76,14],[76,15,76,16],[76,17,76,18],[77,11,77,12],[77,13,77,14],[77,15,77,16],[77,17,77,18],[78,11,78,12],[78,13,78,14],[78,15,78,16],[78,17,78,18],[79,11,79,12],[79,13,79,14],[79,15,79,16],[79,17,79,18],[80,11,80,12],[80,13,80,14],[80,15,80,16],[80,17,80,18],[81,11,81,12],[81,13,81,14],[81,15,81,16],[81,17,81,18],[82,11,82,12],[82,13,82,14],[82,15,82,16],[82,17,82,18],[83,11,83,12],[83,13,83,14],[83,15,83,16],[83,17,83,18],[84,11,84,12],[84,13,84,14],[84,15,84,16],[84,17,84,18],[85,11,85,12],[85,13,85,14],[85,15,85,16],[85,17,85,18],[86,11,86,12],[86,13,86,14],[86,15,86,16],[86,17,86,18],[87,11,87,12],[87,13,87,14],[87,15,87,16],[87,17,87,18],[88,11,88,12],[88,13,88,14],[88,15,88,16],[88,17,88,18],[89,11,89,12],[89,13,89,14],[89,15,89,16],[89,17,89,18],[90,11,90,12],[90,13,90,14],[90,15,90,16],[90,17,90,18],[91,11,91,12],[91,13,91,14],[91,15,91,16],[91,17,91,18],[92,11,92,12],[92,13,92,14],[92,15,92,16],[92,17,92,18],[93,11,93,12],[93,13,93,14],[93,15,93,16],[93,17,93,18],[94,11,94,12],[94,13,94,14],[94,15,94,16],[94,17,94,18],[95,11,95,12],[95,13,95,14],[95,15,95,16],[95,17,95,18],[96,11,96,12],[96,13,96,14],[96,15,96,16],[96,17,96,18],[97,11,97,12],[97,13,97,14],[97,15,97,16],[97,17,97,18],[98,11,98,12],[98,13,98,14],[98,15,98,16],[98,17,98,18],[99,11,99,12],[99,13,99,14],[99,15,99,16],[99,17,99,18],[100,11,100,12],[100,13,100,14],[100,15,100,16],[100,17,100,18],[101,15,101,16],[101,17,101,18],[103,11,103,12],[103,13,103,14],[103,15,103,16],[103,17,103,18],[120,11,120,12],[120,13,120,14],[120,15,120,16],[120,17,120,18],[117,11,117,18],[119,11,119,12],[119,13,119,14],[119,15,119,16],[119,17,119,18],[118,11,118,12],[118,13,118,14],[118,15,118,16],[118,17,118,18],[108,13,108,14],[108,15,108,16],[108,17,108,18],[121,11,121,12],[121,13,121,14],[121,15,121,16],[121,17,121,18],[122,11,122,12],[122,13,122,14],[122,15,122,16],[122,17,122,18],[123,11,123,12],[123,13,123,14],[123,15,123,16],[123,17,123,18],[124,11,124,12],[124,13,124,14],[124,15,124,16],[124,17,124,18],[125,11,125,12],[125,13,125,14],[125,15,125,16],[125,17,125,18],[126,11,126,12],[126,13,126,14],[126,15,126,16],[126,17,126,18],[127,11,127,12],[127,13,127,14],[127,15,127,16],[127,17,127,18],[128,11,128,12],[128,13,128,14],[128,15,128,16],[128,17,128,18],[129,11,129,12],[129,13,129,14],[129,15,129,16],[129,17,129,18],[130,11,130,12],[130,13,130,14],[130,15,130,16],[130,17,130,18],[131,11,131,12],[131,13,131,14],[131,15,131,16],[131,17,131,18],[132,11,132,12],[132,13,132,14],[132,15,132,16],[132,17,132,18],[133,11,133,12],[133,13,133,14],[133,15,133,16],[133,17,133,18],[134,11,134,12],[134,13,134,14],[134,15,134,16],[134,17,134,18],[135,11,135,12],[135,13,135,14],[135,15,135,16],[135,17,135,18],[136,11,136,12],[136,13,136,14],[136,15,136,16],[136,17,136,18],[137,11,137,12],[137,13,137,14],[137,15,137,16],[137,17,137,18],[138,11,138,12],[138,13,138,14],[138,15,138,16],[138,17,138,18],[139,11,139,12],[139,13,139,14],[139,15,139,16],[139,17,139,18],[141,11,141,12],[141,13,141,14],[141,15,141,16],[141,17,141,18],[142,11,142,12],[142,13,142,14],[142,15,142,16],[142,17,142,18],[143,11,143,12],[143,13,143,14],[143,15,143,16],[143,17,143,18],[144,11,144,12],[144,13,144,14],[144,15,144,16],[144,17,144,18],[145,11,145,12],[145,13,145,14],[145,15,145,16],[145,17,145,18],[146,11,146,12],[146,13,146,14],[146,15,146,16],[146,17,146,18],[147,11,147,12],[147,13,147,14],[147,15,147,16],[147,17,147,18],[148,11,148,12],[148,13,148,14],[148,15,148,16],[148,17,148,18],[149,11,149,12],[149,13,149,14],[149,15,149,16],[149,17,149,18],[150,11,150,12],[150,13,150,14],[150,15,150,16],[150,17,150,18],[151,11,151,12],[151,13,151,14],[151,15,151,16],[151,17,151,18],[152,11,152,12],[152,13,152,14],[152,15,152,16],[152,17,152,18],[153,11,153,12],[153,13,153,14],[153,15,153,16],[153,17,153,18],[154,11,154,12],[154,13,154,14],[154,15,154,16],[154,17,154,18],[155,11,155,12],[155,13,155,14],[155,15,155,16],[155,17,155,18],[156,11,156,12],[156,13,156,14],[156,15,156,16],[156,17,156,18],[157,11,157,12],[157,13,157,14],[157,15,157,16],[157,17,157,18],[158,11,158,12],[158,13,158,14],[158,15,158,16],[158,17,158,18],[159,11,159,12],[159,13,159,14],[159,15,159,16],[159,17,159,18],[160,11,160,12],[160,13,160,14],[160,15,160,16],[160,17,160,18],[162,11,162,12],[162,13,162,14],[162,15,162,16],[162,17,162,18],[163,11,163,12],[163,13,163,14],[163,15,163,16],[163,17,163,18],[164,11,164,12],[164,13,164,14],[164,15,164,16],[164,17,164,18],[165,11,165,12],[165,13,165,14],[165,15,165,16],[165,17,165,18],[166,11,166,12],[166,13,166,14],[166,15,166,16],[166,17,166,18],[167,11,167,12],[167,13,167,14],[167,15,167,16],[167,17,167,18],[168,11,168,12],[168,13,168,14],[168,15,168,16],[168,17,168,18],[169,11,169,12],[169,13,169,14],[169,15,169,16],[169,17,169,18],[170,11,170,12],[170,13,170,14],[170,15,170,16],[170,17,170,18],[171,11,171,12],[171,13,171,14],[171,15,171,16],[171,17,171,18],[172,11,172,12],[172,13,172,14],[172,15,172,16],[172,17,172,18],[173,11,173,12],[173,13,173,14],[173,15,173,16],[173,17,173,18],[174,11,174,12],[174,13,174,14],[174,15,174,16],[174,17,174,18],[175,11,175,12],[175,13,175,14],[175,15,175,16],[175,17,175,18],[176,11,176,12],[176,13,176,14],[176,15,176,16],[176,17,176,18],[177,11,177,12],[177,13,177,14],[177,15,177,16],[177,17,177,18],[178,11,178,12],[178,13,178,14],[178,15,178,16],[178,17,178,18],[179,11,179,12],[179,13,179,14],[179,15,179,16],[179,17,179,18],[180,11,180,12],[180,13,180,14],[180,15,180,16],[180,17,180,18],[181,11,181,12],[181,13,181,14],[181,15,181,16],[181,17,181,18],[183,11,183,12],[183,13,183,14],[183,15,183,16],[183,17,183,18],[182,15,182,16],[182,17,182,18],[184,11,184,12],[184,13,184,14],[184,15,184,16],[184,17,184,18],[185,11,185,12],[185,13,185,14],[185,15,185,16],[185,17,185,18],[186,11,186,12],[186,13,186,14],[186,15,186,16],[186,17,186,18],[187,11,187,12],[187,13,187,14],[187,15,187,16],[187,17,187,18],[188,11,188,12],[188,13,188,14],[188,15,188,16],[188,17,188,18],[189,11,189,12],[189,13,189,14],[189,15,189,16],[189,17,189,18],[194,17,194,18],[195,11,195,12],[195,13,195,14],[195,15,195,16],[195,17,195,18],[190,11,190,12],[190,13,190,14],[190,15,190,16],[190,17,190,18],[191,11,191,12],[191,13,191,14],[191,15,191,16],[191,17,191,18],[192,11,192,12],[192,13,192,14],[192,15,192,16],[192,17,192,18],[193,11,193,12],[193,13,193,14],[193,15,193,16],[193,17,193,18],[194,11,194,12],[194,13,194,14],[194,15,194,16],[196,11,196,12],[196,13,196,14],[196,15,196,16],[196,17,196,18],[197,11,197,12],[197,13,197,14],[197,15,197,16],[197,17,197,18],[198,11,198,12],[198,13,198,14],[198,15,198,16],[198,17,198,18],[200,11,200,12],[200,13,200,14],[200,15,200,16],[200,17,200,18],[201,11,201,12],[201,13,201,14],[201,15,201,16],[201,17,201,18],[199,17,199,18],[199,11,199,12],[199,13,199,14],[199,15,199,16],[206,11,206,12],[206,13,206,14],[206,15,206,16],[206,17,206,18],[114,11,115,14],[204,11,204,18],[205,11,205,12],[205,13,205,14],[205,15,205,16],[205,17,205,18],[140,11,140,12],[140,13,140,14],[140,15,140,16],[140,17,140,18],[161,11,161,12],[161,13,161,14],[161,15,161,16],[161,17,161,18],[182,11,182,12],[182,13,182,14],[202,11,202,12],[202,13,202,14],[202,15,202,16],[202,17,202,18],[114,3,115,4],[114,5,115,6],[114,7,115,8],[16,9,17,10],[16,2,17,2],[114,9,115,10],[114,15,115,18],[112,2,112,18],[114,2,115,2],[104,11,104,12],[104,13,104,14],[104,15,104,16],[104,17,104,18],[106,11,106,18],[107,11,107,12],[107,13,107,14],[110,2,110,20],[108,11,108,12],[101,11,101,12],[101,13,101,14],[102,11,102,12],[102,13,102,14],[102,15,102,16],[102,17,102,18]]}
[]
[]
[]
[]
[]
[]
[]
[null,{"$f":"Cover!B8","v":"NEM Reform Program"}]
[null,{"$f":"Cover!B9","v":"Participant Impact Assessment"}]
[null,{"$f":"Cover!B10","v":"Last updated: 29 April 2025"}]
[]
[]
[null,null,"Industry-wide Impact Assessment "]
[]
[null,null,"The Industry-wide Impact Assessment allows Participants and wider stakeholders to understand the level of impact across the industry as a whole, or industry segments at any point in time throughout the Program, and across delivery phases."]
[]
[null,null,"User selections è","Select industry segment è",null,"All",null,"Assess procedures by count or impact è",null,"Impact",null,"Mandatory initiatives only assessed based on Participant Impact Assessment selection è",null,null,null,null,null,{"$f":"Participant_Mandatory","v":"No"}]
[]
[]
[null,null,"Implementations Step - Inflight (I) & Anticipated (A) Initiatives",{"$f":"Start_Yr","v":2025},null,null,null,{"$f":"D20+1","v":2026},null,null,null,{"$f":"H20+1","v":2027}]
[null,null,null,{"$f":"Start_Qtr","v":"Q1"},{"$f":"IF(D21=\"Q4\",\"Q1\",\"Q\"&(RIGHT(D21,1)+1))","v":"Q2"},{"$f":"IF(E21=\"Q4\",\"Q1\",\"Q\"&(RIGHT(E21,1)+1))","v":"Q3"},"Q4","Q1","Q2","Q3","Q4",{"$f":"IF(K21=\"Q4\",\"Q1\",\"Q\"&(RIGHT(K21,1)+1))","v":"Q1"},null,{"$f":"IF(L21=\"Q4\",\"Q1\",\"Q\"&(RIGHT(L21,1)+1))","v":"Q2"},null,{"$f":"IF(N21=\"Q4\",\"Q1\",\"Q\"&(RIGHT(N21,1)+1))","v":"Q3"},null,{"$f":"IF(P21=\"Q4\",\"Q1\",\"Q\"&(RIGHT(P21,1)+1))","v":"Q4"}]
[null,null,"Procedure & Guideline Consultation",{"$f":"IF(AND(Industry_PGAssessment=\"Count\",SUM(D23:D42)>=(Database!$U$21*VLOOKUP(Industry_Segment,Industry_SegmentAdjust,Database!$O$44,FALSE))),\"R\",IF(AND(Industry_PGAssessment=\"Count\",SUM(D23:D42)<(Database!$V$21*VLOOKUP(Industry_Segment,Industry_SegmentAdjust,Database!$O$44,FALSE))),\"G\",\n\nIF(AND(Industry_PGAssessment=\"Impact\",SUM(D23:D42)>=(Database!$U$23*VLOOKUP(Industry_Segment,Industry_SegmentAdjust,Database!$O$44,FALSE))),\"R\",IF(AND(Industry_PGAssessment=\"Impact\",SUM(D23:D42)<(Database!$V$23*VLOOKUP(Industry_Segment,Industry_SegmentAdjust,Database!$O$44,FALSE))),\"G\",\"A\"))))","v":"R"},{"$f":"IF(AND(Industry_PGAssessment=\"Count\",SUM(E23:E42)>=(Database!$U$21*VLOOKUP(Industry_Segment,Industry_SegmentAdjust,Database!$O$44,FALSE))),\"R\",IF(AND(Industry_PGAssessment=\"Count\",SUM(E23:E42)<(Database!$V$21*VLOOKUP(Industry_Segment,Industry_SegmentAdjust,Database!$O$44,FALSE))),\"G\",\n\nIF(AND(Industry_PGAssessment=\"Impact\",SUM(E23:E42)>=(Database!$U$23*VLOOKUP(Industry_Segment,Industry_SegmentAdjust,Database!$O$44,FALSE))),\"R\",IF(AND(Industry_PGAssessment=\"Impact\",SUM(E23:E42)<(Database!$V$23*VLOOKUP(Industry_Segment,Industry_SegmentAdjust,Database!$O$44,FALSE))),\"G\",\"A\"))))","v":"R"},{"$f":"IF(AND(Industry_PGAssessment=\"Count\",SUM(F23:F42)>=(Database!$U$21*VLOOKUP(Industry_Segment,Industry_SegmentAdjust,Database!$O$44,FALSE))),\"R\",IF(AND(Industry_PGAssessment=\"Count\",SUM(F23:F42)<(Database!$V$21*VLOOKUP(Industry_Segment,Industry_SegmentAdjust,Database!$O$44,FALSE))),\"G\",\n\nIF(AND(Industry_PGAssessment=\"Impact\",SUM(F23:F42)>=(Database!$U$23*VLOOKUP(Industry_Segment,Industry_SegmentAdjust,Database!$O$44,FALSE))),\"R\",IF(AND(Industry_PGAssessment=\"Impact\",SUM(F23:F42)<(Database!$V$23*VLOOKUP(Industry_Segment,Industry_SegmentAdjust,Database!$O$44,FALSE))),\"G\",\"A\"))))","v":"R"},{"$f":"IF(AND(Industry_PGAssessment=\"Count\",SUM(G23:G42)>=(Database!$U$21*VLOOKUP(Industry_Segment,Industry_SegmentAdjust,Database!$O$44,FALSE))),\"R\",IF(AND(Industry_PGAssessment=\"Count\",SUM(G23:G42)<(Database!$V$21*VLOOKUP(Industry_Segment,Industry_SegmentAdjust,Database!$O$44,FALSE))),\"G\",\n\nIF(AND(Industry_PGAssessment=\"Impact\",SUM(G23:G42)>=(Database!$U$23*VLOOKUP(Industry_Segment,Industry_SegmentAdjust,Database!$O$44,FALSE))),\"R\",IF(AND(Industry_PGAssessment=\"Impact\",SUM(G23:G42)<(Database!$V$23*VLOOKUP(Industry_Segment,Industry_SegmentAdjust,Database!$O$44,FALSE))),\"G\",\"A\"))))","v":"R"},{"$f":"IF(AND(Industry_PGAssessment=\"Count\",SUM(H23:H42)>=(Database!$U$21*VLOOKUP(Industry_Segment,Industry_SegmentAdjust,Database!$O$44,FALSE))),\"R\",IF(AND(Industry_PGAssessment=\"Count\",SUM(H23:H42)<(Database!$V$21*VLOOKUP(Industry_Segment,Industry_SegmentAdjust,Database!$O$44,FALSE))),\"G\",\n\nIF(AND(Industry_PGAssessment=\"Impact\",SUM(H23:H42)>=(Database!$U$23*VLOOKUP(Industry_Segment,Industry_SegmentAdjust,Database!$O$44,FALSE))),\"R\",IF(AND(Industry_PGAssessment=\"Impact\",SUM(H23:H42)<(Database!$V$23*VLOOKUP(Industry_Segment,Industry_SegmentAdjust,Database!$O$44,FALSE))),\"G\",\"A\"))))","v":"R"},{"$f":"IF(AND(Industry_PGAssessment=\"Count\",SUM(I23:I42)>=(Database!$U$21*VLOOKUP(Industry_Segment,Industry_SegmentAdjust,Database!$O$44,FALSE))),\"R\",IF(AND(Industry_PGAssessment=\"Count\",SUM(I23:I42)<(Database!$V$21*VLOOKUP(Industry_Segment,Industry_SegmentAdjust,Database!$O$44,FALSE))),\"G\",\n\nIF(AND(Industry_PGAssessment=\"Impact\",SUM(I23:I42)>=(Database!$U$23*VLOOKUP(Industry_Segment,Industry_SegmentAdjust,Database!$O$44,FALSE))),\"R\",IF(AND(Industry_PGAssessment=\"Impact\",SUM(I23:I42)<(Database!$V$23*VLOOKUP(Industry_Segment,Industry_SegmentAdjust,Database!$O$44,FALSE))),\"G\",\"A\"))))","v":"A"},{"$f":"IF(AND(Industry_PGAssessment=\"Count\",SUM(J23:J42)>=(Database!$U$21*VLOOKUP(Industry_Segment,Industry_SegmentAdjust,Database!$O$44,FALSE))),\"R\",IF(AND(Industry_PGAssessment=\"Count\",SUM(J23:J42)<(Database!$V$21*VLOOKUP(Industry_Segment,Industry_SegmentAdjust,Database!$O$44,FALSE))),\"G\",\n\nIF(AND(Industry_PGAssessment=\"Impact\",SUM(J23:J42)>=(Database!$U$23*VLOOKUP(Industry_Segment,Industry_SegmentAdjust,Database!$O$44,FALSE))),\"R\",IF(AND(Industry_PGAssessment=\"Impact\",SUM(J23:J42)<(Database!$V$23*VLOOKUP(Industry_Segment,Industry_SegmentAdjust,Database!$O$44,FALSE))),\"G\",\"A\"))))","v":"G"},{"$f":"IF(AND(Industry_PGAssessment=\"Count\",SUM(K23:K42)>=(Database!$U$21*VLOOKUP(Industry_Segment,Industry_SegmentAdjust,Database!$O$44,FALSE))),\"R\",IF(AND(Industry_PGAssessment=\"Count\",SUM(K23:K42)<(Database!$V$21*VLOOKUP(Industry_Segment,Industry_SegmentAdjust,Database!$O$44,FALSE))),\"G\",\n\nIF(AND(Industry_PGAssessment=\"Impact\",SUM(K23:K42)>=(Database!$U$23*VLOOKUP(Industry_Segment,Industry_SegmentAdjust,Database!$O$44,FALSE))),\"R\",IF(AND(Industry_PGAssessment=\"Impact\",SUM(K23:K42)<(Database!$V$23*VLOOKUP(Industry_Segment,Industry_SegmentAdjust,Database!$O$44,FALSE))),\"G\",\"A\"))))","v":"G"},{"$f":"IF(AND(Industry_PGAssessment=\"Count\",SUM(L23:M42)>=(Database!$U$21*VLOOKUP(Industry_Segment,Industry_SegmentAdjust,Database!$O$44,FALSE))),\"R\",IF(AND(Industry_PGAssessment=\"Count\",SUM(L23:M42)<(Database!$V$21*VLOOKUP(Industry_Segment,Industry_SegmentAdjust,Database!$O$44,FALSE))),\"G\",\n\nIF(AND(Industry_PGAssessment=\"Impact\",SUM(L23:M42)>=(Database!$U$23*VLOOKUP(Industry_Segment,Industry_SegmentAdjust,Database!$O$44,FALSE))),\"R\",IF(AND(Industry_PGAssessment=\"Impact\",SUM(L23:M42)<(Database!$V$23*VLOOKUP(Industry_Segment,Industry_SegmentAdjust,Database!$O$44,FALSE))),\"G\",\"A\"))))","v":"G"},null,{"$f":"IF(AND(Industry_PGAssessment=\"Count\",SUM(N23:O42)>=(Database!$U$21*VLOOKUP(Industry_Segment,Industry_SegmentAdjust,Database!$O$44,FALSE))),\"R\",IF(AND(Industry_PGAssessment=\"Count\",SUM(N23:O42)<(Database!$V$21*VLOOKUP(Industry_Segment,Industry_SegmentAdjust,Database!$O$44,FALSE))),\"G\",\n\nIF(AND(Industry_PGAssessment=\"Impact\",SUM(N23:O42)>=(Database!$U$23*VLOOKUP(Industry_Segment,Industry_SegmentAdjust,Database!$O$44,FALSE))),\"R\",IF(AND(Industry_PGAssessment=\"Impact\",SUM(N23:O42)<(Database!$V$23*VLOOKUP(Industry_Segment,Industry_SegmentAdjust,Database!$O$44,FALSE))),\"G\",\"A\"))))","v":"G"},null,{"$f":"IF(AND(Industry_PGAssessment=\"Count\",SUM(P23:Q42)>=(Database!$U$21*VLOOKUP(Industry_Segment,Industry_SegmentAdjust,Database!$O$44,FALSE))),\"R\",IF(AND(Industry_PGAssessment=\"Count\",SUM(P23:Q42)<(Database!$V$21*VLOOKUP(Industry_Segment,Industry_SegmentAdjust,Database!$O$44,FALSE))),\"G\",\n\nIF(AND(Industry_PGAssessment=\"Impact\",SUM(P23:Q42)>=(Database!$U$23*VLOOKUP(Industry_Segment,Industry_SegmentAdjust,Database!$O$44,FALSE))),\"R\",IF(AND(Industry_PGAssessment=\"Impact\",SUM(P23:Q42)<(Database!$V$23*VLOOKUP(Industry_Segment,Industry_SegmentAdjust,Database!$O$44,FALSE))),\"G\",\"A\"))))","v":"G"},null,{"$f":"IF(AND(Industry_PGAssessment=\"Count\",SUM(R23:S42)>=(Database!$U$21*VLOOKUP(Industry_Segment,Industry_SegmentAdjust,Database!$O$44,FALSE))),\"R\",IF(AND(Industry_PGAssessment=\"Count\",SUM(R23:S42)<(Database!$V$21*VLOOKUP(Industry_Segment,Industry_SegmentAdjust,Database!$O$44,FALSE))),\"G\",\n\nIF(AND(Industry_PGAssessment=\"Impact\",SUM(R23:S42)>=(Database!$U$23*VLOOKUP(Industry_Segment,Industry_SegmentAdjust,Database!$O$44,FALSE))),\"R\",IF(AND(Industry_PGAssessment=\"Impact\",SUM(R23:S42)<(Database!$V$23*VLOOKUP(Industry_Segment,Industry_SegmentAdjust,Database!$O$44,FALSE))),\"G\",\"A\"))))","v":"G"}]
[null,null,{"$f":"IF(Database!C48=\"\",\"\",Database!C48)","v":"I - SCADA Lite"},{"$f":"IF($C23=\"\",\"\",IF(VLOOKUP($C23,PG_Flag,Database!R$44,FALSE)=\"\",\"-\",\n\nIF(AND(Industry_PGAssessment=\"Count\",Industry_Segment=Database!$O$119),VLOOKUP($C23,Industry_PGCount,Database!$S$44,FALSE),IF(AND(Industry_PGAssessment=\"Count\",Industry_Segment=Database!$T$95),VLOOKUP($C23,Industry_PGCount,Database!$X$44,FALSE),IF(AND(Industry_PGAssessment=\"Count\",Industry_Segment=Database!$Y$95),VLOOKUP($C23,Industry_PGCount,Database!$AC$44,FALSE),IF(AND(Industry_PGAssessment=\"Count\",Industry_Segment=Database!$AD$95),VLOOKUP($C23,Industry_PGCount,Database!$AH$44,FALSE),\n\nIF(AND(Industry_PGAssessment=\"Impact\",Industry_Segment=Database!$O$119),VLOOKUP($C23,Industry_PGImpact,Database!$S$44,FALSE),IF(AND(Industry_PGAssessment=\"Impact\",Industry_Segment=Database!$T$119),VLOOKUP($C23,Industry_PGImpact,Database!$X$44,FALSE),IF(AND(Industry_PGAssessment=\"Impact\",Industry_Segment=Database!$Y$95),VLOOKUP($C23,Industry_PGImpact,Database!$AC$44,FALSE),IF(AND(Industry_PGAssessment=\"Impact\",Industry_Segment=Database!$AD$119),VLOOKUP($C23,Industry_PGImpact,Database!$AH$44,FALSE),\"Check\"))))))))))","v":1},{"$f":"IF($C23=\"\",\"\",IF(VLOOKUP($C23,PG_Flag,Database!S$44,FALSE)=\"\",\"-\",\n\nIF(AND(Industry_PGAssessment=\"Count\",Industry_Segment=Database!$O$119),VLOOKUP($C23,Industry_PGCount,Database!$S$44,FALSE),IF(AND(Industry_PGAssessment=\"Count\",Industry_Segment=Database!$T$95),VLOOKUP($C23,Industry_PGCount,Database!$X$44,FALSE),IF(AND(Industry_PGAssessment=\"Count\",Industry_Segment=Database!$Y$95),VLOOKUP($C23,Industry_PGCount,Database!$AC$44,FALSE),IF(AND(Industry_PGAssessment=\"Count\",Industry_Segment=Database!$AD$95),VLOOKUP($C23,Industry_PGCount,Database!$AH$44,FALSE),\n\nIF(AND(Industry_PGAssessment=\"Impact\",Industry_Segment=Database!$O$119),VLOOKUP($C23,Industry_PGImpact,Database!$S$44,FALSE),IF(AND(Industry_PGAssessment=\"Impact\",Industry_Segment=Database!$T$119),VLOOKUP($C23,Industry_PGImpact,Database!$X$44,FALSE),IF(AND(Industry_PGAssessment=\"Impact\",Industry_Segment=Database!$Y$95),VLOOKUP($C23,Industry_PGImpact,Database!$AC$44,FALSE),IF(AND(Industry_PGAssessment=\"Impact\",Industry_Segment=Database!$AD$119),VLOOKUP($C23,Industry_PGImpact,Database!$AH$44,FALSE),\"Check\"))))))))))","v":1},{"$f":"IF($C23=\"\",\"\",IF(VLOOKUP($C23,PG_Flag,Database!T$44,FALSE)=\"\",\"-\",\n\nIF(AND(Industry_PGAssessment=\"Count\",Industry_Segment=Database!$O$119),VLOOKUP($C23,Industry_PGCount,Database!$S$44,FALSE),IF(AND(Industry_PGAssessment=\"Count\",Industry_Segment=Database!$T$95),VLOOKUP($C23,Industry_PGCount,Database!$X$44,FALSE),IF(AND(Industry_PGAssessment=\"Count\",Industry_Segment=Database!$Y$95),VLOOKUP($C23,Industry_PGCount,Database!$AC$44,FALSE),IF(AND(Industry_PGAssessment=\"Count\",Industry_Segment=Database!$AD$95),VLOOKUP($C23,Industry_PGCount,Database!$AH$44,FALSE),\n\nIF(AND(Industry_PGAssessment=\"Impact\",Industry_Segment=Database!$O$119),VLOOKUP($C23,Industry_PGImpact,Database!$S$44,FALSE),IF(AND(Industry_PGAssessment=\"Impact\",Industry_Segment=Database!$T$119),VLOOKUP($C23,Industry_PGImpact,Database!$X$44,FALSE),IF(AND(Industry_PGAssessment=\"Impact\",Industry_Segment=Database!$Y$95),VLOOKUP($C23,Industry_PGImpact,Database!$AC$44,FALSE),IF(AND(Industry_PGAssessment=\"Impact\",Industry_Segment=Database!$AD$119),VLOOKUP($C23,Industry_PGImpact,Database!$AH$44,FALSE),\"Check\"))))))))))","v":"-"},{"$f":"IF($C23=\"\",\"\",IF(VLOOKUP($C23,PG_Flag,Database!U$44,FALSE)=\"\",\"-\",\n\nIF(AND(Industry_PGAssessment=\"Count\",Industry_Segment=Database!$O$119),VLOOKUP($C23,Industry_PGCount,Database!$S$44,FALSE),IF(AND(Industry_PGAssessment=\"Count\",Industry_Segment=Database!$T$95),VLOOKUP($C23,Industry_PGCount,Database!$X$44,FALSE),IF(AND(Industry_PGAssessment=\"Count\",Industry_Segment=Database!$Y$95),VLOOKUP($C23,Industry_PGCount,Database!$AC$44,FALSE),IF(AND(Industry_PGAssessment=\"Count\",Industry_Segment=Database!$AD$95),VLOOKUP($C23,Industry_PGCount,Database!$AH$44,FALSE),\n\nIF(AND(Industry_PGAssessment=\"Impact\",Industry_Segment=Database!$O$119),VLOOKUP($C23,Industry_PGImpact,Database!$S$44,FALSE),IF(AND(Industry_PGAssessment=\"Impact\",Industry_Segment=Database!$T$119),VLOOKUP($C23,Industry_PGImpact,Database!$X$44,FALSE),IF(AND(Industry_PGAssessment=\"Impact\",Industry_Segment=Database!$Y$95),VLOOKUP($C23,Industry_PGImpact,Database!$AC$44,FALSE),IF(AND(Industry_PGAssessment=\"Impact\",Industry_Segment=Database!$AD$119),VLOOKUP($C23,Industry_PGImpact,Database!$AH$44,FALSE),\"Check\"))))))))))","v":"-"},{"$f":"IF($C23=\"\",\"\",IF(VLOOKUP($C23,PG_Flag,Database!V$44,FALSE)=\"\",\"-\",\n\nIF(AND(Industry_PGAssessment=\"Count\",Industry_Segment=Database!$O$119),VLOOKUP($C23,Industry_PGCount,Database!$S$44,FALSE),IF(AND(Industry_PGAssessment=\"Count\",Industry_Segment=Database!$T$95),VLOOKUP($C23,Industry_PGCount,Database!$X$44,FALSE),IF(AND(Industry_PGAssessment=\"Count\",Industry_Segment=Database!$Y$95),VLOOKUP($C23,Industry_PGCount,Database!$AC$44,FALSE),IF(AND(Industry_PGAssessment=\"Count\",Industry_Segment=Database!$AD$95),VLOOKUP($C23,Industry_PGCount,Database!$AH$44,FALSE),\n\nIF(AND(Industry_PGAssessment=\"Impact\",Industry_Segment=Database!$O$119),VLOOKUP($C23,Industry_PGImpact,Database!$S$44,FALSE),IF(AND(Industry_PGAssessment=\"Impact\",Industry_Segment=Database!$T$119),VLOOKUP($C23,Industry_PGImpact,Database!$X$44,FALSE),IF(AND(Industry_PGAssessment=\"Impact\",Industry_Segment=Database!$Y$95),VLOOKUP($C23,Industry_PGImpact,Database!$AC$44,FALSE),IF(AND(Industry_PGAssessment=\"Impact\",Industry_Segment=Database!$AD$119),VLOOKUP($C23,Industry_PGImpact,Database!$AH$44,FALSE),\"Check\"))))))))))","v":"-"},{"$f":"IF($C23=\"\",\"\",IF(VLOOKUP($C23,PG_Flag,Database!W$44,FALSE)=\"\",\"-\",\n\nIF(AND(Industry_PGAssessment=\"Count\",Industry_Segment=Database!$O$119),VLOOKUP($C23,Industry_PGCount,Database!$S$44,FALSE),IF(AND(Industry_PGAssessment=\"Count\",Industry_Segment=Database!$T$95),VLOOKUP($C23,Industry_PGCount,Database!$X$44,FALSE),IF(AND(Industry_PGAssessment=\"Count\",Industry_Segment=Database!$Y$95),VLOOKUP($C23,Industry_PGCount,Database!$AC$44,FALSE),IF(AND(Industry_PGAssessment=\"Count\",Industry_Segment=Database!$AD$95),VLOOKUP($C23,Industry_PGCount,Database!$AH$44,FALSE),\n\nIF(AND(Industry_PGAssessment=\"Impact\",Industry_Segment=Database!$O$119),VLOOKUP($C23,Industry_PGImpact,Database!$S$44,FALSE),IF(AND(Industry_PGAssessment=\"Impact\",Industry_Segment=Database!$T$119),VLOOKUP($C23,Industry_PGImpact,Database!$X$44,FALSE),IF(AND(Industry_PGAssessment=\"Impact\",Industry_Segment=Database!$Y$95),VLOOKUP($C23,Industry_PGImpact,Database!$AC$44,FALSE),IF(AND(Industry_PGAssessment=\"Impact\",Industry_Segment=Database!$AD$119),VLOOKUP($C23,Industry_PGImpact,Database!$AH$44,FALSE),\"Check\"))))))))))","v":"-"},{"$f":"IF($C23=\"\",\"\",IF(VLOOKUP($C23,PG_Flag,Database!X$44,FALSE)=\"\",\"-\",\n\nIF(AND(Industry_PGAssessment=\"Count\",Industry_Segment=Database!$O$119),VLOOKUP($C23,Industry_PGCount,Database!$S$44,FALSE),IF(AND(Industry_PGAssessment=\"Count\",Industry_Segment=Database!$T$95),VLOOKUP($C23,Industry_PGCount,Database!$X$44,FALSE),IF(AND(Industry_PGAssessment=\"Count\",Industry_Segment=Database!$Y$95),VLOOKUP($C23,Industry_PGCount,Database!$AC$44,FALSE),IF(AND(Industry_PGAssessment=\"Count\",Industry_Segment=Database!$AD$95),VLOOKUP($C23,Industry_PGCount,Database!$AH$44,FALSE),\n\nIF(AND(Industry_PGAssessment=\"Impact\",Industry_Segment=Database!$O$119),VLOOKUP($C23,Industry_PGImpact,Database!$S$44,FALSE),IF(AND(Industry_PGAssessment=\"Impact\",Industry_Segment=Database!$T$119),VLOOKUP($C23,Industry_PGImpact,Database!$X$44,FALSE),IF(AND(Industry_PGAssessment=\"Impact\",Industry_Segment=Database!$Y$95),VLOOKUP($C23,Industry_PGImpact,Database!$AC$44,FALSE),IF(AND(Industry_PGAssessment=\"Impact\",Industry_Segment=Database!$AD$119),VLOOKUP($C23,Industry_PGImpact,Database!$AH$44,FALSE),\"Check\"))))))))))","v":"-"},{"$f":"IF($C23=\"\",\"\",IF(VLOOKUP($C23,PG_Flag,Database!Y$44,FALSE)=\"\",\"-\",\n\nIF(AND(Industry_PGAssessment=\"Count\",Industry_Segment=Database!$O$119),VLOOKUP($C23,Industry_PGCount,Database!$S$44,FALSE),IF(AND(Industry_PGAssessment=\"Count\",Industry_Segment=Database!$T$95),VLOOKUP($C23,Industry_PGCount,Database!$X$44,FALSE),IF(AND(Industry_PGAssessment=\"Count\",Industry_Segment=Database!$Y$95),VLOOKUP($C23,Industry_PGCount,Database!$AC$44,FALSE),IF(AND(Industry_PGAssessment=\"Count\",Industry_Segment=Database!$AD$95),VLOOKUP($C23,Industry_PGCount,Database!$AH$44,FALSE),\n\nIF(AND(Industry_PGAssessment=\"Impact\",Industry_Segment=Database!$O$119),VLOOKUP($C23,Industry_PGImpact,Database!$S$44,FALSE),IF(AND(Industry_PGAssessment=\"Impact\",Industry_Segment=Database!$T$119),VLOOKUP($C23,Industry_PGImpact,Database!$X$44,FALSE),IF(AND(Industry_PGAssessment=\"Impact\",Industry_Segment=Database!$Y$95),VLOOKUP($C23,Industry_PGImpact,Database!$AC$44,FALSE),IF(AND(Industry_PGAssessment=\"Impact\",Industry_Segment=Database!$AD$119),VLOOKUP($C23,Industry_PGImpact,Database!$AH$44,FALSE),\"Check\"))))))))))","v":"-"},{"$f":"IF($C23=\"\",\"\",IF(VLOOKUP($C23,PG_Flag,Database!Z$44,FALSE)=\"\",\"-\",\n\nIF(AND(Industry_PGAssessment=\"Count\",Industry_Segment=Database!$O$119),VLOOKUP($C23,Industry_PGCount,Database!$S$44,FALSE),IF(AND(Industry_PGAssessment=\"Count\",Industry_Segment=Database!$T$95),VLOOKUP($C23,Industry_PGCount,Database!$X$44,FALSE),IF(AND(Industry_PGAssessment=\"Count\",Industry_Segment=Database!$Y$95),VLOOKUP($C23,Industry_PGCount,Database!$AC$44,FALSE),IF(AND(Industry_PGAssessment=\"Count\",Industry_Segment=Database!$AD$95),VLOOKUP($C23,Industry_PGCount,Database!$AH$44,FALSE),\n\nIF(AND(Industry_PGAssessment=\"Impact\",Industry_Segment=Database!$O$119),VLOOKUP($C23,Industry_PGImpact,Database!$S$44,FALSE),IF(AND(Industry_PGAssessment=\"Impact\",Industry_Segment=Database!$T$119),VLOOKUP($C23,Industry_PGImpact,Database!$X$44,FALSE),IF(AND(Industry_PGAssessment=\"Impact\",Industry_Segment=Database!$Y$95),VLOOKUP($C23,Industry_PGImpact,Database!$AC$44,FALSE),IF(AND(Industry_PGAssessment=\"Impact\",Industry_Segment=Database!$AD$119),VLOOKUP($C23,Industry_PGImpact,Database!$AH$44,FALSE),\"Check\"))))))))))","v":"-"},null,{"$f":"IF($C23=\"\",\"\",IF(VLOOKUP($C23,PG_Flag,Database!AA$44,FALSE)=\"\",\"-\",\n\nIF(AND(Industry_PGAssessment=\"Count\",Industry_Segment=Database!$O$119),VLOOKUP($C23,Industry_PGCount,Database!$S$44,FALSE),IF(AND(Industry_PGAssessment=\"Count\",Industry_Segment=Database!$T$95),VLOOKUP($C23,Industry_PGCount,Database!$X$44,FALSE),IF(AND(Industry_PGAssessment=\"Count\",Industry_Segment=Database!$Y$95),VLOOKUP($C23,Industry_PGCount,Database!$AC$44,FALSE),IF(AND(Industry_PGAssessment=\"Count\",Industry_Segment=Database!$AD$95),VLOOKUP($C23,Industry_PGCount,Database!$AH$44,FALSE),\n\nIF(AND(Industry_PGAssessment=\"Impact\",Industry_Segment=Database!$O$119),VLOOKUP($C23,Industry_PGImpact,Database!$S$44,FALSE),IF(AND(Industry_PGAssessment=\"Impact\",Industry_Segment=Database!$T$119),VLOOKUP($C23,Industry_PGImpact,Database!$X$44,FALSE),IF(AND(Industry_PGAssessment=\"Impact\",Industry_Segment=Database!$Y$95),VLOOKUP($C23,Industry_PGImpact,Database!$AC$44,FALSE),IF(AND(Industry_PGAssessment=\"Impact\",Industry_Segment=Database!$AD$119),VLOOKUP($C23,Industry_PGImpact,Database!$AH$44,FALSE),\"Check\"))))))))))","v":"-"},null,{"$f":"IF($C23=\"\",\"\",IF(VLOOKUP($C23,PG_Flag,Database!AB$44,FALSE)=\"\",\"-\",\n\nIF(AND(Industry_PGAssessment=\"Count\",Industry_Segment=Database!$O$119),VLOOKUP($C23,Industry_PGCount,Database!$S$44,FALSE),IF(AND(Industry_PGAssessment=\"Count\",Industry_Segment=Database!$T$95),VLOOKUP($C23,Industry_PGCount,Database!$X$44,FALSE),IF(AND(Industry_PGAssessment=\"Count\",Industry_Segment=Database!$Y$95),VLOOKUP($C23,Industry_PGCount,Database!$AC$44,FALSE),IF(AND(Industry_PGAssessment=\"Count\",Industry_Segment=Database!$AD$95),VLOOKUP($C23,Industry_PGCount,Database!$AH$44,FALSE),\n\nIF(AND(Industry_PGAssessment=\"Impact\",Industry_Segment=Database!$O$119),VLOOKUP($C23,Industry_PGImpact,Database!$S$44,FALSE),IF(AND(Industry_PGAssessment=\"Impact\",Industry_Segment=Database!$T$119),VLOOKUP($C23,Industry_PGImpact,Database!$X$44,FALSE),IF(AND(Industry_PGAssessment=\"Impact\",Industry_Segment=Database!$Y$95),VLOOKUP($C23,Industry_PGImpact,Database!$AC$44,FALSE),IF(AND(Industry_PGAssessment=\"Impact\",Industry_Segment=Database!$AD$119),VLOOKUP($C23,Industry_PGImpact,Database!$AH$44,FALSE),\"Check\"))))))))))","v":"-"},null,{"$f":"IF($C23=\"\",\"\",IF(VLOOKUP($C23,PG_Flag,Database!AC$44,FALSE)=\"\",\"-\",\n\nIF(AND(Industry_PGAssessment=\"Count\",Industry_Segment=Database!$O$119),VLOOKUP($C23,Industry_PGCount,Database!$S$44,FALSE),IF(AND(Industry_PGAssessment=\"Count\",Industry_Segment=Database!$T$95),VLOOKUP($C23,Industry_PGCount,Database!$X$44,FALSE),IF(AND(Industry_PGAssessment=\"Count\",Industry_Segment=Database!$Y$95),VLOOKUP($C23,Industry_PGCount,Database!$AC$44,FALSE),IF(AND(Industry_PGAssessment=\"Count\",Industry_Segment=Database!$AD$95),VLOOKUP($C23,Industry_PGCount,Database!$AH$44,FALSE),\n\nIF(AND(Industry_PGAssessment=\"Impact\",Industry_Segment=Database!$O$119),VLOOKUP($C23,Industry_PGImpact,Database!$S$44,FALSE),IF(AND(Industry_PGAssessment=\"Impact\",Industry_Segment=Database!$T$119),VLOOKUP($C23,Industry_PGImpact,Database!$X$44,FALSE),IF(AND(Industry_PGAssessment=\"Impact\",Industry_Segment=Database!$Y$95),VLOOKUP($C23,Industry_PGImpact,Database!$AC$44,FALSE),IF(AND(Industry_PGAssessment=\"Impact\",Industry_Segment=Database!$AD$119),VLOOKUP($C23,Industry_PGImpact,Database!$AH$44,FALSE),\"Check\"))))))))))","v":"-"}]
[null,null,{"$f":"IF(Database!C49=\"\",\"\",Database!C49)","v":"I - Frequency Performance Payments"},{"$f":"IF($C24=\"\",\"\",IF(VLOOKUP($C24,PG_Flag,Database!R$44,FALSE)=\"\",\"-\",\n\nIF(AND(Industry_PGAssessment=\"Count\",Industry_Segment=Database!$O$119),VLOOKUP($C24,Industry_PGCount,Database!$S$44,FALSE),IF(AND(Industry_PGAssessment=\"Count\",Industry_Segment=Database!$T$95),VLOOKUP($C24,Industry_PGCount,Database!$X$44,FALSE),IF(AND(Industry_PGAssessment=\"Count\",Industry_Segment=Database!$Y$95),VLOOKUP($C24,Industry_PGCount,Database!$AC$44,FALSE),IF(AND(Industry_PGAssessment=\"Count\",Industry_Segment=Database!$AD$95),VLOOKUP($C24,Industry_PGCount,Database!$AH$44,FALSE),\n\nIF(AND(Industry_PGAssessment=\"Impact\",Industry_Segment=Database!$O$119),VLOOKUP($C24,Industry_PGImpact,Database!$S$44,FALSE),IF(AND(Industry_PGAssessment=\"Impact\",Industry_Segment=Database!$T$119),VLOOKUP($C24,Industry_PGImpact,Database!$X$44,FALSE),IF(AND(Industry_PGAssessment=\"Impact\",Industry_Segment=Database!$Y$95),VLOOKUP($C24,Industry_PGImpact,Database!$AC$44,FALSE),IF(AND(Industry_PGAssessment=\"Impact\",Industry_Segment=Database!$AD$119),VLOOKUP($C24,Industry_PGImpact,Database!$AH$44,FALSE),\"Check\"))))))))))","v":"-"},{"$f":"IF($C24=\"\",\"\",IF(VLOOKUP($C24,PG_Flag,Database!S$44,FALSE)=\"\",\"-\",\n\nIF(AND(Industry_PGAssessment=\"Count\",Industry_Segment=Database!$O$119),VLOOKUP($C24,Industry_PGCount,Database!$S$44,FALSE),IF(AND(Industry_PGAssessment=\"Count\",Industry_Segment=Database!$T$95),VLOOKUP($C24,Industry_PGCount,Database!$X$44,FALSE),IF(AND(Industry_PGAssessment=\"Count\",Industry_Segment=Database!$Y$95),VLOOKUP($C24,Industry_PGCount,Database!$AC$44,FALSE),IF(AND(Industry_PGAssessment=\"Count\",Industry_Segment=Database!$AD$95),VLOOKUP($C24,Industry_PGCount,Database!$AH$44,FALSE),\n\nIF(AND(Industry_PGAssessment=\"Impact\",Industry_Segment=Database!$O$119),VLOOKUP($C24,Industry_PGImpact,Database!$S$44,FALSE),IF(AND(Industry_PGAssessment=\"Impact\",Industry_Segment=Database!$T$119),VLOOKUP($C24,Industry_PGImpact,Database!$X$44,FALSE),IF(AND(Industry_PGAssessment=\"Impact\",Industry_Segment=Database!$Y$95),VLOOKUP($C24,Industry_PGImpact,Database!$AC$44,FALSE),IF(AND(Industry_PGAssessment=\"Impact\",Industry_Segment=Database!$AD$119),VLOOKUP($C24,Industry_PGImpact,Database!$AH$44,FALSE),\"Check\"))))))))))","v":"-"},{"$f":"IF($C24=\"\",\"\",IF(VLOOKUP($C24,PG_Flag,Database!T$44,FALSE)=\"\",\"-\",\n\nIF(AND(Industry_PGAssessment=\"Count\",Industry_Segment=Database!$O$119),VLOOKUP($C24,Industry_PGCount,Database!$S$44,FALSE),IF(AND(Industry_PGAssessment=\"Count\",Industry_Segment=Database!$T$95),VLOOKUP($C24,Industry_PGCount,Database!$X$44,FALSE),IF(AND(Industry_PGAssessment=\"Count\",Industry_Segment=Database!$Y$95),VLOOKUP($C24,Industry_PGCount,Database!$AC$44,FALSE),IF(AND(Industry_PGAssessment=\"Count\",Industry_Segment=Database!$AD$95),VLOOKUP($C24,Industry_PGCount,Database!$AH$44,FALSE),\n\nIF(AND(Industry_PGAssessment=\"Impact\",Industry_Segment=Database!$O$119),VLOOKUP($C24,Industry_PGImpact,Database!$S$44,FALSE),IF(AND(Industry_PGAssessment=\"Impact\",Industry_Segment=Database!$T$119),VLOOKUP($C24,Industry_PGImpact,Database!$X$44,FALSE),IF(AND(Industry_PGAssessment=\"Impact\",Industry_Segment=Database!$Y$95),VLOOKUP($C24,Industry_PGImpact,Database!$AC$44,FALSE),IF(AND(Industry_PGAssessment=\"Impact\",Industry_Segment=Database!$AD$119),VLOOKUP($C24,Industry_PGImpact,Database!$AH$44,FALSE),\"Check\"))))))))))","v":"-"},{"$f":"IF($C24=\"\",\"\",IF(VLOOKUP($C24,PG_Flag,Database!U$44,FALSE)=\"\",\"-\",\n\nIF(AND(Industry_PGAssessment=\"Count\",Industry_Segment=Database!$O$119),VLOOKUP($C24,Industry_PGCount,Database!$S$44,FALSE),IF(AND(Industry_PGAssessment=\"Count\",Industry_Segment=Database!$T$95),VLOOKUP($C24,Industry_PGCount,Database!$X$44,FALSE),IF(AND(Industry_PGAssessment=\"Count\",Industry_Segment=Database!$Y$95),VLOOKUP($C24,Industry_PGCount,Database!$AC$44,FALSE),IF(AND(Industry_PGAssessment=\"Count\",Industry_Segment=Database!$AD$95),VLOOKUP($C24,Industry_PGCount,Database!$AH$44,FALSE),\n\nIF(AND(Industry_PGAssessment=\"Impact\",Industry_Segment=Database!$O$119),VLOOKUP($C24,Industry_PGImpact,Database!$S$44,FALSE),IF(AND(Industry_PGAssessment=\"Impact\",Industry_Segment=Database!$T$119),VLOOKUP($C24,Industry_PGImpact,Database!$X$44,FALSE),IF(AND(Industry_PGAssessment=\"Impact\",Industry_Segment=Database!$Y$95),VLOOKUP($C24,Industry_PGImpact,Database!$AC$44,FALSE),IF(AND(Industry_PGAssessment=\"Impact\",Industry_Segment=Database!$AD$119),VLOOKUP($C24,Industry_PGImpact,Database!$AH$44,FALSE),\"Check\"))))))))))","v":"-"},{"$f":"IF($C24=\"\",\"\",IF(VLOOKUP($C24,PG_Flag,Database!V$44,FALSE)=\"\",\"-\",\n\nIF(AND(Industry_PGAssessment=\"Count\",Industry_Segment=Database!$O$119),VLOOKUP($C24,Industry_PGCount,Database!$S$44,FALSE),IF(AND(Industry_PGAssessment=\"Count\",Industry_Segment=Database!$T$95),VLOOKUP($C24,Industry_PGCount,Database!$X$44,FALSE),IF(AND(Industry_PGAssessment=\"Count\",Industry_Segment=Database!$Y$95),VLOOKUP($C24,Industry_PGCount,Database!$AC$44,FALSE),IF(AND(Industry_PGAssessment=\"Count\",Industry_Segment=Database!$AD$95),VLOOKUP($C24,Industry_PGCount,Database!$AH$44,FALSE),\n\nIF(AND(Industry_PGAssessment=\"Impact\",Industry_Segment=Database!$O$119),VLOOKUP($C24,Industry_PGImpact,Database!$S$44,FALSE),IF(AND(Industry_PGAssessment=\"Impact\",Industry_Segment=Database!$T$119),VLOOKUP($C24,Industry_PGImpact,Database!$X$44,FALSE),IF(AND(Industry_PGAssessment=\"Impact\",Industry_Segment=Database!$Y$95),VLOOKUP($C24,Industry_PGImpact,Database!$AC$44,FALSE),IF(AND(Industry_PGAssessment=\"Impact\",Industry_Segment=Database!$AD$119),VLOOKUP($C24,Industry_PGImpact,Database!$AH$44,FALSE),\"Check\"))))))))))","v":"-"},{"$f":"IF($C24=\"\",\"\",IF(VLOOKUP($C24,PG_Flag,Database!W$44,FALSE)=\"\",\"-\",\n\nIF(AND(Industry_PGAssessment=\"Count\",Industry_Segment=Database!$O$119),VLOOKUP($C24,Industry_PGCount,Database!$S$44,FALSE),IF(AND(Industry_PGAssessment=\"Count\",Industry_Segment=Database!$T$95),VLOOKUP($C24,Industry_PGCount,Database!$X$44,FALSE),IF(AND(Industry_PGAssessment=\"Count\",Industry_Segment=Database!$Y$95),VLOOKUP($C24,Industry_PGCount,Database!$AC$44,FALSE),IF(AND(Industry_PGAssessment=\"Count\",Industry_Segment=Database!$AD$95),VLOOKUP($C24,Industry_PGCount,Database!$AH$44,FALSE),\n\nIF(AND(Industry_PGAssessment=\"Impact\",Industry_Segment=Database!$O$119),VLOOKUP($C24,Industry_PGImpact,Database!$S$44,FALSE),IF(AND(Industry_PGAssessment=\"Impact\",Industry_Segment=Database!$T$119),VLOOKUP($C24,Industry_PGImpact,Database!$X$44,FALSE),IF(AND(Industry_PGAssessment=\"Impact\",Industry_Segment=Database!$Y$95),VLOOKUP($C24,Industry_PGImpact,Database!$AC$44,FALSE),IF(AND(Industry_PGAssessment=\"Impact\",Industry_Segment=Database!$AD$119),VLOOKUP($C24,Industry_PGImpact,Database!$AH$44,FALSE),\"Check\"))))))))))","v":"-"},{"$f":"IF($C24=\"\",\"\",IF(VLOOKUP($C24,PG_Flag,Database!X$44,FALSE)=\"\",\"-\",\n\nIF(AND(Industry_PGAssessment=\"Count\",Industry_Segment=Database!$O$119),VLOOKUP($C24,Industry_PGCount,Database!$S$44,FALSE),IF(AND(Industry_PGAssessment=\"Count\",Industry_Segment=Database!$T$95),VLOOKUP($C24,Industry_PGCount,Database!$X$44,FALSE),IF(AND(Industry_PGAssessment=\"Count\",Industry_Segment=Database!$Y$95),VLOOKUP($C24,Industry_PGCount,Database!$AC$44,FALSE),IF(AND(Industry_PGAssessment=\"Count\",Industry_Segment=Database!$AD$95),VLOOKUP($C24,Industry_PGCount,Database!$AH$44,FALSE),\n\nIF(AND(Industry_PGAssessment=\"Impact\",Industry_Segment=Database!$O$119),VLOOKUP($C24,Industry_PGImpact,Database!$S$44,FALSE),IF(AND(Industry_PGAssessment=\"Impact\",Industry_Segment=Database!$T$119),VLOOKUP($C24,Industry_PGImpact,Database!$X$44,FALSE),IF(AND(Industry_PGAssessment=\"Impact\",Industry_Segment=Database!$Y$95),VLOOKUP($C24,Industry_PGImpact,Database!$AC$44,FALSE),IF(AND(Industry_PGAssessment=\"Impact\",Industry_Segment=Database!$AD$119),VLOOKUP($C24,Industry_PGImpact,Database!$AH$44,FALSE),\"Check\"))))))))))","v":"-"},{"$f":"IF($C24=\"\",\"\",IF(VLOOKUP($C24,PG_Flag,Database!Y$44,FALSE)=\"\",\"-\",\n\nIF(AND(Industry_PGAssessment=\"Count\",Industry_Segment=Database!$O$119),VLOOKUP($C24,Industry_PGCount,Database!$S$44,FALSE),IF(AND(Industry_PGAssessment=\"Count\",Industry_Segment=Database!$T$95),VLOOKUP($C24,Industry_PGCount,Database!$X$44,FALSE),IF(AND(Industry_PGAssessment=\"Count\",Industry_Segment=Database!$Y$95),VLOOKUP($C24,Industry_PGCount,Database!$AC$44,FALSE),IF(AND(Industry_PGAssessment=\"Count\",Industry_Segment=Database!$AD$95),VLOOKUP($C24,Industry_PGCount,Database!$AH$44,FALSE),\n\nIF(AND(Industry_PGAssessment=\"Impact\",Industry_Segment=Database!$O$119),VLOOKUP($C24,Industry_PGImpact,Database!$S$44,FALSE),IF(AND(Industry_PGAssessment=\"Impact\",Industry_Segment=Database!$T$119),VLOOKUP($C24,Industry_PGImpact,Database!$X$44,FALSE),IF(AND(Industry_PGAssessment=\"Impact\",Industry_Segment=Database!$Y$95),VLOOKUP($C24,Industry_PGImpact,Database!$AC$44,FALSE),IF(AND(Industry_PGAssessment=\"Impact\",Industry_Segment=Database!$AD$119),VLOOKUP($C24,Industry_PGImpact,Database!$AH$44,FALSE),\"Check\"))))))))))","v":"-"},{"$f":"IF($C24=\"\",\"\",IF(VLOOKUP($C24,PG_Flag,Database!Z$44,FALSE)=\"\",\"-\",\n\nIF(AND(Industry_PGAssessment=\"Count\",Industry_Segment=Database!$O$119),VLOOKUP($C24,Industry_PGCount,Database!$S$44,FALSE),IF(AND(Industry_PGAssessment=\"Count\",Industry_Segment=Database!$T$95),VLOOKUP($C24,Industry_PGCount,Database!$X$44,FALSE),IF(AND(Industry_PGAssessment=\"Count\",Industry_Segment=Database!$Y$95),VLOOKUP($C24,Industry_PGCount,Database!$AC$44,FALSE),IF(AND(Industry_PGAssessment=\"Count\",Industry_Segment=Database!$AD$95),VLOOKUP($C24,Industry_PGCount,Database!$AH$44,FALSE),\n\nIF(AND(Industry_PGAssessment=\"Impact\",Industry_Segment=Database!$O$119),VLOOKUP($C24,Industry_PGImpact,Database!$S$44,FALSE),IF(AND(Industry_PGAssessment=\"Impact\",Industry_Segment=Database!$T$119),VLOOKUP($C24,Industry_PGImpact,Database!$X$44,FALSE),IF(AND(Industry_PGAssessment=\"Impact\",Industry_Segment=Database!$Y$95),VLOOKUP($C24,Industry_PGImpact,Database!$AC$44,FALSE),IF(AND(Industry_PGAssessment=\"Impact\",Industry_Segment=Database!$AD$119),VLOOKUP($C24,Industry_PGImpact,Database!$AH$44,FALSE),\"Check\"))))))))))","v":"-"},null,{"$f":"IF($C24=\"\",\"\",IF(VLOOKUP($C24,PG_Flag,Database!AA$44,FALSE)=\"\",\"-\",\n\nIF(AND(Industry_PGAssessment=\"Count\",Industry_Segment=Database!$O$119),VLOOKUP($C24,Industry_PGCount,Database!$S$44,FALSE),IF(AND(Industry_PGAssessment=\"Count\",Industry_Segment=Database!$T$95),VLOOKUP($C24,Industry_PGCount,Database!$X$44,FALSE),IF(AND(Industry_PGAssessment=\"Count\",Industry_Segment=Database!$Y$95),VLOOKUP($C24,Industry_PGCount,Database!$AC$44,FALSE),IF(AND(Industry_PGAssessment=\"Count\",Industry_Segment=Database!$AD$95),VLOOKUP($C24,Industry_PGCount,Database!$AH$44,FALSE),\n\nIF(AND(Industry_PGAssessment=\"Impact\",Industry_Segment=Database!$O$119),VLOOKUP($C24,Industry_PGImpact,Database!$S$44,FALSE),IF(AND(Industry_PGAssessment=\"Impact\",Industry_Segment=Database!$T$119),VLOOKUP($C24,Industry_PGImpact,Database!$X$44,FALSE),IF(AND(Industry_PGAssessment=\"Impact\",Industry_Segment=Database!$Y$95),VLOOKUP($C24,Industry_PGImpact,Database!$AC$44,FALSE),IF(AND(Industry_PGAssessment=\"Impact\",Industry_Segment=Database!$AD$119),VLOOKUP($C24,Industry_PGImpact,Database!$AH$44,FALSE),\"Check\"))))))))))","v":"-"},null,{"$f":"IF($C24=\"\",\"\",IF(VLOOKUP($C24,PG_Flag,Database!AB$44,FALSE)=\"\",\"-\",\n\nIF(AND(Industry_PGAssessment=\"Count\",Industry_Segment=Database!$O$119),VLOOKUP($C24,Industry_PGCount,Database!$S$44,FALSE),IF(AND(Industry_PGAssessment=\"Count\",Industry_Segment=Database!$T$95),VLOOKUP($C24,Industry_PGCount,Database!$X$44,FALSE),IF(AND(Industry_PGAssessment=\"Count\",Industry_Segment=Database!$Y$95),VLOOKUP($C24,Industry_PGCount,Database!$AC$44,FALSE),IF(AND(Industry_PGAssessment=\"Count\",Industry_Segment=Database!$AD$95),VLOOKUP($C24,Industry_PGCount,Database!$AH$44,FALSE),\n\nIF(AND(Industry_PGAssessment=\"Impact\",Industry_Segment=Database!$O$119),VLOOKUP($C24,Industry_PGImpact,Database!$S$44,FALSE),IF(AND(Industry_PGAssessment=\"Impact\",Industry_Segment=Database!$T$119),VLOOKUP($C24,Industry_PGImpact,Database!$X$44,FALSE),IF(AND(Industry_PGAssessment=\"Impact\",Industry_Segment=Database!$Y$95),VLOOKUP($C24,Industry_PGImpact,Database!$AC$44,FALSE),IF(AND(Industry_PGAssessment=\"Impact\",Industry_Segment=Database!$AD$119),VLOOKUP($C24,Industry_PGImpact,Database!$AH$44,FALSE),\"Check\"))))))))))","v":"-"},null,{"$f":"IF($C24=\"\",\"\",IF(VLOOKUP($C24,PG_Flag,Database!AC$44,FALSE)=\"\",\"-\",\n\nIF(AND(Industry_PGAssessment=\"Count\",Industry_Segment=Database!$O$119),VLOOKUP($C24,Industry_PGCount,Database!$S$44,FALSE),IF(AND(Industry_PGAssessment=\"Count\",Industry_Segment=Database!$T$95),VLOOKUP($C24,Industry_PGCount,Database!$X$44,FALSE),IF(AND(Industry_PGAssessment=\"Count\",Industry_Segment=Database!$Y$95),VLOOKUP($C24,Industry_PGCount,Database!$AC$44,FALSE),IF(AND(Industry_PGAssessment=\"Count\",Industry_Segment=Database!$AD$95),VLOOKUP($C24,Industry_PGCount,Database!$AH$44,FALSE),\n\nIF(AND(Industry_PGAssessment=\"Impact\",Industry_Segment=Database!$O$119),VLOOKUP($C24,Industry_PGImpact,Database!$S$44,FALSE),IF(AND(Industry_PGAssessment=\"Impact\",Industry_Segment=Database!$T$119),VLOOKUP($C24,Industry_PGImpact,Database!$X$44,FALSE),IF(AND(Industry_PGAssessment=\"Impact\",Industry_Segment=Database!$Y$95),VLOOKUP($C24,Industry_PGImpact,Database!$AC$44,FALSE),IF(AND(Industry_PGAssessment=\"Impact\",Industry_Segment=Database!$AD$119),VLOOKUP($C24,Industry_PGImpact,Database!$AH$44,FALSE),\"Check\"))))))))))","v":"-"}]
[null,null,{"$f":"IF(Database!C50=\"\",\"\",Database!C50)","v":"I - Enhancing Reserve Information"},{"$f":"IF($C25=\"\",\"\",IF(VLOOKUP($C25,PG_Flag,Database!R$44,FALSE)=\"\",\"-\",\n\nIF(AND(Industry_PGAssessment=\"Count\",Industry_Segment=Database!$O$119),VLOOKUP($C25,Industry_PGCount,Database!$S$44,FALSE),IF(AND(Industry_PGAssessment=\"Count\",Industry_Segment=Database!$T$95),VLOOKUP($C25,Industry_PGCount,Database!$X$44,FALSE),IF(AND(Industry_PGAssessment=\"Count\",Industry_Segment=Database!$Y$95),VLOOKUP($C25,Industry_PGCount,Database!$AC$44,FALSE),IF(AND(Industry_PGAssessment=\"Count\",Industry_Segment=Database!$AD$95),VLOOKUP($C25,Industry_PGCount,Database!$AH$44,FALSE),\n\nIF(AND(Industry_PGAssessment=\"Impact\",Industry_Segment=Database!$O$119),VLOOKUP($C25,Industry_PGImpact,Database!$S$44,FALSE),IF(AND(Industry_PGAssessment=\"Impact\",Industry_Segment=Database!$T$119),VLOOKUP($C25,Industry_PGImpact,Database!$X$44,FALSE),IF(AND(Industry_PGAssessment=\"Impact\",Industry_Segment=Database!$Y$95),VLOOKUP($C25,Industry_PGImpact,Database!$AC$44,FALSE),IF(AND(Industry_PGAssessment=\"Impact\",Industry_Segment=Database!$AD$119),VLOOKUP($C25,Industry_PGImpact,Database!$AH$44,FALSE),\"Check\"))))))))))","v":1},{"$f":"IF($C25=\"\",\"\",IF(VLOOKUP($C25,PG_Flag,Database!S$44,FALSE)=\"\",\"-\",\n\nIF(AND(Industry_PGAssessment=\"Count\",Industry_Segment=Database!$O$119),VLOOKUP($C25,Industry_PGCount,Database!$S$44,FALSE),IF(AND(Industry_PGAssessment=\"Count\",Industry_Segment=Database!$T$95),VLOOKUP($C25,Industry_PGCount,Database!$X$44,FALSE),IF(AND(Industry_PGAssessment=\"Count\",Industry_Segment=Database!$Y$95),VLOOKUP($C25,Industry_PGCount,Database!$AC$44,FALSE),IF(AND(Industry_PGAssessment=\"Count\",Industry_Segment=Database!$AD$95),VLOOKUP($C25,Industry_PGCount,Database!$AH$44,FALSE),\n\nIF(AND(Industry_PGAssessment=\"Impact\",Industry_Segment=Database!$O$119),VLOOKUP($C25,Industry_PGImpact,Database!$S$44,FALSE),IF(AND(Industry_PGAssessment=\"Impact\",Industry_Segment=Database!$T$119),VLOOKUP($C25,Industry_PGImpact,Database!$X$44,FALSE),IF(AND(Industry_PGAssessment=\"Impact\",Industry_Segment=Database!$Y$95),VLOOKUP($C25,Industry_PGImpact,Database!$AC$44,FALSE),IF(AND(Industry_PGAssessment=\"Impact\",Industry_Segment=Database!$AD$119),VLOOKUP($C25,Industry_PGImpact,Database!$AH$44,FALSE),\"Check\"))))))))))","v":1},{"$f":"IF($C25=\"\",\"\",IF(VLOOKUP($C25,PG_Flag,Database!T$44,FALSE)=\"\",\"-\",\n\nIF(AND(Industry_PGAssessment=\"Count\",Industry_Segment=Database!$O$119),VLOOKUP($C25,Industry_PGCount,Database!$S$44,FALSE),IF(AND(Industry_PGAssessment=\"Count\",Industry_Segment=Database!$T$95),VLOOKUP($C25,Industry_PGCount,Database!$X$44,FALSE),IF(AND(Industry_PGAssessment=\"Count\",Industry_Segment=Database!$Y$95),VLOOKUP($C25,Industry_PGCount,Database!$AC$44,FALSE),IF(AND(Industry_PGAssessment=\"Count\",Industry_Segment=Database!$AD$95),VLOOKUP($C25,Industry_PGCount,Database!$AH$44,FALSE),\n\nIF(AND(Industry_PGAssessment=\"Impact\",Industry_Segment=Database!$O$119),VLOOKUP($C25,Industry_PGImpact,Database!$S$44,FALSE),IF(AND(Industry_PGAssessment=\"Impact\",Industry_Segment=Database!$T$119),VLOOKUP($C25,Industry_PGImpact,Database!$X$44,FALSE),IF(AND(Industry_PGAssessment=\"Impact\",Industry_Segment=Database!$Y$95),VLOOKUP($C25,Industry_PGImpact,Database!$AC$44,FALSE),IF(AND(Industry_PGAssessment=\"Impact\",Industry_Segment=Database!$AD$119),VLOOKUP($C25,Industry_PGImpact,Database!$AH$44,FALSE),\"Check\"))))))))))","v":1},{"$f":"IF($C25=\"\",\"\",IF(VLOOKUP($C25,PG_Flag,Database!U$44,FALSE)=\"\",\"-\",\n\nIF(AND(Industry_PGAssessment=\"Count\",Industry_Segment=Database!$O$119),VLOOKUP($C25,Industry_PGCount,Database!$S$44,FALSE),IF(AND(Industry_PGAssessment=\"Count\",Industry_Segment=Database!$T$95),VLOOKUP($C25,Industry_PGCount,Database!$X$44,FALSE),IF(AND(Industry_PGAssessment=\"Count\",Industry_Segment=Database!$Y$95),VLOOKUP($C25,Industry_PGCount,Database!$AC$44,FALSE),IF(AND(Industry_PGAssessment=\"Count\",Industry_Segment=Database!$AD$95),VLOOKUP($C25,Industry_PGCount,Database!$AH$44,FALSE),\n\nIF(AND(Industry_PGAssessment=\"Impact\",Industry_Segment=Database!$O$119),VLOOKUP($C25,Industry_PGImpact,Database!$S$44,FALSE),IF(AND(Industry_PGAssessment=\"Impact\",Industry_Segment=Database!$T$119),VLOOKUP($C25,Industry_PGImpact,Database!$X$44,FALSE),IF(AND(Industry_PGAssessment=\"Impact\",Industry_Segment=Database!$Y$95),VLOOKUP($C25,Industry_PGImpact,Database!$AC$44,FALSE),IF(AND(Industry_PGAssessment=\"Impact\",Industry_Segment=Database!$AD$119),VLOOKUP($C25,Industry_PGImpact,Database!$AH$44,FALSE),\"Check\"))))))))))","v":"-"},{"$f":"IF($C25=\"\",\"\",IF(VLOOKUP($C25,PG_Flag,Database!V$44,FALSE)=\"\",\"-\",\n\nIF(AND(Industry_PGAssessment=\"Count\",Industry_Segment=Database!$O$119),VLOOKUP($C25,Industry_PGCount,Database!$S$44,FALSE),IF(AND(Industry_PGAssessment=\"Count\",Industry_Segment=Database!$T$95),VLOOKUP($C25,Industry_PGCount,Database!$X$44,FALSE),IF(AND(Industry_PGAssessment=\"Count\",Industry_Segment=Database!$Y$95),VLOOKUP($C25,Industry_PGCount,Database!$AC$44,FALSE),IF(AND(Industry_PGAssessment=\"Count\",Industry_Segment=Database!$AD$95),VLOOKUP($C25,Industry_PGCount,Database!$AH$44,FALSE),\n\nIF(AND(Industry_PGAssessment=\"Impact\",Industry_Segment=Database!$O$119),VLOOKUP($C25,Industry_PGImpact,Database!$S$44,FALSE),IF(AND(Industry_PGAssessment=\"Impact\",Industry_Segment=Database!$T$119),VLOOKUP($C25,Industry_PGImpact,Database!$X$44,FALSE),IF(AND(Industry_PGAssessment=\"Impact\",Industry_Segment=Database!$Y$95),VLOOKUP($C25,Industry_PGImpact,Database!$AC$44,FALSE),IF(AND(Industry_PGAssessment=\"Impact\",Industry_Segment=Database!$AD$119),VLOOKUP($C25,Industry_PGImpact,Database!$AH$44,FALSE),\"Check\"))))))))))","v":"-"},{"$f":"IF($C25=\"\",\"\",IF(VLOOKUP($C25,PG_Flag,Database!W$44,FALSE)=\"\",\"-\",\n\nIF(AND(Industry_PGAssessment=\"Count\",Industry_Segment=Database!$O$119),VLOOKUP($C25,Industry_PGCount,Database!$S$44,FALSE),IF(AND(Industry_PGAssessment=\"Count\",Industry_Segment=Database!$T$95),VLOOKUP($C25,Industry_PGCount,Database!$X$44,FALSE),IF(AND(Industry_PGAssessment=\"Count\",Industry_Segment=Database!$Y$95),VLOOKUP($C25,Industry_PGCount,Database!$AC$44,FALSE),IF(AND(Industry_PGAssessment=\"Count\",Industry_Segment=Database!$AD$95),VLOOKUP($C25,Industry_PGCount,Database!$AH$44,FALSE),\n\nIF(AND(Industry_PGAssessment=\"Impact\",Industry_Segment=Database!$O$119),VLOOKUP($C25,Industry_PGImpact,Database!$S$44,FALSE),IF(AND(Industry_PGAssessment=\"Impact\",Industry_Segment=Database!$T$119),VLOOKUP($C25,Industry_PGImpact,Database!$X$44,FALSE),IF(AND(Industry_PGAssessment=\"Impact\",Industry_Segment=Database!$Y$95),VLOOKUP($C25,Industry_PGImpact,Database!$AC$44,FALSE),IF(AND(Industry_PGAssessment=\"Impact\",Industry_Segment=Database!$AD$119),VLOOKUP($C25,Industry_PGImpact,Database!$AH$44,FALSE),\"Check\"))))))))))","v":"-"},{"$f":"IF($C25=\"\",\"\",IF(VLOOKUP($C25,PG_Flag,Database!X$44,FALSE)=\"\",\"-\",\n\nIF(AND(Industry_PGAssessment=\"Count\",Industry_Segment=Database!$O$119),VLOOKUP($C25,Industry_PGCount,Database!$S$44,FALSE),IF(AND(Industry_PGAssessment=\"Count\",Industry_Segment=Database!$T$95),VLOOKUP($C25,Industry_PGCount,Database!$X$44,FALSE),IF(AND(Industry_PGAssessment=\"Count\",Industry_Segment=Database!$Y$95),VLOOKUP($C25,Industry_PGCount,Database!$AC$44,FALSE),IF(AND(Industry_PGAssessment=\"Count\",Industry_Segment=Database!$AD$95),VLOOKUP($C25,Industry_PGCount,Database!$AH$44,FALSE),\n\nIF(AND(Industry_PGAssessment=\"Impact\",Industry_Segment=Database!$O$119),VLOOKUP($C25,Industry_PGImpact,Database!$S$44,FALSE),IF(AND(Industry_PGAssessment=\"Impact\",Industry_Segment=Database!$T$119),VLOOKUP($C25,Industry_PGImpact,Database!$X$44,FALSE),IF(AND(Industry_PGAssessment=\"Impact\",Industry_Segment=Database!$Y$95),VLOOKUP($C25,Industry_PGImpact,Database!$AC$44,FALSE),IF(AND(Industry_PGAssessment=\"Impact\",Industry_Segment=Database!$AD$119),VLOOKUP($C25,Industry_PGImpact,Database!$AH$44,FALSE),\"Check\"))))))))))","v":"-"},{"$f":"IF($C25=\"\",\"\",IF(VLOOKUP($C25,PG_Flag,Database!Y$44,FALSE)=\"\",\"-\",\n\nIF(AND(Industry_PGAssessment=\"Count\",Industry_Segment=Database!$O$119),VLOOKUP($C25,Industry_PGCount,Database!$S$44,FALSE),IF(AND(Industry_PGAssessment=\"Count\",Industry_Segment=Database!$T$95),VLOOKUP($C25,Industry_PGCount,Database!$X$44,FALSE),IF(AND(Industry_PGAssessment=\"Count\",Industry_Segment=Database!$Y$95),VLOOKUP($C25,Industry_PGCount,Database!$AC$44,FALSE),IF(AND(Industry_PGAssessment=\"Count\",Industry_Segment=Database!$AD$95),VLOOKUP($C25,Industry_PGCount,Database!$AH$44,FALSE),\n\nIF(AND(Industry_PGAssessment=\"Impact\",Industry_Segment=Database!$O$119),VLOOKUP($C25,Industry_PGImpact,Database!$S$44,FALSE),IF(AND(Industry_PGAssessment=\"Impact\",Industry_Segment=Database!$T$119),VLOOKUP($C25,Industry_PGImpact,Database!$X$44,FALSE),IF(AND(Industry_PGAssessment=\"Impact\",Industry_Segment=Database!$Y$95),VLOOKUP($C25,Industry_PGImpact,Database!$AC$44,FALSE),IF(AND(Industry_PGAssessment=\"Impact\",Industry_Segment=Database!$AD$119),VLOOKUP($C25,Industry_PGImpact,Database!$AH$44,FALSE),\"Check\"))))))))))","v":"-"},{"$f":"IF($C25=\"\",\"\",IF(VLOOKUP($C25,PG_Flag,Database!Z$44,FALSE)=\"\",\"-\",\n\nIF(AND(Industry_PGAssessment=\"Count\",Industry_Segment=Database!$O$119),VLOOKUP($C25,Industry_PGCount,Database!$S$44,FALSE),IF(AND(Industry_PGAssessment=\"Count\",Industry_Segment=Database!$T$95),VLOOKUP($C25,Industry_PGCount,Database!$X$44,FALSE),IF(AND(Industry_PGAssessment=\"Count\",Industry_Segment=Database!$Y$95),VLOOKUP($C25,Industry_PGCount,Database!$AC$44,FALSE),IF(AND(Industry_PGAssessment=\"Count\",Industry_Segment=Database!$AD$95),VLOOKUP($C25,Industry_PGCount,Database!$AH$44,FALSE),\n\nIF(AND(Industry_PGAssessment=\"Impact\",Industry_Segment=Database!$O$119),VLOOKUP($C25,Industry_PGImpact,Database!$S$44,FALSE),IF(AND(Industry_PGAssessment=\"Impact\",Industry_Segment=Database!$T$119),VLOOKUP($C25,Industry_PGImpact,Database!$X$44,FALSE),IF(AND(Industry_PGAssessment=\"Impact\",Industry_Segment=Database!$Y$95),VLOOKUP($C25,Industry_PGImpact,Database!$AC$44,FALSE),IF(AND(Industry_PGAssessment=\"Impact\",Industry_Segment=Database!$AD$119),VLOOKUP($C25,Industry_PGImpact,Database!$AH$44,FALSE),\"Check\"))))))))))","v":"-"},null,{"$f":"IF($C25=\"\",\"\",IF(VLOOKUP($C25,PG_Flag,Database!AA$44,FALSE)=\"\",\"-\",\n\nIF(AND(Industry_PGAssessment=\"Count\",Industry_Segment=Database!$O$119),VLOOKUP($C25,Industry_PGCount,Database!$S$44,FALSE),IF(AND(Industry_PGAssessment=\"Count\",Industry_Segment=Database!$T$95),VLOOKUP($C25,Industry_PGCount,Database!$X$44,FALSE),IF(AND(Industry_PGAssessment=\"Count\",Industry_Segment=Database!$Y$95),VLOOKUP($C25,Industry_PGCount,Database!$AC$44,FALSE),IF(AND(Industry_PGAssessment=\"Count\",Industry_Segment=Database!$AD$95),VLOOKUP($C25,Industry_PGCount,Database!$AH$44,FALSE),\n\nIF(AND(Industry_PGAssessment=\"Impact\",Industry_Segment=Database!$O$119),VLOOKUP($C25,Industry_PGImpact,Database!$S$44,FALSE),IF(AND(Industry_PGAssessment=\"Impact\",Industry_Segment=Database!$T$119),VLOOKUP($C25,Industry_PGImpact,Database!$X$44,FALSE),IF(AND(Industry_PGAssessment=\"Impact\",Industry_Segment=Database!$Y$95),VLOOKUP($C25,Industry_PGImpact,Database!$AC$44,FALSE),IF(AND(Industry_PGAssessment=\"Impact\",Industry_Segment=Database!$AD$119),VLOOKUP($C25,Industry_PGImpact,Database!$AH$44,FALSE),\"Check\"))))))))))","v":"-"},null,{"$f":"IF($C25=\"\",\"\",IF(VLOOKUP($C25,PG_Flag,Database!AB$44,FALSE)=\"\",\"-\",\n\nIF(AND(Industry_PGAssessment=\"Count\",Industry_Segment=Database!$O$119),VLOOKUP($C25,Industry_PGCount,Database!$S$44,FALSE),IF(AND(Industry_PGAssessment=\"Count\",Industry_Segment=Database!$T$95),VLOOKUP($C25,Industry_PGCount,Database!$X$44,FALSE),IF(AND(Industry_PGAssessment=\"Count\",Industry_Segment=Database!$Y$95),VLOOKUP($C25,Industry_PGCount,Database!$AC$44,FALSE),IF(AND(Industry_PGAssessment=\"Count\",Industry_Segment=Database!$AD$95),VLOOKUP($C25,Industry_PGCount,Database!$AH$44,FALSE),\n\nIF(AND(Industry_PGAssessment=\"Impact\",Industry_Segment=Database!$O$119),VLOOKUP($C25,Industry_PGImpact,Database!$S$44,FALSE),IF(AND(Industry_PGAssessment=\"Impact\",Industry_Segment=Database!$T$119),VLOOKUP($C25,Industry_PGImpact,Database!$X$44,FALSE),IF(AND(Industry_PGAssessment=\"Impact\",Industry_Segment=Database!$Y$95),VLOOKUP($C25,Industry_PGImpact,Database!$AC$44,FALSE),IF(AND(Industry_PGAssessment=\"Impact\",Industry_Segment=Database!$AD$119),VLOOKUP($C25,Industry_PGImpact,Database!$AH$44,FALSE),\"Check\"))))))))))","v":"-"},null,{"$f":"IF($C25=\"\",\"\",IF(VLOOKUP($C25,PG_Flag,Database!AC$44,FALSE)=\"\",\"-\",\n\nIF(AND(Industry_PGAssessment=\"Count\",Industry_Segment=Database!$O$119),VLOOKUP($C25,Industry_PGCount,Database!$S$44,FALSE),IF(AND(Industry_PGAssessment=\"Count\",Industry_Segment=Database!$T$95),VLOOKUP($C25,Industry_PGCount,Database!$X$44,FALSE),IF(AND(Industry_PGAssessment=\"Count\",Industry_Segment=Database!$Y$95),VLOOKUP($C25,Industry_PGCount,Database!$AC$44,FALSE),IF(AND(Industry_PGAssessment=\"Count\",Industry_Segment=Database!$AD$95),VLOOKUP($C25,Industry_PGCount,Database!$AH$44,FALSE),\n\nIF(AND(Industry_PGAssessment=\"Impact\",Industry_Segment=Database!$O$119),VLOOKUP($C25,Industry_PGImpact,Database!$S$44,FALSE),IF(AND(Industry_PGAssessment=\"Impact\",Industry_Segment=Database!$T$119),VLOOKUP($C25,Industry_PGImpact,Database!$X$44,FALSE),IF(AND(Industry_PGAssessment=\"Impact\",Industry_Segment=Database!$Y$95),VLOOKUP($C25,Industry_PGImpact,Database!$AC$44,FALSE),IF(AND(Industry_PGAssessment=\"Impact\",Industry_Segment=Database!$AD$119),VLOOKUP($C25,Industry_PGImpact,Database!$AH$44,FALSE),\"Check\"))))))))))","v":"-"}]
[null,null,{"$f":"IF(Database!C51=\"\",\"\",Database!C51)","v":"I - ST PASA Procedure & Recall Period"},{"$f":"IF($C26=\"\",\"\",IF(VLOOKUP($C26,PG_Flag,Database!R$44,FALSE)=\"\",\"-\",\n\nIF(AND(Industry_PGAssessment=\"Count\",Industry_Segment=Database!$O$119),VLOOKUP($C26,Industry_PGCount,Database!$S$44,FALSE),IF(AND(Industry_PGAssessment=\"Count\",Industry_Segment=Database!$T$95),VLOOKUP($C26,Industry_PGCount,Database!$X$44,FALSE),IF(AND(Industry_PGAssessment=\"Count\",Industry_Segment=Database!$Y$95),VLOOKUP($C26,Industry_PGCount,Database!$AC$44,FALSE),IF(AND(Industry_PGAssessment=\"Count\",Industry_Segment=Database!$AD$95),VLOOKUP($C26,Industry_PGCount,Database!$AH$44,FALSE),\n\nIF(AND(Industry_PGAssessment=\"Impact\",Industry_Segment=Database!$O$119),VLOOKUP($C26,Industry_PGImpact,Database!$S$44,FALSE),IF(AND(Industry_PGAssessment=\"Impact\",Industry_Segment=Database!$T$119),VLOOKUP($C26,Industry_PGImpact,Database!$X$44,FALSE),IF(AND(Industry_PGAssessment=\"Impact\",Industry_Segment=Database!$Y$95),VLOOKUP($C26,Industry_PGImpact,Database!$AC$44,FALSE),IF(AND(Industry_PGAssessment=\"Impact\",Industry_Segment=Database!$AD$119),VLOOKUP($C26,Industry_PGImpact,Database!$AH$44,FALSE),\"Check\"))))))))))","v":1.3333333333333333},{"$f":"IF($C26=\"\",\"\",IF(VLOOKUP($C26,PG_Flag,Database!S$44,FALSE)=\"\",\"-\",\n\nIF(AND(Industry_PGAssessment=\"Count\",Industry_Segment=Database!$O$119),VLOOKUP($C26,Industry_PGCount,Database!$S$44,FALSE),IF(AND(Industry_PGAssessment=\"Count\",Industry_Segment=Database!$T$95),VLOOKUP($C26,Industry_PGCount,Database!$X$44,FALSE),IF(AND(Industry_PGAssessment=\"Count\",Industry_Segment=Database!$Y$95),VLOOKUP($C26,Industry_PGCount,Database!$AC$44,FALSE),IF(AND(Industry_PGAssessment=\"Count\",Industry_Segment=Database!$AD$95),VLOOKUP($C26,Industry_PGCount,Database!$AH$44,FALSE),\n\nIF(AND(Industry_PGAssessment=\"Impact\",Industry_Segment=Database!$O$119),VLOOKUP($C26,Industry_PGImpact,Database!$S$44,FALSE),IF(AND(Industry_PGAssessment=\"Impact\",Industry_Segment=Database!$T$119),VLOOKUP($C26,Industry_PGImpact,Database!$X$44,FALSE),IF(AND(Industry_PGAssessment=\"Impact\",Industry_Segment=Database!$Y$95),VLOOKUP($C26,Industry_PGImpact,Database!$AC$44,FALSE),IF(AND(Industry_PGAssessment=\"Impact\",Industry_Segment=Database!$AD$119),VLOOKUP($C26,Industry_PGImpact,Database!$AH$44,FALSE),\"Check\"))))))))))","v":1.3333333333333333},{"$f":"IF($C26=\"\",\"\",IF(VLOOKUP($C26,PG_Flag,Database!T$44,FALSE)=\"\",\"-\",\n\nIF(AND(Industry_PGAssessment=\"Count\",Industry_Segment=Database!$O$119),VLOOKUP($C26,Industry_PGCount,Database!$S$44,FALSE),IF(AND(Industry_PGAssessment=\"Count\",Industry_Segment=Database!$T$95),VLOOKUP($C26,Industry_PGCount,Database!$X$44,FALSE),IF(AND(Industry_PGAssessment=\"Count\",Industry_Segment=Database!$Y$95),VLOOKUP($C26,Industry_PGCount,Database!$AC$44,FALSE),IF(AND(Industry_PGAssessment=\"Count\",Industry_Segment=Database!$AD$95),VLOOKUP($C26,Industry_PGCount,Database!$AH$44,FALSE),\n\nIF(AND(Industry_PGAssessment=\"Impact\",Industry_Segment=Database!$O$119),VLOOKUP($C26,Industry_PGImpact,Database!$S$44,FALSE),IF(AND(Industry_PGAssessment=\"Impact\",Industry_Segment=Database!$T$119),VLOOKUP($C26,Industry_PGImpact,Database!$X$44,FALSE),IF(AND(Industry_PGAssessment=\"Impact\",Industry_Segment=Database!$Y$95),VLOOKUP($C26,Industry_PGImpact,Database!$AC$44,FALSE),IF(AND(Industry_PGAssessment=\"Impact\",Industry_Segment=Database!$AD$119),VLOOKUP($C26,Industry_PGImpact,Database!$AH$44,FALSE),\"Check\"))))))))))","v":1.3333333333333333},{"$f":"IF($C26=\"\",\"\",IF(VLOOKUP($C26,PG_Flag,Database!U$44,FALSE)=\"\",\"-\",\n\nIF(AND(Industry_PGAssessment=\"Count\",Industry_Segment=Database!$O$119),VLOOKUP($C26,Industry_PGCount,Database!$S$44,FALSE),IF(AND(Industry_PGAssessment=\"Count\",Industry_Segment=Database!$T$95),VLOOKUP($C26,Industry_PGCount,Database!$X$44,FALSE),IF(AND(Industry_PGAssessment=\"Count\",Industry_Segment=Database!$Y$95),VLOOKUP($C26,Industry_PGCount,Database!$AC$44,FALSE),IF(AND(Industry_PGAssessment=\"Count\",Industry_Segment=Database!$AD$95),VLOOKUP($C26,Industry_PGCount,Database!$AH$44,FALSE),\n\nIF(AND(Industry_PGAssessment=\"Impact\",Industry_Segment=Database!$O$119),VLOOKUP($C26,Industry_PGImpact,Database!$S$44,FALSE),IF(AND(Industry_PGAssessment=\"Impact\",Industry_Segment=Database!$T$119),VLOOKUP($C26,Industry_PGImpact,Database!$X$44,FALSE),IF(AND(Industry_PGAssessment=\"Impact\",Industry_Segment=Database!$Y$95),VLOOKUP($C26,Industry_PGImpact,Database!$AC$44,FALSE),IF(AND(Industry_PGAssessment=\"Impact\",Industry_Segment=Database!$AD$119),VLOOKUP($C26,Industry_PGImpact,Database!$AH$44,FALSE),\"Check\"))))))))))","v":"-"},{"$f":"IF($C26=\"\",\"\",IF(VLOOKUP($C26,PG_Flag,Database!V$44,FALSE)=\"\",\"-\",\n\nIF(AND(Industry_PGAssessment=\"Count\",Industry_Segment=Database!$O$119),VLOOKUP($C26,Industry_PGCount,Database!$S$44,FALSE),IF(AND(Industry_PGAssessment=\"Count\",Industry_Segment=Database!$T$95),VLOOKUP($C26,Industry_PGCount,Database!$X$44,FALSE),IF(AND(Industry_PGAssessment=\"Count\",Industry_Segment=Database!$Y$95),VLOOKUP($C26,Industry_PGCount,Database!$AC$44,FALSE),IF(AND(Industry_PGAssessment=\"Count\",Industry_Segment=Database!$AD$95),VLOOKUP($C26,Industry_PGCount,Database!$AH$44,FALSE),\n\nIF(AND(Industry_PGAssessment=\"Impact\",Industry_Segment=Database!$O$119),VLOOKUP($C26,Industry_PGImpact,Database!$S$44,FALSE),IF(AND(Industry_PGAssessment=\"Impact\",Industry_Segment=Database!$T$119),VLOOKUP($C26,Industry_PGImpact,Database!$X$44,FALSE),IF(AND(Industry_PGAssessment=\"Impact\",Industry_Segment=Database!$Y$95),VLOOKUP($C26,Industry_PGImpact,Database!$AC$44,FALSE),IF(AND(Industry_PGAssessment=\"Impact\",Industry_Segment=Database!$AD$119),VLOOKUP($C26,Industry_PGImpact,Database!$AH$44,FALSE),\"Check\"))))))))))","v":"-"},{"$f":"IF($C26=\"\",\"\",IF(VLOOKUP($C26,PG_Flag,Database!W$44,FALSE)=\"\",\"-\",\n\nIF(AND(Industry_PGAssessment=\"Count\",Industry_Segment=Database!$O$119),VLOOKUP($C26,Industry_PGCount,Database!$S$44,FALSE),IF(AND(Industry_PGAssessment=\"Count\",Industry_Segment=Database!$T$95),VLOOKUP($C26,Industry_PGCount,Database!$X$44,FALSE),IF(AND(Industry_PGAssessment=\"Count\",Industry_Segment=Database!$Y$95),VLOOKUP($C26,Industry_PGCount,Database!$AC$44,FALSE),IF(AND(Industry_PGAssessment=\"Count\",Industry_Segment=Database!$AD$95),VLOOKUP($C26,Industry_PGCount,Database!$AH$44,FALSE),\n\nIF(AND(Industry_PGAssessment=\"Impact\",Industry_Segment=Database!$O$119),VLOOKUP($C26,Industry_PGImpact,Database!$S$44,FALSE),IF(AND(Industry_PGAssessment=\"Impact\",Industry_Segment=Database!$T$119),VLOOKUP($C26,Industry_PGImpact,Database!$X$44,FALSE),IF(AND(Industry_PGAssessment=\"Impact\",Industry_Segment=Database!$Y$95),VLOOKUP($C26,Industry_PGImpact,Database!$AC$44,FALSE),IF(AND(Industry_PGAssessment=\"Impact\",Industry_Segment=Database!$AD$119),VLOOKUP($C26,Industry_PGImpact,Database!$AH$44,FALSE),\"Check\"))))))))))","v":"-"},{"$f":"IF($C26=\"\",\"\",IF(VLOOKUP($C26,PG_Flag,Database!X$44,FALSE)=\"\",\"-\",\n\nIF(AND(Industry_PGAssessment=\"Count\",Industry_Segment=Database!$O$119),VLOOKUP($C26,Industry_PGCount,Database!$S$44,FALSE),IF(AND(Industry_PGAssessment=\"Count\",Industry_Segment=Database!$T$95),VLOOKUP($C26,Industry_PGCount,Database!$X$44,FALSE),IF(AND(Industry_PGAssessment=\"Count\",Industry_Segment=Database!$Y$95),VLOOKUP($C26,Industry_PGCount,Database!$AC$44,FALSE),IF(AND(Industry_PGAssessment=\"Count\",Industry_Segment=Database!$AD$95),VLOOKUP($C26,Industry_PGCount,Database!$AH$44,FALSE),\n\nIF(AND(Industry_PGAssessment=\"Impact\",Industry_Segment=Database!$O$119),VLOOKUP($C26,Industry_PGImpact,Database!$S$44,FALSE),IF(AND(Industry_PGAssessment=\"Impact\",Industry_Segment=Database!$T$119),VLOOKUP($C26,Industry_PGImpact,Database!$X$44,FALSE),IF(AND(Industry_PGAssessment=\"Impact\",Industry_Segment=Database!$Y$95),VLOOKUP($C26,Industry_PGImpact,Database!$AC$44,FALSE),IF(AND(Industry_PGAssessment=\"Impact\",Industry_Segment=Database!$AD$119),VLOOKUP($C26,Industry_PGImpact,Database!$AH$44,FALSE),\"Check\"))))))))))","v":"-"},{"$f":"IF($C26=\"\",\"\",IF(VLOOKUP($C26,PG_Flag,Database!Y$44,FALSE)=\"\",\"-\",\n\nIF(AND(Industry_PGAssessment=\"Count\",Industry_Segment=Database!$O$119),VLOOKUP($C26,Industry_PGCount,Database!$S$44,FALSE),IF(AND(Industry_PGAssessment=\"Count\",Industry_Segment=Database!$T$95),VLOOKUP($C26,Industry_PGCount,Database!$X$44,FALSE),IF(AND(Industry_PGAssessment=\"Count\",Industry_Segment=Database!$Y$95),VLOOKUP($C26,Industry_PGCount,Database!$AC$44,FALSE),IF(AND(Industry_PGAssessment=\"Count\",Industry_Segment=Database!$AD$95),VLOOKUP($C26,Industry_PGCount,Database!$AH$44,FALSE),\n\nIF(AND(Industry_PGAssessment=\"Impact\",Industry_Segment=Database!$O$119),VLOOKUP($C26,Industry_PGImpact,Database!$S$44,FALSE),IF(AND(Industry_PGAssessment=\"Impact\",Industry_Segment=Database!$T$119),VLOOKUP($C26,Industry_PGImpact,Database!$X$44,FALSE),IF(AND(Industry_PGAssessment=\"Impact\",Industry_Segment=Database!$Y$95),VLOOKUP($C26,Industry_PGImpact,Database!$AC$44,FALSE),IF(AND(Industry_PGAssessment=\"Impact\",Industry_Segment=Database!$AD$119),VLOOKUP($C26,Industry_PGImpact,Database!$AH$44,FALSE),\"Check\"))))))))))","v":"-"},{"$f":"IF($C26=\"\",\"\",IF(VLOOKUP($C26,PG_Flag,Database!Z$44,FALSE)=\"\",\"-\",\n\nIF(AND(Industry_PGAssessment=\"Count\",Industry_Segment=Database!$O$119),VLOOKUP($C26,Industry_PGCount,Database!$S$44,FALSE),IF(AND(Industry_PGAssessment=\"Count\",Industry_Segment=Database!$T$95),VLOOKUP($C26,Industry_PGCount,Database!$X$44,FALSE),IF(AND(Industry_PGAssessment=\"Count\",Industry_Segment=Database!$Y$95),VLOOKUP($C26,Industry_PGCount,Database!$AC$44,FALSE),IF(AND(Industry_PGAssessment=\"Count\",Industry_Segment=Database!$AD$95),VLOOKUP($C26,Industry_PGCount,Database!$AH$44,FALSE),\n\nIF(AND(Industry_PGAssessment=\"Impact\",Industry_Segment=Database!$O$119),VLOOKUP($C26,Industry_PGImpact,Database!$S$44,FALSE),IF(AND(Industry_PGAssessment=\"Impact\",Industry_Segment=Database!$T$119),VLOOKUP($C26,Industry_PGImpact,Database!$X$44,FALSE),IF(AND(Industry_PGAssessment=\"Impact\",Industry_Segment=Database!$Y$95),VLOOKUP($C26,Industry_PGImpact,Database!$AC$44,FALSE),IF(AND(Industry_PGAssessment=\"Impact\",Industry_Segment=Database!$AD$119),VLOOKUP($C26,Industry_PGImpact,Database!$AH$44,FALSE),\"Check\"))))))))))","v":"-"},null,{"$f":"IF($C26=\"\",\"\",IF(VLOOKUP($C26,PG_Flag,Database!AA$44,FALSE)=\"\",\"-\",\n\nIF(AND(Industry_PGAssessment=\"Count\",Industry_Segment=Database!$O$119),VLOOKUP($C26,Industry_PGCount,Database!$S$44,FALSE),IF(AND(Industry_PGAssessment=\"Count\",Industry_Segment=Database!$T$95),VLOOKUP($C26,Industry_PGCount,Database!$X$44,FALSE),IF(AND(Industry_PGAssessment=\"Count\",Industry_Segment=Database!$Y$95),VLOOKUP($C26,Industry_PGCount,Database!$AC$44,FALSE),IF(AND(Industry_PGAssessment=\"Count\",Industry_Segment=Database!$AD$95),VLOOKUP($C26,Industry_PGCount,Database!$AH$44,FALSE),\n\nIF(AND(Industry_PGAssessment=\"Impact\",Industry_Segment=Database!$O$119),VLOOKUP($C26,Industry_PGImpact,Database!$S$44,FALSE),IF(AND(Industry_PGAssessment=\"Impact\",Industry_Segment=Database!$T$119),VLOOKUP($C26,Industry_PGImpact,Database!$X$44,FALSE),IF(AND(Industry_PGAssessment=\"Impact\",Industry_Segment=Database!$Y$95),VLOOKUP($C26,Industry_PGImpact,Database!$AC$44,FALSE),IF(AND(Industry_PGAssessment=\"Impact\",Industry_Segment=Database!$AD$119),VLOOKUP($C26,Industry_PGImpact,Database!$AH$44,FALSE),\"Check\"))))))))))","v":"-"},null,{"$f":"IF($C26=\"\",\"\",IF(VLOOKUP($C26,PG_Flag,Database!AB$44,FALSE)=\"\",\"-\",\n\nIF(AND(Industry_PGAssessment=\"Count\",Industry_Segment=Database!$O$119),VLOOKUP($C26,Industry_PGCount,Database!$S$44,FALSE),IF(AND(Industry_PGAssessment=\"Count\",Industry_Segment=Database!$T$95),VLOOKUP($C26,Industry_PGCount,Database!$X$44,FALSE),IF(AND(Industry_PGAssessment=\"Count\",Industry_Segment=Database!$Y$95),VLOOKUP($C26,Industry_PGCount,Database!$AC$44,FALSE),IF(AND(Industry_PGAssessment=\"Count\",Industry_Segment=Database!$AD$95),VLOOKUP($C26,Industry_PGCount,Database!$AH$44,FALSE),\n\nIF(AND(Industry_PGAssessment=\"Impact\",Industry_Segment=Database!$O$119),VLOOKUP($C26,Industry_PGImpact,Database!$S$44,FALSE),IF(AND(Industry_PGAssessment=\"Impact\",Industry_Segment=Database!$T$119),VLOOKUP($C26,Industry_PGImpact,Database!$X$44,FALSE),IF(AND(Industry_PGAssessment=\"Impact\",Industry_Segment=Database!$Y$95),VLOOKUP($C26,Industry_PGImpact,Database!$AC$44,FALSE),IF(AND(Industry_PGAssessment=\"Impact\",Industry_Segment=Database!$AD$119),VLOOKUP($C26,Industry_PGImpact,Database!$AH$44,FALSE),\"Check\"))))))))))","v":"-"},null,{"$f":"IF($C26=\"\",\"\",IF(VLOOKUP($C26,PG_Flag,Database!AC$44,FALSE)=\"\",\"-\",\n\nIF(AND(Industry_PGAssessment=\"Count\",Industry_Segment=Database!$O$119),VLOOKUP($C26,Industry_PGCount,Database!$S$44,FALSE),IF(AND(Industry_PGAssessment=\"Count\",Industry_Segment=Database!$T$95),VLOOKUP($C26,Industry_PGCount,Database!$X$44,FALSE),IF(AND(Industry_PGAssessment=\"Count\",Industry_Segment=Database!$Y$95),VLOOKUP($C26,Industry_PGCount,Database!$AC$44,FALSE),IF(AND(Industry_PGAssessment=\"Count\",Industry_Segment=Database!$AD$95),VLOOKUP($C26,Industry_PGCount,Database!$AH$44,FALSE),\n\nIF(AND(Industry_PGAssessment=\"Impact\",Industry_Segment=Database!$O$119),VLOOKUP($C26,Industry_PGImpact,Database!$S$44,FALSE),IF(AND(Industry_PGAssessment=\"Impact\",Industry_Segment=Database!$T$119),VLOOKUP($C26,Industry_PGImpact,Database!$X$44,FALSE),IF(AND(Industry_PGAssessment=\"Impact\",Industry_Segment=Database!$Y$95),VLOOKUP($C26,Industry_PGImpact,Database!$AC$44,FALSE),IF(AND(Industry_PGAssessment=\"Impact\",Industry_Segment=Database!$AD$119),VLOOKUP($C26,Industry_PGImpact,Database!$AH$44,FALSE),\"Check\"))))))))))","v":"-"}]
[null,null,{"$f":"IF(Database!C52=\"\",\"\",Database!C52)","v":"I - Improving Security Frameworks"},{"$f":"IF($C27=\"\",\"\",IF(VLOOKUP($C27,PG_Flag,Database!R$44,FALSE)=\"\",\"-\",\n\nIF(AND(Industry_PGAssessment=\"Count\",Industry_Segment=Database!$O$119),VLOOKUP($C27,Industry_PGCount,Database!$S$44,FALSE),IF(AND(Industry_PGAssessment=\"Count\",Industry_Segment=Database!$T$95),VLOOKUP($C27,Industry_PGCount,Database!$X$44,FALSE),IF(AND(Industry_PGAssessment=\"Count\",Industry_Segment=Database!$Y$95),VLOOKUP($C27,Industry_PGCount,Database!$AC$44,FALSE),IF(AND(Industry_PGAssessment=\"Count\",Industry_Segment=Database!$AD$95),VLOOKUP($C27,Industry_PGCount,Database!$AH$44,FALSE),\n\nIF(AND(Industry_PGAssessment=\"Impact\",Industry_Segment=Database!$O$119),VLOOKUP($C27,Industry_PGImpact,Database!$S$44,FALSE),IF(AND(Industry_PGAssessment=\"Impact\",Industry_Segment=Database!$T$119),VLOOKUP($C27,Industry_PGImpact,Database!$X$44,FALSE),IF(AND(Industry_PGAssessment=\"Impact\",Industry_Segment=Database!$Y$95),VLOOKUP($C27,Industry_PGImpact,Database!$AC$44,FALSE),IF(AND(Industry_PGAssessment=\"Impact\",Industry_Segment=Database!$AD$119),VLOOKUP($C27,Industry_PGImpact,Database!$AH$44,FALSE),\"Check\"))))))))))","v":4},{"$f":"IF($C27=\"\",\"\",IF(VLOOKUP($C27,PG_Flag,Database!S$44,FALSE)=\"\",\"-\",\n\nIF(AND(Industry_PGAssessment=\"Count\",Industry_Segment=Database!$O$119),VLOOKUP($C27,Industry_PGCount,Database!$S$44,FALSE),IF(AND(Industry_PGAssessment=\"Count\",Industry_Segment=Database!$T$95),VLOOKUP($C27,Industry_PGCount,Database!$X$44,FALSE),IF(AND(Industry_PGAssessment=\"Count\",Industry_Segment=Database!$Y$95),VLOOKUP($C27,Industry_PGCount,Database!$AC$44,FALSE),IF(AND(Industry_PGAssessment=\"Count\",Industry_Segment=Database!$AD$95),VLOOKUP($C27,Industry_PGCount,Database!$AH$44,FALSE),\n\nIF(AND(Industry_PGAssessment=\"Impact\",Industry_Segment=Database!$O$119),VLOOKUP($C27,Industry_PGImpact,Database!$S$44,FALSE),IF(AND(Industry_PGAssessment=\"Impact\",Industry_Segment=Database!$T$119),VLOOKUP($C27,Industry_PGImpact,Database!$X$44,FALSE),IF(AND(Industry_PGAssessment=\"Impact\",Industry_Segment=Database!$Y$95),VLOOKUP($C27,Industry_PGImpact,Database!$AC$44,FALSE),IF(AND(Industry_PGAssessment=\"Impact\",Industry_Segment=Database!$AD$119),VLOOKUP($C27,Industry_PGImpact,Database!$AH$44,FALSE),\"Check\"))))))))))","v":4},{"$f":"IF($C27=\"\",\"\",IF(VLOOKUP($C27,PG_Flag,Database!T$44,FALSE)=\"\",\"-\",\n\nIF(AND(Industry_PGAssessment=\"Count\",Industry_Segment=Database!$O$119),VLOOKUP($C27,Industry_PGCount,Database!$S$44,FALSE),IF(AND(Industry_PGAssessment=\"Count\",Industry_Segment=Database!$T$95),VLOOKUP($C27,Industry_PGCount,Database!$X$44,FALSE),IF(AND(Industry_PGAssessment=\"Count\",Industry_Segment=Database!$Y$95),VLOOKUP($C27,Industry_PGCount,Database!$AC$44,FALSE),IF(AND(Industry_PGAssessment=\"Count\",Industry_Segment=Database!$AD$95),VLOOKUP($C27,Industry_PGCount,Database!$AH$44,FALSE),\n\nIF(AND(Industry_PGAssessment=\"Impact\",Industry_Segment=Database!$O$119),VLOOKUP($C27,Industry_PGImpact,Database!$S$44,FALSE),IF(AND(Industry_PGAssessment=\"Impact\",Industry_Segment=Database!$T$119),VLOOKUP($C27,Industry_PGImpact,Database!$X$44,FALSE),IF(AND(Industry_PGAssessment=\"Impact\",Industry_Segment=Database!$Y$95),VLOOKUP($C27,Industry_PGImpact,Database!$AC$44,FALSE),IF(AND(Industry_PGAssessment=\"Impact\",Industry_Segment=Database!$AD$119),VLOOKUP($C27,Industry_PGImpact,Database!$AH$44,FALSE),\"Check\"))))))))))","v":4},{"$f":"IF($C27=\"\",\"\",IF(VLOOKUP($C27,PG_Flag,Database!U$44,FALSE)=\"\",\"-\",\n\nIF(AND(Industry_PGAssessment=\"Count\",Industry_Segment=Database!$O$119),VLOOKUP($C27,Industry_PGCount,Database!$S$44,FALSE),IF(AND(Industry_PGAssessment=\"Count\",Industry_Segment=Database!$T$95),VLOOKUP($C27,Industry_PGCount,Database!$X$44,FALSE),IF(AND(Industry_PGAssessment=\"Count\",Industry_Segment=Database!$Y$95),VLOOKUP($C27,Industry_PGCount,Database!$AC$44,FALSE),IF(AND(Industry_PGAssessment=\"Count\",Industry_Segment=Database!$AD$95),VLOOKUP($C27,Industry_PGCount,Database!$AH$44,FALSE),\n\nIF(AND(Industry_PGAssessment=\"Impact\",Industry_Segment=Database!$O$119),VLOOKUP($C27,Industry_PGImpact,Database!$S$44,FALSE),IF(AND(Industry_PGAssessment=\"Impact\",Industry_Segment=Database!$T$119),VLOOKUP($C27,Industry_PGImpact,Database!$X$44,FALSE),IF(AND(Industry_PGAssessment=\"Impact\",Industry_Segment=Database!$Y$95),VLOOKUP($C27,Industry_PGImpact,Database!$AC$44,FALSE),IF(AND(Industry_PGAssessment=\"Impact\",Industry_Segment=Database!$AD$119),VLOOKUP($C27,Industry_PGImpact,Database!$AH$44,FALSE),\"Check\"))))))))))","v":4},{"$f":"IF($C27=\"\",\"\",IF(VLOOKUP($C27,PG_Flag,Database!V$44,FALSE)=\"\",\"-\",\n\nIF(AND(Industry_PGAssessment=\"Count\",Industry_Segment=Database!$O$119),VLOOKUP($C27,Industry_PGCount,Database!$S$44,FALSE),IF(AND(Industry_PGAssessment=\"Count\",Industry_Segment=Database!$T$95),VLOOKUP($C27,Industry_PGCount,Database!$X$44,FALSE),IF(AND(Industry_PGAssessment=\"Count\",Industry_Segment=Database!$Y$95),VLOOKUP($C27,Industry_PGCount,Database!$AC$44,FALSE),IF(AND(Industry_PGAssessment=\"Count\",Industry_Segment=Database!$AD$95),VLOOKUP($C27,Industry_PGCount,Database!$AH$44,FALSE),\n\nIF(AND(Industry_PGAssessment=\"Impact\",Industry_Segment=Database!$O$119),VLOOKUP($C27,Industry_PGImpact,Database!$S$44,FALSE),IF(AND(Industry_PGAssessment=\"Impact\",Industry_Segment=Database!$T$119),VLOOKUP($C27,Industry_PGImpact,Database!$X$44,FALSE),IF(AND(Industry_PGAssessment=\"Impact\",Industry_Segment=Database!$Y$95),VLOOKUP($C27,Industry_PGImpact,Database!$AC$44,FALSE),IF(AND(Industry_PGAssessment=\"Impact\",Industry_Segment=Database!$AD$119),VLOOKUP($C27,Industry_PGImpact,Database!$AH$44,FALSE),\"Check\"))))))))))","v":"-"},{"$f":"IF($C27=\"\",\"\",IF(VLOOKUP($C27,PG_Flag,Database!W$44,FALSE)=\"\",\"-\",\n\nIF(AND(Industry_PGAssessment=\"Count\",Industry_Segment=Database!$O$119),VLOOKUP($C27,Industry_PGCount,Database!$S$44,FALSE),IF(AND(Industry_PGAssessment=\"Count\",Industry_Segment=Database!$T$95),VLOOKUP($C27,Industry_PGCount,Database!$X$44,FALSE),IF(AND(Industry_PGAssessment=\"Count\",Industry_Segment=Database!$Y$95),VLOOKUP($C27,Industry_PGCount,Database!$AC$44,FALSE),IF(AND(Industry_PGAssessment=\"Count\",Industry_Segment=Database!$AD$95),VLOOKUP($C27,Industry_PGCount,Database!$AH$44,FALSE),\n\nIF(AND(Industry_PGAssessment=\"Impact\",Industry_Segment=Database!$O$119),VLOOKUP($C27,Industry_PGImpact,Database!$S$44,FALSE),IF(AND(Industry_PGAssessment=\"Impact\",Industry_Segment=Database!$T$119),VLOOKUP($C27,Industry_PGImpact,Database!$X$44,FALSE),IF(AND(Industry_PGAssessment=\"Impact\",Industry_Segment=Database!$Y$95),VLOOKUP($C27,Industry_PGImpact,Database!$AC$44,FALSE),IF(AND(Industry_PGAssessment=\"Impact\",Industry_Segment=Database!$AD$119),VLOOKUP($C27,Industry_PGImpact,Database!$AH$44,FALSE),\"Check\"))))))))))","v":"-"},{"$f":"IF($C27=\"\",\"\",IF(VLOOKUP($C27,PG_Flag,Database!X$44,FALSE)=\"\",\"-\",\n\nIF(AND(Industry_PGAssessment=\"Count\",Industry_Segment=Database!$O$119),VLOOKUP($C27,Industry_PGCount,Database!$S$44,FALSE),IF(AND(Industry_PGAssessment=\"Count\",Industry_Segment=Database!$T$95),VLOOKUP($C27,Industry_PGCount,Database!$X$44,FALSE),IF(AND(Industry_PGAssessment=\"Count\",Industry_Segment=Database!$Y$95),VLOOKUP($C27,Industry_PGCount,Database!$AC$44,FALSE),IF(AND(Industry_PGAssessment=\"Count\",Industry_Segment=Database!$AD$95),VLOOKUP($C27,Industry_PGCount,Database!$AH$44,FALSE),\n\nIF(AND(Industry_PGAssessment=\"Impact\",Industry_Segment=Database!$O$119),VLOOKUP($C27,Industry_PGImpact,Database!$S$44,FALSE),IF(AND(Industry_PGAssessment=\"Impact\",Industry_Segment=Database!$T$119),VLOOKUP($C27,Industry_PGImpact,Database!$X$44,FALSE),IF(AND(Industry_PGAssessment=\"Impact\",Industry_Segment=Database!$Y$95),VLOOKUP($C27,Industry_PGImpact,Database!$AC$44,FALSE),IF(AND(Industry_PGAssessment=\"Impact\",Industry_Segment=Database!$AD$119),VLOOKUP($C27,Industry_PGImpact,Database!$AH$44,FALSE),\"Check\"))))))))))","v":"-"},{"$f":"IF($C27=\"\",\"\",IF(VLOOKUP($C27,PG_Flag,Database!Y$44,FALSE)=\"\",\"-\",\n\nIF(AND(Industry_PGAssessment=\"Count\",Industry_Segment=Database!$O$119),VLOOKUP($C27,Industry_PGCount,Database!$S$44,FALSE),IF(AND(Industry_PGAssessment=\"Count\",Industry_Segment=Database!$T$95),VLOOKUP($C27,Industry_PGCount,Database!$X$44,FALSE),IF(AND(Industry_PGAssessment=\"Count\",Industry_Segment=Database!$Y$95),VLOOKUP($C27,Industry_PGCount,Database!$AC$44,FALSE),IF(AND(Industry_PGAssessment=\"Count\",Industry_Segment=Database!$AD$95),VLOOKUP($C27,Industry_PGCount,Database!$AH$44,FALSE),\n\nIF(AND(Industry_PGAssessment=\"Impact\",Industry_Segment=Database!$O$119),VLOOKUP($C27,Industry_PGImpact,Database!$S$44,FALSE),IF(AND(Industry_PGAssessment=\"Impact\",Industry_Segment=Database!$T$119),VLOOKUP($C27,Industry_PGImpact,Database!$X$44,FALSE),IF(AND(Industry_PGAssessment=\"Impact\",Industry_Segment=Database!$Y$95),VLOOKUP($C27,Industry_PGImpact,Database!$AC$44,FALSE),IF(AND(Industry_PGAssessment=\"Impact\",Industry_Segment=Database!$AD$119),VLOOKUP($C27,Industry_PGImpact,Database!$AH$44,FALSE),\"Check\"))))))))))","v":"-"},{"$f":"IF($C27=\"\",\"\",IF(VLOOKUP($C27,PG_Flag,Database!Z$44,FALSE)=\"\",\"-\",\n\nIF(AND(Industry_PGAssessment=\"Count\",Industry_Segment=Database!$O$119),VLOOKUP($C27,Industry_PGCount,Database!$S$44,FALSE),IF(AND(Industry_PGAssessment=\"Count\",Industry_Segment=Database!$T$95),VLOOKUP($C27,Industry_PGCount,Database!$X$44,FALSE),IF(AND(Industry_PGAssessment=\"Count\",Industry_Segment=Database!$Y$95),VLOOKUP($C27,Industry_PGCount,Database!$AC$44,FALSE),IF(AND(Industry_PGAssessment=\"Count\",Industry_Segment=Database!$AD$95),VLOOKUP($C27,Industry_PGCount,Database!$AH$44,FALSE),\n\nIF(AND(Industry_PGAssessment=\"Impact\",Industry_Segment=Database!$O$119),VLOOKUP($C27,Industry_PGImpact,Database!$S$44,FALSE),IF(AND(Industry_PGAssessment=\"Impact\",Industry_Segment=Database!$T$119),VLOOKUP($C27,Industry_PGImpact,Database!$X$44,FALSE),IF(AND(Industry_PGAssessment=\"Impact\",Industry_Segment=Database!$Y$95),VLOOKUP($C27,Industry_PGImpact,Database!$AC$44,FALSE),IF(AND(Industry_PGAssessment=\"Impact\",Industry_Segment=Database!$AD$119),VLOOKUP($C27,Industry_PGImpact,Database!$AH$44,FALSE),\"Check\"))))))))))","v":"-"},null,{"$f":"IF($C27=\"\",\"\",IF(VLOOKUP($C27,PG_Flag,Database!AA$44,FALSE)=\"\",\"-\",\n\nIF(AND(Industry_PGAssessment=\"Count\",Industry_Segment=Database!$O$119),VLOOKUP($C27,Industry_PGCount,Database!$S$44,FALSE),IF(AND(Industry_PGAssessment=\"Count\",Industry_Segment=Database!$T$95),VLOOKUP($C27,Industry_PGCount,Database!$X$44,FALSE),IF(AND(Industry_PGAssessment=\"Count\",Industry_Segment=Database!$Y$95),VLOOKUP($C27,Industry_PGCount,Database!$AC$44,FALSE),IF(AND(Industry_PGAssessment=\"Count\",Industry_Segment=Database!$AD$95),VLOOKUP($C27,Industry_PGCount,Database!$AH$44,FALSE),\n\nIF(AND(Industry_PGAssessment=\"Impact\",Industry_Segment=Database!$O$119),VLOOKUP($C27,Industry_PGImpact,Database!$S$44,FALSE),IF(AND(Industry_PGAssessment=\"Impact\",Industry_Segment=Database!$T$119),VLOOKUP($C27,Industry_PGImpact,Database!$X$44,FALSE),IF(AND(Industry_PGAssessment=\"Impact\",Industry_Segment=Database!$Y$95),VLOOKUP($C27,Industry_PGImpact,Database!$AC$44,FALSE),IF(AND(Industry_PGAssessment=\"Impact\",Industry_Segment=Database!$AD$119),VLOOKUP($C27,Industry_PGImpact,Database!$AH$44,FALSE),\"Check\"))))))))))","v":"-"},null,{"$f":"IF($C27=\"\",\"\",IF(VLOOKUP($C27,PG_Flag,Database!AB$44,FALSE)=\"\",\"-\",\n\nIF(AND(Industry_PGAssessment=\"Count\",Industry_Segment=Database!$O$119),VLOOKUP($C27,Industry_PGCount,Database!$S$44,FALSE),IF(AND(Industry_PGAssessment=\"Count\",Industry_Segment=Database!$T$95),VLOOKUP($C27,Industry_PGCount,Database!$X$44,FALSE),IF(AND(Industry_PGAssessment=\"Count\",Industry_Segment=Database!$Y$95),VLOOKUP($C27,Industry_PGCount,Database!$AC$44,FALSE),IF(AND(Industry_PGAssessment=\"Count\",Industry_Segment=Database!$AD$95),VLOOKUP($C27,Industry_PGCount,Database!$AH$44,FALSE),\n\nIF(AND(Industry_PGAssessment=\"Impact\",Industry_Segment=Database!$O$119),VLOOKUP($C27,Industry_PGImpact,Database!$S$44,FALSE),IF(AND(Industry_PGAssessment=\"Impact\",Industry_Segment=Database!$T$119),VLOOKUP($C27,Industry_PGImpact,Database!$X$44,FALSE),IF(AND(Industry_PGAssessment=\"Impact\",Industry_Segment=Database!$Y$95),VLOOKUP($C27,Industry_PGImpact,Database!$AC$44,FALSE),IF(AND(Industry_PGAssessment=\"Impact\",Industry_Segment=Database!$AD$119),VLOOKUP($C27,Industry_PGImpact,Database!$AH$44,FALSE),\"Check\"))))))))))","v":"-"},null,{"$f":"IF($C27=\"\",\"\",IF(VLOOKUP($C27,PG_Flag,Database!AC$44,FALSE)=\"\",\"-\",\n\nIF(AND(Industry_PGAssessment=\"Count\",Industry_Segment=Database!$O$119),VLOOKUP($C27,Industry_PGCount,Database!$S$44,FALSE),IF(AND(Industry_PGAssessment=\"Count\",Industry_Segment=Database!$T$95),VLOOKUP($C27,Industry_PGCount,Database!$X$44,FALSE),IF(AND(Industry_PGAssessment=\"Count\",Industry_Segment=Database!$Y$95),VLOOKUP($C27,Industry_PGCount,Database!$AC$44,FALSE),IF(AND(Industry_PGAssessment=\"Count\",Industry_Segment=Database!$AD$95),VLOOKUP($C27,Industry_PGCount,Database!$AH$44,FALSE),\n\nIF(AND(Industry_PGAssessment=\"Impact\",Industry_Segment=Database!$O$119),VLOOKUP($C27,Industry_PGImpact,Database!$S$44,FALSE),IF(AND(Industry_PGAssessment=\"Impact\",Industry_Segment=Database!$T$119),VLOOKUP($C27,Industry_PGImpact,Database!$X$44,FALSE),IF(AND(Industry_PGAssessment=\"Impact\",Industry_Segment=Database!$Y$95),VLOOKUP($C27,Industry_PGImpact,Database!$AC$44,FALSE),IF(AND(Industry_PGAssessment=\"Impact\",Industry_Segment=Database!$AD$119),VLOOKUP($C27,Industry_PGImpact,Database!$AH$44,FALSE),\"Check\"))))))))))","v":"-"}]
[null,null,{"$f":"IF(Database!C53=\"\",\"\",Database!C53)","v":"I - Unlocking CER Benefits Through Flexible Trading"},{"$f":"IF($C28=\"\",\"\",IF(VLOOKUP($C28,PG_Flag,Database!R$44,FALSE)=\"\",\"-\",\n\nIF(AND(Industry_PGAssessment=\"Count\",Industry_Segment=Database!$O$119),VLOOKUP($C28,Industry_PGCount,Database!$S$44,FALSE),IF(AND(Industry_PGAssessment=\"Count\",Industry_Segment=Database!$T$95),VLOOKUP($C28,Industry_PGCount,Database!$X$44,FALSE),IF(AND(Industry_PGAssessment=\"Count\",Industry_Segment=Database!$Y$95),VLOOKUP($C28,Industry_PGCount,Database!$AC$44,FALSE),IF(AND(Industry_PGAssessment=\"Count\",Industry_Segment=Database!$AD$95),VLOOKUP($C28,Industry_PGCount,Database!$AH$44,FALSE),\n\nIF(AND(Industry_PGAssessment=\"Impact\",Industry_Segment=Database!$O$119),VLOOKUP($C28,Industry_PGImpact,Database!$S$44,FALSE),IF(AND(Industry_PGAssessment=\"Impact\",Industry_Segment=Database!$T$119),VLOOKUP($C28,Industry_PGImpact,Database!$X$44,FALSE),IF(AND(Industry_PGAssessment=\"Impact\",Industry_Segment=Database!$Y$95),VLOOKUP($C28,Industry_PGImpact,Database!$AC$44,FALSE),IF(AND(Industry_PGAssessment=\"Impact\",Industry_Segment=Database!$AD$119),VLOOKUP($C28,Industry_PGImpact,Database!$AH$44,FALSE),\"Check\"))))))))))","v":"-"},{"$f":"IF($C28=\"\",\"\",IF(VLOOKUP($C28,PG_Flag,Database!S$44,FALSE)=\"\",\"-\",\n\nIF(AND(Industry_PGAssessment=\"Count\",Industry_Segment=Database!$O$119),VLOOKUP($C28,Industry_PGCount,Database!$S$44,FALSE),IF(AND(Industry_PGAssessment=\"Count\",Industry_Segment=Database!$T$95),VLOOKUP($C28,Industry_PGCount,Database!$X$44,FALSE),IF(AND(Industry_PGAssessment=\"Count\",Industry_Segment=Database!$Y$95),VLOOKUP($C28,Industry_PGCount,Database!$AC$44,FALSE),IF(AND(Industry_PGAssessment=\"Count\",Industry_Segment=Database!$AD$95),VLOOKUP($C28,Industry_PGCount,Database!$AH$44,FALSE),\n\nIF(AND(Industry_PGAssessment=\"Impact\",Industry_Segment=Database!$O$119),VLOOKUP($C28,Industry_PGImpact,Database!$S$44,FALSE),IF(AND(Industry_PGAssessment=\"Impact\",Industry_Segment=Database!$T$119),VLOOKUP($C28,Industry_PGImpact,Database!$X$44,FALSE),IF(AND(Industry_PGAssessment=\"Impact\",Industry_Segment=Database!$Y$95),VLOOKUP($C28,Industry_PGImpact,Database!$AC$44,FALSE),IF(AND(Industry_PGAssessment=\"Impact\",Industry_Segment=Database!$AD$119),VLOOKUP($C28,Industry_PGImpact,Database!$AH$44,FALSE),\"Check\"))))))))))","v":5},{"$f":"IF($C28=\"\",\"\",IF(VLOOKUP($C28,PG_Flag,Database!T$44,FALSE)=\"\",\"-\",\n\nIF(AND(Industry_PGAssessment=\"Count\",Industry_Segment=Database!$O$119),VLOOKUP($C28,Industry_PGCount,Database!$S$44,FALSE),IF(AND(Industry_PGAssessment=\"Count\",Industry_Segment=Database!$T$95),VLOOKUP($C28,Industry_PGCount,Database!$X$44,FALSE),IF(AND(Industry_PGAssessment=\"Count\",Industry_Segment=Database!$Y$95),VLOOKUP($C28,Industry_PGCount,Database!$AC$44,FALSE),IF(AND(Industry_PGAssessment=\"Count\",Industry_Segment=Database!$AD$95),VLOOKUP($C28,Industry_PGCount,Database!$AH$44,FALSE),\n\nIF(AND(Industry_PGAssessment=\"Impact\",Industry_Segment=Database!$O$119),VLOOKUP($C28,Industry_PGImpact,Database!$S$44,FALSE),IF(AND(Industry_PGAssessment=\"Impact\",Industry_Segment=Database!$T$119),VLOOKUP($C28,Industry_PGImpact,Database!$X$44,FALSE),IF(AND(Industry_PGAssessment=\"Impact\",Industry_Segment=Database!$Y$95),VLOOKUP($C28,Industry_PGImpact,Database!$AC$44,FALSE),IF(AND(Industry_PGAssessment=\"Impact\",Industry_Segment=Database!$AD$119),VLOOKUP($C28,Industry_PGImpact,Database!$AH$44,FALSE),\"Check\"))))))))))","v":5},{"$f":"IF($C28=\"\",\"\",IF(VLOOKUP($C28,PG_Flag,Database!U$44,FALSE)=\"\",\"-\",\n\nIF(AND(Industry_PGAssessment=\"Count\",Industry_Segment=Database!$O$119),VLOOKUP($C28,Industry_PGCount,Database!$S$44,FALSE),IF(AND(Industry_PGAssessment=\"Count\",Industry_Segment=Database!$T$95),VLOOKUP($C28,Industry_PGCount,Database!$X$44,FALSE),IF(AND(Industry_PGAssessment=\"Count\",Industry_Segment=Database!$Y$95),VLOOKUP($C28,Industry_PGCount,Database!$AC$44,FALSE),IF(AND(Industry_PGAssessment=\"Count\",Industry_Segment=Database!$AD$95),VLOOKUP($C28,Industry_PGCount,Database!$AH$44,FALSE),\n\nIF(AND(Industry_PGAssessment=\"Impact\",Industry_Segment=Database!$O$119),VLOOKUP($C28,Industry_PGImpact,Database!$S$44,FALSE),IF(AND(Industry_PGAssessment=\"Impact\",Industry_Segment=Database!$T$119),VLOOKUP($C28,Industry_PGImpact,Database!$X$44,FALSE),IF(AND(Industry_PGAssessment=\"Impact\",Industry_Segment=Database!$Y$95),VLOOKUP($C28,Industry_PGImpact,Database!$AC$44,FALSE),IF(AND(Industry_PGAssessment=\"Impact\",Industry_Segment=Database!$AD$119),VLOOKUP($C28,Industry_PGImpact,Database!$AH$44,FALSE),\"Check\"))))))))))","v":5},{"$f":"IF($C28=\"\",\"\",IF(VLOOKUP($C28,PG_Flag,Database!V$44,FALSE)=\"\",\"-\",\n\nIF(AND(Industry_PGAssessment=\"Count\",Industry_Segment=Database!$O$119),VLOOKUP($C28,Industry_PGCount,Database!$S$44,FALSE),IF(AND(Industry_PGAssessment=\"Count\",Industry_Segment=Database!$T$95),VLOOKUP($C28,Industry_PGCount,Database!$X$44,FALSE),IF(AND(Industry_PGAssessment=\"Count\",Industry_Segment=Database!$Y$95),VLOOKUP($C28,Industry_PGCount,Database!$AC$44,FALSE),IF(AND(Industry_PGAssessment=\"Count\",Industry_Segment=Database!$AD$95),VLOOKUP($C28,Industry_PGCount,Database!$AH$44,FALSE),\n\nIF(AND(Industry_PGAssessment=\"Impact\",Industry_Segment=Database!$O$119),VLOOKUP($C28,Industry_PGImpact,Database!$S$44,FALSE),IF(AND(Industry_PGAssessment=\"Impact\",Industry_Segment=Database!$T$119),VLOOKUP($C28,Industry_PGImpact,Database!$X$44,FALSE),IF(AND(Industry_PGAssessment=\"Impact\",Industry_Segment=Database!$Y$95),VLOOKUP($C28,Industry_PGImpact,Database!$AC$44,FALSE),IF(AND(Industry_PGAssessment=\"Impact\",Industry_Segment=Database!$AD$119),VLOOKUP($C28,Industry_PGImpact,Database!$AH$44,FALSE),\"Check\"))))))))))","v":"-"},{"$f":"IF($C28=\"\",\"\",IF(VLOOKUP($C28,PG_Flag,Database!W$44,FALSE)=\"\",\"-\",\n\nIF(AND(Industry_PGAssessment=\"Count\",Industry_Segment=Database!$O$119),VLOOKUP($C28,Industry_PGCount,Database!$S$44,FALSE),IF(AND(Industry_PGAssessment=\"Count\",Industry_Segment=Database!$T$95),VLOOKUP($C28,Industry_PGCount,Database!$X$44,FALSE),IF(AND(Industry_PGAssessment=\"Count\",Industry_Segment=Database!$Y$95),VLOOKUP($C28,Industry_PGCount,Database!$AC$44,FALSE),IF(AND(Industry_PGAssessment=\"Count\",Industry_Segment=Database!$AD$95),VLOOKUP($C28,Industry_PGCount,Database!$AH$44,FALSE),\n\nIF(AND(Industry_PGAssessment=\"Impact\",Industry_Segment=Database!$O$119),VLOOKUP($C28,Industry_PGImpact,Database!$S$44,FALSE),IF(AND(Industry_PGAssessment=\"Impact\",Industry_Segment=Database!$T$119),VLOOKUP($C28,Industry_PGImpact,Database!$X$44,FALSE),IF(AND(Industry_PGAssessment=\"Impact\",Industry_Segment=Database!$Y$95),VLOOKUP($C28,Industry_PGImpact,Database!$AC$44,FALSE),IF(AND(Industry_PGAssessment=\"Impact\",Industry_Segment=Database!$AD$119),VLOOKUP($C28,Industry_PGImpact,Database!$AH$44,FALSE),\"Check\"))))))))))","v":"-"},{"$f":"IF($C28=\"\",\"\",IF(VLOOKUP($C28,PG_Flag,Database!X$44,FALSE)=\"\",\"-\",\n\nIF(AND(Industry_PGAssessment=\"Count\",Industry_Segment=Database!$O$119),VLOOKUP($C28,Industry_PGCount,Database!$S$44,FALSE),IF(AND(Industry_PGAssessment=\"Count\",Industry_Segment=Database!$T$95),VLOOKUP($C28,Industry_PGCount,Database!$X$44,FALSE),IF(AND(Industry_PGAssessment=\"Count\",Industry_Segment=Database!$Y$95),VLOOKUP($C28,Industry_PGCount,Database!$AC$44,FALSE),IF(AND(Industry_PGAssessment=\"Count\",Industry_Segment=Database!$AD$95),VLOOKUP($C28,Industry_PGCount,Database!$AH$44,FALSE),\n\nIF(AND(Industry_PGAssessment=\"Impact\",Industry_Segment=Database!$O$119),VLOOKUP($C28,Industry_PGImpact,Database!$S$44,FALSE),IF(AND(Industry_PGAssessment=\"Impact\",Industry_Segment=Database!$T$119),VLOOKUP($C28,Industry_PGImpact,Database!$X$44,FALSE),IF(AND(Industry_PGAssessment=\"Impact\",Industry_Segment=Database!$Y$95),VLOOKUP($C28,Industry_PGImpact,Database!$AC$44,FALSE),IF(AND(Industry_PGAssessment=\"Impact\",Industry_Segment=Database!$AD$119),VLOOKUP($C28,Industry_PGImpact,Database!$AH$44,FALSE),\"Check\"))))))))))","v":"-"},{"$f":"IF($C28=\"\",\"\",IF(VLOOKUP($C28,PG_Flag,Database!Y$44,FALSE)=\"\",\"-\",\n\nIF(AND(Industry_PGAssessment=\"Count\",Industry_Segment=Database!$O$119),VLOOKUP($C28,Industry_PGCount,Database!$S$44,FALSE),IF(AND(Industry_PGAssessment=\"Count\",Industry_Segment=Database!$T$95),VLOOKUP($C28,Industry_PGCount,Database!$X$44,FALSE),IF(AND(Industry_PGAssessment=\"Count\",Industry_Segment=Database!$Y$95),VLOOKUP($C28,Industry_PGCount,Database!$AC$44,FALSE),IF(AND(Industry_PGAssessment=\"Count\",Industry_Segment=Database!$AD$95),VLOOKUP($C28,Industry_PGCount,Database!$AH$44,FALSE),\n\nIF(AND(Industry_PGAssessment=\"Impact\",Industry_Segment=Database!$O$119),VLOOKUP($C28,Industry_PGImpact,Database!$S$44,FALSE),IF(AND(Industry_PGAssessment=\"Impact\",Industry_Segment=Database!$T$119),VLOOKUP($C28,Industry_PGImpact,Database!$X$44,FALSE),IF(AND(Industry_PGAssessment=\"Impact\",Industry_Segment=Database!$Y$95),VLOOKUP($C28,Industry_PGImpact,Database!$AC$44,FALSE),IF(AND(Industry_PGAssessment=\"Impact\",Industry_Segment=Database!$AD$119),VLOOKUP($C28,Industry_PGImpact,Database!$AH$44,FALSE),\"Check\"))))))))))","v":"-"},{"$f":"IF($C28=\"\",\"\",IF(VLOOKUP($C28,PG_Flag,Database!Z$44,FALSE)=\"\",\"-\",\n\nIF(AND(Industry_PGAssessment=\"Count\",Industry_Segment=Database!$O$119),VLOOKUP($C28,Industry_PGCount,Database!$S$44,FALSE),IF(AND(Industry_PGAssessment=\"Count\",Industry_Segment=Database!$T$95),VLOOKUP($C28,Industry_PGCount,Database!$X$44,FALSE),IF(AND(Industry_PGAssessment=\"Count\",Industry_Segment=Database!$Y$95),VLOOKUP($C28,Industry_PGCount,Database!$AC$44,FALSE),IF(AND(Industry_PGAssessment=\"Count\",Industry_Segment=Database!$AD$95),VLOOKUP($C28,Industry_PGCount,Database!$AH$44,FALSE),\n\nIF(AND(Industry_PGAssessment=\"Impact\",Industry_Segment=Database!$O$119),VLOOKUP($C28,Industry_PGImpact,Database!$S$44,FALSE),IF(AND(Industry_PGAssessment=\"Impact\",Industry_Segment=Database!$T$119),VLOOKUP($C28,Industry_PGImpact,Database!$X$44,FALSE),IF(AND(Industry_PGAssessment=\"Impact\",Industry_Segment=Database!$Y$95),VLOOKUP($C28,Industry_PGImpact,Database!$AC$44,FALSE),IF(AND(Industry_PGAssessment=\"Impact\",Industry_Segment=Database!$AD$119),VLOOKUP($C28,Industry_PGImpact,Database!$AH$44,FALSE),\"Check\"))))))))))","v":"-"},null,{"$f":"IF($C28=\"\",\"\",IF(VLOOKUP($C28,PG_Flag,Database!AA$44,FALSE)=\"\",\"-\",\n\nIF(AND(Industry_PGAssessment=\"Count\",Industry_Segment=Database!$O$119),VLOOKUP($C28,Industry_PGCount,Database!$S$44,FALSE),IF(AND(Industry_PGAssessment=\"Count\",Industry_Segment=Database!$T$95),VLOOKUP($C28,Industry_PGCount,Database!$X$44,FALSE),IF(AND(Industry_PGAssessment=\"Count\",Industry_Segment=Database!$Y$95),VLOOKUP($C28,Industry_PGCount,Database!$AC$44,FALSE),IF(AND(Industry_PGAssessment=\"Count\",Industry_Segment=Database!$AD$95),VLOOKUP($C28,Industry_PGCount,Database!$AH$44,FALSE),\n\nIF(AND(Industry_PGAssessment=\"Impact\",Industry_Segment=Database!$O$119),VLOOKUP($C28,Industry_PGImpact,Database!$S$44,FALSE),IF(AND(Industry_PGAssessment=\"Impact\",Industry_Segment=Database!$T$119),VLOOKUP($C28,Industry_PGImpact,Database!$X$44,FALSE),IF(AND(Industry_PGAssessment=\"Impact\",Industry_Segment=Database!$Y$95),VLOOKUP($C28,Industry_PGImpact,Database!$AC$44,FALSE),IF(AND(Industry_PGAssessment=\"Impact\",Industry_Segment=Database!$AD$119),VLOOKUP($C28,Industry_PGImpact,Database!$AH$44,FALSE),\"Check\"))))))))))","v":"-"},null,{"$f":"IF($C28=\"\",\"\",IF(VLOOKUP($C28,PG_Flag,Database!AB$44,FALSE)=\"\",\"-\",\n\nIF(AND(Industry_PGAssessment=\"Count\",Industry_Segment=Database!$O$119),VLOOKUP($C28,Industry_PGCount,Database!$S$44,FALSE),IF(AND(Industry_PGAssessment=\"Count\",Industry_Segment=Database!$T$95),VLOOKUP($C28,Industry_PGCount,Database!$X$44,FALSE),IF(AND(Industry_PGAssessment=\"Count\",Industry_Segment=Database!$Y$95),VLOOKUP($C28,Industry_PGCount,Database!$AC$44,FALSE),IF(AND(Industry_PGAssessment=\"Count\",Industry_Segment=Database!$AD$95),VLOOKUP($C28,Industry_PGCount,Database!$AH$44,FALSE),\n\nIF(AND(Industry_PGAssessment=\"Impact\",Industry_Segment=Database!$O$119),VLOOKUP($C28,Industry_PGImpact,Database!$S$44,FALSE),IF(AND(Industry_PGAssessment=\"Impact\",Industry_Segment=Database!$T$119),VLOOKUP($C28,Industry_PGImpact,Database!$X$44,FALSE),IF(AND(Industry_PGAssessment=\"Impact\",Industry_Segment=Database!$Y$95),VLOOKUP($C28,Industry_PGImpact,Database!$AC$44,FALSE),IF(AND(Industry_PGAssessment=\"Impact\",Industry_Segment=Database!$AD$119),VLOOKUP($C28,Industry_PGImpact,Database!$AH$44,FALSE),\"Check\"))))))))))","v":"-"},null,{"$f":"IF($C28=\"\",\"\",IF(VLOOKUP($C28,PG_Flag,Database!AC$44,FALSE)=\"\",\"-\",\n\nIF(AND(Industry_PGAssessment=\"Count\",Industry_Segment=Database!$O$119),VLOOKUP($C28,Industry_PGCount,Database!$S$44,FALSE),IF(AND(Industry_PGAssessment=\"Count\",Industry_Segment=Database!$T$95),VLOOKUP($C28,Industry_PGCount,Database!$X$44,FALSE),IF(AND(Industry_PGAssessment=\"Count\",Industry_Segment=Database!$Y$95),VLOOKUP($C28,Industry_PGCount,Database!$AC$44,FALSE),IF(AND(Industry_PGAssessment=\"Count\",Industry_Segment=Database!$AD$95),VLOOKUP($C28,Industry_PGCount,Database!$AH$44,FALSE),\n\nIF(AND(Industry_PGAssessment=\"Impact\",Industry_Segment=Database!$O$119),VLOOKUP($C28,Industry_PGImpact,Database!$S$44,FALSE),IF(AND(Industry_PGAssessment=\"Impact\",Industry_Segment=Database!$T$119),VLOOKUP($C28,Industry_PGImpact,Database!$X$44,FALSE),IF(AND(Industry_PGAssessment=\"Impact\",Industry_Segment=Database!$Y$95),VLOOKUP($C28,Industry_PGImpact,Database!$AC$44,FALSE),IF(AND(Industry_PGAssessment=\"Impact\",Industry_Segment=Database!$AD$119),VLOOKUP($C28,Industry_PGImpact,Database!$AH$44,FALSE),\"Check\"))))))))))","v":"-"}]
[null,null,{"$f":"IF(Database!C54=\"\",\"\",Database!C54)","v":"I - MSR (Accelerating Smart Meter Deployment - Package 1 & 2)"},{"$f":"IF($C29=\"\",\"\",IF(VLOOKUP($C29,PG_Flag,Database!R$44,FALSE)=\"\",\"-\",\n\nIF(AND(Industry_PGAssessment=\"Count\",Industry_Segment=Database!$O$119),VLOOKUP($C29,Industry_PGCount,Database!$S$44,FALSE),IF(AND(Industry_PGAssessment=\"Count\",Industry_Segment=Database!$T$95),VLOOKUP($C29,Industry_PGCount,Database!$X$44,FALSE),IF(AND(Industry_PGAssessment=\"Count\",Industry_Segment=Database!$Y$95),VLOOKUP($C29,Industry_PGCount,Database!$AC$44,FALSE),IF(AND(Industry_PGAssessment=\"Count\",Industry_Segment=Database!$AD$95),VLOOKUP($C29,Industry_PGCount,Database!$AH$44,FALSE),\n\nIF(AND(Industry_PGAssessment=\"Impact\",Industry_Segment=Database!$O$119),VLOOKUP($C29,Industry_PGImpact,Database!$S$44,FALSE),IF(AND(Industry_PGAssessment=\"Impact\",Industry_Segment=Database!$T$119),VLOOKUP($C29,Industry_PGImpact,Database!$X$44,FALSE),IF(AND(Industry_PGAssessment=\"Impact\",Industry_Segment=Database!$Y$95),VLOOKUP($C29,Industry_PGImpact,Database!$AC$44,FALSE),IF(AND(Industry_PGAssessment=\"Impact\",Industry_Segment=Database!$AD$119),VLOOKUP($C29,Industry_PGImpact,Database!$AH$44,FALSE),\"Check\"))))))))))","v":4},{"$f":"IF($C29=\"\",\"\",IF(VLOOKUP($C29,PG_Flag,Database!S$44,FALSE)=\"\",\"-\",\n\nIF(AND(Industry_PGAssessment=\"Count\",Industry_Segment=Database!$O$119),VLOOKUP($C29,Industry_PGCount,Database!$S$44,FALSE),IF(AND(Industry_PGAssessment=\"Count\",Industry_Segment=Database!$T$95),VLOOKUP($C29,Industry_PGCount,Database!$X$44,FALSE),IF(AND(Industry_PGAssessment=\"Count\",Industry_Segment=Database!$Y$95),VLOOKUP($C29,Industry_PGCount,Database!$AC$44,FALSE),IF(AND(Industry_PGAssessment=\"Count\",Industry_Segment=Database!$AD$95),VLOOKUP($C29,Industry_PGCount,Database!$AH$44,FALSE),\n\nIF(AND(Industry_PGAssessment=\"Impact\",Industry_Segment=Database!$O$119),VLOOKUP($C29,Industry_PGImpact,Database!$S$44,FALSE),IF(AND(Industry_PGAssessment=\"Impact\",Industry_Segment=Database!$T$119),VLOOKUP($C29,Industry_PGImpact,Database!$X$44,FALSE),IF(AND(Industry_PGAssessment=\"Impact\",Industry_Segment=Database!$Y$95),VLOOKUP($C29,Industry_PGImpact,Database!$AC$44,FALSE),IF(AND(Industry_PGAssessment=\"Impact\",Industry_Segment=Database!$AD$119),VLOOKUP($C29,Industry_PGImpact,Database!$AH$44,FALSE),\"Check\"))))))))))","v":4},{"$f":"IF($C29=\"\",\"\",IF(VLOOKUP($C29,PG_Flag,Database!T$44,FALSE)=\"\",\"-\",\n\nIF(AND(Industry_PGAssessment=\"Count\",Industry_Segment=Database!$O$119),VLOOKUP($C29,Industry_PGCount,Database!$S$44,FALSE),IF(AND(Industry_PGAssessment=\"Count\",Industry_Segment=Database!$T$95),VLOOKUP($C29,Industry_PGCount,Database!$X$44,FALSE),IF(AND(Industry_PGAssessment=\"Count\",Industry_Segment=Database!$Y$95),VLOOKUP($C29,Industry_PGCount,Database!$AC$44,FALSE),IF(AND(Industry_PGAssessment=\"Count\",Industry_Segment=Database!$AD$95),VLOOKUP($C29,Industry_PGCount,Database!$AH$44,FALSE),\n\nIF(AND(Industry_PGAssessment=\"Impact\",Industry_Segment=Database!$O$119),VLOOKUP($C29,Industry_PGImpact,Database!$S$44,FALSE),IF(AND(Industry_PGAssessment=\"Impact\",Industry_Segment=Database!$T$119),VLOOKUP($C29,Industry_PGImpact,Database!$X$44,FALSE),IF(AND(Industry_PGAssessment=\"Impact\",Industry_Segment=Database!$Y$95),VLOOKUP($C29,Industry_PGImpact,Database!$AC$44,FALSE),IF(AND(Industry_PGAssessment=\"Impact\",Industry_Segment=Database!$AD$119),VLOOKUP($C29,Industry_PGImpact,Database!$AH$44,FALSE),\"Check\"))))))))))","v":"-"},{"$f":"IF($C29=\"\",\"\",IF(VLOOKUP($C29,PG_Flag,Database!U$44,FALSE)=\"\",\"-\",\n\nIF(AND(Industry_PGAssessment=\"Count\",Industry_Segment=Database!$O$119),VLOOKUP($C29,Industry_PGCount,Database!$S$44,FALSE),IF(AND(Industry_PGAssessment=\"Count\",Industry_Segment=Database!$T$95),VLOOKUP($C29,Industry_PGCount,Database!$X$44,FALSE),IF(AND(Industry_PGAssessment=\"Count\",Industry_Segment=Database!$Y$95),VLOOKUP($C29,Industry_PGCount,Database!$AC$44,FALSE),IF(AND(Industry_PGAssessment=\"Count\",Industry_Segment=Database!$AD$95),VLOOKUP($C29,Industry_PGCount,Database!$AH$44,FALSE),\n\nIF(AND(Industry_PGAssessment=\"Impact\",Industry_Segment=Database!$O$119),VLOOKUP($C29,Industry_PGImpact,Database!$S$44,FALSE),IF(AND(Industry_PGAssessment=\"Impact\",Industry_Segment=Database!$T$119),VLOOKUP($C29,Industry_PGImpact,Database!$X$44,FALSE),IF(AND(Industry_PGAssessment=\"Impact\",Industry_Segment=Database!$Y$95),VLOOKUP($C29,Industry_PGImpact,Database!$AC$44,FALSE),IF(AND(Industry_PGAssessment=\"Impact\",Industry_Segment=Database!$AD$119),VLOOKUP($C29,Industry_PGImpact,Database!$AH$44,FALSE),\"Check\"))))))))))","v":"-"},{"$f":"IF($C29=\"\",\"\",IF(VLOOKUP($C29,PG_Flag,Database!V$44,FALSE)=\"\",\"-\",\n\nIF(AND(Industry_PGAssessment=\"Count\",Industry_Segment=Database!$O$119),VLOOKUP($C29,Industry_PGCount,Database!$S$44,FALSE),IF(AND(Industry_PGAssessment=\"Count\",Industry_Segment=Database!$T$95),VLOOKUP($C29,Industry_PGCount,Database!$X$44,FALSE),IF(AND(Industry_PGAssessment=\"Count\",Industry_Segment=Database!$Y$95),VLOOKUP($C29,Industry_PGCount,Database!$AC$44,FALSE),IF(AND(Industry_PGAssessment=\"Count\",Industry_Segment=Database!$AD$95),VLOOKUP($C29,Industry_PGCount,Database!$AH$44,FALSE),\n\nIF(AND(Industry_PGAssessment=\"Impact\",Industry_Segment=Database!$O$119),VLOOKUP($C29,Industry_PGImpact,Database!$S$44,FALSE),IF(AND(Industry_PGAssessment=\"Impact\",Industry_Segment=Database!$T$119),VLOOKUP($C29,Industry_PGImpact,Database!$X$44,FALSE),IF(AND(Industry_PGAssessment=\"Impact\",Industry_Segment=Database!$Y$95),VLOOKUP($C29,Industry_PGImpact,Database!$AC$44,FALSE),IF(AND(Industry_PGAssessment=\"Impact\",Industry_Segment=Database!$AD$119),VLOOKUP($C29,Industry_PGImpact,Database!$AH$44,FALSE),\"Check\"))))))))))","v":"-"},{"$f":"IF($C29=\"\",\"\",IF(VLOOKUP($C29,PG_Flag,Database!W$44,FALSE)=\"\",\"-\",\n\nIF(AND(Industry_PGAssessment=\"Count\",Industry_Segment=Database!$O$119),VLOOKUP($C29,Industry_PGCount,Database!$S$44,FALSE),IF(AND(Industry_PGAssessment=\"Count\",Industry_Segment=Database!$T$95),VLOOKUP($C29,Industry_PGCount,Database!$X$44,FALSE),IF(AND(Industry_PGAssessment=\"Count\",Industry_Segment=Database!$Y$95),VLOOKUP($C29,Industry_PGCount,Database!$AC$44,FALSE),IF(AND(Industry_PGAssessment=\"Count\",Industry_Segment=Database!$AD$95),VLOOKUP($C29,Industry_PGCount,Database!$AH$44,FALSE),\n\nIF(AND(Industry_PGAssessment=\"Impact\",Industry_Segment=Database!$O$119),VLOOKUP($C29,Industry_PGImpact,Database!$S$44,FALSE),IF(AND(Industry_PGAssessment=\"Impact\",Industry_Segment=Database!$T$119),VLOOKUP($C29,Industry_PGImpact,Database!$X$44,FALSE),IF(AND(Industry_PGAssessment=\"Impact\",Industry_Segment=Database!$Y$95),VLOOKUP($C29,Industry_PGImpact,Database!$AC$44,FALSE),IF(AND(Industry_PGAssessment=\"Impact\",Industry_Segment=Database!$AD$119),VLOOKUP($C29,Industry_PGImpact,Database!$AH$44,FALSE),\"Check\"))))))))))","v":"-"},{"$f":"IF($C29=\"\",\"\",IF(VLOOKUP($C29,PG_Flag,Database!X$44,FALSE)=\"\",\"-\",\n\nIF(AND(Industry_PGAssessment=\"Count\",Industry_Segment=Database!$O$119),VLOOKUP($C29,Industry_PGCount,Database!$S$44,FALSE),IF(AND(Industry_PGAssessment=\"Count\",Industry_Segment=Database!$T$95),VLOOKUP($C29,Industry_PGCount,Database!$X$44,FALSE),IF(AND(Industry_PGAssessment=\"Count\",Industry_Segment=Database!$Y$95),VLOOKUP($C29,Industry_PGCount,Database!$AC$44,FALSE),IF(AND(Industry_PGAssessment=\"Count\",Industry_Segment=Database!$AD$95),VLOOKUP($C29,Industry_PGCount,Database!$AH$44,FALSE),\n\nIF(AND(Industry_PGAssessment=\"Impact\",Industry_Segment=Database!$O$119),VLOOKUP($C29,Industry_PGImpact,Database!$S$44,FALSE),IF(AND(Industry_PGAssessment=\"Impact\",Industry_Segment=Database!$T$119),VLOOKUP($C29,Industry_PGImpact,Database!$X$44,FALSE),IF(AND(Industry_PGAssessment=\"Impact\",Industry_Segment=Database!$Y$95),VLOOKUP($C29,Industry_PGImpact,Database!$AC$44,FALSE),IF(AND(Industry_PGAssessment=\"Impact\",Industry_Segment=Database!$AD$119),VLOOKUP($C29,Industry_PGImpact,Database!$AH$44,FALSE),\"Check\"))))))))))","v":"-"},{"$f":"IF($C29=\"\",\"\",IF(VLOOKUP($C29,PG_Flag,Database!Y$44,FALSE)=\"\",\"-\",\n\nIF(AND(Industry_PGAssessment=\"Count\",Industry_Segment=Database!$O$119),VLOOKUP($C29,Industry_PGCount,Database!$S$44,FALSE),IF(AND(Industry_PGAssessment=\"Count\",Industry_Segment=Database!$T$95),VLOOKUP($C29,Industry_PGCount,Database!$X$44,FALSE),IF(AND(Industry_PGAssessment=\"Count\",Industry_Segment=Database!$Y$95),VLOOKUP($C29,Industry_PGCount,Database!$AC$44,FALSE),IF(AND(Industry_PGAssessment=\"Count\",Industry_Segment=Database!$AD$95),VLOOKUP($C29,Industry_PGCount,Database!$AH$44,FALSE),\n\nIF(AND(Industry_PGAssessment=\"Impact\",Industry_Segment=Database!$O$119),VLOOKUP($C29,Industry_PGImpact,Database!$S$44,FALSE),IF(AND(Industry_PGAssessment=\"Impact\",Industry_Segment=Database!$T$119),VLOOKUP($C29,Industry_PGImpact,Database!$X$44,FALSE),IF(AND(Industry_PGAssessment=\"Impact\",Industry_Segment=Database!$Y$95),VLOOKUP($C29,Industry_PGImpact,Database!$AC$44,FALSE),IF(AND(Industry_PGAssessment=\"Impact\",Industry_Segment=Database!$AD$119),VLOOKUP($C29,Industry_PGImpact,Database!$AH$44,FALSE),\"Check\"))))))))))","v":"-"},{"$f":"IF($C29=\"\",\"\",IF(VLOOKUP($C29,PG_Flag,Database!Z$44,FALSE)=\"\",\"-\",\n\nIF(AND(Industry_PGAssessment=\"Count\",Industry_Segment=Database!$O$119),VLOOKUP($C29,Industry_PGCount,Database!$S$44,FALSE),IF(AND(Industry_PGAssessment=\"Count\",Industry_Segment=Database!$T$95),VLOOKUP($C29,Industry_PGCount,Database!$X$44,FALSE),IF(AND(Industry_PGAssessment=\"Count\",Industry_Segment=Database!$Y$95),VLOOKUP($C29,Industry_PGCount,Database!$AC$44,FALSE),IF(AND(Industry_PGAssessment=\"Count\",Industry_Segment=Database!$AD$95),VLOOKUP($C29,Industry_PGCount,Database!$AH$44,FALSE),\n\nIF(AND(Industry_PGAssessment=\"Impact\",Industry_Segment=Database!$O$119),VLOOKUP($C29,Industry_PGImpact,Database!$S$44,FALSE),IF(AND(Industry_PGAssessment=\"Impact\",Industry_Segment=Database!$T$119),VLOOKUP($C29,Industry_PGImpact,Database!$X$44,FALSE),IF(AND(Industry_PGAssessment=\"Impact\",Industry_Segment=Database!$Y$95),VLOOKUP($C29,Industry_PGImpact,Database!$AC$44,FALSE),IF(AND(Industry_PGAssessment=\"Impact\",Industry_Segment=Database!$AD$119),VLOOKUP($C29,Industry_PGImpact,Database!$AH$44,FALSE),\"Check\"))))))))))","v":"-"},null,{"$f":"IF($C29=\"\",\"\",IF(VLOOKUP($C29,PG_Flag,Database!AA$44,FALSE)=\"\",\"-\",\n\nIF(AND(Industry_PGAssessment=\"Count\",Industry_Segment=Database!$O$119),VLOOKUP($C29,Industry_PGCount,Database!$S$44,FALSE),IF(AND(Industry_PGAssessment=\"Count\",Industry_Segment=Database!$T$95),VLOOKUP($C29,Industry_PGCount,Database!$X$44,FALSE),IF(AND(Industry_PGAssessment=\"Count\",Industry_Segment=Database!$Y$95),VLOOKUP($C29,Industry_PGCount,Database!$AC$44,FALSE),IF(AND(Industry_PGAssessment=\"Count\",Industry_Segment=Database!$AD$95),VLOOKUP($C29,Industry_PGCount,Database!$AH$44,FALSE),\n\nIF(AND(Industry_PGAssessment=\"Impact\",Industry_Segment=Database!$O$119),VLOOKUP($C29,Industry_PGImpact,Database!$S$44,FALSE),IF(AND(Industry_PGAssessment=\"Impact\",Industry_Segment=Database!$T$119),VLOOKUP($C29,Industry_PGImpact,Database!$X$44,FALSE),IF(AND(Industry_PGAssessment=\"Impact\",Industry_Segment=Database!$Y$95),VLOOKUP($C29,Industry_PGImpact,Database!$AC$44,FALSE),IF(AND(Industry_PGAssessment=\"Impact\",Industry_Segment=Database!$AD$119),VLOOKUP($C29,Industry_PGImpact,Database!$AH$44,FALSE),\"Check\"))))))))))","v":"-"},null,{"$f":"IF($C29=\"\",\"\",IF(VLOOKUP($C29,PG_Flag,Database!AB$44,FALSE)=\"\",\"-\",\n\nIF(AND(Industry_PGAssessment=\"Count\",Industry_Segment=Database!$O$119),VLOOKUP($C29,Industry_PGCount,Database!$S$44,FALSE),IF(AND(Industry_PGAssessment=\"Count\",Industry_Segment=Database!$T$95),VLOOKUP($C29,Industry_PGCount,Database!$X$44,FALSE),IF(AND(Industry_PGAssessment=\"Count\",Industry_Segment=Database!$Y$95),VLOOKUP($C29,Industry_PGCount,Database!$AC$44,FALSE),IF(AND(Industry_PGAssessment=\"Count\",Industry_Segment=Database!$AD$95),VLOOKUP($C29,Industry_PGCount,Database!$AH$44,FALSE),\n\nIF(AND(Industry_PGAssessment=\"Impact\",Industry_Segment=Database!$O$119),VLOOKUP($C29,Industry_PGImpact,Database!$S$44,FALSE),IF(AND(Industry_PGAssessment=\"Impact\",Industry_Segment=Database!$T$119),VLOOKUP($C29,Industry_PGImpact,Database!$X$44,FALSE),IF(AND(Industry_PGAssessment=\"Impact\",Industry_Segment=Database!$Y$95),VLOOKUP($C29,Industry_PGImpact,Database!$AC$44,FALSE),IF(AND(Industry_PGAssessment=\"Impact\",Industry_Segment=Database!$AD$119),VLOOKUP($C29,Industry_PGImpact,Database!$AH$44,FALSE),\"Check\"))))))))))","v":"-"},null,{"$f":"IF($C29=\"\",\"\",IF(VLOOKUP($C29,PG_Flag,Database!AC$44,FALSE)=\"\",\"-\",\n\nIF(AND(Industry_PGAssessment=\"Count\",Industry_Segment=Database!$O$119),VLOOKUP($C29,Industry_PGCount,Database!$S$44,FALSE),IF(AND(Industry_PGAssessment=\"Count\",Industry_Segment=Database!$T$95),VLOOKUP($C29,Industry_PGCount,Database!$X$44,FALSE),IF(AND(Industry_PGAssessment=\"Count\",Industry_Segment=Database!$Y$95),VLOOKUP($C29,Industry_PGCount,Database!$AC$44,FALSE),IF(AND(Industry_PGAssessment=\"Count\",Industry_Segment=Database!$AD$95),VLOOKUP($C29,Industry_PGCount,Database!$AH$44,FALSE),\n\nIF(AND(Industry_PGAssessment=\"Impact\",Industry_Segment=Database!$O$119),VLOOKUP($C29,Industry_PGImpact,Database!$S$44,FALSE),IF(AND(Industry_PGAssessment=\"Impact\",Industry_Segment=Database!$T$119),VLOOKUP($C29,Industry_PGImpact,Database!$X$44,FALSE),IF(AND(Industry_PGAssessment=\"Impact\",Industry_Segment=Database!$Y$95),VLOOKUP($C29,Industry_PGImpact,Database!$AC$44,FALSE),IF(AND(Industry_PGAssessment=\"Impact\",Industry_Segment=Database!$AD$119),VLOOKUP($C29,Industry_PGImpact,Database!$AH$44,FALSE),\"Check\"))))))))))","v":"-"}]
[null,null,{"$f":"IF(Database!C55=\"\",\"\",Database!C55)","v":"I - Shortening the Settlement Cycle"},{"$f":"IF($C30=\"\",\"\",IF(VLOOKUP($C30,PG_Flag,Database!R$44,FALSE)=\"\",\"-\",\n\nIF(AND(Industry_PGAssessment=\"Count\",Industry_Segment=Database!$O$119),VLOOKUP($C30,Industry_PGCount,Database!$S$44,FALSE),IF(AND(Industry_PGAssessment=\"Count\",Industry_Segment=Database!$T$95),VLOOKUP($C30,Industry_PGCount,Database!$X$44,FALSE),IF(AND(Industry_PGAssessment=\"Count\",Industry_Segment=Database!$Y$95),VLOOKUP($C30,Industry_PGCount,Database!$AC$44,FALSE),IF(AND(Industry_PGAssessment=\"Count\",Industry_Segment=Database!$AD$95),VLOOKUP($C30,Industry_PGCount,Database!$AH$44,FALSE),\n\nIF(AND(Industry_PGAssessment=\"Impact\",Industry_Segment=Database!$O$119),VLOOKUP($C30,Industry_PGImpact,Database!$S$44,FALSE),IF(AND(Industry_PGAssessment=\"Impact\",Industry_Segment=Database!$T$119),VLOOKUP($C30,Industry_PGImpact,Database!$X$44,FALSE),IF(AND(Industry_PGAssessment=\"Impact\",Industry_Segment=Database!$Y$95),VLOOKUP($C30,Industry_PGImpact,Database!$AC$44,FALSE),IF(AND(Industry_PGAssessment=\"Impact\",Industry_Segment=Database!$AD$119),VLOOKUP($C30,Industry_PGImpact,Database!$AH$44,FALSE),\"Check\"))))))))))","v":"-"},{"$f":"IF($C30=\"\",\"\",IF(VLOOKUP($C30,PG_Flag,Database!S$44,FALSE)=\"\",\"-\",\n\nIF(AND(Industry_PGAssessment=\"Count\",Industry_Segment=Database!$O$119),VLOOKUP($C30,Industry_PGCount,Database!$S$44,FALSE),IF(AND(Industry_PGAssessment=\"Count\",Industry_Segment=Database!$T$95),VLOOKUP($C30,Industry_PGCount,Database!$X$44,FALSE),IF(AND(Industry_PGAssessment=\"Count\",Industry_Segment=Database!$Y$95),VLOOKUP($C30,Industry_PGCount,Database!$AC$44,FALSE),IF(AND(Industry_PGAssessment=\"Count\",Industry_Segment=Database!$AD$95),VLOOKUP($C30,Industry_PGCount,Database!$AH$44,FALSE),\n\nIF(AND(Industry_PGAssessment=\"Impact\",Industry_Segment=Database!$O$119),VLOOKUP($C30,Industry_PGImpact,Database!$S$44,FALSE),IF(AND(Industry_PGAssessment=\"Impact\",Industry_Segment=Database!$T$119),VLOOKUP($C30,Industry_PGImpact,Database!$X$44,FALSE),IF(AND(Industry_PGAssessment=\"Impact\",Industry_Segment=Database!$Y$95),VLOOKUP($C30,Industry_PGImpact,Database!$AC$44,FALSE),IF(AND(Industry_PGAssessment=\"Impact\",Industry_Segment=Database!$AD$119),VLOOKUP($C30,Industry_PGImpact,Database!$AH$44,FALSE),\"Check\"))))))))))","v":1.3333333333333333},{"$f":"IF($C30=\"\",\"\",IF(VLOOKUP($C30,PG_Flag,Database!T$44,FALSE)=\"\",\"-\",\n\nIF(AND(Industry_PGAssessment=\"Count\",Industry_Segment=Database!$O$119),VLOOKUP($C30,Industry_PGCount,Database!$S$44,FALSE),IF(AND(Industry_PGAssessment=\"Count\",Industry_Segment=Database!$T$95),VLOOKUP($C30,Industry_PGCount,Database!$X$44,FALSE),IF(AND(Industry_PGAssessment=\"Count\",Industry_Segment=Database!$Y$95),VLOOKUP($C30,Industry_PGCount,Database!$AC$44,FALSE),IF(AND(Industry_PGAssessment=\"Count\",Industry_Segment=Database!$AD$95),VLOOKUP($C30,Industry_PGCount,Database!$AH$44,FALSE),\n\nIF(AND(Industry_PGAssessment=\"Impact\",Industry_Segment=Database!$O$119),VLOOKUP($C30,Industry_PGImpact,Database!$S$44,FALSE),IF(AND(Industry_PGAssessment=\"Impact\",Industry_Segment=Database!$T$119),VLOOKUP($C30,Industry_PGImpact,Database!$X$44,FALSE),IF(AND(Industry_PGAssessment=\"Impact\",Industry_Segment=Database!$Y$95),VLOOKUP($C30,Industry_PGImpact,Database!$AC$44,FALSE),IF(AND(Industry_PGAssessment=\"Impact\",Industry_Segment=Database!$AD$119),VLOOKUP($C30,Industry_PGImpact,Database!$AH$44,FALSE),\"Check\"))))))))))","v":1.3333333333333333},{"$f":"IF($C30=\"\",\"\",IF(VLOOKUP($C30,PG_Flag,Database!U$44,FALSE)=\"\",\"-\",\n\nIF(AND(Industry_PGAssessment=\"Count\",Industry_Segment=Database!$O$119),VLOOKUP($C30,Industry_PGCount,Database!$S$44,FALSE),IF(AND(Industry_PGAssessment=\"Count\",Industry_Segment=Database!$T$95),VLOOKUP($C30,Industry_PGCount,Database!$X$44,FALSE),IF(AND(Industry_PGAssessment=\"Count\",Industry_Segment=Database!$Y$95),VLOOKUP($C30,Industry_PGCount,Database!$AC$44,FALSE),IF(AND(Industry_PGAssessment=\"Count\",Industry_Segment=Database!$AD$95),VLOOKUP($C30,Industry_PGCount,Database!$AH$44,FALSE),\n\nIF(AND(Industry_PGAssessment=\"Impact\",Industry_Segment=Database!$O$119),VLOOKUP($C30,Industry_PGImpact,Database!$S$44,FALSE),IF(AND(Industry_PGAssessment=\"Impact\",Industry_Segment=Database!$T$119),VLOOKUP($C30,Industry_PGImpact,Database!$X$44,FALSE),IF(AND(Industry_PGAssessment=\"Impact\",Industry_Segment=Database!$Y$95),VLOOKUP($C30,Industry_PGImpact,Database!$AC$44,FALSE),IF(AND(Industry_PGAssessment=\"Impact\",Industry_Segment=Database!$AD$119),VLOOKUP($C30,Industry_PGImpact,Database!$AH$44,FALSE),\"Check\"))))))))))","v":1.3333333333333333},{"$f":"IF($C30=\"\",\"\",IF(VLOOKUP($C30,PG_Flag,Database!V$44,FALSE)=\"\",\"-\",\n\nIF(AND(Industry_PGAssessment=\"Count\",Industry_Segment=Database!$O$119),VLOOKUP($C30,Industry_PGCount,Database!$S$44,FALSE),IF(AND(Industry_PGAssessment=\"Count\",Industry_Segment=Database!$T$95),VLOOKUP($C30,Industry_PGCount,Database!$X$44,FALSE),IF(AND(Industry_PGAssessment=\"Count\",Industry_Segment=Database!$Y$95),VLOOKUP($C30,Industry_PGCount,Database!$AC$44,FALSE),IF(AND(Industry_PGAssessment=\"Count\",Industry_Segment=Database!$AD$95),VLOOKUP($C30,Industry_PGCount,Database!$AH$44,FALSE),\n\nIF(AND(Industry_PGAssessment=\"Impact\",Industry_Segment=Database!$O$119),VLOOKUP($C30,Industry_PGImpact,Database!$S$44,FALSE),IF(AND(Industry_PGAssessment=\"Impact\",Industry_Segment=Database!$T$119),VLOOKUP($C30,Industry_PGImpact,Database!$X$44,FALSE),IF(AND(Industry_PGAssessment=\"Impact\",Industry_Segment=Database!$Y$95),VLOOKUP($C30,Industry_PGImpact,Database!$AC$44,FALSE),IF(AND(Industry_PGAssessment=\"Impact\",Industry_Segment=Database!$AD$119),VLOOKUP($C30,Industry_PGImpact,Database!$AH$44,FALSE),\"Check\"))))))))))","v":1.3333333333333333},{"$f":"IF($C30=\"\",\"\",IF(VLOOKUP($C30,PG_Flag,Database!W$44,FALSE)=\"\",\"-\",\n\nIF(AND(Industry_PGAssessment=\"Count\",Industry_Segment=Database!$O$119),VLOOKUP($C30,Industry_PGCount,Database!$S$44,FALSE),IF(AND(Industry_PGAssessment=\"Count\",Industry_Segment=Database!$T$95),VLOOKUP($C30,Industry_PGCount,Database!$X$44,FALSE),IF(AND(Industry_PGAssessment=\"Count\",Industry_Segment=Database!$Y$95),VLOOKUP($C30,Industry_PGCount,Database!$AC$44,FALSE),IF(AND(Industry_PGAssessment=\"Count\",Industry_Segment=Database!$AD$95),VLOOKUP($C30,Industry_PGCount,Database!$AH$44,FALSE),\n\nIF(AND(Industry_PGAssessment=\"Impact\",Industry_Segment=Database!$O$119),VLOOKUP($C30,Industry_PGImpact,Database!$S$44,FALSE),IF(AND(Industry_PGAssessment=\"Impact\",Industry_Segment=Database!$T$119),VLOOKUP($C30,Industry_PGImpact,Database!$X$44,FALSE),IF(AND(Industry_PGAssessment=\"Impact\",Industry_Segment=Database!$Y$95),VLOOKUP($C30,Industry_PGImpact,Database!$AC$44,FALSE),IF(AND(Industry_PGAssessment=\"Impact\",Industry_Segment=Database!$AD$119),VLOOKUP($C30,Industry_PGImpact,Database!$AH$44,FALSE),\"Check\"))))))))))","v":1.3333333333333333},{"$f":"IF($C30=\"\",\"\",IF(VLOOKUP($C30,PG_Flag,Database!X$44,FALSE)=\"\",\"-\",\n\nIF(AND(Industry_PGAssessment=\"Count\",Industry_Segment=Database!$O$119),VLOOKUP($C30,Industry_PGCount,Database!$S$44,FALSE),IF(AND(Industry_PGAssessment=\"Count\",Industry_Segment=Database!$T$95),VLOOKUP($C30,Industry_PGCount,Database!$X$44,FALSE),IF(AND(Industry_PGAssessment=\"Count\",Industry_Segment=Database!$Y$95),VLOOKUP($C30,Industry_PGCount,Database!$AC$44,FALSE),IF(AND(Industry_PGAssessment=\"Count\",Industry_Segment=Database!$AD$95),VLOOKUP($C30,Industry_PGCount,Database!$AH$44,FALSE),\n\nIF(AND(Industry_PGAssessment=\"Impact\",Industry_Segment=Database!$O$119),VLOOKUP($C30,Industry_PGImpact,Database!$S$44,FALSE),IF(AND(Industry_PGAssessment=\"Impact\",Industry_Segment=Database!$T$119),VLOOKUP($C30,Industry_PGImpact,Database!$X$44,FALSE),IF(AND(Industry_PGAssessment=\"Impact\",Industry_Segment=Database!$Y$95),VLOOKUP($C30,Industry_PGImpact,Database!$AC$44,FALSE),IF(AND(Industry_PGAssessment=\"Impact\",Industry_Segment=Database!$AD$119),VLOOKUP($C30,Industry_PGImpact,Database!$AH$44,FALSE),\"Check\"))))))))))","v":"-"},{"$f":"IF($C30=\"\",\"\",IF(VLOOKUP($C30,PG_Flag,Database!Y$44,FALSE)=\"\",\"-\",\n\nIF(AND(Industry_PGAssessment=\"Count\",Industry_Segment=Database!$O$119),VLOOKUP($C30,Industry_PGCount,Database!$S$44,FALSE),IF(AND(Industry_PGAssessment=\"Count\",Industry_Segment=Database!$T$95),VLOOKUP($C30,Industry_PGCount,Database!$X$44,FALSE),IF(AND(Industry_PGAssessment=\"Count\",Industry_Segment=Database!$Y$95),VLOOKUP($C30,Industry_PGCount,Database!$AC$44,FALSE),IF(AND(Industry_PGAssessment=\"Count\",Industry_Segment=Database!$AD$95),VLOOKUP($C30,Industry_PGCount,Database!$AH$44,FALSE),\n\nIF(AND(Industry_PGAssessment=\"Impact\",Industry_Segment=Database!$O$119),VLOOKUP($C30,Industry_PGImpact,Database!$S$44,FALSE),IF(AND(Industry_PGAssessment=\"Impact\",Industry_Segment=Database!$T$119),VLOOKUP($C30,Industry_PGImpact,Database!$X$44,FALSE),IF(AND(Industry_PGAssessment=\"Impact\",Industry_Segment=Database!$Y$95),VLOOKUP($C30,Industry_PGImpact,Database!$AC$44,FALSE),IF(AND(Industry_PGAssessment=\"Impact\",Industry_Segment=Database!$AD$119),VLOOKUP($C30,Industry_PGImpact,Database!$AH$44,FALSE),\"Check\"))))))))))","v":"-"},{"$f":"IF($C30=\"\",\"\",IF(VLOOKUP($C30,PG_Flag,Database!Z$44,FALSE)=\"\",\"-\",\n\nIF(AND(Industry_PGAssessment=\"Count\",Industry_Segment=Database!$O$119),VLOOKUP($C30,Industry_PGCount,Database!$S$44,FALSE),IF(AND(Industry_PGAssessment=\"Count\",Industry_Segment=Database!$T$95),VLOOKUP($C30,Industry_PGCount,Database!$X$44,FALSE),IF(AND(Industry_PGAssessment=\"Count\",Industry_Segment=Database!$Y$95),VLOOKUP($C30,Industry_PGCount,Database!$AC$44,FALSE),IF(AND(Industry_PGAssessment=\"Count\",Industry_Segment=Database!$AD$95),VLOOKUP($C30,Industry_PGCount,Database!$AH$44,FALSE),\n\nIF(AND(Industry_PGAssessment=\"Impact\",Industry_Segment=Database!$O$119),VLOOKUP($C30,Industry_PGImpact,Database!$S$44,FALSE),IF(AND(Industry_PGAssessment=\"Impact\",Industry_Segment=Database!$T$119),VLOOKUP($C30,Industry_PGImpact,Database!$X$44,FALSE),IF(AND(Industry_PGAssessment=\"Impact\",Industry_Segment=Database!$Y$95),VLOOKUP($C30,Industry_PGImpact,Database!$AC$44,FALSE),IF(AND(Industry_PGAssessment=\"Impact\",Industry_Segment=Database!$AD$119),VLOOKUP($C30,Industry_PGImpact,Database!$AH$44,FALSE),\"Check\"))))))))))","v":"-"},null,{"$f":"IF($C30=\"\",\"\",IF(VLOOKUP($C30,PG_Flag,Database!AA$44,FALSE)=\"\",\"-\",\n\nIF(AND(Industry_PGAssessment=\"Count\",Industry_Segment=Database!$O$119),VLOOKUP($C30,Industry_PGCount,Database!$S$44,FALSE),IF(AND(Industry_PGAssessment=\"Count\",Industry_Segment=Database!$T$95),VLOOKUP($C30,Industry_PGCount,Database!$X$44,FALSE),IF(AND(Industry_PGAssessment=\"Count\",Industry_Segment=Database!$Y$95),VLOOKUP($C30,Industry_PGCount,Database!$AC$44,FALSE),IF(AND(Industry_PGAssessment=\"Count\",Industry_Segment=Database!$AD$95),VLOOKUP($C30,Industry_PGCount,Database!$AH$44,FALSE),\n\nIF(AND(Industry_PGAssessment=\"Impact\",Industry_Segment=Database!$O$119),VLOOKUP($C30,Industry_PGImpact,Database!$S$44,FALSE),IF(AND(Industry_PGAssessment=\"Impact\",Industry_Segment=Database!$T$119),VLOOKUP($C30,Industry_PGImpact,Database!$X$44,FALSE),IF(AND(Industry_PGAssessment=\"Impact\",Industry_Segment=Database!$Y$95),VLOOKUP($C30,Industry_PGImpact,Database!$AC$44,FALSE),IF(AND(Industry_PGAssessment=\"Impact\",Industry_Segment=Database!$AD$119),VLOOKUP($C30,Industry_PGImpact,Database!$AH$44,FALSE),\"Check\"))))))))))","v":"-"},null,{"$f":"IF($C30=\"\",\"\",IF(VLOOKUP($C30,PG_Flag,Database!AB$44,FALSE)=\"\",\"-\",\n\nIF(AND(Industry_PGAssessment=\"Count\",Industry_Segment=Database!$O$119),VLOOKUP($C30,Industry_PGCount,Database!$S$44,FALSE),IF(AND(Industry_PGAssessment=\"Count\",Industry_Segment=Database!$T$95),VLOOKUP($C30,Industry_PGCount,Database!$X$44,FALSE),IF(AND(Industry_PGAssessment=\"Count\",Industry_Segment=Database!$Y$95),VLOOKUP($C30,Industry_PGCount,Database!$AC$44,FALSE),IF(AND(Industry_PGAssessment=\"Count\",Industry_Segment=Database!$AD$95),VLOOKUP($C30,Industry_PGCount,Database!$AH$44,FALSE),\n\nIF(AND(Industry_PGAssessment=\"Impact\",Industry_Segment=Database!$O$119),VLOOKUP($C30,Industry_PGImpact,Database!$S$44,FALSE),IF(AND(Industry_PGAssessment=\"Impact\",Industry_Segment=Database!$T$119),VLOOKUP($C30,Industry_PGImpact,Database!$X$44,FALSE),IF(AND(Industry_PGAssessment=\"Impact\",Industry_Segment=Database!$Y$95),VLOOKUP($C30,Industry_PGImpact,Database!$AC$44,FALSE),IF(AND(Industry_PGAssessment=\"Impact\",Industry_Segment=Database!$AD$119),VLOOKUP($C30,Industry_PGImpact,Database!$AH$44,FALSE),\"Check\"))))))))))","v":"-"},null,{"$f":"IF($C30=\"\",\"\",IF(VLOOKUP($C30,PG_Flag,Database!AC$44,FALSE)=\"\",\"-\",\n\nIF(AND(Industry_PGAssessment=\"Count\",Industry_Segment=Database!$O$119),VLOOKUP($C30,Industry_PGCount,Database!$S$44,FALSE),IF(AND(Industry_PGAssessment=\"Count\",Industry_Segment=Database!$T$95),VLOOKUP($C30,Industry_PGCount,Database!$X$44,FALSE),IF(AND(Industry_PGAssessment=\"Count\",Industry_Segment=Database!$Y$95),VLOOKUP($C30,Industry_PGCount,Database!$AC$44,FALSE),IF(AND(Industry_PGAssessment=\"Count\",Industry_Segment=Database!$AD$95),VLOOKUP($C30,Industry_PGCount,Database!$AH$44,FALSE),\n\nIF(AND(Industry_PGAssessment=\"Impact\",Industry_Segment=Database!$O$119),VLOOKUP($C30,Industry_PGImpact,Database!$S$44,FALSE),IF(AND(Industry_PGAssessment=\"Impact\",Industry_Segment=Database!$T$119),VLOOKUP($C30,Industry_PGImpact,Database!$X$44,FALSE),IF(AND(Industry_PGAssessment=\"Impact\",Industry_Segment=Database!$Y$95),VLOOKUP($C30,Industry_PGImpact,Database!$AC$44,FALSE),IF(AND(Industry_PGAssessment=\"Impact\",Industry_Segment=Database!$AD$119),VLOOKUP($C30,Industry_PGImpact,Database!$AH$44,FALSE),\"Check\"))))))))))","v":"-"}]
[null,null,{"$f":"IF(Database!C56=\"\",\"\",Database!C56)","v":"I - Integrating Price Responsive Resources into the NEM"},{"$f":"IF($C31=\"\",\"\",IF(VLOOKUP($C31,PG_Flag,Database!R$44,FALSE)=\"\",\"-\",\n\nIF(AND(Industry_PGAssessment=\"Count\",Industry_Segment=Database!$O$119),VLOOKUP($C31,Industry_PGCount,Database!$S$44,FALSE),IF(AND(Industry_PGAssessment=\"Count\",Industry_Segment=Database!$T$95),VLOOKUP($C31,Industry_PGCount,Database!$X$44,FALSE),IF(AND(Industry_PGAssessment=\"Count\",Industry_Segment=Database!$Y$95),VLOOKUP($C31,Industry_PGCount,Database!$AC$44,FALSE),IF(AND(Industry_PGAssessment=\"Count\",Industry_Segment=Database!$AD$95),VLOOKUP($C31,Industry_PGCount,Database!$AH$44,FALSE),\n\nIF(AND(Industry_PGAssessment=\"Impact\",Industry_Segment=Database!$O$119),VLOOKUP($C31,Industry_PGImpact,Database!$S$44,FALSE),IF(AND(Industry_PGAssessment=\"Impact\",Industry_Segment=Database!$T$119),VLOOKUP($C31,Industry_PGImpact,Database!$X$44,FALSE),IF(AND(Industry_PGAssessment=\"Impact\",Industry_Segment=Database!$Y$95),VLOOKUP($C31,Industry_PGImpact,Database!$AC$44,FALSE),IF(AND(Industry_PGAssessment=\"Impact\",Industry_Segment=Database!$AD$119),VLOOKUP($C31,Industry_PGImpact,Database!$AH$44,FALSE),\"Check\"))))))))))","v":"-"},{"$f":"IF($C31=\"\",\"\",IF(VLOOKUP($C31,PG_Flag,Database!S$44,FALSE)=\"\",\"-\",\n\nIF(AND(Industry_PGAssessment=\"Count\",Industry_Segment=Database!$O$119),VLOOKUP($C31,Industry_PGCount,Database!$S$44,FALSE),IF(AND(Industry_PGAssessment=\"Count\",Industry_Segment=Database!$T$95),VLOOKUP($C31,Industry_PGCount,Database!$X$44,FALSE),IF(AND(Industry_PGAssessment=\"Count\",Industry_Segment=Database!$Y$95),VLOOKUP($C31,Industry_PGCount,Database!$AC$44,FALSE),IF(AND(Industry_PGAssessment=\"Count\",Industry_Segment=Database!$AD$95),VLOOKUP($C31,Industry_PGCount,Database!$AH$44,FALSE),\n\nIF(AND(Industry_PGAssessment=\"Impact\",Industry_Segment=Database!$O$119),VLOOKUP($C31,Industry_PGImpact,Database!$S$44,FALSE),IF(AND(Industry_PGAssessment=\"Impact\",Industry_Segment=Database!$T$119),VLOOKUP($C31,Industry_PGImpact,Database!$X$44,FALSE),IF(AND(Industry_PGAssessment=\"Impact\",Industry_Segment=Database!$Y$95),VLOOKUP($C31,Industry_PGImpact,Database!$AC$44,FALSE),IF(AND(Industry_PGAssessment=\"Impact\",Industry_Segment=Database!$AD$119),VLOOKUP($C31,Industry_PGImpact,Database!$AH$44,FALSE),\"Check\"))))))))))","v":7},{"$f":"IF($C31=\"\",\"\",IF(VLOOKUP($C31,PG_Flag,Database!T$44,FALSE)=\"\",\"-\",\n\nIF(AND(Industry_PGAssessment=\"Count\",Industry_Segment=Database!$O$119),VLOOKUP($C31,Industry_PGCount,Database!$S$44,FALSE),IF(AND(Industry_PGAssessment=\"Count\",Industry_Segment=Database!$T$95),VLOOKUP($C31,Industry_PGCount,Database!$X$44,FALSE),IF(AND(Industry_PGAssessment=\"Count\",Industry_Segment=Database!$Y$95),VLOOKUP($C31,Industry_PGCount,Database!$AC$44,FALSE),IF(AND(Industry_PGAssessment=\"Count\",Industry_Segment=Database!$AD$95),VLOOKUP($C31,Industry_PGCount,Database!$AH$44,FALSE),\n\nIF(AND(Industry_PGAssessment=\"Impact\",Industry_Segment=Database!$O$119),VLOOKUP($C31,Industry_PGImpact,Database!$S$44,FALSE),IF(AND(Industry_PGAssessment=\"Impact\",Industry_Segment=Database!$T$119),VLOOKUP($C31,Industry_PGImpact,Database!$X$44,FALSE),IF(AND(Industry_PGAssessment=\"Impact\",Industry_Segment=Database!$Y$95),VLOOKUP($C31,Industry_PGImpact,Database!$AC$44,FALSE),IF(AND(Industry_PGAssessment=\"Impact\",Industry_Segment=Database!$AD$119),VLOOKUP($C31,Industry_PGImpact,Database!$AH$44,FALSE),\"Check\"))))))))))","v":7},{"$f":"IF($C31=\"\",\"\",IF(VLOOKUP($C31,PG_Flag,Database!U$44,FALSE)=\"\",\"-\",\n\nIF(AND(Industry_PGAssessment=\"Count\",Industry_Segment=Database!$O$119),VLOOKUP($C31,Industry_PGCount,Database!$S$44,FALSE),IF(AND(Industry_PGAssessment=\"Count\",Industry_Segment=Database!$T$95),VLOOKUP($C31,Industry_PGCount,Database!$X$44,FALSE),IF(AND(Industry_PGAssessment=\"Count\",Industry_Segment=Database!$Y$95),VLOOKUP($C31,Industry_PGCount,Database!$AC$44,FALSE),IF(AND(Industry_PGAssessment=\"Count\",Industry_Segment=Database!$AD$95),VLOOKUP($C31,Industry_PGCount,Database!$AH$44,FALSE),\n\nIF(AND(Industry_PGAssessment=\"Impact\",Industry_Segment=Database!$O$119),VLOOKUP($C31,Industry_PGImpact,Database!$S$44,FALSE),IF(AND(Industry_PGAssessment=\"Impact\",Industry_Segment=Database!$T$119),VLOOKUP($C31,Industry_PGImpact,Database!$X$44,FALSE),IF(AND(Industry_PGAssessment=\"Impact\",Industry_Segment=Database!$Y$95),VLOOKUP($C31,Industry_PGImpact,Database!$AC$44,FALSE),IF(AND(Industry_PGAssessment=\"Impact\",Industry_Segment=Database!$AD$119),VLOOKUP($C31,Industry_PGImpact,Database!$AH$44,FALSE),\"Check\"))))))))))","v":7},{"$f":"IF($C31=\"\",\"\",IF(VLOOKUP($C31,PG_Flag,Database!V$44,FALSE)=\"\",\"-\",\n\nIF(AND(Industry_PGAssessment=\"Count\",Industry_Segment=Database!$O$119),VLOOKUP($C31,Industry_PGCount,Database!$S$44,FALSE),IF(AND(Industry_PGAssessment=\"Count\",Industry_Segment=Database!$T$95),VLOOKUP($C31,Industry_PGCount,Database!$X$44,FALSE),IF(AND(Industry_PGAssessment=\"Count\",Industry_Segment=Database!$Y$95),VLOOKUP($C31,Industry_PGCount,Database!$AC$44,FALSE),IF(AND(Industry_PGAssessment=\"Count\",Industry_Segment=Database!$AD$95),VLOOKUP($C31,Industry_PGCount,Database!$AH$44,FALSE),\n\nIF(AND(Industry_PGAssessment=\"Impact\",Industry_Segment=Database!$O$119),VLOOKUP($C31,Industry_PGImpact,Database!$S$44,FALSE),IF(AND(Industry_PGAssessment=\"Impact\",Industry_Segment=Database!$T$119),VLOOKUP($C31,Industry_PGImpact,Database!$X$44,FALSE),IF(AND(Industry_PGAssessment=\"Impact\",Industry_Segment=Database!$Y$95),VLOOKUP($C31,Industry_PGImpact,Database!$AC$44,FALSE),IF(AND(Industry_PGAssessment=\"Impact\",Industry_Segment=Database!$AD$119),VLOOKUP($C31,Industry_PGImpact,Database!$AH$44,FALSE),\"Check\"))))))))))","v":7},{"$f":"IF($C31=\"\",\"\",IF(VLOOKUP($C31,PG_Flag,Database!W$44,FALSE)=\"\",\"-\",\n\nIF(AND(Industry_PGAssessment=\"Count\",Industry_Segment=Database!$O$119),VLOOKUP($C31,Industry_PGCount,Database!$S$44,FALSE),IF(AND(Industry_PGAssessment=\"Count\",Industry_Segment=Database!$T$95),VLOOKUP($C31,Industry_PGCount,Database!$X$44,FALSE),IF(AND(Industry_PGAssessment=\"Count\",Industry_Segment=Database!$Y$95),VLOOKUP($C31,Industry_PGCount,Database!$AC$44,FALSE),IF(AND(Industry_PGAssessment=\"Count\",Industry_Segment=Database!$AD$95),VLOOKUP($C31,Industry_PGCount,Database!$AH$44,FALSE),\n\nIF(AND(Industry_PGAssessment=\"Impact\",Industry_Segment=Database!$O$119),VLOOKUP($C31,Industry_PGImpact,Database!$S$44,FALSE),IF(AND(Industry_PGAssessment=\"Impact\",Industry_Segment=Database!$T$119),VLOOKUP($C31,Industry_PGImpact,Database!$X$44,FALSE),IF(AND(Industry_PGAssessment=\"Impact\",Industry_Segment=Database!$Y$95),VLOOKUP($C31,Industry_PGImpact,Database!$AC$44,FALSE),IF(AND(Industry_PGAssessment=\"Impact\",Industry_Segment=Database!$AD$119),VLOOKUP($C31,Industry_PGImpact,Database!$AH$44,FALSE),\"Check\"))))))))))","v":7},{"$f":"IF($C31=\"\",\"\",IF(VLOOKUP($C31,PG_Flag,Database!X$44,FALSE)=\"\",\"-\",\n\nIF(AND(Industry_PGAssessment=\"Count\",Industry_Segment=Database!$O$119),VLOOKUP($C31,Industry_PGCount,Database!$S$44,FALSE),IF(AND(Industry_PGAssessment=\"Count\",Industry_Segment=Database!$T$95),VLOOKUP($C31,Industry_PGCount,Database!$X$44,FALSE),IF(AND(Industry_PGAssessment=\"Count\",Industry_Segment=Database!$Y$95),VLOOKUP($C31,Industry_PGCount,Database!$AC$44,FALSE),IF(AND(Industry_PGAssessment=\"Count\",Industry_Segment=Database!$AD$95),VLOOKUP($C31,Industry_PGCount,Database!$AH$44,FALSE),\n\nIF(AND(Industry_PGAssessment=\"Impact\",Industry_Segment=Database!$O$119),VLOOKUP($C31,Industry_PGImpact,Database!$S$44,FALSE),IF(AND(Industry_PGAssessment=\"Impact\",Industry_Segment=Database!$T$119),VLOOKUP($C31,Industry_PGImpact,Database!$X$44,FALSE),IF(AND(Industry_PGAssessment=\"Impact\",Industry_Segment=Database!$Y$95),VLOOKUP($C31,Industry_PGImpact,Database!$AC$44,FALSE),IF(AND(Industry_PGAssessment=\"Impact\",Industry_Segment=Database!$AD$119),VLOOKUP($C31,Industry_PGImpact,Database!$AH$44,FALSE),\"Check\"))))))))))","v":"-"},{"$f":"IF($C31=\"\",\"\",IF(VLOOKUP($C31,PG_Flag,Database!Y$44,FALSE)=\"\",\"-\",\n\nIF(AND(Industry_PGAssessment=\"Count\",Industry_Segment=Database!$O$119),VLOOKUP($C31,Industry_PGCount,Database!$S$44,FALSE),IF(AND(Industry_PGAssessment=\"Count\",Industry_Segment=Database!$T$95),VLOOKUP($C31,Industry_PGCount,Database!$X$44,FALSE),IF(AND(Industry_PGAssessment=\"Count\",Industry_Segment=Database!$Y$95),VLOOKUP($C31,Industry_PGCount,Database!$AC$44,FALSE),IF(AND(Industry_PGAssessment=\"Count\",Industry_Segment=Database!$AD$95),VLOOKUP($C31,Industry_PGCount,Database!$AH$44,FALSE),\n\nIF(AND(Industry_PGAssessment=\"Impact\",Industry_Segment=Database!$O$119),VLOOKUP($C31,Industry_PGImpact,Database!$S$44,FALSE),IF(AND(Industry_PGAssessment=\"Impact\",Industry_Segment=Database!$T$119),VLOOKUP($C31,Industry_PGImpact,Database!$X$44,FALSE),IF(AND(Industry_PGAssessment=\"Impact\",Industry_Segment=Database!$Y$95),VLOOKUP($C31,Industry_PGImpact,Database!$AC$44,FALSE),IF(AND(Industry_PGAssessment=\"Impact\",Industry_Segment=Database!$AD$119),VLOOKUP($C31,Industry_PGImpact,Database!$AH$44,FALSE),\"Check\"))))))))))","v":"-"},{"$f":"IF($C31=\"\",\"\",IF(VLOOKUP($C31,PG_Flag,Database!Z$44,FALSE)=\"\",\"-\",\n\nIF(AND(Industry_PGAssessment=\"Count\",Industry_Segment=Database!$O$119),VLOOKUP($C31,Industry_PGCount,Database!$S$44,FALSE),IF(AND(Industry_PGAssessment=\"Count\",Industry_Segment=Database!$T$95),VLOOKUP($C31,Industry_PGCount,Database!$X$44,FALSE),IF(AND(Industry_PGAssessment=\"Count\",Industry_Segment=Database!$Y$95),VLOOKUP($C31,Industry_PGCount,Database!$AC$44,FALSE),IF(AND(Industry_PGAssessment=\"Count\",Industry_Segment=Database!$AD$95),VLOOKUP($C31,Industry_PGCount,Database!$AH$44,FALSE),\n\nIF(AND(Industry_PGAssessment=\"Impact\",Industry_Segment=Database!$O$119),VLOOKUP($C31,Industry_PGImpact,Database!$S$44,FALSE),IF(AND(Industry_PGAssessment=\"Impact\",Industry_Segment=Database!$T$119),VLOOKUP($C31,Industry_PGImpact,Database!$X$44,FALSE),IF(AND(Industry_PGAssessment=\"Impact\",Industry_Segment=Database!$Y$95),VLOOKUP($C31,Industry_PGImpact,Database!$AC$44,FALSE),IF(AND(Industry_PGAssessment=\"Impact\",Industry_Segment=Database!$AD$119),VLOOKUP($C31,Industry_PGImpact,Database!$AH$44,FALSE),\"Check\"))))))))))","v":"-"},null,{"$f":"IF($C31=\"\",\"\",IF(VLOOKUP($C31,PG_Flag,Database!AA$44,FALSE)=\"\",\"-\",\n\nIF(AND(Industry_PGAssessment=\"Count\",Industry_Segment=Database!$O$119),VLOOKUP($C31,Industry_PGCount,Database!$S$44,FALSE),IF(AND(Industry_PGAssessment=\"Count\",Industry_Segment=Database!$T$95),VLOOKUP($C31,Industry_PGCount,Database!$X$44,FALSE),IF(AND(Industry_PGAssessment=\"Count\",Industry_Segment=Database!$Y$95),VLOOKUP($C31,Industry_PGCount,Database!$AC$44,FALSE),IF(AND(Industry_PGAssessment=\"Count\",Industry_Segment=Database!$AD$95),VLOOKUP($C31,Industry_PGCount,Database!$AH$44,FALSE),\n\nIF(AND(Industry_PGAssessment=\"Impact\",Industry_Segment=Database!$O$119),VLOOKUP($C31,Industry_PGImpact,Database!$S$44,FALSE),IF(AND(Industry_PGAssessment=\"Impact\",Industry_Segment=Database!$T$119),VLOOKUP($C31,Industry_PGImpact,Database!$X$44,FALSE),IF(AND(Industry_PGAssessment=\"Impact\",Industry_Segment=Database!$Y$95),VLOOKUP($C31,Industry_PGImpact,Database!$AC$44,FALSE),IF(AND(Industry_PGAssessment=\"Impact\",Industry_Segment=Database!$AD$119),VLOOKUP($C31,Industry_PGImpact,Database!$AH$44,FALSE),\"Check\"))))))))))","v":"-"},null,{"$f":"IF($C31=\"\",\"\",IF(VLOOKUP($C31,PG_Flag,Database!AB$44,FALSE)=\"\",\"-\",\n\nIF(AND(Industry_PGAssessment=\"Count\",Industry_Segment=Database!$O$119),VLOOKUP($C31,Industry_PGCount,Database!$S$44,FALSE),IF(AND(Industry_PGAssessment=\"Count\",Industry_Segment=Database!$T$95),VLOOKUP($C31,Industry_PGCount,Database!$X$44,FALSE),IF(AND(Industry_PGAssessment=\"Count\",Industry_Segment=Database!$Y$95),VLOOKUP($C31,Industry_PGCount,Database!$AC$44,FALSE),IF(AND(Industry_PGAssessment=\"Count\",Industry_Segment=Database!$AD$95),VLOOKUP($C31,Industry_PGCount,Database!$AH$44,FALSE),\n\nIF(AND(Industry_PGAssessment=\"Impact\",Industry_Segment=Database!$O$119),VLOOKUP($C31,Industry_PGImpact,Database!$S$44,FALSE),IF(AND(Industry_PGAssessment=\"Impact\",Industry_Segment=Database!$T$119),VLOOKUP($C31,Industry_PGImpact,Database!$X$44,FALSE),IF(AND(Industry_PGAssessment=\"Impact\",Industry_Segment=Database!$Y$95),VLOOKUP($C31,Industry_PGImpact,Database!$AC$44,FALSE),IF(AND(Industry_PGAssessment=\"Impact\",Industry_Segment=Database!$AD$119),VLOOKUP($C31,Industry_PGImpact,Database!$AH$44,FALSE),\"Check\"))))))))))","v":"-"},null,{"$f":"IF($C31=\"\",\"\",IF(VLOOKUP($C31,PG_Flag,Database!AC$44,FALSE)=\"\",\"-\",\n\nIF(AND(Industry_PGAssessment=\"Count\",Industry_Segment=Database!$O$119),VLOOKUP($C31,Industry_PGCount,Database!$S$44,FALSE),IF(AND(Industry_PGAssessment=\"Count\",Industry_Segment=Database!$T$95),VLOOKUP($C31,Industry_PGCount,Database!$X$44,FALSE),IF(AND(Industry_PGAssessment=\"Count\",Industry_Segment=Database!$Y$95),VLOOKUP($C31,Industry_PGCount,Database!$AC$44,FALSE),IF(AND(Industry_PGAssessment=\"Count\",Industry_Segment=Database!$AD$95),VLOOKUP($C31,Industry_PGCount,Database!$AH$44,FALSE),\n\nIF(AND(Industry_PGAssessment=\"Impact\",Industry_Segment=Database!$O$119),VLOOKUP($C31,Industry_PGImpact,Database!$S$44,FALSE),IF(AND(Industry_PGAssessment=\"Impact\",Industry_Segment=Database!$T$119),VLOOKUP($C31,Industry_PGImpact,Database!$X$44,FALSE),IF(AND(Industry_PGAssessment=\"Impact\",Industry_Segment=Database!$Y$95),VLOOKUP($C31,Industry_PGImpact,Database!$AC$44,FALSE),IF(AND(Industry_PGAssessment=\"Impact\",Industry_Segment=Database!$AD$119),VLOOKUP($C31,Industry_PGImpact,Database!$AH$44,FALSE),\"Check\"))))))))))","v":"-"}]
[null,null,{"$f":"IF(Database!C57=\"\",\"\",Database!C57)","v":"I - IDX (Foundation)"},{"$f":"IF($C32=\"\",\"\",IF(VLOOKUP($C32,PG_Flag,Database!R$44,FALSE)=\"\",\"-\",\n\nIF(AND(Industry_PGAssessment=\"Count\",Industry_Segment=Database!$O$119),VLOOKUP($C32,Industry_PGCount,Database!$S$44,FALSE),IF(AND(Industry_PGAssessment=\"Count\",Industry_Segment=Database!$T$95),VLOOKUP($C32,Industry_PGCount,Database!$X$44,FALSE),IF(AND(Industry_PGAssessment=\"Count\",Industry_Segment=Database!$Y$95),VLOOKUP($C32,Industry_PGCount,Database!$AC$44,FALSE),IF(AND(Industry_PGAssessment=\"Count\",Industry_Segment=Database!$AD$95),VLOOKUP($C32,Industry_PGCount,Database!$AH$44,FALSE),\n\nIF(AND(Industry_PGAssessment=\"Impact\",Industry_Segment=Database!$O$119),VLOOKUP($C32,Industry_PGImpact,Database!$S$44,FALSE),IF(AND(Industry_PGAssessment=\"Impact\",Industry_Segment=Database!$T$119),VLOOKUP($C32,Industry_PGImpact,Database!$X$44,FALSE),IF(AND(Industry_PGAssessment=\"Impact\",Industry_Segment=Database!$Y$95),VLOOKUP($C32,Industry_PGImpact,Database!$AC$44,FALSE),IF(AND(Industry_PGAssessment=\"Impact\",Industry_Segment=Database!$AD$119),VLOOKUP($C32,Industry_PGImpact,Database!$AH$44,FALSE),\"Check\"))))))))))","v":3},{"$f":"IF($C32=\"\",\"\",IF(VLOOKUP($C32,PG_Flag,Database!S$44,FALSE)=\"\",\"-\",\n\nIF(AND(Industry_PGAssessment=\"Count\",Industry_Segment=Database!$O$119),VLOOKUP($C32,Industry_PGCount,Database!$S$44,FALSE),IF(AND(Industry_PGAssessment=\"Count\",Industry_Segment=Database!$T$95),VLOOKUP($C32,Industry_PGCount,Database!$X$44,FALSE),IF(AND(Industry_PGAssessment=\"Count\",Industry_Segment=Database!$Y$95),VLOOKUP($C32,Industry_PGCount,Database!$AC$44,FALSE),IF(AND(Industry_PGAssessment=\"Count\",Industry_Segment=Database!$AD$95),VLOOKUP($C32,Industry_PGCount,Database!$AH$44,FALSE),\n\nIF(AND(Industry_PGAssessment=\"Impact\",Industry_Segment=Database!$O$119),VLOOKUP($C32,Industry_PGImpact,Database!$S$44,FALSE),IF(AND(Industry_PGAssessment=\"Impact\",Industry_Segment=Database!$T$119),VLOOKUP($C32,Industry_PGImpact,Database!$X$44,FALSE),IF(AND(Industry_PGAssessment=\"Impact\",Industry_Segment=Database!$Y$95),VLOOKUP($C32,Industry_PGImpact,Database!$AC$44,FALSE),IF(AND(Industry_PGAssessment=\"Impact\",Industry_Segment=Database!$AD$119),VLOOKUP($C32,Industry_PGImpact,Database!$AH$44,FALSE),\"Check\"))))))))))","v":3},{"$f":"IF($C32=\"\",\"\",IF(VLOOKUP($C32,PG_Flag,Database!T$44,FALSE)=\"\",\"-\",\n\nIF(AND(Industry_PGAssessment=\"Count\",Industry_Segment=Database!$O$119),VLOOKUP($C32,Industry_PGCount,Database!$S$44,FALSE),IF(AND(Industry_PGAssessment=\"Count\",Industry_Segment=Database!$T$95),VLOOKUP($C32,Industry_PGCount,Database!$X$44,FALSE),IF(AND(Industry_PGAssessment=\"Count\",Industry_Segment=Database!$Y$95),VLOOKUP($C32,Industry_PGCount,Database!$AC$44,FALSE),IF(AND(Industry_PGAssessment=\"Count\",Industry_Segment=Database!$AD$95),VLOOKUP($C32,Industry_PGCount,Database!$AH$44,FALSE),\n\nIF(AND(Industry_PGAssessment=\"Impact\",Industry_Segment=Database!$O$119),VLOOKUP($C32,Industry_PGImpact,Database!$S$44,FALSE),IF(AND(Industry_PGAssessment=\"Impact\",Industry_Segment=Database!$T$119),VLOOKUP($C32,Industry_PGImpact,Database!$X$44,FALSE),IF(AND(Industry_PGAssessment=\"Impact\",Industry_Segment=Database!$Y$95),VLOOKUP($C32,Industry_PGImpact,Database!$AC$44,FALSE),IF(AND(Industry_PGAssessment=\"Impact\",Industry_Segment=Database!$AD$119),VLOOKUP($C32,Industry_PGImpact,Database!$AH$44,FALSE),\"Check\"))))))))))","v":3},{"$f":"IF($C32=\"\",\"\",IF(VLOOKUP($C32,PG_Flag,Database!U$44,FALSE)=\"\",\"-\",\n\nIF(AND(Industry_PGAssessment=\"Count\",Industry_Segment=Database!$O$119),VLOOKUP($C32,Industry_PGCount,Database!$S$44,FALSE),IF(AND(Industry_PGAssessment=\"Count\",Industry_Segment=Database!$T$95),VLOOKUP($C32,Industry_PGCount,Database!$X$44,FALSE),IF(AND(Industry_PGAssessment=\"Count\",Industry_Segment=Database!$Y$95),VLOOKUP($C32,Industry_PGCount,Database!$AC$44,FALSE),IF(AND(Industry_PGAssessment=\"Count\",Industry_Segment=Database!$AD$95),VLOOKUP($C32,Industry_PGCount,Database!$AH$44,FALSE),\n\nIF(AND(Industry_PGAssessment=\"Impact\",Industry_Segment=Database!$O$119),VLOOKUP($C32,Industry_PGImpact,Database!$S$44,FALSE),IF(AND(Industry_PGAssessment=\"Impact\",Industry_Segment=Database!$T$119),VLOOKUP($C32,Industry_PGImpact,Database!$X$44,FALSE),IF(AND(Industry_PGAssessment=\"Impact\",Industry_Segment=Database!$Y$95),VLOOKUP($C32,Industry_PGImpact,Database!$AC$44,FALSE),IF(AND(Industry_PGAssessment=\"Impact\",Industry_Segment=Database!$AD$119),VLOOKUP($C32,Industry_PGImpact,Database!$AH$44,FALSE),\"Check\"))))))))))","v":3},{"$f":"IF($C32=\"\",\"\",IF(VLOOKUP($C32,PG_Flag,Database!V$44,FALSE)=\"\",\"-\",\n\nIF(AND(Industry_PGAssessment=\"Count\",Industry_Segment=Database!$O$119),VLOOKUP($C32,Industry_PGCount,Database!$S$44,FALSE),IF(AND(Industry_PGAssessment=\"Count\",Industry_Segment=Database!$T$95),VLOOKUP($C32,Industry_PGCount,Database!$X$44,FALSE),IF(AND(Industry_PGAssessment=\"Count\",Industry_Segment=Database!$Y$95),VLOOKUP($C32,Industry_PGCount,Database!$AC$44,FALSE),IF(AND(Industry_PGAssessment=\"Count\",Industry_Segment=Database!$AD$95),VLOOKUP($C32,Industry_PGCount,Database!$AH$44,FALSE),\n\nIF(AND(Industry_PGAssessment=\"Impact\",Industry_Segment=Database!$O$119),VLOOKUP($C32,Industry_PGImpact,Database!$S$44,FALSE),IF(AND(Industry_PGAssessment=\"Impact\",Industry_Segment=Database!$T$119),VLOOKUP($C32,Industry_PGImpact,Database!$X$44,FALSE),IF(AND(Industry_PGAssessment=\"Impact\",Industry_Segment=Database!$Y$95),VLOOKUP($C32,Industry_PGImpact,Database!$AC$44,FALSE),IF(AND(Industry_PGAssessment=\"Impact\",Industry_Segment=Database!$AD$119),VLOOKUP($C32,Industry_PGImpact,Database!$AH$44,FALSE),\"Check\"))))))))))","v":3},{"$f":"IF($C32=\"\",\"\",IF(VLOOKUP($C32,PG_Flag,Database!W$44,FALSE)=\"\",\"-\",\n\nIF(AND(Industry_PGAssessment=\"Count\",Industry_Segment=Database!$O$119),VLOOKUP($C32,Industry_PGCount,Database!$S$44,FALSE),IF(AND(Industry_PGAssessment=\"Count\",Industry_Segment=Database!$T$95),VLOOKUP($C32,Industry_PGCount,Database!$X$44,FALSE),IF(AND(Industry_PGAssessment=\"Count\",Industry_Segment=Database!$Y$95),VLOOKUP($C32,Industry_PGCount,Database!$AC$44,FALSE),IF(AND(Industry_PGAssessment=\"Count\",Industry_Segment=Database!$AD$95),VLOOKUP($C32,Industry_PGCount,Database!$AH$44,FALSE),\n\nIF(AND(Industry_PGAssessment=\"Impact\",Industry_Segment=Database!$O$119),VLOOKUP($C32,Industry_PGImpact,Database!$S$44,FALSE),IF(AND(Industry_PGAssessment=\"Impact\",Industry_Segment=Database!$T$119),VLOOKUP($C32,Industry_PGImpact,Database!$X$44,FALSE),IF(AND(Industry_PGAssessment=\"Impact\",Industry_Segment=Database!$Y$95),VLOOKUP($C32,Industry_PGImpact,Database!$AC$44,FALSE),IF(AND(Industry_PGAssessment=\"Impact\",Industry_Segment=Database!$AD$119),VLOOKUP($C32,Industry_PGImpact,Database!$AH$44,FALSE),\"Check\"))))))))))","v":3},{"$f":"IF($C32=\"\",\"\",IF(VLOOKUP($C32,PG_Flag,Database!X$44,FALSE)=\"\",\"-\",\n\nIF(AND(Industry_PGAssessment=\"Count\",Industry_Segment=Database!$O$119),VLOOKUP($C32,Industry_PGCount,Database!$S$44,FALSE),IF(AND(Industry_PGAssessment=\"Count\",Industry_Segment=Database!$T$95),VLOOKUP($C32,Industry_PGCount,Database!$X$44,FALSE),IF(AND(Industry_PGAssessment=\"Count\",Industry_Segment=Database!$Y$95),VLOOKUP($C32,Industry_PGCount,Database!$AC$44,FALSE),IF(AND(Industry_PGAssessment=\"Count\",Industry_Segment=Database!$AD$95),VLOOKUP($C32,Industry_PGCount,Database!$AH$44,FALSE),\n\nIF(AND(Industry_PGAssessment=\"Impact\",Industry_Segment=Database!$O$119),VLOOKUP($C32,Industry_PGImpact,Database!$S$44,FALSE),IF(AND(Industry_PGAssessment=\"Impact\",Industry_Segment=Database!$T$119),VLOOKUP($C32,Industry_PGImpact,Database!$X$44,FALSE),IF(AND(Industry_PGAssessment=\"Impact\",Industry_Segment=Database!$Y$95),VLOOKUP($C32,Industry_PGImpact,Database!$AC$44,FALSE),IF(AND(Industry_PGAssessment=\"Impact\",Industry_Segment=Database!$AD$119),VLOOKUP($C32,Industry_PGImpact,Database!$AH$44,FALSE),\"Check\"))))))))))","v":"-"},{"$f":"IF($C32=\"\",\"\",IF(VLOOKUP($C32,PG_Flag,Database!Y$44,FALSE)=\"\",\"-\",\n\nIF(AND(Industry_PGAssessment=\"Count\",Industry_Segment=Database!$O$119),VLOOKUP($C32,Industry_PGCount,Database!$S$44,FALSE),IF(AND(Industry_PGAssessment=\"Count\",Industry_Segment=Database!$T$95),VLOOKUP($C32,Industry_PGCount,Database!$X$44,FALSE),IF(AND(Industry_PGAssessment=\"Count\",Industry_Segment=Database!$Y$95),VLOOKUP($C32,Industry_PGCount,Database!$AC$44,FALSE),IF(AND(Industry_PGAssessment=\"Count\",Industry_Segment=Database!$AD$95),VLOOKUP($C32,Industry_PGCount,Database!$AH$44,FALSE),\n\nIF(AND(Industry_PGAssessment=\"Impact\",Industry_Segment=Database!$O$119),VLOOKUP($C32,Industry_PGImpact,Database!$S$44,FALSE),IF(AND(Industry_PGAssessment=\"Impact\",Industry_Segment=Database!$T$119),VLOOKUP($C32,Industry_PGImpact,Database!$X$44,FALSE),IF(AND(Industry_PGAssessment=\"Impact\",Industry_Segment=Database!$Y$95),VLOOKUP($C32,Industry_PGImpact,Database!$AC$44,FALSE),IF(AND(Industry_PGAssessment=\"Impact\",Industry_Segment=Database!$AD$119),VLOOKUP($C32,Industry_PGImpact,Database!$AH$44,FALSE),\"Check\"))))))))))","v":"-"},{"$f":"IF($C32=\"\",\"\",IF(VLOOKUP($C32,PG_Flag,Database!Z$44,FALSE)=\"\",\"-\",\n\nIF(AND(Industry_PGAssessment=\"Count\",Industry_Segment=Database!$O$119),VLOOKUP($C32,Industry_PGCount,Database!$S$44,FALSE),IF(AND(Industry_PGAssessment=\"Count\",Industry_Segment=Database!$T$95),VLOOKUP($C32,Industry_PGCount,Database!$X$44,FALSE),IF(AND(Industry_PGAssessment=\"Count\",Industry_Segment=Database!$Y$95),VLOOKUP($C32,Industry_PGCount,Database!$AC$44,FALSE),IF(AND(Industry_PGAssessment=\"Count\",Industry_Segment=Database!$AD$95),VLOOKUP($C32,Industry_PGCount,Database!$AH$44,FALSE),\n\nIF(AND(Industry_PGAssessment=\"Impact\",Industry_Segment=Database!$O$119),VLOOKUP($C32,Industry_PGImpact,Database!$S$44,FALSE),IF(AND(Industry_PGAssessment=\"Impact\",Industry_Segment=Database!$T$119),VLOOKUP($C32,Industry_PGImpact,Database!$X$44,FALSE),IF(AND(Industry_PGAssessment=\"Impact\",Industry_Segment=Database!$Y$95),VLOOKUP($C32,Industry_PGImpact,Database!$AC$44,FALSE),IF(AND(Industry_PGAssessment=\"Impact\",Industry_Segment=Database!$AD$119),VLOOKUP($C32,Industry_PGImpact,Database!$AH$44,FALSE),\"Check\"))))))))))","v":"-"},null,{"$f":"IF($C32=\"\",\"\",IF(VLOOKUP($C32,PG_Flag,Database!AA$44,FALSE)=\"\",\"-\",\n\nIF(AND(Industry_PGAssessment=\"Count\",Industry_Segment=Database!$O$119),VLOOKUP($C32,Industry_PGCount,Database!$S$44,FALSE),IF(AND(Industry_PGAssessment=\"Count\",Industry_Segment=Database!$T$95),VLOOKUP($C32,Industry_PGCount,Database!$X$44,FALSE),IF(AND(Industry_PGAssessment=\"Count\",Industry_Segment=Database!$Y$95),VLOOKUP($C32,Industry_PGCount,Database!$AC$44,FALSE),IF(AND(Industry_PGAssessment=\"Count\",Industry_Segment=Database!$AD$95),VLOOKUP($C32,Industry_PGCount,Database!$AH$44,FALSE),\n\nIF(AND(Industry_PGAssessment=\"Impact\",Industry_Segment=Database!$O$119),VLOOKUP($C32,Industry_PGImpact,Database!$S$44,FALSE),IF(AND(Industry_PGAssessment=\"Impact\",Industry_Segment=Database!$T$119),VLOOKUP($C32,Industry_PGImpact,Database!$X$44,FALSE),IF(AND(Industry_PGAssessment=\"Impact\",Industry_Segment=Database!$Y$95),VLOOKUP($C32,Industry_PGImpact,Database!$AC$44,FALSE),IF(AND(Industry_PGAssessment=\"Impact\",Industry_Segment=Database!$AD$119),VLOOKUP($C32,Industry_PGImpact,Database!$AH$44,FALSE),\"Check\"))))))))))","v":"-"},null,{"$f":"IF($C32=\"\",\"\",IF(VLOOKUP($C32,PG_Flag,Database!AB$44,FALSE)=\"\",\"-\",\n\nIF(AND(Industry_PGAssessment=\"Count\",Industry_Segment=Database!$O$119),VLOOKUP($C32,Industry_PGCount,Database!$S$44,FALSE),IF(AND(Industry_PGAssessment=\"Count\",Industry_Segment=Database!$T$95),VLOOKUP($C32,Industry_PGCount,Database!$X$44,FALSE),IF(AND(Industry_PGAssessment=\"Count\",Industry_Segment=Database!$Y$95),VLOOKUP($C32,Industry_PGCount,Database!$AC$44,FALSE),IF(AND(Industry_PGAssessment=\"Count\",Industry_Segment=Database!$AD$95),VLOOKUP($C32,Industry_PGCount,Database!$AH$44,FALSE),\n\nIF(AND(Industry_PGAssessment=\"Impact\",Industry_Segment=Database!$O$119),VLOOKUP($C32,Industry_PGImpact,Database!$S$44,FALSE),IF(AND(Industry_PGAssessment=\"Impact\",Industry_Segment=Database!$T$119),VLOOKUP($C32,Industry_PGImpact,Database!$X$44,FALSE),IF(AND(Industry_PGAssessment=\"Impact\",Industry_Segment=Database!$Y$95),VLOOKUP($C32,Industry_PGImpact,Database!$AC$44,FALSE),IF(AND(Industry_PGAssessment=\"Impact\",Industry_Segment=Database!$AD$119),VLOOKUP($C32,Industry_PGImpact,Database!$AH$44,FALSE),\"Check\"))))))))))","v":"-"},null,{"$f":"IF($C32=\"\",\"\",IF(VLOOKUP($C32,PG_Flag,Database!AC$44,FALSE)=\"\",\"-\",\n\nIF(AND(Industry_PGAssessment=\"Count\",Industry_Segment=Database!$O$119),VLOOKUP($C32,Industry_PGCount,Database!$S$44,FALSE),IF(AND(Industry_PGAssessment=\"Count\",Industry_Segment=Database!$T$95),VLOOKUP($C32,Industry_PGCount,Database!$X$44,FALSE),IF(AND(Industry_PGAssessment=\"Count\",Industry_Segment=Database!$Y$95),VLOOKUP($C32,Industry_PGCount,Database!$AC$44,FALSE),IF(AND(Industry_PGAssessment=\"Count\",Industry_Segment=Database!$AD$95),VLOOKUP($C32,Industry_PGCount,Database!$AH$44,FALSE),\n\nIF(AND(Industry_PGAssessment=\"Impact\",Industry_Segment=Database!$O$119),VLOOKUP($C32,Industry_PGImpact,Database!$S$44,FALSE),IF(AND(Industry_PGAssessment=\"Impact\",Industry_Segment=Database!$T$119),VLOOKUP($C32,Industry_PGImpact,Database!$X$44,FALSE),IF(AND(Industry_PGAssessment=\"Impact\",Industry_Segment=Database!$Y$95),VLOOKUP($C32,Industry_PGImpact,Database!$AC$44,FALSE),IF(AND(Industry_PGAssessment=\"Impact\",Industry_Segment=Database!$AD$119),VLOOKUP($C32,Industry_PGImpact,Database!$AH$44,FALSE),\"Check\"))))))))))","v":"-"}]
[null,null,{"$f":"IF(Database!C58=\"\",\"\",Database!C58)","v":"I - IDAM (Foundation)"},{"$f":"IF($C33=\"\",\"\",IF(VLOOKUP($C33,PG_Flag,Database!R$44,FALSE)=\"\",\"-\",\n\nIF(AND(Industry_PGAssessment=\"Count\",Industry_Segment=Database!$O$119),VLOOKUP($C33,Industry_PGCount,Database!$S$44,FALSE),IF(AND(Industry_PGAssessment=\"Count\",Industry_Segment=Database!$T$95),VLOOKUP($C33,Industry_PGCount,Database!$X$44,FALSE),IF(AND(Industry_PGAssessment=\"Count\",Industry_Segment=Database!$Y$95),VLOOKUP($C33,Industry_PGCount,Database!$AC$44,FALSE),IF(AND(Industry_PGAssessment=\"Count\",Industry_Segment=Database!$AD$95),VLOOKUP($C33,Industry_PGCount,Database!$AH$44,FALSE),\n\nIF(AND(Industry_PGAssessment=\"Impact\",Industry_Segment=Database!$O$119),VLOOKUP($C33,Industry_PGImpact,Database!$S$44,FALSE),IF(AND(Industry_PGAssessment=\"Impact\",Industry_Segment=Database!$T$119),VLOOKUP($C33,Industry_PGImpact,Database!$X$44,FALSE),IF(AND(Industry_PGAssessment=\"Impact\",Industry_Segment=Database!$Y$95),VLOOKUP($C33,Industry_PGImpact,Database!$AC$44,FALSE),IF(AND(Industry_PGAssessment=\"Impact\",Industry_Segment=Database!$AD$119),VLOOKUP($C33,Industry_PGImpact,Database!$AH$44,FALSE),\"Check\"))))))))))","v":3},{"$f":"IF($C33=\"\",\"\",IF(VLOOKUP($C33,PG_Flag,Database!S$44,FALSE)=\"\",\"-\",\n\nIF(AND(Industry_PGAssessment=\"Count\",Industry_Segment=Database!$O$119),VLOOKUP($C33,Industry_PGCount,Database!$S$44,FALSE),IF(AND(Industry_PGAssessment=\"Count\",Industry_Segment=Database!$T$95),VLOOKUP($C33,Industry_PGCount,Database!$X$44,FALSE),IF(AND(Industry_PGAssessment=\"Count\",Industry_Segment=Database!$Y$95),VLOOKUP($C33,Industry_PGCount,Database!$AC$44,FALSE),IF(AND(Industry_PGAssessment=\"Count\",Industry_Segment=Database!$AD$95),VLOOKUP($C33,Industry_PGCount,Database!$AH$44,FALSE),\n\nIF(AND(Industry_PGAssessment=\"Impact\",Industry_Segment=Database!$O$119),VLOOKUP($C33,Industry_PGImpact,Database!$S$44,FALSE),IF(AND(Industry_PGAssessment=\"Impact\",Industry_Segment=Database!$T$119),VLOOKUP($C33,Industry_PGImpact,Database!$X$44,FALSE),IF(AND(Industry_PGAssessment=\"Impact\",Industry_Segment=Database!$Y$95),VLOOKUP($C33,Industry_PGImpact,Database!$AC$44,FALSE),IF(AND(Industry_PGAssessment=\"Impact\",Industry_Segment=Database!$AD$119),VLOOKUP($C33,Industry_PGImpact,Database!$AH$44,FALSE),\"Check\"))))))))))","v":3},{"$f":"IF($C33=\"\",\"\",IF(VLOOKUP($C33,PG_Flag,Database!T$44,FALSE)=\"\",\"-\",\n\nIF(AND(Industry_PGAssessment=\"Count\",Industry_Segment=Database!$O$119),VLOOKUP($C33,Industry_PGCount,Database!$S$44,FALSE),IF(AND(Industry_PGAssessment=\"Count\",Industry_Segment=Database!$T$95),VLOOKUP($C33,Industry_PGCount,Database!$X$44,FALSE),IF(AND(Industry_PGAssessment=\"Count\",Industry_Segment=Database!$Y$95),VLOOKUP($C33,Industry_PGCount,Database!$AC$44,FALSE),IF(AND(Industry_PGAssessment=\"Count\",Industry_Segment=Database!$AD$95),VLOOKUP($C33,Industry_PGCount,Database!$AH$44,FALSE),\n\nIF(AND(Industry_PGAssessment=\"Impact\",Industry_Segment=Database!$O$119),VLOOKUP($C33,Industry_PGImpact,Database!$S$44,FALSE),IF(AND(Industry_PGAssessment=\"Impact\",Industry_Segment=Database!$T$119),VLOOKUP($C33,Industry_PGImpact,Database!$X$44,FALSE),IF(AND(Industry_PGAssessment=\"Impact\",Industry_Segment=Database!$Y$95),VLOOKUP($C33,Industry_PGImpact,Database!$AC$44,FALSE),IF(AND(Industry_PGAssessment=\"Impact\",Industry_Segment=Database!$AD$119),VLOOKUP($C33,Industry_PGImpact,Database!$AH$44,FALSE),\"Check\"))))))))))","v":"-"},{"$f":"IF($C33=\"\",\"\",IF(VLOOKUP($C33,PG_Flag,Database!U$44,FALSE)=\"\",\"-\",\n\nIF(AND(Industry_PGAssessment=\"Count\",Industry_Segment=Database!$O$119),VLOOKUP($C33,Industry_PGCount,Database!$S$44,FALSE),IF(AND(Industry_PGAssessment=\"Count\",Industry_Segment=Database!$T$95),VLOOKUP($C33,Industry_PGCount,Database!$X$44,FALSE),IF(AND(Industry_PGAssessment=\"Count\",Industry_Segment=Database!$Y$95),VLOOKUP($C33,Industry_PGCount,Database!$AC$44,FALSE),IF(AND(Industry_PGAssessment=\"Count\",Industry_Segment=Database!$AD$95),VLOOKUP($C33,Industry_PGCount,Database!$AH$44,FALSE),\n\nIF(AND(Industry_PGAssessment=\"Impact\",Industry_Segment=Database!$O$119),VLOOKUP($C33,Industry_PGImpact,Database!$S$44,FALSE),IF(AND(Industry_PGAssessment=\"Impact\",Industry_Segment=Database!$T$119),VLOOKUP($C33,Industry_PGImpact,Database!$X$44,FALSE),IF(AND(Industry_PGAssessment=\"Impact\",Industry_Segment=Database!$Y$95),VLOOKUP($C33,Industry_PGImpact,Database!$AC$44,FALSE),IF(AND(Industry_PGAssessment=\"Impact\",Industry_Segment=Database!$AD$119),VLOOKUP($C33,Industry_PGImpact,Database!$AH$44,FALSE),\"Check\"))))))))))","v":"-"},{"$f":"IF($C33=\"\",\"\",IF(VLOOKUP($C33,PG_Flag,Database!V$44,FALSE)=\"\",\"-\",\n\nIF(AND(Industry_PGAssessment=\"Count\",Industry_Segment=Database!$O$119),VLOOKUP($C33,Industry_PGCount,Database!$S$44,FALSE),IF(AND(Industry_PGAssessment=\"Count\",Industry_Segment=Database!$T$95),VLOOKUP($C33,Industry_PGCount,Database!$X$44,FALSE),IF(AND(Industry_PGAssessment=\"Count\",Industry_Segment=Database!$Y$95),VLOOKUP($C33,Industry_PGCount,Database!$AC$44,FALSE),IF(AND(Industry_PGAssessment=\"Count\",Industry_Segment=Database!$AD$95),VLOOKUP($C33,Industry_PGCount,Database!$AH$44,FALSE),\n\nIF(AND(Industry_PGAssessment=\"Impact\",Industry_Segment=Database!$O$119),VLOOKUP($C33,Industry_PGImpact,Database!$S$44,FALSE),IF(AND(Industry_PGAssessment=\"Impact\",Industry_Segment=Database!$T$119),VLOOKUP($C33,Industry_PGImpact,Database!$X$44,FALSE),IF(AND(Industry_PGAssessment=\"Impact\",Industry_Segment=Database!$Y$95),VLOOKUP($C33,Industry_PGImpact,Database!$AC$44,FALSE),IF(AND(Industry_PGAssessment=\"Impact\",Industry_Segment=Database!$AD$119),VLOOKUP($C33,Industry_PGImpact,Database!$AH$44,FALSE),\"Check\"))))))))))","v":"-"},{"$f":"IF($C33=\"\",\"\",IF(VLOOKUP($C33,PG_Flag,Database!W$44,FALSE)=\"\",\"-\",\n\nIF(AND(Industry_PGAssessment=\"Count\",Industry_Segment=Database!$O$119),VLOOKUP($C33,Industry_PGCount,Database!$S$44,FALSE),IF(AND(Industry_PGAssessment=\"Count\",Industry_Segment=Database!$T$95),VLOOKUP($C33,Industry_PGCount,Database!$X$44,FALSE),IF(AND(Industry_PGAssessment=\"Count\",Industry_Segment=Database!$Y$95),VLOOKUP($C33,Industry_PGCount,Database!$AC$44,FALSE),IF(AND(Industry_PGAssessment=\"Count\",Industry_Segment=Database!$AD$95),VLOOKUP($C33,Industry_PGCount,Database!$AH$44,FALSE),\n\nIF(AND(Industry_PGAssessment=\"Impact\",Industry_Segment=Database!$O$119),VLOOKUP($C33,Industry_PGImpact,Database!$S$44,FALSE),IF(AND(Industry_PGAssessment=\"Impact\",Industry_Segment=Database!$T$119),VLOOKUP($C33,Industry_PGImpact,Database!$X$44,FALSE),IF(AND(Industry_PGAssessment=\"Impact\",Industry_Segment=Database!$Y$95),VLOOKUP($C33,Industry_PGImpact,Database!$AC$44,FALSE),IF(AND(Industry_PGAssessment=\"Impact\",Industry_Segment=Database!$AD$119),VLOOKUP($C33,Industry_PGImpact,Database!$AH$44,FALSE),\"Check\"))))))))))","v":"-"},{"$f":"IF($C33=\"\",\"\",IF(VLOOKUP($C33,PG_Flag,Database!X$44,FALSE)=\"\",\"-\",\n\nIF(AND(Industry_PGAssessment=\"Count\",Industry_Segment=Database!$O$119),VLOOKUP($C33,Industry_PGCount,Database!$S$44,FALSE),IF(AND(Industry_PGAssessment=\"Count\",Industry_Segment=Database!$T$95),VLOOKUP($C33,Industry_PGCount,Database!$X$44,FALSE),IF(AND(Industry_PGAssessment=\"Count\",Industry_Segment=Database!$Y$95),VLOOKUP($C33,Industry_PGCount,Database!$AC$44,FALSE),IF(AND(Industry_PGAssessment=\"Count\",Industry_Segment=Database!$AD$95),VLOOKUP($C33,Industry_PGCount,Database!$AH$44,FALSE),\n\nIF(AND(Industry_PGAssessment=\"Impact\",Industry_Segment=Database!$O$119),VLOOKUP($C33,Industry_PGImpact,Database!$S$44,FALSE),IF(AND(Industry_PGAssessment=\"Impact\",Industry_Segment=Database!$T$119),VLOOKUP($C33,Industry_PGImpact,Database!$X$44,FALSE),IF(AND(Industry_PGAssessment=\"Impact\",Industry_Segment=Database!$Y$95),VLOOKUP($C33,Industry_PGImpact,Database!$AC$44,FALSE),IF(AND(Industry_PGAssessment=\"Impact\",Industry_Segment=Database!$AD$119),VLOOKUP($C33,Industry_PGImpact,Database!$AH$44,FALSE),\"Check\"))))))))))","v":"-"},{"$f":"IF($C33=\"\",\"\",IF(VLOOKUP($C33,PG_Flag,Database!Y$44,FALSE)=\"\",\"-\",\n\nIF(AND(Industry_PGAssessment=\"Count\",Industry_Segment=Database!$O$119),VLOOKUP($C33,Industry_PGCount,Database!$S$44,FALSE),IF(AND(Industry_PGAssessment=\"Count\",Industry_Segment=Database!$T$95),VLOOKUP($C33,Industry_PGCount,Database!$X$44,FALSE),IF(AND(Industry_PGAssessment=\"Count\",Industry_Segment=Database!$Y$95),VLOOKUP($C33,Industry_PGCount,Database!$AC$44,FALSE),IF(AND(Industry_PGAssessment=\"Count\",Industry_Segment=Database!$AD$95),VLOOKUP($C33,Industry_PGCount,Database!$AH$44,FALSE),\n\nIF(AND(Industry_PGAssessment=\"Impact\",Industry_Segment=Database!$O$119),VLOOKUP($C33,Industry_PGImpact,Database!$S$44,FALSE),IF(AND(Industry_PGAssessment=\"Impact\",Industry_Segment=Database!$T$119),VLOOKUP($C33,Industry_PGImpact,Database!$X$44,FALSE),IF(AND(Industry_PGAssessment=\"Impact\",Industry_Segment=Database!$Y$95),VLOOKUP($C33,Industry_PGImpact,Database!$AC$44,FALSE),IF(AND(Industry_PGAssessment=\"Impact\",Industry_Segment=Database!$AD$119),VLOOKUP($C33,Industry_PGImpact,Database!$AH$44,FALSE),\"Check\"))))))))))","v":"-"},{"$f":"IF($C33=\"\",\"\",IF(VLOOKUP($C33,PG_Flag,Database!Z$44,FALSE)=\"\",\"-\",\n\nIF(AND(Industry_PGAssessment=\"Count\",Industry_Segment=Database!$O$119),VLOOKUP($C33,Industry_PGCount,Database!$S$44,FALSE),IF(AND(Industry_PGAssessment=\"Count\",Industry_Segment=Database!$T$95),VLOOKUP($C33,Industry_PGCount,Database!$X$44,FALSE),IF(AND(Industry_PGAssessment=\"Count\",Industry_Segment=Database!$Y$95),VLOOKUP($C33,Industry_PGCount,Database!$AC$44,FALSE),IF(AND(Industry_PGAssessment=\"Count\",Industry_Segment=Database!$AD$95),VLOOKUP($C33,Industry_PGCount,Database!$AH$44,FALSE),\n\nIF(AND(Industry_PGAssessment=\"Impact\",Industry_Segment=Database!$O$119),VLOOKUP($C33,Industry_PGImpact,Database!$S$44,FALSE),IF(AND(Industry_PGAssessment=\"Impact\",Industry_Segment=Database!$T$119),VLOOKUP($C33,Industry_PGImpact,Database!$X$44,FALSE),IF(AND(Industry_PGAssessment=\"Impact\",Industry_Segment=Database!$Y$95),VLOOKUP($C33,Industry_PGImpact,Database!$AC$44,FALSE),IF(AND(Industry_PGAssessment=\"Impact\",Industry_Segment=Database!$AD$119),VLOOKUP($C33,Industry_PGImpact,Database!$AH$44,FALSE),\"Check\"))))))))))","v":"-"},null,{"$f":"IF($C33=\"\",\"\",IF(VLOOKUP($C33,PG_Flag,Database!AA$44,FALSE)=\"\",\"-\",\n\nIF(AND(Industry_PGAssessment=\"Count\",Industry_Segment=Database!$O$119),VLOOKUP($C33,Industry_PGCount,Database!$S$44,FALSE),IF(AND(Industry_PGAssessment=\"Count\",Industry_Segment=Database!$T$95),VLOOKUP($C33,Industry_PGCount,Database!$X$44,FALSE),IF(AND(Industry_PGAssessment=\"Count\",Industry_Segment=Database!$Y$95),VLOOKUP($C33,Industry_PGCount,Database!$AC$44,FALSE),IF(AND(Industry_PGAssessment=\"Count\",Industry_Segment=Database!$AD$95),VLOOKUP($C33,Industry_PGCount,Database!$AH$44,FALSE),\n\nIF(AND(Industry_PGAssessment=\"Impact\",Industry_Segment=Database!$O$119),VLOOKUP($C33,Industry_PGImpact,Database!$S$44,FALSE),IF(AND(Industry_PGAssessment=\"Impact\",Industry_Segment=Database!$T$119),VLOOKUP($C33,Industry_PGImpact,Database!$X$44,FALSE),IF(AND(Industry_PGAssessment=\"Impact\",Industry_Segment=Database!$Y$95),VLOOKUP($C33,Industry_PGImpact,Database!$AC$44,FALSE),IF(AND(Industry_PGAssessment=\"Impact\",Industry_Segment=Database!$AD$119),VLOOKUP($C33,Industry_PGImpact,Database!$AH$44,FALSE),\"Check\"))))))))))","v":"-"},null,{"$f":"IF($C33=\"\",\"\",IF(VLOOKUP($C33,PG_Flag,Database!AB$44,FALSE)=\"\",\"-\",\n\nIF(AND(Industry_PGAssessment=\"Count\",Industry_Segment=Database!$O$119),VLOOKUP($C33,Industry_PGCount,Database!$S$44,FALSE),IF(AND(Industry_PGAssessment=\"Count\",Industry_Segment=Database!$T$95),VLOOKUP($C33,Industry_PGCount,Database!$X$44,FALSE),IF(AND(Industry_PGAssessment=\"Count\",Industry_Segment=Database!$Y$95),VLOOKUP($C33,Industry_PGCount,Database!$AC$44,FALSE),IF(AND(Industry_PGAssessment=\"Count\",Industry_Segment=Database!$AD$95),VLOOKUP($C33,Industry_PGCount,Database!$AH$44,FALSE),\n\nIF(AND(Industry_PGAssessment=\"Impact\",Industry_Segment=Database!$O$119),VLOOKUP($C33,Industry_PGImpact,Database!$S$44,FALSE),IF(AND(Industry_PGAssessment=\"Impact\",Industry_Segment=Database!$T$119),VLOOKUP($C33,Industry_PGImpact,Database!$X$44,FALSE),IF(AND(Industry_PGAssessment=\"Impact\",Industry_Segment=Database!$Y$95),VLOOKUP($C33,Industry_PGImpact,Database!$AC$44,FALSE),IF(AND(Industry_PGAssessment=\"Impact\",Industry_Segment=Database!$AD$119),VLOOKUP($C33,Industry_PGImpact,Database!$AH$44,FALSE),\"Check\"))))))))))","v":"-"},null,{"$f":"IF($C33=\"\",\"\",IF(VLOOKUP($C33,PG_Flag,Database!AC$44,FALSE)=\"\",\"-\",\n\nIF(AND(Industry_PGAssessment=\"Count\",Industry_Segment=Database!$O$119),VLOOKUP($C33,Industry_PGCount,Database!$S$44,FALSE),IF(AND(Industry_PGAssessment=\"Count\",Industry_Segment=Database!$T$95),VLOOKUP($C33,Industry_PGCount,Database!$X$44,FALSE),IF(AND(Industry_PGAssessment=\"Count\",Industry_Segment=Database!$Y$95),VLOOKUP($C33,Industry_PGCount,Database!$AC$44,FALSE),IF(AND(Industry_PGAssessment=\"Count\",Industry_Segment=Database!$AD$95),VLOOKUP($C33,Industry_PGCount,Database!$AH$44,FALSE),\n\nIF(AND(Industry_PGAssessment=\"Impact\",Industry_Segment=Database!$O$119),VLOOKUP($C33,Industry_PGImpact,Database!$S$44,FALSE),IF(AND(Industry_PGAssessment=\"Impact\",Industry_Segment=Database!$T$119),VLOOKUP($C33,Industry_PGImpact,Database!$X$44,FALSE),IF(AND(Industry_PGAssessment=\"Impact\",Industry_Segment=Database!$Y$95),VLOOKUP($C33,Industry_PGImpact,Database!$AC$44,FALSE),IF(AND(Industry_PGAssessment=\"Impact\",Industry_Segment=Database!$AD$119),VLOOKUP($C33,Industry_PGImpact,Database!$AH$44,FALSE),\"Check\"))))))))))","v":"-"}]
[null,null,{"$f":"IF(Database!C59=\"\",\"\",Database!C59)","v":"I - MSR (Accelerating Smart Meter Deployment - Package 3)"},{"$f":"IF($C34=\"\",\"\",IF(VLOOKUP($C34,PG_Flag,Database!R$44,FALSE)=\"\",\"-\",\n\nIF(AND(Industry_PGAssessment=\"Count\",Industry_Segment=Database!$O$119),VLOOKUP($C34,Industry_PGCount,Database!$S$44,FALSE),IF(AND(Industry_PGAssessment=\"Count\",Industry_Segment=Database!$T$95),VLOOKUP($C34,Industry_PGCount,Database!$X$44,FALSE),IF(AND(Industry_PGAssessment=\"Count\",Industry_Segment=Database!$Y$95),VLOOKUP($C34,Industry_PGCount,Database!$AC$44,FALSE),IF(AND(Industry_PGAssessment=\"Count\",Industry_Segment=Database!$AD$95),VLOOKUP($C34,Industry_PGCount,Database!$AH$44,FALSE),\n\nIF(AND(Industry_PGAssessment=\"Impact\",Industry_Segment=Database!$O$119),VLOOKUP($C34,Industry_PGImpact,Database!$S$44,FALSE),IF(AND(Industry_PGAssessment=\"Impact\",Industry_Segment=Database!$T$119),VLOOKUP($C34,Industry_PGImpact,Database!$X$44,FALSE),IF(AND(Industry_PGAssessment=\"Impact\",Industry_Segment=Database!$Y$95),VLOOKUP($C34,Industry_PGImpact,Database!$AC$44,FALSE),IF(AND(Industry_PGAssessment=\"Impact\",Industry_Segment=Database!$AD$119),VLOOKUP($C34,Industry_PGImpact,Database!$AH$44,FALSE),\"Check\"))))))))))","v":"-"},{"$f":"IF($C34=\"\",\"\",IF(VLOOKUP($C34,PG_Flag,Database!S$44,FALSE)=\"\",\"-\",\n\nIF(AND(Industry_PGAssessment=\"Count\",Industry_Segment=Database!$O$119),VLOOKUP($C34,Industry_PGCount,Database!$S$44,FALSE),IF(AND(Industry_PGAssessment=\"Count\",Industry_Segment=Database!$T$95),VLOOKUP($C34,Industry_PGCount,Database!$X$44,FALSE),IF(AND(Industry_PGAssessment=\"Count\",Industry_Segment=Database!$Y$95),VLOOKUP($C34,Industry_PGCount,Database!$AC$44,FALSE),IF(AND(Industry_PGAssessment=\"Count\",Industry_Segment=Database!$AD$95),VLOOKUP($C34,Industry_PGCount,Database!$AH$44,FALSE),\n\nIF(AND(Industry_PGAssessment=\"Impact\",Industry_Segment=Database!$O$119),VLOOKUP($C34,Industry_PGImpact,Database!$S$44,FALSE),IF(AND(Industry_PGAssessment=\"Impact\",Industry_Segment=Database!$T$119),VLOOKUP($C34,Industry_PGImpact,Database!$X$44,FALSE),IF(AND(Industry_PGAssessment=\"Impact\",Industry_Segment=Database!$Y$95),VLOOKUP($C34,Industry_PGImpact,Database!$AC$44,FALSE),IF(AND(Industry_PGAssessment=\"Impact\",Industry_Segment=Database!$AD$119),VLOOKUP($C34,Industry_PGImpact,Database!$AH$44,FALSE),\"Check\"))))))))))","v":1},{"$f":"IF($C34=\"\",\"\",IF(VLOOKUP($C34,PG_Flag,Database!T$44,FALSE)=\"\",\"-\",\n\nIF(AND(Industry_PGAssessment=\"Count\",Industry_Segment=Database!$O$119),VLOOKUP($C34,Industry_PGCount,Database!$S$44,FALSE),IF(AND(Industry_PGAssessment=\"Count\",Industry_Segment=Database!$T$95),VLOOKUP($C34,Industry_PGCount,Database!$X$44,FALSE),IF(AND(Industry_PGAssessment=\"Count\",Industry_Segment=Database!$Y$95),VLOOKUP($C34,Industry_PGCount,Database!$AC$44,FALSE),IF(AND(Industry_PGAssessment=\"Count\",Industry_Segment=Database!$AD$95),VLOOKUP($C34,Industry_PGCount,Database!$AH$44,FALSE),\n\nIF(AND(Industry_PGAssessment=\"Impact\",Industry_Segment=Database!$O$119),VLOOKUP($C34,Industry_PGImpact,Database!$S$44,FALSE),IF(AND(Industry_PGAssessment=\"Impact\",Industry_Segment=Database!$T$119),VLOOKUP($C34,Industry_PGImpact,Database!$X$44,FALSE),IF(AND(Industry_PGAssessment=\"Impact\",Industry_Segment=Database!$Y$95),VLOOKUP($C34,Industry_PGImpact,Database!$AC$44,FALSE),IF(AND(Industry_PGAssessment=\"Impact\",Industry_Segment=Database!$AD$119),VLOOKUP($C34,Industry_PGImpact,Database!$AH$44,FALSE),\"Check\"))))))))))","v":1},{"$f":"IF($C34=\"\",\"\",IF(VLOOKUP($C34,PG_Flag,Database!U$44,FALSE)=\"\",\"-\",\n\nIF(AND(Industry_PGAssessment=\"Count\",Industry_Segment=Database!$O$119),VLOOKUP($C34,Industry_PGCount,Database!$S$44,FALSE),IF(AND(Industry_PGAssessment=\"Count\",Industry_Segment=Database!$T$95),VLOOKUP($C34,Industry_PGCount,Database!$X$44,FALSE),IF(AND(Industry_PGAssessment=\"Count\",Industry_Segment=Database!$Y$95),VLOOKUP($C34,Industry_PGCount,Database!$AC$44,FALSE),IF(AND(Industry_PGAssessment=\"Count\",Industry_Segment=Database!$AD$95),VLOOKUP($C34,Industry_PGCount,Database!$AH$44,FALSE),\n\nIF(AND(Industry_PGAssessment=\"Impact\",Industry_Segment=Database!$O$119),VLOOKUP($C34,Industry_PGImpact,Database!$S$44,FALSE),IF(AND(Industry_PGAssessment=\"Impact\",Industry_Segment=Database!$T$119),VLOOKUP($C34,Industry_PGImpact,Database!$X$44,FALSE),IF(AND(Industry_PGAssessment=\"Impact\",Industry_Segment=Database!$Y$95),VLOOKUP($C34,Industry_PGImpact,Database!$AC$44,FALSE),IF(AND(Industry_PGAssessment=\"Impact\",Industry_Segment=Database!$AD$119),VLOOKUP($C34,Industry_PGImpact,Database!$AH$44,FALSE),\"Check\"))))))))))","v":"-"},{"$f":"IF($C34=\"\",\"\",IF(VLOOKUP($C34,PG_Flag,Database!V$44,FALSE)=\"\",\"-\",\n\nIF(AND(Industry_PGAssessment=\"Count\",Industry_Segment=Database!$O$119),VLOOKUP($C34,Industry_PGCount,Database!$S$44,FALSE),IF(AND(Industry_PGAssessment=\"Count\",Industry_Segment=Database!$T$95),VLOOKUP($C34,Industry_PGCount,Database!$X$44,FALSE),IF(AND(Industry_PGAssessment=\"Count\",Industry_Segment=Database!$Y$95),VLOOKUP($C34,Industry_PGCount,Database!$AC$44,FALSE),IF(AND(Industry_PGAssessment=\"Count\",Industry_Segment=Database!$AD$95),VLOOKUP($C34,Industry_PGCount,Database!$AH$44,FALSE),\n\nIF(AND(Industry_PGAssessment=\"Impact\",Industry_Segment=Database!$O$119),VLOOKUP($C34,Industry_PGImpact,Database!$S$44,FALSE),IF(AND(Industry_PGAssessment=\"Impact\",Industry_Segment=Database!$T$119),VLOOKUP($C34,Industry_PGImpact,Database!$X$44,FALSE),IF(AND(Industry_PGAssessment=\"Impact\",Industry_Segment=Database!$Y$95),VLOOKUP($C34,Industry_PGImpact,Database!$AC$44,FALSE),IF(AND(Industry_PGAssessment=\"Impact\",Industry_Segment=Database!$AD$119),VLOOKUP($C34,Industry_PGImpact,Database!$AH$44,FALSE),\"Check\"))))))))))","v":"-"},{"$f":"IF($C34=\"\",\"\",IF(VLOOKUP($C34,PG_Flag,Database!W$44,FALSE)=\"\",\"-\",\n\nIF(AND(Industry_PGAssessment=\"Count\",Industry_Segment=Database!$O$119),VLOOKUP($C34,Industry_PGCount,Database!$S$44,FALSE),IF(AND(Industry_PGAssessment=\"Count\",Industry_Segment=Database!$T$95),VLOOKUP($C34,Industry_PGCount,Database!$X$44,FALSE),IF(AND(Industry_PGAssessment=\"Count\",Industry_Segment=Database!$Y$95),VLOOKUP($C34,Industry_PGCount,Database!$AC$44,FALSE),IF(AND(Industry_PGAssessment=\"Count\",Industry_Segment=Database!$AD$95),VLOOKUP($C34,Industry_PGCount,Database!$AH$44,FALSE),\n\nIF(AND(Industry_PGAssessment=\"Impact\",Industry_Segment=Database!$O$119),VLOOKUP($C34,Industry_PGImpact,Database!$S$44,FALSE),IF(AND(Industry_PGAssessment=\"Impact\",Industry_Segment=Database!$T$119),VLOOKUP($C34,Industry_PGImpact,Database!$X$44,FALSE),IF(AND(Industry_PGAssessment=\"Impact\",Industry_Segment=Database!$Y$95),VLOOKUP($C34,Industry_PGImpact,Database!$AC$44,FALSE),IF(AND(Industry_PGAssessment=\"Impact\",Industry_Segment=Database!$AD$119),VLOOKUP($C34,Industry_PGImpact,Database!$AH$44,FALSE),\"Check\"))))))))))","v":"-"},{"$f":"IF($C34=\"\",\"\",IF(VLOOKUP($C34,PG_Flag,Database!X$44,FALSE)=\"\",\"-\",\n\nIF(AND(Industry_PGAssessment=\"Count\",Industry_Segment=Database!$O$119),VLOOKUP($C34,Industry_PGCount,Database!$S$44,FALSE),IF(AND(Industry_PGAssessment=\"Count\",Industry_Segment=Database!$T$95),VLOOKUP($C34,Industry_PGCount,Database!$X$44,FALSE),IF(AND(Industry_PGAssessment=\"Count\",Industry_Segment=Database!$Y$95),VLOOKUP($C34,Industry_PGCount,Database!$AC$44,FALSE),IF(AND(Industry_PGAssessment=\"Count\",Industry_Segment=Database!$AD$95),VLOOKUP($C34,Industry_PGCount,Database!$AH$44,FALSE),\n\nIF(AND(Industry_PGAssessment=\"Impact\",Industry_Segment=Database!$O$119),VLOOKUP($C34,Industry_PGImpact,Database!$S$44,FALSE),IF(AND(Industry_PGAssessment=\"Impact\",Industry_Segment=Database!$T$119),VLOOKUP($C34,Industry_PGImpact,Database!$X$44,FALSE),IF(AND(Industry_PGAssessment=\"Impact\",Industry_Segment=Database!$Y$95),VLOOKUP($C34,Industry_PGImpact,Database!$AC$44,FALSE),IF(AND(Industry_PGAssessment=\"Impact\",Industry_Segment=Database!$AD$119),VLOOKUP($C34,Industry_PGImpact,Database!$AH$44,FALSE),\"Check\"))))))))))","v":"-"},{"$f":"IF($C34=\"\",\"\",IF(VLOOKUP($C34,PG_Flag,Database!Y$44,FALSE)=\"\",\"-\",\n\nIF(AND(Industry_PGAssessment=\"Count\",Industry_Segment=Database!$O$119),VLOOKUP($C34,Industry_PGCount,Database!$S$44,FALSE),IF(AND(Industry_PGAssessment=\"Count\",Industry_Segment=Database!$T$95),VLOOKUP($C34,Industry_PGCount,Database!$X$44,FALSE),IF(AND(Industry_PGAssessment=\"Count\",Industry_Segment=Database!$Y$95),VLOOKUP($C34,Industry_PGCount,Database!$AC$44,FALSE),IF(AND(Industry_PGAssessment=\"Count\",Industry_Segment=Database!$AD$95),VLOOKUP($C34,Industry_PGCount,Database!$AH$44,FALSE),\n\nIF(AND(Industry_PGAssessment=\"Impact\",Industry_Segment=Database!$O$119),VLOOKUP($C34,Industry_PGImpact,Database!$S$44,FALSE),IF(AND(Industry_PGAssessment=\"Impact\",Industry_Segment=Database!$T$119),VLOOKUP($C34,Industry_PGImpact,Database!$X$44,FALSE),IF(AND(Industry_PGAssessment=\"Impact\",Industry_Segment=Database!$Y$95),VLOOKUP($C34,Industry_PGImpact,Database!$AC$44,FALSE),IF(AND(Industry_PGAssessment=\"Impact\",Industry_Segment=Database!$AD$119),VLOOKUP($C34,Industry_PGImpact,Database!$AH$44,FALSE),\"Check\"))))))))))","v":"-"},{"$f":"IF($C34=\"\",\"\",IF(VLOOKUP($C34,PG_Flag,Database!Z$44,FALSE)=\"\",\"-\",\n\nIF(AND(Industry_PGAssessment=\"Count\",Industry_Segment=Database!$O$119),VLOOKUP($C34,Industry_PGCount,Database!$S$44,FALSE),IF(AND(Industry_PGAssessment=\"Count\",Industry_Segment=Database!$T$95),VLOOKUP($C34,Industry_PGCount,Database!$X$44,FALSE),IF(AND(Industry_PGAssessment=\"Count\",Industry_Segment=Database!$Y$95),VLOOKUP($C34,Industry_PGCount,Database!$AC$44,FALSE),IF(AND(Industry_PGAssessment=\"Count\",Industry_Segment=Database!$AD$95),VLOOKUP($C34,Industry_PGCount,Database!$AH$44,FALSE),\n\nIF(AND(Industry_PGAssessment=\"Impact\",Industry_Segment=Database!$O$119),VLOOKUP($C34,Industry_PGImpact,Database!$S$44,FALSE),IF(AND(Industry_PGAssessment=\"Impact\",Industry_Segment=Database!$T$119),VLOOKUP($C34,Industry_PGImpact,Database!$X$44,FALSE),IF(AND(Industry_PGAssessment=\"Impact\",Industry_Segment=Database!$Y$95),VLOOKUP($C34,Industry_PGImpact,Database!$AC$44,FALSE),IF(AND(Industry_PGAssessment=\"Impact\",Industry_Segment=Database!$AD$119),VLOOKUP($C34,Industry_PGImpact,Database!$AH$44,FALSE),\"Check\"))))))))))","v":"-"},null,{"$f":"IF($C34=\"\",\"\",IF(VLOOKUP($C34,PG_Flag,Database!AA$44,FALSE)=\"\",\"-\",\n\nIF(AND(Industry_PGAssessment=\"Count\",Industry_Segment=Database!$O$119),VLOOKUP($C34,Industry_PGCount,Database!$S$44,FALSE),IF(AND(Industry_PGAssessment=\"Count\",Industry_Segment=Database!$T$95),VLOOKUP($C34,Industry_PGCount,Database!$X$44,FALSE),IF(AND(Industry_PGAssessment=\"Count\",Industry_Segment=Database!$Y$95),VLOOKUP($C34,Industry_PGCount,Database!$AC$44,FALSE),IF(AND(Industry_PGAssessment=\"Count\",Industry_Segment=Database!$AD$95),VLOOKUP($C34,Industry_PGCount,Database!$AH$44,FALSE),\n\nIF(AND(Industry_PGAssessment=\"Impact\",Industry_Segment=Database!$O$119),VLOOKUP($C34,Industry_PGImpact,Database!$S$44,FALSE),IF(AND(Industry_PGAssessment=\"Impact\",Industry_Segment=Database!$T$119),VLOOKUP($C34,Industry_PGImpact,Database!$X$44,FALSE),IF(AND(Industry_PGAssessment=\"Impact\",Industry_Segment=Database!$Y$95),VLOOKUP($C34,Industry_PGImpact,Database!$AC$44,FALSE),IF(AND(Industry_PGAssessment=\"Impact\",Industry_Segment=Database!$AD$119),VLOOKUP($C34,Industry_PGImpact,Database!$AH$44,FALSE),\"Check\"))))))))))","v":"-"},null,{"$f":"IF($C34=\"\",\"\",IF(VLOOKUP($C34,PG_Flag,Database!AB$44,FALSE)=\"\",\"-\",\n\nIF(AND(Industry_PGAssessment=\"Count\",Industry_Segment=Database!$O$119),VLOOKUP($C34,Industry_PGCount,Database!$S$44,FALSE),IF(AND(Industry_PGAssessment=\"Count\",Industry_Segment=Database!$T$95),VLOOKUP($C34,Industry_PGCount,Database!$X$44,FALSE),IF(AND(Industry_PGAssessment=\"Count\",Industry_Segment=Database!$Y$95),VLOOKUP($C34,Industry_PGCount,Database!$AC$44,FALSE),IF(AND(Industry_PGAssessment=\"Count\",Industry_Segment=Database!$AD$95),VLOOKUP($C34,Industry_PGCount,Database!$AH$44,FALSE),\n\nIF(AND(Industry_PGAssessment=\"Impact\",Industry_Segment=Database!$O$119),VLOOKUP($C34,Industry_PGImpact,Database!$S$44,FALSE),IF(AND(Industry_PGAssessment=\"Impact\",Industry_Segment=Database!$T$119),VLOOKUP($C34,Industry_PGImpact,Database!$X$44,FALSE),IF(AND(Industry_PGAssessment=\"Impact\",Industry_Segment=Database!$Y$95),VLOOKUP($C34,Industry_PGImpact,Database!$AC$44,FALSE),IF(AND(Industry_PGAssessment=\"Impact\",Industry_Segment=Database!$AD$119),VLOOKUP($C34,Industry_PGImpact,Database!$AH$44,FALSE),\"Check\"))))))))))","v":"-"},null,{"$f":"IF($C34=\"\",\"\",IF(VLOOKUP($C34,PG_Flag,Database!AC$44,FALSE)=\"\",\"-\",\n\nIF(AND(Industry_PGAssessment=\"Count\",Industry_Segment=Database!$O$119),VLOOKUP($C34,Industry_PGCount,Database!$S$44,FALSE),IF(AND(Industry_PGAssessment=\"Count\",Industry_Segment=Database!$T$95),VLOOKUP($C34,Industry_PGCount,Database!$X$44,FALSE),IF(AND(Industry_PGAssessment=\"Count\",Industry_Segment=Database!$Y$95),VLOOKUP($C34,Industry_PGCount,Database!$AC$44,FALSE),IF(AND(Industry_PGAssessment=\"Count\",Industry_Segment=Database!$AD$95),VLOOKUP($C34,Industry_PGCount,Database!$AH$44,FALSE),\n\nIF(AND(Industry_PGAssessment=\"Impact\",Industry_Segment=Database!$O$119),VLOOKUP($C34,Industry_PGImpact,Database!$S$44,FALSE),IF(AND(Industry_PGAssessment=\"Impact\",Industry_Segment=Database!$T$119),VLOOKUP($C34,Industry_PGImpact,Database!$X$44,FALSE),IF(AND(Industry_PGAssessment=\"Impact\",Industry_Segment=Database!$Y$95),VLOOKUP($C34,Industry_PGImpact,Database!$AC$44,FALSE),IF(AND(Industry_PGAssessment=\"Impact\",Industry_Segment=Database!$AD$119),VLOOKUP($C34,Industry_PGImpact,Database!$AH$44,FALSE),\"Check\"))))))))))","v":"-"}]
[null,null,{"$f":"IF(Database!C60=\"\",\"\",Database!C60)","v":"A - Inter-regional SRAs for transmission loops (PEC-MI)"},{"$f":"IF($C35=\"\",\"\",IF(VLOOKUP($C35,PG_Flag,Database!R$44,FALSE)=\"\",\"-\",\n\nIF(AND(Industry_PGAssessment=\"Count\",Industry_Segment=Database!$O$119),VLOOKUP($C35,Industry_PGCount,Database!$S$44,FALSE),IF(AND(Industry_PGAssessment=\"Count\",Industry_Segment=Database!$T$95),VLOOKUP($C35,Industry_PGCount,Database!$X$44,FALSE),IF(AND(Industry_PGAssessment=\"Count\",Industry_Segment=Database!$Y$95),VLOOKUP($C35,Industry_PGCount,Database!$AC$44,FALSE),IF(AND(Industry_PGAssessment=\"Count\",Industry_Segment=Database!$AD$95),VLOOKUP($C35,Industry_PGCount,Database!$AH$44,FALSE),\n\nIF(AND(Industry_PGAssessment=\"Impact\",Industry_Segment=Database!$O$119),VLOOKUP($C35,Industry_PGImpact,Database!$S$44,FALSE),IF(AND(Industry_PGAssessment=\"Impact\",Industry_Segment=Database!$T$119),VLOOKUP($C35,Industry_PGImpact,Database!$X$44,FALSE),IF(AND(Industry_PGAssessment=\"Impact\",Industry_Segment=Database!$Y$95),VLOOKUP($C35,Industry_PGImpact,Database!$AC$44,FALSE),IF(AND(Industry_PGAssessment=\"Impact\",Industry_Segment=Database!$AD$119),VLOOKUP($C35,Industry_PGImpact,Database!$AH$44,FALSE),\"Check\"))))))))))","v":"-"},{"$f":"IF($C35=\"\",\"\",IF(VLOOKUP($C35,PG_Flag,Database!S$44,FALSE)=\"\",\"-\",\n\nIF(AND(Industry_PGAssessment=\"Count\",Industry_Segment=Database!$O$119),VLOOKUP($C35,Industry_PGCount,Database!$S$44,FALSE),IF(AND(Industry_PGAssessment=\"Count\",Industry_Segment=Database!$T$95),VLOOKUP($C35,Industry_PGCount,Database!$X$44,FALSE),IF(AND(Industry_PGAssessment=\"Count\",Industry_Segment=Database!$Y$95),VLOOKUP($C35,Industry_PGCount,Database!$AC$44,FALSE),IF(AND(Industry_PGAssessment=\"Count\",Industry_Segment=Database!$AD$95),VLOOKUP($C35,Industry_PGCount,Database!$AH$44,FALSE),\n\nIF(AND(Industry_PGAssessment=\"Impact\",Industry_Segment=Database!$O$119),VLOOKUP($C35,Industry_PGImpact,Database!$S$44,FALSE),IF(AND(Industry_PGAssessment=\"Impact\",Industry_Segment=Database!$T$119),VLOOKUP($C35,Industry_PGImpact,Database!$X$44,FALSE),IF(AND(Industry_PGAssessment=\"Impact\",Industry_Segment=Database!$Y$95),VLOOKUP($C35,Industry_PGImpact,Database!$AC$44,FALSE),IF(AND(Industry_PGAssessment=\"Impact\",Industry_Segment=Database!$AD$119),VLOOKUP($C35,Industry_PGImpact,Database!$AH$44,FALSE),\"Check\"))))))))))","v":2},{"$f":"IF($C35=\"\",\"\",IF(VLOOKUP($C35,PG_Flag,Database!T$44,FALSE)=\"\",\"-\",\n\nIF(AND(Industry_PGAssessment=\"Count\",Industry_Segment=Database!$O$119),VLOOKUP($C35,Industry_PGCount,Database!$S$44,FALSE),IF(AND(Industry_PGAssessment=\"Count\",Industry_Segment=Database!$T$95),VLOOKUP($C35,Industry_PGCount,Database!$X$44,FALSE),IF(AND(Industry_PGAssessment=\"Count\",Industry_Segment=Database!$Y$95),VLOOKUP($C35,Industry_PGCount,Database!$AC$44,FALSE),IF(AND(Industry_PGAssessment=\"Count\",Industry_Segment=Database!$AD$95),VLOOKUP($C35,Industry_PGCount,Database!$AH$44,FALSE),\n\nIF(AND(Industry_PGAssessment=\"Impact\",Industry_Segment=Database!$O$119),VLOOKUP($C35,Industry_PGImpact,Database!$S$44,FALSE),IF(AND(Industry_PGAssessment=\"Impact\",Industry_Segment=Database!$T$119),VLOOKUP($C35,Industry_PGImpact,Database!$X$44,FALSE),IF(AND(Industry_PGAssessment=\"Impact\",Industry_Segment=Database!$Y$95),VLOOKUP($C35,Industry_PGImpact,Database!$AC$44,FALSE),IF(AND(Industry_PGAssessment=\"Impact\",Industry_Segment=Database!$AD$119),VLOOKUP($C35,Industry_PGImpact,Database!$AH$44,FALSE),\"Check\"))))))))))","v":2},{"$f":"IF($C35=\"\",\"\",IF(VLOOKUP($C35,PG_Flag,Database!U$44,FALSE)=\"\",\"-\",\n\nIF(AND(Industry_PGAssessment=\"Count\",Industry_Segment=Database!$O$119),VLOOKUP($C35,Industry_PGCount,Database!$S$44,FALSE),IF(AND(Industry_PGAssessment=\"Count\",Industry_Segment=Database!$T$95),VLOOKUP($C35,Industry_PGCount,Database!$X$44,FALSE),IF(AND(Industry_PGAssessment=\"Count\",Industry_Segment=Database!$Y$95),VLOOKUP($C35,Industry_PGCount,Database!$AC$44,FALSE),IF(AND(Industry_PGAssessment=\"Count\",Industry_Segment=Database!$AD$95),VLOOKUP($C35,Industry_PGCount,Database!$AH$44,FALSE),\n\nIF(AND(Industry_PGAssessment=\"Impact\",Industry_Segment=Database!$O$119),VLOOKUP($C35,Industry_PGImpact,Database!$S$44,FALSE),IF(AND(Industry_PGAssessment=\"Impact\",Industry_Segment=Database!$T$119),VLOOKUP($C35,Industry_PGImpact,Database!$X$44,FALSE),IF(AND(Industry_PGAssessment=\"Impact\",Industry_Segment=Database!$Y$95),VLOOKUP($C35,Industry_PGImpact,Database!$AC$44,FALSE),IF(AND(Industry_PGAssessment=\"Impact\",Industry_Segment=Database!$AD$119),VLOOKUP($C35,Industry_PGImpact,Database!$AH$44,FALSE),\"Check\"))))))))))","v":2},{"$f":"IF($C35=\"\",\"\",IF(VLOOKUP($C35,PG_Flag,Database!V$44,FALSE)=\"\",\"-\",\n\nIF(AND(Industry_PGAssessment=\"Count\",Industry_Segment=Database!$O$119),VLOOKUP($C35,Industry_PGCount,Database!$S$44,FALSE),IF(AND(Industry_PGAssessment=\"Count\",Industry_Segment=Database!$T$95),VLOOKUP($C35,Industry_PGCount,Database!$X$44,FALSE),IF(AND(Industry_PGAssessment=\"Count\",Industry_Segment=Database!$Y$95),VLOOKUP($C35,Industry_PGCount,Database!$AC$44,FALSE),IF(AND(Industry_PGAssessment=\"Count\",Industry_Segment=Database!$AD$95),VLOOKUP($C35,Industry_PGCount,Database!$AH$44,FALSE),\n\nIF(AND(Industry_PGAssessment=\"Impact\",Industry_Segment=Database!$O$119),VLOOKUP($C35,Industry_PGImpact,Database!$S$44,FALSE),IF(AND(Industry_PGAssessment=\"Impact\",Industry_Segment=Database!$T$119),VLOOKUP($C35,Industry_PGImpact,Database!$X$44,FALSE),IF(AND(Industry_PGAssessment=\"Impact\",Industry_Segment=Database!$Y$95),VLOOKUP($C35,Industry_PGImpact,Database!$AC$44,FALSE),IF(AND(Industry_PGAssessment=\"Impact\",Industry_Segment=Database!$AD$119),VLOOKUP($C35,Industry_PGImpact,Database!$AH$44,FALSE),\"Check\"))))))))))","v":2},{"$f":"IF($C35=\"\",\"\",IF(VLOOKUP($C35,PG_Flag,Database!W$44,FALSE)=\"\",\"-\",\n\nIF(AND(Industry_PGAssessment=\"Count\",Industry_Segment=Database!$O$119),VLOOKUP($C35,Industry_PGCount,Database!$S$44,FALSE),IF(AND(Industry_PGAssessment=\"Count\",Industry_Segment=Database!$T$95),VLOOKUP($C35,Industry_PGCount,Database!$X$44,FALSE),IF(AND(Industry_PGAssessment=\"Count\",Industry_Segment=Database!$Y$95),VLOOKUP($C35,Industry_PGCount,Database!$AC$44,FALSE),IF(AND(Industry_PGAssessment=\"Count\",Industry_Segment=Database!$AD$95),VLOOKUP($C35,Industry_PGCount,Database!$AH$44,FALSE),\n\nIF(AND(Industry_PGAssessment=\"Impact\",Industry_Segment=Database!$O$119),VLOOKUP($C35,Industry_PGImpact,Database!$S$44,FALSE),IF(AND(Industry_PGAssessment=\"Impact\",Industry_Segment=Database!$T$119),VLOOKUP($C35,Industry_PGImpact,Database!$X$44,FALSE),IF(AND(Industry_PGAssessment=\"Impact\",Industry_Segment=Database!$Y$95),VLOOKUP($C35,Industry_PGImpact,Database!$AC$44,FALSE),IF(AND(Industry_PGAssessment=\"Impact\",Industry_Segment=Database!$AD$119),VLOOKUP($C35,Industry_PGImpact,Database!$AH$44,FALSE),\"Check\"))))))))))","v":"-"},{"$f":"IF($C35=\"\",\"\",IF(VLOOKUP($C35,PG_Flag,Database!X$44,FALSE)=\"\",\"-\",\n\nIF(AND(Industry_PGAssessment=\"Count\",Industry_Segment=Database!$O$119),VLOOKUP($C35,Industry_PGCount,Database!$S$44,FALSE),IF(AND(Industry_PGAssessment=\"Count\",Industry_Segment=Database!$T$95),VLOOKUP($C35,Industry_PGCount,Database!$X$44,FALSE),IF(AND(Industry_PGAssessment=\"Count\",Industry_Segment=Database!$Y$95),VLOOKUP($C35,Industry_PGCount,Database!$AC$44,FALSE),IF(AND(Industry_PGAssessment=\"Count\",Industry_Segment=Database!$AD$95),VLOOKUP($C35,Industry_PGCount,Database!$AH$44,FALSE),\n\nIF(AND(Industry_PGAssessment=\"Impact\",Industry_Segment=Database!$O$119),VLOOKUP($C35,Industry_PGImpact,Database!$S$44,FALSE),IF(AND(Industry_PGAssessment=\"Impact\",Industry_Segment=Database!$T$119),VLOOKUP($C35,Industry_PGImpact,Database!$X$44,FALSE),IF(AND(Industry_PGAssessment=\"Impact\",Industry_Segment=Database!$Y$95),VLOOKUP($C35,Industry_PGImpact,Database!$AC$44,FALSE),IF(AND(Industry_PGAssessment=\"Impact\",Industry_Segment=Database!$AD$119),VLOOKUP($C35,Industry_PGImpact,Database!$AH$44,FALSE),\"Check\"))))))))))","v":"-"},{"$f":"IF($C35=\"\",\"\",IF(VLOOKUP($C35,PG_Flag,Database!Y$44,FALSE)=\"\",\"-\",\n\nIF(AND(Industry_PGAssessment=\"Count\",Industry_Segment=Database!$O$119),VLOOKUP($C35,Industry_PGCount,Database!$S$44,FALSE),IF(AND(Industry_PGAssessment=\"Count\",Industry_Segment=Database!$T$95),VLOOKUP($C35,Industry_PGCount,Database!$X$44,FALSE),IF(AND(Industry_PGAssessment=\"Count\",Industry_Segment=Database!$Y$95),VLOOKUP($C35,Industry_PGCount,Database!$AC$44,FALSE),IF(AND(Industry_PGAssessment=\"Count\",Industry_Segment=Database!$AD$95),VLOOKUP($C35,Industry_PGCount,Database!$AH$44,FALSE),\n\nIF(AND(Industry_PGAssessment=\"Impact\",Industry_Segment=Database!$O$119),VLOOKUP($C35,Industry_PGImpact,Database!$S$44,FALSE),IF(AND(Industry_PGAssessment=\"Impact\",Industry_Segment=Database!$T$119),VLOOKUP($C35,Industry_PGImpact,Database!$X$44,FALSE),IF(AND(Industry_PGAssessment=\"Impact\",Industry_Segment=Database!$Y$95),VLOOKUP($C35,Industry_PGImpact,Database!$AC$44,FALSE),IF(AND(Industry_PGAssessment=\"Impact\",Industry_Segment=Database!$AD$119),VLOOKUP($C35,Industry_PGImpact,Database!$AH$44,FALSE),\"Check\"))))))))))","v":"-"},{"$f":"IF($C35=\"\",\"\",IF(VLOOKUP($C35,PG_Flag,Database!Z$44,FALSE)=\"\",\"-\",\n\nIF(AND(Industry_PGAssessment=\"Count\",Industry_Segment=Database!$O$119),VLOOKUP($C35,Industry_PGCount,Database!$S$44,FALSE),IF(AND(Industry_PGAssessment=\"Count\",Industry_Segment=Database!$T$95),VLOOKUP($C35,Industry_PGCount,Database!$X$44,FALSE),IF(AND(Industry_PGAssessment=\"Count\",Industry_Segment=Database!$Y$95),VLOOKUP($C35,Industry_PGCount,Database!$AC$44,FALSE),IF(AND(Industry_PGAssessment=\"Count\",Industry_Segment=Database!$AD$95),VLOOKUP($C35,Industry_PGCount,Database!$AH$44,FALSE),\n\nIF(AND(Industry_PGAssessment=\"Impact\",Industry_Segment=Database!$O$119),VLOOKUP($C35,Industry_PGImpact,Database!$S$44,FALSE),IF(AND(Industry_PGAssessment=\"Impact\",Industry_Segment=Database!$T$119),VLOOKUP($C35,Industry_PGImpact,Database!$X$44,FALSE),IF(AND(Industry_PGAssessment=\"Impact\",Industry_Segment=Database!$Y$95),VLOOKUP($C35,Industry_PGImpact,Database!$AC$44,FALSE),IF(AND(Industry_PGAssessment=\"Impact\",Industry_Segment=Database!$AD$119),VLOOKUP($C35,Industry_PGImpact,Database!$AH$44,FALSE),\"Check\"))))))))))","v":"-"},null,{"$f":"IF($C35=\"\",\"\",IF(VLOOKUP($C35,PG_Flag,Database!AA$44,FALSE)=\"\",\"-\",\n\nIF(AND(Industry_PGAssessment=\"Count\",Industry_Segment=Database!$O$119),VLOOKUP($C35,Industry_PGCount,Database!$S$44,FALSE),IF(AND(Industry_PGAssessment=\"Count\",Industry_Segment=Database!$T$95),VLOOKUP($C35,Industry_PGCount,Database!$X$44,FALSE),IF(AND(Industry_PGAssessment=\"Count\",Industry_Segment=Database!$Y$95),VLOOKUP($C35,Industry_PGCount,Database!$AC$44,FALSE),IF(AND(Industry_PGAssessment=\"Count\",Industry_Segment=Database!$AD$95),VLOOKUP($C35,Industry_PGCount,Database!$AH$44,FALSE),\n\nIF(AND(Industry_PGAssessment=\"Impact\",Industry_Segment=Database!$O$119),VLOOKUP($C35,Industry_PGImpact,Database!$S$44,FALSE),IF(AND(Industry_PGAssessment=\"Impact\",Industry_Segment=Database!$T$119),VLOOKUP($C35,Industry_PGImpact,Database!$X$44,FALSE),IF(AND(Industry_PGAssessment=\"Impact\",Industry_Segment=Database!$Y$95),VLOOKUP($C35,Industry_PGImpact,Database!$AC$44,FALSE),IF(AND(Industry_PGAssessment=\"Impact\",Industry_Segment=Database!$AD$119),VLOOKUP($C35,Industry_PGImpact,Database!$AH$44,FALSE),\"Check\"))))))))))","v":"-"},null,{"$f":"IF($C35=\"\",\"\",IF(VLOOKUP($C35,PG_Flag,Database!AB$44,FALSE)=\"\",\"-\",\n\nIF(AND(Industry_PGAssessment=\"Count\",Industry_Segment=Database!$O$119),VLOOKUP($C35,Industry_PGCount,Database!$S$44,FALSE),IF(AND(Industry_PGAssessment=\"Count\",Industry_Segment=Database!$T$95),VLOOKUP($C35,Industry_PGCount,Database!$X$44,FALSE),IF(AND(Industry_PGAssessment=\"Count\",Industry_Segment=Database!$Y$95),VLOOKUP($C35,Industry_PGCount,Database!$AC$44,FALSE),IF(AND(Industry_PGAssessment=\"Count\",Industry_Segment=Database!$AD$95),VLOOKUP($C35,Industry_PGCount,Database!$AH$44,FALSE),\n\nIF(AND(Industry_PGAssessment=\"Impact\",Industry_Segment=Database!$O$119),VLOOKUP($C35,Industry_PGImpact,Database!$S$44,FALSE),IF(AND(Industry_PGAssessment=\"Impact\",Industry_Segment=Database!$T$119),VLOOKUP($C35,Industry_PGImpact,Database!$X$44,FALSE),IF(AND(Industry_PGAssessment=\"Impact\",Industry_Segment=Database!$Y$95),VLOOKUP($C35,Industry_PGImpact,Database!$AC$44,FALSE),IF(AND(Industry_PGAssessment=\"Impact\",Industry_Segment=Database!$AD$119),VLOOKUP($C35,Industry_PGImpact,Database!$AH$44,FALSE),\"Check\"))))))))))","v":"-"},null,{"$f":"IF($C35=\"\",\"\",IF(VLOOKUP($C35,PG_Flag,Database!AC$44,FALSE)=\"\",\"-\",\n\nIF(AND(Industry_PGAssessment=\"Count\",Industry_Segment=Database!$O$119),VLOOKUP($C35,Industry_PGCount,Database!$S$44,FALSE),IF(AND(Industry_PGAssessment=\"Count\",Industry_Segment=Database!$T$95),VLOOKUP($C35,Industry_PGCount,Database!$X$44,FALSE),IF(AND(Industry_PGAssessment=\"Count\",Industry_Segment=Database!$Y$95),VLOOKUP($C35,Industry_PGCount,Database!$AC$44,FALSE),IF(AND(Industry_PGAssessment=\"Count\",Industry_Segment=Database!$AD$95),VLOOKUP($C35,Industry_PGCount,Database!$AH$44,FALSE),\n\nIF(AND(Industry_PGAssessment=\"Impact\",Industry_Segment=Database!$O$119),VLOOKUP($C35,Industry_PGImpact,Database!$S$44,FALSE),IF(AND(Industry_PGAssessment=\"Impact\",Industry_Segment=Database!$T$119),VLOOKUP($C35,Industry_PGImpact,Database!$X$44,FALSE),IF(AND(Industry_PGAssessment=\"Impact\",Industry_Segment=Database!$Y$95),VLOOKUP($C35,Industry_PGImpact,Database!$AC$44,FALSE),IF(AND(Industry_PGAssessment=\"Impact\",Industry_Segment=Database!$AD$119),VLOOKUP($C35,Industry_PGImpact,Database!$AH$44,FALSE),\"Check\"))))))))))","v":"-"}]
[null,null,{"$f":"IF(Database!C61=\"\",\"\",Database!C61)","v":""},{"$f":"IF($C36=\"\",\"\",IF(VLOOKUP($C36,PG_Flag,Database!R$44,FALSE)=\"\",\"-\",\n\nIF(AND(Industry_PGAssessment=\"Count\",Industry_Segment=Database!$O$119),VLOOKUP($C36,Industry_PGCount,Database!$S$44,FALSE),IF(AND(Industry_PGAssessment=\"Count\",Industry_Segment=Database!$T$95),VLOOKUP($C36,Industry_PGCount,Database!$X$44,FALSE),IF(AND(Industry_PGAssessment=\"Count\",Industry_Segment=Database!$Y$95),VLOOKUP($C36,Industry_PGCount,Database!$AC$44,FALSE),IF(AND(Industry_PGAssessment=\"Count\",Industry_Segment=Database!$AD$95),VLOOKUP($C36,Industry_PGCount,Database!$AH$44,FALSE),\n\nIF(AND(Industry_PGAssessment=\"Impact\",Industry_Segment=Database!$O$119),VLOOKUP($C36,Industry_PGImpact,Database!$S$44,FALSE),IF(AND(Industry_PGAssessment=\"Impact\",Industry_Segment=Database!$T$119),VLOOKUP($C36,Industry_PGImpact,Database!$X$44,FALSE),IF(AND(Industry_PGAssessment=\"Impact\",Industry_Segment=Database!$Y$95),VLOOKUP($C36,Industry_PGImpact,Database!$AC$44,FALSE),IF(AND(Industry_PGAssessment=\"Impact\",Industry_Segment=Database!$AD$119),VLOOKUP($C36,Industry_PGImpact,Database!$AH$44,FALSE),\"Check\"))))))))))","v":""},{"$f":"IF($C36=\"\",\"\",IF(VLOOKUP($C36,PG_Flag,Database!S$44,FALSE)=\"\",\"-\",\n\nIF(AND(Industry_PGAssessment=\"Count\",Industry_Segment=Database!$O$119),VLOOKUP($C36,Industry_PGCount,Database!$S$44,FALSE),IF(AND(Industry_PGAssessment=\"Count\",Industry_Segment=Database!$T$95),VLOOKUP($C36,Industry_PGCount,Database!$X$44,FALSE),IF(AND(Industry_PGAssessment=\"Count\",Industry_Segment=Database!$Y$95),VLOOKUP($C36,Industry_PGCount,Database!$AC$44,FALSE),IF(AND(Industry_PGAssessment=\"Count\",Industry_Segment=Database!$AD$95),VLOOKUP($C36,Industry_PGCount,Database!$AH$44,FALSE),\n\nIF(AND(Industry_PGAssessment=\"Impact\",Industry_Segment=Database!$O$119),VLOOKUP($C36,Industry_PGImpact,Database!$S$44,FALSE),IF(AND(Industry_PGAssessment=\"Impact\",Industry_Segment=Database!$T$119),VLOOKUP($C36,Industry_PGImpact,Database!$X$44,FALSE),IF(AND(Industry_PGAssessment=\"Impact\",Industry_Segment=Database!$Y$95),VLOOKUP($C36,Industry_PGImpact,Database!$AC$44,FALSE),IF(AND(Industry_PGAssessment=\"Impact\",Industry_Segment=Database!$AD$119),VLOOKUP($C36,Industry_PGImpact,Database!$AH$44,FALSE),\"Check\"))))))))))","v":""},{"$f":"IF($C36=\"\",\"\",IF(VLOOKUP($C36,PG_Flag,Database!T$44,FALSE)=\"\",\"-\",\n\nIF(AND(Industry_PGAssessment=\"Count\",Industry_Segment=Database!$O$119),VLOOKUP($C36,Industry_PGCount,Database!$S$44,FALSE),IF(AND(Industry_PGAssessment=\"Count\",Industry_Segment=Database!$T$95),VLOOKUP($C36,Industry_PGCount,Database!$X$44,FALSE),IF(AND(Industry_PGAssessment=\"Count\",Industry_Segment=Database!$Y$95),VLOOKUP($C36,Industry_PGCount,Database!$AC$44,FALSE),IF(AND(Industry_PGAssessment=\"Count\",Industry_Segment=Database!$AD$95),VLOOKUP($C36,Industry_PGCount,Database!$AH$44,FALSE),\n\nIF(AND(Industry_PGAssessment=\"Impact\",Industry_Segment=Database!$O$119),VLOOKUP($C36,Industry_PGImpact,Database!$S$44,FALSE),IF(AND(Industry_PGAssessment=\"Impact\",Industry_Segment=Database!$T$119),VLOOKUP($C36,Industry_PGImpact,Database!$X$44,FALSE),IF(AND(Industry_PGAssessment=\"Impact\",Industry_Segment=Database!$Y$95),VLOOKUP($C36,Industry_PGImpact,Database!$AC$44,FALSE),IF(AND(Industry_PGAssessment=\"Impact\",Industry_Segment=Database!$AD$119),VLOOKUP($C36,Industry_PGImpact,Database!$AH$44,FALSE),\"Check\"))))))))))","v":""},{"$f":"IF($C36=\"\",\"\",IF(VLOOKUP($C36,PG_Flag,Database!U$44,FALSE)=\"\",\"-\",\n\nIF(AND(Industry_PGAssessment=\"Count\",Industry_Segment=Database!$O$119),VLOOKUP($C36,Industry_PGCount,Database!$S$44,FALSE),IF(AND(Industry_PGAssessment=\"Count\",Industry_Segment=Database!$T$95),VLOOKUP($C36,Industry_PGCount,Database!$X$44,FALSE),IF(AND(Industry_PGAssessment=\"Count\",Industry_Segment=Database!$Y$95),VLOOKUP($C36,Industry_PGCount,Database!$AC$44,FALSE),IF(AND(Industry_PGAssessment=\"Count\",Industry_Segment=Database!$AD$95),VLOOKUP($C36,Industry_PGCount,Database!$AH$44,FALSE),\n\nIF(AND(Industry_PGAssessment=\"Impact\",Industry_Segment=Database!$O$119),VLOOKUP($C36,Industry_PGImpact,Database!$S$44,FALSE),IF(AND(Industry_PGAssessment=\"Impact\",Industry_Segment=Database!$T$119),VLOOKUP($C36,Industry_PGImpact,Database!$X$44,FALSE),IF(AND(Industry_PGAssessment=\"Impact\",Industry_Segment=Database!$Y$95),VLOOKUP($C36,Industry_PGImpact,Database!$AC$44,FALSE),IF(AND(Industry_PGAssessment=\"Impact\",Industry_Segment=Database!$AD$119),VLOOKUP($C36,Industry_PGImpact,Database!$AH$44,FALSE),\"Check\"))))))))))","v":""},{"$f":"IF($C36=\"\",\"\",IF(VLOOKUP($C36,PG_Flag,Database!V$44,FALSE)=\"\",\"-\",\n\nIF(AND(Industry_PGAssessment=\"Count\",Industry_Segment=Database!$O$119),VLOOKUP($C36,Industry_PGCount,Database!$S$44,FALSE),IF(AND(Industry_PGAssessment=\"Count\",Industry_Segment=Database!$T$95),VLOOKUP($C36,Industry_PGCount,Database!$X$44,FALSE),IF(AND(Industry_PGAssessment=\"Count\",Industry_Segment=Database!$Y$95),VLOOKUP($C36,Industry_PGCount,Database!$AC$44,FALSE),IF(AND(Industry_PGAssessment=\"Count\",Industry_Segment=Database!$AD$95),VLOOKUP($C36,Industry_PGCount,Database!$AH$44,FALSE),\n\nIF(AND(Industry_PGAssessment=\"Impact\",Industry_Segment=Database!$O$119),VLOOKUP($C36,Industry_PGImpact,Database!$S$44,FALSE),IF(AND(Industry_PGAssessment=\"Impact\",Industry_Segment=Database!$T$119),VLOOKUP($C36,Industry_PGImpact,Database!$X$44,FALSE),IF(AND(Industry_PGAssessment=\"Impact\",Industry_Segment=Database!$Y$95),VLOOKUP($C36,Industry_PGImpact,Database!$AC$44,FALSE),IF(AND(Industry_PGAssessment=\"Impact\",Industry_Segment=Database!$AD$119),VLOOKUP($C36,Industry_PGImpact,Database!$AH$44,FALSE),\"Check\"))))))))))","v":""},{"$f":"IF($C36=\"\",\"\",IF(VLOOKUP($C36,PG_Flag,Database!W$44,FALSE)=\"\",\"-\",\n\nIF(AND(Industry_PGAssessment=\"Count\",Industry_Segment=Database!$O$119),VLOOKUP($C36,Industry_PGCount,Database!$S$44,FALSE),IF(AND(Industry_PGAssessment=\"Count\",Industry_Segment=Database!$T$95),VLOOKUP($C36,Industry_PGCount,Database!$X$44,FALSE),IF(AND(Industry_PGAssessment=\"Count\",Industry_Segment=Database!$Y$95),VLOOKUP($C36,Industry_PGCount,Database!$AC$44,FALSE),IF(AND(Industry_PGAssessment=\"Count\",Industry_Segment=Database!$AD$95),VLOOKUP($C36,Industry_PGCount,Database!$AH$44,FALSE),\n\nIF(AND(Industry_PGAssessment=\"Impact\",Industry_Segment=Database!$O$119),VLOOKUP($C36,Industry_PGImpact,Database!$S$44,FALSE),IF(AND(Industry_PGAssessment=\"Impact\",Industry_Segment=Database!$T$119),VLOOKUP($C36,Industry_PGImpact,Database!$X$44,FALSE),IF(AND(Industry_PGAssessment=\"Impact\",Industry_Segment=Database!$Y$95),VLOOKUP($C36,Industry_PGImpact,Database!$AC$44,FALSE),IF(AND(Industry_PGAssessment=\"Impact\",Industry_Segment=Database!$AD$119),VLOOKUP($C36,Industry_PGImpact,Database!$AH$44,FALSE),\"Check\"))))))))))","v":""},{"$f":"IF($C36=\"\",\"\",IF(VLOOKUP($C36,PG_Flag,Database!X$44,FALSE)=\"\",\"-\",\n\nIF(AND(Industry_PGAssessment=\"Count\",Industry_Segment=Database!$O$119),VLOOKUP($C36,Industry_PGCount,Database!$S$44,FALSE),IF(AND(Industry_PGAssessment=\"Count\",Industry_Segment=Database!$T$95),VLOOKUP($C36,Industry_PGCount,Database!$X$44,FALSE),IF(AND(Industry_PGAssessment=\"Count\",Industry_Segment=Database!$Y$95),VLOOKUP($C36,Industry_PGCount,Database!$AC$44,FALSE),IF(AND(Industry_PGAssessment=\"Count\",Industry_Segment=Database!$AD$95),VLOOKUP($C36,Industry_PGCount,Database!$AH$44,FALSE),\n\nIF(AND(Industry_PGAssessment=\"Impact\",Industry_Segment=Database!$O$119),VLOOKUP($C36,Industry_PGImpact,Database!$S$44,FALSE),IF(AND(Industry_PGAssessment=\"Impact\",Industry_Segment=Database!$T$119),VLOOKUP($C36,Industry_PGImpact,Database!$X$44,FALSE),IF(AND(Industry_PGAssessment=\"Impact\",Industry_Segment=Database!$Y$95),VLOOKUP($C36,Industry_PGImpact,Database!$AC$44,FALSE),IF(AND(Industry_PGAssessment=\"Impact\",Industry_Segment=Database!$AD$119),VLOOKUP($C36,Industry_PGImpact,Database!$AH$44,FALSE),\"Check\"))))))))))","v":""},{"$f":"IF($C36=\"\",\"\",IF(VLOOKUP($C36,PG_Flag,Database!Y$44,FALSE)=\"\",\"-\",\n\nIF(AND(Industry_PGAssessment=\"Count\",Industry_Segment=Database!$O$119),VLOOKUP($C36,Industry_PGCount,Database!$S$44,FALSE),IF(AND(Industry_PGAssessment=\"Count\",Industry_Segment=Database!$T$95),VLOOKUP($C36,Industry_PGCount,Database!$X$44,FALSE),IF(AND(Industry_PGAssessment=\"Count\",Industry_Segment=Database!$Y$95),VLOOKUP($C36,Industry_PGCount,Database!$AC$44,FALSE),IF(AND(Industry_PGAssessment=\"Count\",Industry_Segment=Database!$AD$95),VLOOKUP($C36,Industry_PGCount,Database!$AH$44,FALSE),\n\nIF(AND(Industry_PGAssessment=\"Impact\",Industry_Segment=Database!$O$119),VLOOKUP($C36,Industry_PGImpact,Database!$S$44,FALSE),IF(AND(Industry_PGAssessment=\"Impact\",Industry_Segment=Database!$T$119),VLOOKUP($C36,Industry_PGImpact,Database!$X$44,FALSE),IF(AND(Industry_PGAssessment=\"Impact\",Industry_Segment=Database!$Y$95),VLOOKUP($C36,Industry_PGImpact,Database!$AC$44,FALSE),IF(AND(Industry_PGAssessment=\"Impact\",Industry_Segment=Database!$AD$119),VLOOKUP($C36,Industry_PGImpact,Database!$AH$44,FALSE),\"Check\"))))))))))","v":""},{"$f":"IF($C36=\"\",\"\",IF(VLOOKUP($C36,PG_Flag,Database!Z$44,FALSE)=\"\",\"-\",\n\nIF(AND(Industry_PGAssessment=\"Count\",Industry_Segment=Database!$O$119),VLOOKUP($C36,Industry_PGCount,Database!$S$44,FALSE),IF(AND(Industry_PGAssessment=\"Count\",Industry_Segment=Database!$T$95),VLOOKUP($C36,Industry_PGCount,Database!$X$44,FALSE),IF(AND(Industry_PGAssessment=\"Count\",Industry_Segment=Database!$Y$95),VLOOKUP($C36,Industry_PGCount,Database!$AC$44,FALSE),IF(AND(Industry_PGAssessment=\"Count\",Industry_Segment=Database!$AD$95),VLOOKUP($C36,Industry_PGCount,Database!$AH$44,FALSE),\n\nIF(AND(Industry_PGAssessment=\"Impact\",Industry_Segment=Database!$O$119),VLOOKUP($C36,Industry_PGImpact,Database!$S$44,FALSE),IF(AND(Industry_PGAssessment=\"Impact\",Industry_Segment=Database!$T$119),VLOOKUP($C36,Industry_PGImpact,Database!$X$44,FALSE),IF(AND(Industry_PGAssessment=\"Impact\",Industry_Segment=Database!$Y$95),VLOOKUP($C36,Industry_PGImpact,Database!$AC$44,FALSE),IF(AND(Industry_PGAssessment=\"Impact\",Industry_Segment=Database!$AD$119),VLOOKUP($C36,Industry_PGImpact,Database!$AH$44,FALSE),\"Check\"))))))))))","v":""},null,{"$f":"IF($C36=\"\",\"\",IF(VLOOKUP($C36,PG_Flag,Database!AA$44,FALSE)=\"\",\"-\",\n\nIF(AND(Industry_PGAssessment=\"Count\",Industry_Segment=Database!$O$119),VLOOKUP($C36,Industry_PGCount,Database!$S$44,FALSE),IF(AND(Industry_PGAssessment=\"Count\",Industry_Segment=Database!$T$95),VLOOKUP($C36,Industry_PGCount,Database!$X$44,FALSE),IF(AND(Industry_PGAssessment=\"Count\",Industry_Segment=Database!$Y$95),VLOOKUP($C36,Industry_PGCount,Database!$AC$44,FALSE),IF(AND(Industry_PGAssessment=\"Count\",Industry_Segment=Database!$AD$95),VLOOKUP($C36,Industry_PGCount,Database!$AH$44,FALSE),\n\nIF(AND(Industry_PGAssessment=\"Impact\",Industry_Segment=Database!$O$119),VLOOKUP($C36,Industry_PGImpact,Database!$S$44,FALSE),IF(AND(Industry_PGAssessment=\"Impact\",Industry_Segment=Database!$T$119),VLOOKUP($C36,Industry_PGImpact,Database!$X$44,FALSE),IF(AND(Industry_PGAssessment=\"Impact\",Industry_Segment=Database!$Y$95),VLOOKUP($C36,Industry_PGImpact,Database!$AC$44,FALSE),IF(AND(Industry_PGAssessment=\"Impact\",Industry_Segment=Database!$AD$119),VLOOKUP($C36,Industry_PGImpact,Database!$AH$44,FALSE),\"Check\"))))))))))","v":""},null,{"$f":"IF($C36=\"\",\"\",IF(VLOOKUP($C36,PG_Flag,Database!AB$44,FALSE)=\"\",\"-\",\n\nIF(AND(Industry_PGAssessment=\"Count\",Industry_Segment=Database!$O$119),VLOOKUP($C36,Industry_PGCount,Database!$S$44,FALSE),IF(AND(Industry_PGAssessment=\"Count\",Industry_Segment=Database!$T$95),VLOOKUP($C36,Industry_PGCount,Database!$X$44,FALSE),IF(AND(Industry_PGAssessment=\"Count\",Industry_Segment=Database!$Y$95),VLOOKUP($C36,Industry_PGCount,Database!$AC$44,FALSE),IF(AND(Industry_PGAssessment=\"Count\",Industry_Segment=Database!$AD$95),VLOOKUP($C36,Industry_PGCount,Database!$AH$44,FALSE),\n\nIF(AND(Industry_PGAssessment=\"Impact\",Industry_Segment=Database!$O$119),VLOOKUP($C36,Industry_PGImpact,Database!$S$44,FALSE),IF(AND(Industry_PGAssessment=\"Impact\",Industry_Segment=Database!$T$119),VLOOKUP($C36,Industry_PGImpact,Database!$X$44,FALSE),IF(AND(Industry_PGAssessment=\"Impact\",Industry_Segment=Database!$Y$95),VLOOKUP($C36,Industry_PGImpact,Database!$AC$44,FALSE),IF(AND(Industry_PGAssessment=\"Impact\",Industry_Segment=Database!$AD$119),VLOOKUP($C36,Industry_PGImpact,Database!$AH$44,FALSE),\"Check\"))))))))))","v":""},null,{"$f":"IF($C36=\"\",\"\",IF(VLOOKUP($C36,PG_Flag,Database!AC$44,FALSE)=\"\",\"-\",\n\nIF(AND(Industry_PGAssessment=\"Count\",Industry_Segment=Database!$O$119),VLOOKUP($C36,Industry_PGCount,Database!$S$44,FALSE),IF(AND(Industry_PGAssessment=\"Count\",Industry_Segment=Database!$T$95),VLOOKUP($C36,Industry_PGCount,Database!$X$44,FALSE),IF(AND(Industry_PGAssessment=\"Count\",Industry_Segment=Database!$Y$95),VLOOKUP($C36,Industry_PGCount,Database!$AC$44,FALSE),IF(AND(Industry_PGAssessment=\"Count\",Industry_Segment=Database!$AD$95),VLOOKUP($C36,Industry_PGCount,Database!$AH$44,FALSE),\n\nIF(AND(Industry_PGAssessment=\"Impact\",Industry_Segment=Database!$O$119),VLOOKUP($C36,Industry_PGImpact,Database!$S$44,FALSE),IF(AND(Industry_PGAssessment=\"Impact\",Industry_Segment=Database!$T$119),VLOOKUP($C36,Industry_PGImpact,Database!$X$44,FALSE),IF(AND(Industry_PGAssessment=\"Impact\",Industry_Segment=Database!$Y$95),VLOOKUP($C36,Industry_PGImpact,Database!$AC$44,FALSE),IF(AND(Industry_PGAssessment=\"Impact\",Industry_Segment=Database!$AD$119),VLOOKUP($C36,Industry_PGImpact,Database!$AH$44,FALSE),\"Check\"))))))))))","v":""}]
[null,null,{"$f":"IF(Database!C62=\"\",\"\",Database!C62)","v":""},{"$f":"IF($C37=\"\",\"\",IF(VLOOKUP($C37,PG_Flag,Database!R$44,FALSE)=\"\",\"-\",\n\nIF(AND(Industry_PGAssessment=\"Count\",Industry_Segment=Database!$O$119),VLOOKUP($C37,Industry_PGCount,Database!$S$44,FALSE),IF(AND(Industry_PGAssessment=\"Count\",Industry_Segment=Database!$T$95),VLOOKUP($C37,Industry_PGCount,Database!$X$44,FALSE),IF(AND(Industry_PGAssessment=\"Count\",Industry_Segment=Database!$Y$95),VLOOKUP($C37,Industry_PGCount,Database!$AC$44,FALSE),IF(AND(Industry_PGAssessment=\"Count\",Industry_Segment=Database!$AD$95),VLOOKUP($C37,Industry_PGCount,Database!$AH$44,FALSE),\n\nIF(AND(Industry_PGAssessment=\"Impact\",Industry_Segment=Database!$O$119),VLOOKUP($C37,Industry_PGImpact,Database!$S$44,FALSE),IF(AND(Industry_PGAssessment=\"Impact\",Industry_Segment=Database!$T$119),VLOOKUP($C37,Industry_PGImpact,Database!$X$44,FALSE),IF(AND(Industry_PGAssessment=\"Impact\",Industry_Segment=Database!$Y$95),VLOOKUP($C37,Industry_PGImpact,Database!$AC$44,FALSE),IF(AND(Industry_PGAssessment=\"Impact\",Industry_Segment=Database!$AD$119),VLOOKUP($C37,Industry_PGImpact,Database!$AH$44,FALSE),\"Check\"))))))))))","v":""},{"$f":"IF($C37=\"\",\"\",IF(VLOOKUP($C37,PG_Flag,Database!S$44,FALSE)=\"\",\"-\",\n\nIF(AND(Industry_PGAssessment=\"Count\",Industry_Segment=Database!$O$119),VLOOKUP($C37,Industry_PGCount,Database!$S$44,FALSE),IF(AND(Industry_PGAssessment=\"Count\",Industry_Segment=Database!$T$95),VLOOKUP($C37,Industry_PGCount,Database!$X$44,FALSE),IF(AND(Industry_PGAssessment=\"Count\",Industry_Segment=Database!$Y$95),VLOOKUP($C37,Industry_PGCount,Database!$AC$44,FALSE),IF(AND(Industry_PGAssessment=\"Count\",Industry_Segment=Database!$AD$95),VLOOKUP($C37,Industry_PGCount,Database!$AH$44,FALSE),\n\nIF(AND(Industry_PGAssessment=\"Impact\",Industry_Segment=Database!$O$119),VLOOKUP($C37,Industry_PGImpact,Database!$S$44,FALSE),IF(AND(Industry_PGAssessment=\"Impact\",Industry_Segment=Database!$T$119),VLOOKUP($C37,Industry_PGImpact,Database!$X$44,FALSE),IF(AND(Industry_PGAssessment=\"Impact\",Industry_Segment=Database!$Y$95),VLOOKUP($C37,Industry_PGImpact,Database!$AC$44,FALSE),IF(AND(Industry_PGAssessment=\"Impact\",Industry_Segment=Database!$AD$119),VLOOKUP($C37,Industry_PGImpact,Database!$AH$44,FALSE),\"Check\"))))))))))","v":""},{"$f":"IF($C37=\"\",\"\",IF(VLOOKUP($C37,PG_Flag,Database!T$44,FALSE)=\"\",\"-\",\n\nIF(AND(Industry_PGAssessment=\"Count\",Industry_Segment=Database!$O$119),VLOOKUP($C37,Industry_PGCount,Database!$S$44,FALSE),IF(AND(Industry_PGAssessment=\"Count\",Industry_Segment=Database!$T$95),VLOOKUP($C37,Industry_PGCount,Database!$X$44,FALSE),IF(AND(Industry_PGAssessment=\"Count\",Industry_Segment=Database!$Y$95),VLOOKUP($C37,Industry_PGCount,Database!$AC$44,FALSE),IF(AND(Industry_PGAssessment=\"Count\",Industry_Segment=Database!$AD$95),VLOOKUP($C37,Industry_PGCount,Database!$AH$44,FALSE),\n\nIF(AND(Industry_PGAssessment=\"Impact\",Industry_Segment=Database!$O$119),VLOOKUP($C37,Industry_PGImpact,Database!$S$44,FALSE),IF(AND(Industry_PGAssessment=\"Impact\",Industry_Segment=Database!$T$119),VLOOKUP($C37,Industry_PGImpact,Database!$X$44,FALSE),IF(AND(Industry_PGAssessment=\"Impact\",Industry_Segment=Database!$Y$95),VLOOKUP($C37,Industry_PGImpact,Database!$AC$44,FALSE),IF(AND(Industry_PGAssessment=\"Impact\",Industry_Segment=Database!$AD$119),VLOOKUP($C37,Industry_PGImpact,Database!$AH$44,FALSE),\"Check\"))))))))))","v":""},{"$f":"IF($C37=\"\",\"\",IF(VLOOKUP($C37,PG_Flag,Database!U$44,FALSE)=\"\",\"-\",\n\nIF(AND(Industry_PGAssessment=\"Count\",Industry_Segment=Database!$O$119),VLOOKUP($C37,Industry_PGCount,Database!$S$44,FALSE),IF(AND(Industry_PGAssessment=\"Count\",Industry_Segment=Database!$T$95),VLOOKUP($C37,Industry_PGCount,Database!$X$44,FALSE),IF(AND(Industry_PGAssessment=\"Count\",Industry_Segment=Database!$Y$95),VLOOKUP($C37,Industry_PGCount,Database!$AC$44,FALSE),IF(AND(Industry_PGAssessment=\"Count\",Industry_Segment=Database!$AD$95),VLOOKUP($C37,Industry_PGCount,Database!$AH$44,FALSE),\n\nIF(AND(Industry_PGAssessment=\"Impact\",Industry_Segment=Database!$O$119),VLOOKUP($C37,Industry_PGImpact,Database!$S$44,FALSE),IF(AND(Industry_PGAssessment=\"Impact\",Industry_Segment=Database!$T$119),VLOOKUP($C37,Industry_PGImpact,Database!$X$44,FALSE),IF(AND(Industry_PGAssessment=\"Impact\",Industry_Segment=Database!$Y$95),VLOOKUP($C37,Industry_PGImpact,Database!$AC$44,FALSE),IF(AND(Industry_PGAssessment=\"Impact\",Industry_Segment=Database!$AD$119),VLOOKUP($C37,Industry_PGImpact,Database!$AH$44,FALSE),\"Check\"))))))))))","v":""},{"$f":"IF($C37=\"\",\"\",IF(VLOOKUP($C37,PG_Flag,Database!V$44,FALSE)=\"\",\"-\",\n\nIF(AND(Industry_PGAssessment=\"Count\",Industry_Segment=Database!$O$119),VLOOKUP($C37,Industry_PGCount,Database!$S$44,FALSE),IF(AND(Industry_PGAssessment=\"Count\",Industry_Segment=Database!$T$95),VLOOKUP($C37,Industry_PGCount,Database!$X$44,FALSE),IF(AND(Industry_PGAssessment=\"Count\",Industry_Segment=Database!$Y$95),VLOOKUP($C37,Industry_PGCount,Database!$AC$44,FALSE),IF(AND(Industry_PGAssessment=\"Count\",Industry_Segment=Database!$AD$95),VLOOKUP($C37,Industry_PGCount,Database!$AH$44,FALSE),\n\nIF(AND(Industry_PGAssessment=\"Impact\",Industry_Segment=Database!$O$119),VLOOKUP($C37,Industry_PGImpact,Database!$S$44,FALSE),IF(AND(Industry_PGAssessment=\"Impact\",Industry_Segment=Database!$T$119),VLOOKUP($C37,Industry_PGImpact,Database!$X$44,FALSE),IF(AND(Industry_PGAssessment=\"Impact\",Industry_Segment=Database!$Y$95),VLOOKUP($C37,Industry_PGImpact,Database!$AC$44,FALSE),IF(AND(Industry_PGAssessment=\"Impact\",Industry_Segment=Database!$AD$119),VLOOKUP($C37,Industry_PGImpact,Database!$AH$44,FALSE),\"Check\"))))))))))","v":""},{"$f":"IF($C37=\"\",\"\",IF(VLOOKUP($C37,PG_Flag,Database!W$44,FALSE)=\"\",\"-\",\n\nIF(AND(Industry_PGAssessment=\"Count\",Industry_Segment=Database!$O$119),VLOOKUP($C37,Industry_PGCount,Database!$S$44,FALSE),IF(AND(Industry_PGAssessment=\"Count\",Industry_Segment=Database!$T$95),VLOOKUP($C37,Industry_PGCount,Database!$X$44,FALSE),IF(AND(Industry_PGAssessment=\"Count\",Industry_Segment=Database!$Y$95),VLOOKUP($C37,Industry_PGCount,Database!$AC$44,FALSE),IF(AND(Industry_PGAssessment=\"Count\",Industry_Segment=Database!$AD$95),VLOOKUP($C37,Industry_PGCount,Database!$AH$44,FALSE),\n\nIF(AND(Industry_PGAssessment=\"Impact\",Industry_Segment=Database!$O$119),VLOOKUP($C37,Industry_PGImpact,Database!$S$44,FALSE),IF(AND(Industry_PGAssessment=\"Impact\",Industry_Segment=Database!$T$119),VLOOKUP($C37,Industry_PGImpact,Database!$X$44,FALSE),IF(AND(Industry_PGAssessment=\"Impact\",Industry_Segment=Database!$Y$95),VLOOKUP($C37,Industry_PGImpact,Database!$AC$44,FALSE),IF(AND(Industry_PGAssessment=\"Impact\",Industry_Segment=Database!$AD$119),VLOOKUP($C37,Industry_PGImpact,Database!$AH$44,FALSE),\"Check\"))))))))))","v":""},{"$f":"IF($C37=\"\",\"\",IF(VLOOKUP($C37,PG_Flag,Database!X$44,FALSE)=\"\",\"-\",\n\nIF(AND(Industry_PGAssessment=\"Count\",Industry_Segment=Database!$O$119),VLOOKUP($C37,Industry_PGCount,Database!$S$44,FALSE),IF(AND(Industry_PGAssessment=\"Count\",Industry_Segment=Database!$T$95),VLOOKUP($C37,Industry_PGCount,Database!$X$44,FALSE),IF(AND(Industry_PGAssessment=\"Count\",Industry_Segment=Database!$Y$95),VLOOKUP($C37,Industry_PGCount,Database!$AC$44,FALSE),IF(AND(Industry_PGAssessment=\"Count\",Industry_Segment=Database!$AD$95),VLOOKUP($C37,Industry_PGCount,Database!$AH$44,FALSE),\n\nIF(AND(Industry_PGAssessment=\"Impact\",Industry_Segment=Database!$O$119),VLOOKUP($C37,Industry_PGImpact,Database!$S$44,FALSE),IF(AND(Industry_PGAssessment=\"Impact\",Industry_Segment=Database!$T$119),VLOOKUP($C37,Industry_PGImpact,Database!$X$44,FALSE),IF(AND(Industry_PGAssessment=\"Impact\",Industry_Segment=Database!$Y$95),VLOOKUP($C37,Industry_PGImpact,Database!$AC$44,FALSE),IF(AND(Industry_PGAssessment=\"Impact\",Industry_Segment=Database!$AD$119),VLOOKUP($C37,Industry_PGImpact,Database!$AH$44,FALSE),\"Check\"))))))))))","v":""},{"$f":"IF($C37=\"\",\"\",IF(VLOOKUP($C37,PG_Flag,Database!Y$44,FALSE)=\"\",\"-\",\n\nIF(AND(Industry_PGAssessment=\"Count\",Industry_Segment=Database!$O$119),VLOOKUP($C37,Industry_PGCount,Database!$S$44,FALSE),IF(AND(Industry_PGAssessment=\"Count\",Industry_Segment=Database!$T$95),VLOOKUP($C37,Industry_PGCount,Database!$X$44,FALSE),IF(AND(Industry_PGAssessment=\"Count\",Industry_Segment=Database!$Y$95),VLOOKUP($C37,Industry_PGCount,Database!$AC$44,FALSE),IF(AND(Industry_PGAssessment=\"Count\",Industry_Segment=Database!$AD$95),VLOOKUP($C37,Industry_PGCount,Database!$AH$44,FALSE),\n\nIF(AND(Industry_PGAssessment=\"Impact\",Industry_Segment=Database!$O$119),VLOOKUP($C37,Industry_PGImpact,Database!$S$44,FALSE),IF(AND(Industry_PGAssessment=\"Impact\",Industry_Segment=Database!$T$119),VLOOKUP($C37,Industry_PGImpact,Database!$X$44,FALSE),IF(AND(Industry_PGAssessment=\"Impact\",Industry_Segment=Database!$Y$95),VLOOKUP($C37,Industry_PGImpact,Database!$AC$44,FALSE),IF(AND(Industry_PGAssessment=\"Impact\",Industry_Segment=Database!$AD$119),VLOOKUP($C37,Industry_PGImpact,Database!$AH$44,FALSE),\"Check\"))))))))))","v":""},{"$f":"IF($C37=\"\",\"\",IF(VLOOKUP($C37,PG_Flag,Database!Z$44,FALSE)=\"\",\"-\",\n\nIF(AND(Industry_PGAssessment=\"Count\",Industry_Segment=Database!$O$119),VLOOKUP($C37,Industry_PGCount,Database!$S$44,FALSE),IF(AND(Industry_PGAssessment=\"Count\",Industry_Segment=Database!$T$95),VLOOKUP($C37,Industry_PGCount,Database!$X$44,FALSE),IF(AND(Industry_PGAssessment=\"Count\",Industry_Segment=Database!$Y$95),VLOOKUP($C37,Industry_PGCount,Database!$AC$44,FALSE),IF(AND(Industry_PGAssessment=\"Count\",Industry_Segment=Database!$AD$95),VLOOKUP($C37,Industry_PGCount,Database!$AH$44,FALSE),\n\nIF(AND(Industry_PGAssessment=\"Impact\",Industry_Segment=Database!$O$119),VLOOKUP($C37,Industry_PGImpact,Database!$S$44,FALSE),IF(AND(Industry_PGAssessment=\"Impact\",Industry_Segment=Database!$T$119),VLOOKUP($C37,Industry_PGImpact,Database!$X$44,FALSE),IF(AND(Industry_PGAssessment=\"Impact\",Industry_Segment=Database!$Y$95),VLOOKUP($C37,Industry_PGImpact,Database!$AC$44,FALSE),IF(AND(Industry_PGAssessment=\"Impact\",Industry_Segment=Database!$AD$119),VLOOKUP($C37,Industry_PGImpact,Database!$AH$44,FALSE),\"Check\"))))))))))","v":""},null,{"$f":"IF($C37=\"\",\"\",IF(VLOOKUP($C37,PG_Flag,Database!AA$44,FALSE)=\"\",\"-\",\n\nIF(AND(Industry_PGAssessment=\"Count\",Industry_Segment=Database!$O$119),VLOOKUP($C37,Industry_PGCount,Database!$S$44,FALSE),IF(AND(Industry_PGAssessment=\"Count\",Industry_Segment=Database!$T$95),VLOOKUP($C37,Industry_PGCount,Database!$X$44,FALSE),IF(AND(Industry_PGAssessment=\"Count\",Industry_Segment=Database!$Y$95),VLOOKUP($C37,Industry_PGCount,Database!$AC$44,FALSE),IF(AND(Industry_PGAssessment=\"Count\",Industry_Segment=Database!$AD$95),VLOOKUP($C37,Industry_PGCount,Database!$AH$44,FALSE),\n\nIF(AND(Industry_PGAssessment=\"Impact\",Industry_Segment=Database!$O$119),VLOOKUP($C37,Industry_PGImpact,Database!$S$44,FALSE),IF(AND(Industry_PGAssessment=\"Impact\",Industry_Segment=Database!$T$119),VLOOKUP($C37,Industry_PGImpact,Database!$X$44,FALSE),IF(AND(Industry_PGAssessment=\"Impact\",Industry_Segment=Database!$Y$95),VLOOKUP($C37,Industry_PGImpact,Database!$AC$44,FALSE),IF(AND(Industry_PGAssessment=\"Impact\",Industry_Segment=Database!$AD$119),VLOOKUP($C37,Industry_PGImpact,Database!$AH$44,FALSE),\"Check\"))))))))))","v":""},null,{"$f":"IF($C37=\"\",\"\",IF(VLOOKUP($C37,PG_Flag,Database!AB$44,FALSE)=\"\",\"-\",\n\nIF(AND(Industry_PGAssessment=\"Count\",Industry_Segment=Database!$O$119),VLOOKUP($C37,Industry_PGCount,Database!$S$44,FALSE),IF(AND(Industry_PGAssessment=\"Count\",Industry_Segment=Database!$T$95),VLOOKUP($C37,Industry_PGCount,Database!$X$44,FALSE),IF(AND(Industry_PGAssessment=\"Count\",Industry_Segment=Database!$Y$95),VLOOKUP($C37,Industry_PGCount,Database!$AC$44,FALSE),IF(AND(Industry_PGAssessment=\"Count\",Industry_Segment=Database!$AD$95),VLOOKUP($C37,Industry_PGCount,Database!$AH$44,FALSE),\n\nIF(AND(Industry_PGAssessment=\"Impact\",Industry_Segment=Database!$O$119),VLOOKUP($C37,Industry_PGImpact,Database!$S$44,FALSE),IF(AND(Industry_PGAssessment=\"Impact\",Industry_Segment=Database!$T$119),VLOOKUP($C37,Industry_PGImpact,Database!$X$44,FALSE),IF(AND(Industry_PGAssessment=\"Impact\",Industry_Segment=Database!$Y$95),VLOOKUP($C37,Industry_PGImpact,Database!$AC$44,FALSE),IF(AND(Industry_PGAssessment=\"Impact\",Industry_Segment=Database!$AD$119),VLOOKUP($C37,Industry_PGImpact,Database!$AH$44,FALSE),\"Check\"))))))))))","v":""},null,{"$f":"IF($C37=\"\",\"\",IF(VLOOKUP($C37,PG_Flag,Database!AC$44,FALSE)=\"\",\"-\",\n\nIF(AND(Industry_PGAssessment=\"Count\",Industry_Segment=Database!$O$119),VLOOKUP($C37,Industry_PGCount,Database!$S$44,FALSE),IF(AND(Industry_PGAssessment=\"Count\",Industry_Segment=Database!$T$95),VLOOKUP($C37,Industry_PGCount,Database!$X$44,FALSE),IF(AND(Industry_PGAssessment=\"Count\",Industry_Segment=Database!$Y$95),VLOOKUP($C37,Industry_PGCount,Database!$AC$44,FALSE),IF(AND(Industry_PGAssessment=\"Count\",Industry_Segment=Database!$AD$95),VLOOKUP($C37,Industry_PGCount,Database!$AH$44,FALSE),\n\nIF(AND(Industry_PGAssessment=\"Impact\",Industry_Segment=Database!$O$119),VLOOKUP($C37,Industry_PGImpact,Database!$S$44,FALSE),IF(AND(Industry_PGAssessment=\"Impact\",Industry_Segment=Database!$T$119),VLOOKUP($C37,Industry_PGImpact,Database!$X$44,FALSE),IF(AND(Industry_PGAssessment=\"Impact\",Industry_Segment=Database!$Y$95),VLOOKUP($C37,Industry_PGImpact,Database!$AC$44,FALSE),IF(AND(Industry_PGAssessment=\"Impact\",Industry_Segment=Database!$AD$119),VLOOKUP($C37,Industry_PGImpact,Database!$AH$44,FALSE),\"Check\"))))))))))","v":""}]
[null,null,{"$f":"IF(Database!C63=\"\",\"\",Database!C63)","v":""},{"$f":"IF($C38=\"\",\"\",IF(VLOOKUP($C38,PG_Flag,Database!R$44,FALSE)=\"\",\"-\",\n\nIF(AND(Industry_PGAssessment=\"Count\",Industry_Segment=Database!$O$119),VLOOKUP($C38,Industry_PGCount,Database!$S$44,FALSE),IF(AND(Industry_PGAssessment=\"Count\",Industry_Segment=Database!$T$95),VLOOKUP($C38,Industry_PGCount,Database!$X$44,FALSE),IF(AND(Industry_PGAssessment=\"Count\",Industry_Segment=Database!$Y$95),VLOOKUP($C38,Industry_PGCount,Database!$AC$44,FALSE),IF(AND(Industry_PGAssessment=\"Count\",Industry_Segment=Database!$AD$95),VLOOKUP($C38,Industry_PGCount,Database!$AH$44,FALSE),\n\nIF(AND(Industry_PGAssessment=\"Impact\",Industry_Segment=Database!$O$119),VLOOKUP($C38,Industry_PGImpact,Database!$S$44,FALSE),IF(AND(Industry_PGAssessment=\"Impact\",Industry_Segment=Database!$T$119),VLOOKUP($C38,Industry_PGImpact,Database!$X$44,FALSE),IF(AND(Industry_PGAssessment=\"Impact\",Industry_Segment=Database!$Y$95),VLOOKUP($C38,Industry_PGImpact,Database!$AC$44,FALSE),IF(AND(Industry_PGAssessment=\"Impact\",Industry_Segment=Database!$AD$119),VLOOKUP($C38,Industry_PGImpact,Database!$AH$44,FALSE),\"Check\"))))))))))","v":""},{"$f":"IF($C38=\"\",\"\",IF(VLOOKUP($C38,PG_Flag,Database!S$44,FALSE)=\"\",\"-\",\n\nIF(AND(Industry_PGAssessment=\"Count\",Industry_Segment=Database!$O$119),VLOOKUP($C38,Industry_PGCount,Database!$S$44,FALSE),IF(AND(Industry_PGAssessment=\"Count\",Industry_Segment=Database!$T$95),VLOOKUP($C38,Industry_PGCount,Database!$X$44,FALSE),IF(AND(Industry_PGAssessment=\"Count\",Industry_Segment=Database!$Y$95),VLOOKUP($C38,Industry_PGCount,Database!$AC$44,FALSE),IF(AND(Industry_PGAssessment=\"Count\",Industry_Segment=Database!$AD$95),VLOOKUP($C38,Industry_PGCount,Database!$AH$44,FALSE),\n\nIF(AND(Industry_PGAssessment=\"Impact\",Industry_Segment=Database!$O$119),VLOOKUP($C38,Industry_PGImpact,Database!$S$44,FALSE),IF(AND(Industry_PGAssessment=\"Impact\",Industry_Segment=Database!$T$119),VLOOKUP($C38,Industry_PGImpact,Database!$X$44,FALSE),IF(AND(Industry_PGAssessment=\"Impact\",Industry_Segment=Database!$Y$95),VLOOKUP($C38,Industry_PGImpact,Database!$AC$44,FALSE),IF(AND(Industry_PGAssessment=\"Impact\",Industry_Segment=Database!$AD$119),VLOOKUP($C38,Industry_PGImpact,Database!$AH$44,FALSE),\"Check\"))))))))))","v":""},{"$f":"IF($C38=\"\",\"\",IF(VLOOKUP($C38,PG_Flag,Database!T$44,FALSE)=\"\",\"-\",\n\nIF(AND(Industry_PGAssessment=\"Count\",Industry_Segment=Database!$O$119),VLOOKUP($C38,Industry_PGCount,Database!$S$44,FALSE),IF(AND(Industry_PGAssessment=\"Count\",Industry_Segment=Database!$T$95),VLOOKUP($C38,Industry_PGCount,Database!$X$44,FALSE),IF(AND(Industry_PGAssessment=\"Count\",Industry_Segment=Database!$Y$95),VLOOKUP($C38,Industry_PGCount,Database!$AC$44,FALSE),IF(AND(Industry_PGAssessment=\"Count\",Industry_Segment=Database!$AD$95),VLOOKUP($C38,Industry_PGCount,Database!$AH$44,FALSE),\n\nIF(AND(Industry_PGAssessment=\"Impact\",Industry_Segment=Database!$O$119),VLOOKUP($C38,Industry_PGImpact,Database!$S$44,FALSE),IF(AND(Industry_PGAssessment=\"Impact\",Industry_Segment=Database!$T$119),VLOOKUP($C38,Industry_PGImpact,Database!$X$44,FALSE),IF(AND(Industry_PGAssessment=\"Impact\",Industry_Segment=Database!$Y$95),VLOOKUP($C38,Industry_PGImpact,Database!$AC$44,FALSE),IF(AND(Industry_PGAssessment=\"Impact\",Industry_Segment=Database!$AD$119),VLOOKUP($C38,Industry_PGImpact,Database!$AH$44,FALSE),\"Check\"))))))))))","v":""},{"$f":"IF($C38=\"\",\"\",IF(VLOOKUP($C38,PG_Flag,Database!U$44,FALSE)=\"\",\"-\",\n\nIF(AND(Industry_PGAssessment=\"Count\",Industry_Segment=Database!$O$119),VLOOKUP($C38,Industry_PGCount,Database!$S$44,FALSE),IF(AND(Industry_PGAssessment=\"Count\",Industry_Segment=Database!$T$95),VLOOKUP($C38,Industry_PGCount,Database!$X$44,FALSE),IF(AND(Industry_PGAssessment=\"Count\",Industry_Segment=Database!$Y$95),VLOOKUP($C38,Industry_PGCount,Database!$AC$44,FALSE),IF(AND(Industry_PGAssessment=\"Count\",Industry_Segment=Database!$AD$95),VLOOKUP($C38,Industry_PGCount,Database!$AH$44,FALSE),\n\nIF(AND(Industry_PGAssessment=\"Impact\",Industry_Segment=Database!$O$119),VLOOKUP($C38,Industry_PGImpact,Database!$S$44,FALSE),IF(AND(Industry_PGAssessment=\"Impact\",Industry_Segment=Database!$T$119),VLOOKUP($C38,Industry_PGImpact,Database!$X$44,FALSE),IF(AND(Industry_PGAssessment=\"Impact\",Industry_Segment=Database!$Y$95),VLOOKUP($C38,Industry_PGImpact,Database!$AC$44,FALSE),IF(AND(Industry_PGAssessment=\"Impact\",Industry_Segment=Database!$AD$119),VLOOKUP($C38,Industry_PGImpact,Database!$AH$44,FALSE),\"Check\"))))))))))","v":""},{"$f":"IF($C38=\"\",\"\",IF(VLOOKUP($C38,PG_Flag,Database!V$44,FALSE)=\"\",\"-\",\n\nIF(AND(Industry_PGAssessment=\"Count\",Industry_Segment=Database!$O$119),VLOOKUP($C38,Industry_PGCount,Database!$S$44,FALSE),IF(AND(Industry_PGAssessment=\"Count\",Industry_Segment=Database!$T$95),VLOOKUP($C38,Industry_PGCount,Database!$X$44,FALSE),IF(AND(Industry_PGAssessment=\"Count\",Industry_Segment=Database!$Y$95),VLOOKUP($C38,Industry_PGCount,Database!$AC$44,FALSE),IF(AND(Industry_PGAssessment=\"Count\",Industry_Segment=Database!$AD$95),VLOOKUP($C38,Industry_PGCount,Database!$AH$44,FALSE),\n\nIF(AND(Industry_PGAssessment=\"Impact\",Industry_Segment=Database!$O$119),VLOOKUP($C38,Industry_PGImpact,Database!$S$44,FALSE),IF(AND(Industry_PGAssessment=\"Impact\",Industry_Segment=Database!$T$119),VLOOKUP($C38,Industry_PGImpact,Database!$X$44,FALSE),IF(AND(Industry_PGAssessment=\"Impact\",Industry_Segment=Database!$Y$95),VLOOKUP($C38,Industry_PGImpact,Database!$AC$44,FALSE),IF(AND(Industry_PGAssessment=\"Impact\",Industry_Segment=Database!$AD$119),VLOOKUP($C38,Industry_PGImpact,Database!$AH$44,FALSE),\"Check\"))))))))))","v":""},{"$f":"IF($C38=\"\",\"\",IF(VLOOKUP($C38,PG_Flag,Database!W$44,FALSE)=\"\",\"-\",\n\nIF(AND(Industry_PGAssessment=\"Count\",Industry_Segment=Database!$O$119),VLOOKUP($C38,Industry_PGCount,Database!$S$44,FALSE),IF(AND(Industry_PGAssessment=\"Count\",Industry_Segment=Database!$T$95),VLOOKUP($C38,Industry_PGCount,Database!$X$44,FALSE),IF(AND(Industry_PGAssessment=\"Count\",Industry_Segment=Database!$Y$95),VLOOKUP($C38,Industry_PGCount,Database!$AC$44,FALSE),IF(AND(Industry_PGAssessment=\"Count\",Industry_Segment=Database!$AD$95),VLOOKUP($C38,Industry_PGCount,Database!$AH$44,FALSE),\n\nIF(AND(Industry_PGAssessment=\"Impact\",Industry_Segment=Database!$O$119),VLOOKUP($C38,Industry_PGImpact,Database!$S$44,FALSE),IF(AND(Industry_PGAssessment=\"Impact\",Industry_Segment=Database!$T$119),VLOOKUP($C38,Industry_PGImpact,Database!$X$44,FALSE),IF(AND(Industry_PGAssessment=\"Impact\",Industry_Segment=Database!$Y$95),VLOOKUP($C38,Industry_PGImpact,Database!$AC$44,FALSE),IF(AND(Industry_PGAssessment=\"Impact\",Industry_Segment=Database!$AD$119),VLOOKUP($C38,Industry_PGImpact,Database!$AH$44,FALSE),\"Check\"))))))))))","v":""},{"$f":"IF($C38=\"\",\"\",IF(VLOOKUP($C38,PG_Flag,Database!X$44,FALSE)=\"\",\"-\",\n\nIF(AND(Industry_PGAssessment=\"Count\",Industry_Segment=Database!$O$119),VLOOKUP($C38,Industry_PGCount,Database!$S$44,FALSE),IF(AND(Industry_PGAssessment=\"Count\",Industry_Segment=Database!$T$95),VLOOKUP($C38,Industry_PGCount,Database!$X$44,FALSE),IF(AND(Industry_PGAssessment=\"Count\",Industry_Segment=Database!$Y$95),VLOOKUP($C38,Industry_PGCount,Database!$AC$44,FALSE),IF(AND(Industry_PGAssessment=\"Count\",Industry_Segment=Database!$AD$95),VLOOKUP($C38,Industry_PGCount,Database!$AH$44,FALSE),\n\nIF(AND(Industry_PGAssessment=\"Impact\",Industry_Segment=Database!$O$119),VLOOKUP($C38,Industry_PGImpact,Database!$S$44,FALSE),IF(AND(Industry_PGAssessment=\"Impact\",Industry_Segment=Database!$T$119),VLOOKUP($C38,Industry_PGImpact,Database!$X$44,FALSE),IF(AND(Industry_PGAssessment=\"Impact\",Industry_Segment=Database!$Y$95),VLOOKUP($C38,Industry_PGImpact,Database!$AC$44,FALSE),IF(AND(Industry_PGAssessment=\"Impact\",Industry_Segment=Database!$AD$119),VLOOKUP($C38,Industry_PGImpact,Database!$AH$44,FALSE),\"Check\"))))))))))","v":""},{"$f":"IF($C38=\"\",\"\",IF(VLOOKUP($C38,PG_Flag,Database!Y$44,FALSE)=\"\",\"-\",\n\nIF(AND(Industry_PGAssessment=\"Count\",Industry_Segment=Database!$O$119),VLOOKUP($C38,Industry_PGCount,Database!$S$44,FALSE),IF(AND(Industry_PGAssessment=\"Count\",Industry_Segment=Database!$T$95),VLOOKUP($C38,Industry_PGCount,Database!$X$44,FALSE),IF(AND(Industry_PGAssessment=\"Count\",Industry_Segment=Database!$Y$95),VLOOKUP($C38,Industry_PGCount,Database!$AC$44,FALSE),IF(AND(Industry_PGAssessment=\"Count\",Industry_Segment=Database!$AD$95),VLOOKUP($C38,Industry_PGCount,Database!$AH$44,FALSE),\n\nIF(AND(Industry_PGAssessment=\"Impact\",Industry_Segment=Database!$O$119),VLOOKUP($C38,Industry_PGImpact,Database!$S$44,FALSE),IF(AND(Industry_PGAssessment=\"Impact\",Industry_Segment=Database!$T$119),VLOOKUP($C38,Industry_PGImpact,Database!$X$44,FALSE),IF(AND(Industry_PGAssessment=\"Impact\",Industry_Segment=Database!$Y$95),VLOOKUP($C38,Industry_PGImpact,Database!$AC$44,FALSE),IF(AND(Industry_PGAssessment=\"Impact\",Industry_Segment=Database!$AD$119),VLOOKUP($C38,Industry_PGImpact,Database!$AH$44,FALSE),\"Check\"))))))))))","v":""},{"$f":"IF($C38=\"\",\"\",IF(VLOOKUP($C38,PG_Flag,Database!Z$44,FALSE)=\"\",\"-\",\n\nIF(AND(Industry_PGAssessment=\"Count\",Industry_Segment=Database!$O$119),VLOOKUP($C38,Industry_PGCount,Database!$S$44,FALSE),IF(AND(Industry_PGAssessment=\"Count\",Industry_Segment=Database!$T$95),VLOOKUP($C38,Industry_PGCount,Database!$X$44,FALSE),IF(AND(Industry_PGAssessment=\"Count\",Industry_Segment=Database!$Y$95),VLOOKUP($C38,Industry_PGCount,Database!$AC$44,FALSE),IF(AND(Industry_PGAssessment=\"Count\",Industry_Segment=Database!$AD$95),VLOOKUP($C38,Industry_PGCount,Database!$AH$44,FALSE),\n\nIF(AND(Industry_PGAssessment=\"Impact\",Industry_Segment=Database!$O$119),VLOOKUP($C38,Industry_PGImpact,Database!$S$44,FALSE),IF(AND(Industry_PGAssessment=\"Impact\",Industry_Segment=Database!$T$119),VLOOKUP($C38,Industry_PGImpact,Database!$X$44,FALSE),IF(AND(Industry_PGAssessment=\"Impact\",Industry_Segment=Database!$Y$95),VLOOKUP($C38,Industry_PGImpact,Database!$AC$44,FALSE),IF(AND(Industry_PGAssessment=\"Impact\",Industry_Segment=Database!$AD$119),VLOOKUP($C38,Industry_PGImpact,Database!$AH$44,FALSE),\"Check\"))))))))))","v":""},null,{"$f":"IF($C38=\"\",\"\",IF(VLOOKUP($C38,PG_Flag,Database!AA$44,FALSE)=\"\",\"-\",\n\nIF(AND(Industry_PGAssessment=\"Count\",Industry_Segment=Database!$O$119),VLOOKUP($C38,Industry_PGCount,Database!$S$44,FALSE),IF(AND(Industry_PGAssessment=\"Count\",Industry_Segment=Database!$T$95),VLOOKUP($C38,Industry_PGCount,Database!$X$44,FALSE),IF(AND(Industry_PGAssessment=\"Count\",Industry_Segment=Database!$Y$95),VLOOKUP($C38,Industry_PGCount,Database!$AC$44,FALSE),IF(AND(Industry_PGAssessment=\"Count\",Industry_Segment=Database!$AD$95),VLOOKUP($C38,Industry_PGCount,Database!$AH$44,FALSE),\n\nIF(AND(Industry_PGAssessment=\"Impact\",Industry_Segment=Database!$O$119),VLOOKUP($C38,Industry_PGImpact,Database!$S$44,FALSE),IF(AND(Industry_PGAssessment=\"Impact\",Industry_Segment=Database!$T$119),VLOOKUP($C38,Industry_PGImpact,Database!$X$44,FALSE),IF(AND(Industry_PGAssessment=\"Impact\",Industry_Segment=Database!$Y$95),VLOOKUP($C38,Industry_PGImpact,Database!$AC$44,FALSE),IF(AND(Industry_PGAssessment=\"Impact\",Industry_Segment=Database!$AD$119),VLOOKUP($C38,Industry_PGImpact,Database!$AH$44,FALSE),\"Check\"))))))))))","v":""},null,{"$f":"IF($C38=\"\",\"\",IF(VLOOKUP($C38,PG_Flag,Database!AB$44,FALSE)=\"\",\"-\",\n\nIF(AND(Industry_PGAssessment=\"Count\",Industry_Segment=Database!$O$119),VLOOKUP($C38,Industry_PGCount,Database!$S$44,FALSE),IF(AND(Industry_PGAssessment=\"Count\",Industry_Segment=Database!$T$95),VLOOKUP($C38,Industry_PGCount,Database!$X$44,FALSE),IF(AND(Industry_PGAssessment=\"Count\",Industry_Segment=Database!$Y$95),VLOOKUP($C38,Industry_PGCount,Database!$AC$44,FALSE),IF(AND(Industry_PGAssessment=\"Count\",Industry_Segment=Database!$AD$95),VLOOKUP($C38,Industry_PGCount,Database!$AH$44,FALSE),\n\nIF(AND(Industry_PGAssessment=\"Impact\",Industry_Segment=Database!$O$119),VLOOKUP($C38,Industry_PGImpact,Database!$S$44,FALSE),IF(AND(Industry_PGAssessment=\"Impact\",Industry_Segment=Database!$T$119),VLOOKUP($C38,Industry_PGImpact,Database!$X$44,FALSE),IF(AND(Industry_PGAssessment=\"Impact\",Industry_Segment=Database!$Y$95),VLOOKUP($C38,Industry_PGImpact,Database!$AC$44,FALSE),IF(AND(Industry_PGAssessment=\"Impact\",Industry_Segment=Database!$AD$119),VLOOKUP($C38,Industry_PGImpact,Database!$AH$44,FALSE),\"Check\"))))))))))","v":""},null,{"$f":"IF($C38=\"\",\"\",IF(VLOOKUP($C38,PG_Flag,Database!AC$44,FALSE)=\"\",\"-\",\n\nIF(AND(Industry_PGAssessment=\"Count\",Industry_Segment=Database!$O$119),VLOOKUP($C38,Industry_PGCount,Database!$S$44,FALSE),IF(AND(Industry_PGAssessment=\"Count\",Industry_Segment=Database!$T$95),VLOOKUP($C38,Industry_PGCount,Database!$X$44,FALSE),IF(AND(Industry_PGAssessment=\"Count\",Industry_Segment=Database!$Y$95),VLOOKUP($C38,Industry_PGCount,Database!$AC$44,FALSE),IF(AND(Industry_PGAssessment=\"Count\",Industry_Segment=Database!$AD$95),VLOOKUP($C38,Industry_PGCount,Database!$AH$44,FALSE),\n\nIF(AND(Industry_PGAssessment=\"Impact\",Industry_Segment=Database!$O$119),VLOOKUP($C38,Industry_PGImpact,Database!$S$44,FALSE),IF(AND(Industry_PGAssessment=\"Impact\",Industry_Segment=Database!$T$119),VLOOKUP($C38,Industry_PGImpact,Database!$X$44,FALSE),IF(AND(Industry_PGAssessment=\"Impact\",Industry_Segment=Database!$Y$95),VLOOKUP($C38,Industry_PGImpact,Database!$AC$44,FALSE),IF(AND(Industry_PGAssessment=\"Impact\",Industry_Segment=Database!$AD$119),VLOOKUP($C38,Industry_PGImpact,Database!$AH$44,FALSE),\"Check\"))))))))))","v":""}]
[null,null,{"$f":"IF(Database!C64=\"\",\"\",Database!C64)","v":""},{"$f":"IF($C39=\"\",\"\",IF(VLOOKUP($C39,PG_Flag,Database!R$44,FALSE)=\"\",\"-\",\n\nIF(AND(Industry_PGAssessment=\"Count\",Industry_Segment=Database!$O$119),VLOOKUP($C39,Industry_PGCount,Database!$S$44,FALSE),IF(AND(Industry_PGAssessment=\"Count\",Industry_Segment=Database!$T$95),VLOOKUP($C39,Industry_PGCount,Database!$X$44,FALSE),IF(AND(Industry_PGAssessment=\"Count\",Industry_Segment=Database!$Y$95),VLOOKUP($C39,Industry_PGCount,Database!$AC$44,FALSE),IF(AND(Industry_PGAssessment=\"Count\",Industry_Segment=Database!$AD$95),VLOOKUP($C39,Industry_PGCount,Database!$AH$44,FALSE),\n\nIF(AND(Industry_PGAssessment=\"Impact\",Industry_Segment=Database!$O$119),VLOOKUP($C39,Industry_PGImpact,Database!$S$44,FALSE),IF(AND(Industry_PGAssessment=\"Impact\",Industry_Segment=Database!$T$119),VLOOKUP($C39,Industry_PGImpact,Database!$X$44,FALSE),IF(AND(Industry_PGAssessment=\"Impact\",Industry_Segment=Database!$Y$95),VLOOKUP($C39,Industry_PGImpact,Database!$AC$44,FALSE),IF(AND(Industry_PGAssessment=\"Impact\",Industry_Segment=Database!$AD$119),VLOOKUP($C39,Industry_PGImpact,Database!$AH$44,FALSE),\"Check\"))))))))))","v":""},{"$f":"IF($C39=\"\",\"\",IF(VLOOKUP($C39,PG_Flag,Database!S$44,FALSE)=\"\",\"-\",\n\nIF(AND(Industry_PGAssessment=\"Count\",Industry_Segment=Database!$O$119),VLOOKUP($C39,Industry_PGCount,Database!$S$44,FALSE),IF(AND(Industry_PGAssessment=\"Count\",Industry_Segment=Database!$T$95),VLOOKUP($C39,Industry_PGCount,Database!$X$44,FALSE),IF(AND(Industry_PGAssessment=\"Count\",Industry_Segment=Database!$Y$95),VLOOKUP($C39,Industry_PGCount,Database!$AC$44,FALSE),IF(AND(Industry_PGAssessment=\"Count\",Industry_Segment=Database!$AD$95),VLOOKUP($C39,Industry_PGCount,Database!$AH$44,FALSE),\n\nIF(AND(Industry_PGAssessment=\"Impact\",Industry_Segment=Database!$O$119),VLOOKUP($C39,Industry_PGImpact,Database!$S$44,FALSE),IF(AND(Industry_PGAssessment=\"Impact\",Industry_Segment=Database!$T$119),VLOOKUP($C39,Industry_PGImpact,Database!$X$44,FALSE),IF(AND(Industry_PGAssessment=\"Impact\",Industry_Segment=Database!$Y$95),VLOOKUP($C39,Industry_PGImpact,Database!$AC$44,FALSE),IF(AND(Industry_PGAssessment=\"Impact\",Industry_Segment=Database!$AD$119),VLOOKUP($C39,Industry_PGImpact,Database!$AH$44,FALSE),\"Check\"))))))))))","v":""},{"$f":"IF($C39=\"\",\"\",IF(VLOOKUP($C39,PG_Flag,Database!T$44,FALSE)=\"\",\"-\",\n\nIF(AND(Industry_PGAssessment=\"Count\",Industry_Segment=Database!$O$119),VLOOKUP($C39,Industry_PGCount,Database!$S$44,FALSE),IF(AND(Industry_PGAssessment=\"Count\",Industry_Segment=Database!$T$95),VLOOKUP($C39,Industry_PGCount,Database!$X$44,FALSE),IF(AND(Industry_PGAssessment=\"Count\",Industry_Segment=Database!$Y$95),VLOOKUP($C39,Industry_PGCount,Database!$AC$44,FALSE),IF(AND(Industry_PGAssessment=\"Count\",Industry_Segment=Database!$AD$95),VLOOKUP($C39,Industry_PGCount,Database!$AH$44,FALSE),\n\nIF(AND(Industry_PGAssessment=\"Impact\",Industry_Segment=Database!$O$119),VLOOKUP($C39,Industry_PGImpact,Database!$S$44,FALSE),IF(AND(Industry_PGAssessment=\"Impact\",Industry_Segment=Database!$T$119),VLOOKUP($C39,Industry_PGImpact,Database!$X$44,FALSE),IF(AND(Industry_PGAssessment=\"Impact\",Industry_Segment=Database!$Y$95),VLOOKUP($C39,Industry_PGImpact,Database!$AC$44,FALSE),IF(AND(Industry_PGAssessment=\"Impact\",Industry_Segment=Database!$AD$119),VLOOKUP($C39,Industry_PGImpact,Database!$AH$44,FALSE),\"Check\"))))))))))","v":""},{"$f":"IF($C39=\"\",\"\",IF(VLOOKUP($C39,PG_Flag,Database!U$44,FALSE)=\"\",\"-\",\n\nIF(AND(Industry_PGAssessment=\"Count\",Industry_Segment=Database!$O$119),VLOOKUP($C39,Industry_PGCount,Database!$S$44,FALSE),IF(AND(Industry_PGAssessment=\"Count\",Industry_Segment=Database!$T$95),VLOOKUP($C39,Industry_PGCount,Database!$X$44,FALSE),IF(AND(Industry_PGAssessment=\"Count\",Industry_Segment=Database!$Y$95),VLOOKUP($C39,Industry_PGCount,Database!$AC$44,FALSE),IF(AND(Industry_PGAssessment=\"Count\",Industry_Segment=Database!$AD$95),VLOOKUP($C39,Industry_PGCount,Database!$AH$44,FALSE),\n\nIF(AND(Industry_PGAssessment=\"Impact\",Industry_Segment=Database!$O$119),VLOOKUP($C39,Industry_PGImpact,Database!$S$44,FALSE),IF(AND(Industry_PGAssessment=\"Impact\",Industry_Segment=Database!$T$119),VLOOKUP($C39,Industry_PGImpact,Database!$X$44,FALSE),IF(AND(Industry_PGAssessment=\"Impact\",Industry_Segment=Database!$Y$95),VLOOKUP($C39,Industry_PGImpact,Database!$AC$44,FALSE),IF(AND(Industry_PGAssessment=\"Impact\",Industry_Segment=Database!$AD$119),VLOOKUP($C39,Industry_PGImpact,Database!$AH$44,FALSE),\"Check\"))))))))))","v":""},{"$f":"IF($C39=\"\",\"\",IF(VLOOKUP($C39,PG_Flag,Database!V$44,FALSE)=\"\",\"-\",\n\nIF(AND(Industry_PGAssessment=\"Count\",Industry_Segment=Database!$O$119),VLOOKUP($C39,Industry_PGCount,Database!$S$44,FALSE),IF(AND(Industry_PGAssessment=\"Count\",Industry_Segment=Database!$T$95),VLOOKUP($C39,Industry_PGCount,Database!$X$44,FALSE),IF(AND(Industry_PGAssessment=\"Count\",Industry_Segment=Database!$Y$95),VLOOKUP($C39,Industry_PGCount,Database!$AC$44,FALSE),IF(AND(Industry_PGAssessment=\"Count\",Industry_Segment=Database!$AD$95),VLOOKUP($C39,Industry_PGCount,Database!$AH$44,FALSE),\n\nIF(AND(Industry_PGAssessment=\"Impact\",Industry_Segment=Database!$O$119),VLOOKUP($C39,Industry_PGImpact,Database!$S$44,FALSE),IF(AND(Industry_PGAssessment=\"Impact\",Industry_Segment=Database!$T$119),VLOOKUP($C39,Industry_PGImpact,Database!$X$44,FALSE),IF(AND(Industry_PGAssessment=\"Impact\",Industry_Segment=Database!$Y$95),VLOOKUP($C39,Industry_PGImpact,Database!$AC$44,FALSE),IF(AND(Industry_PGAssessment=\"Impact\",Industry_Segment=Database!$AD$119),VLOOKUP($C39,Industry_PGImpact,Database!$AH$44,FALSE),\"Check\"))))))))))","v":""},{"$f":"IF($C39=\"\",\"\",IF(VLOOKUP($C39,PG_Flag,Database!W$44,FALSE)=\"\",\"-\",\n\nIF(AND(Industry_PGAssessment=\"Count\",Industry_Segment=Database!$O$119),VLOOKUP($C39,Industry_PGCount,Database!$S$44,FALSE),IF(AND(Industry_PGAssessment=\"Count\",Industry_Segment=Database!$T$95),VLOOKUP($C39,Industry_PGCount,Database!$X$44,FALSE),IF(AND(Industry_PGAssessment=\"Count\",Industry_Segment=Database!$Y$95),VLOOKUP($C39,Industry_PGCount,Database!$AC$44,FALSE),IF(AND(Industry_PGAssessment=\"Count\",Industry_Segment=Database!$AD$95),VLOOKUP($C39,Industry_PGCount,Database!$AH$44,FALSE),\n\nIF(AND(Industry_PGAssessment=\"Impact\",Industry_Segment=Database!$O$119),VLOOKUP($C39,Industry_PGImpact,Database!$S$44,FALSE),IF(AND(Industry_PGAssessment=\"Impact\",Industry_Segment=Database!$T$119),VLOOKUP($C39,Industry_PGImpact,Database!$X$44,FALSE),IF(AND(Industry_PGAssessment=\"Impact\",Industry_Segment=Database!$Y$95),VLOOKUP($C39,Industry_PGImpact,Database!$AC$44,FALSE),IF(AND(Industry_PGAssessment=\"Impact\",Industry_Segment=Database!$AD$119),VLOOKUP($C39,Industry_PGImpact,Database!$AH$44,FALSE),\"Check\"))))))))))","v":""},{"$f":"IF($C39=\"\",\"\",IF(VLOOKUP($C39,PG_Flag,Database!X$44,FALSE)=\"\",\"-\",\n\nIF(AND(Industry_PGAssessment=\"Count\",Industry_Segment=Database!$O$119),VLOOKUP($C39,Industry_PGCount,Database!$S$44,FALSE),IF(AND(Industry_PGAssessment=\"Count\",Industry_Segment=Database!$T$95),VLOOKUP($C39,Industry_PGCount,Database!$X$44,FALSE),IF(AND(Industry_PGAssessment=\"Count\",Industry_Segment=Database!$Y$95),VLOOKUP($C39,Industry_PGCount,Database!$AC$44,FALSE),IF(AND(Industry_PGAssessment=\"Count\",Industry_Segment=Database!$AD$95),VLOOKUP($C39,Industry_PGCount,Database!$AH$44,FALSE),\n\nIF(AND(Industry_PGAssessment=\"Impact\",Industry_Segment=Database!$O$119),VLOOKUP($C39,Industry_PGImpact,Database!$S$44,FALSE),IF(AND(Industry_PGAssessment=\"Impact\",Industry_Segment=Database!$T$119),VLOOKUP($C39,Industry_PGImpact,Database!$X$44,FALSE),IF(AND(Industry_PGAssessment=\"Impact\",Industry_Segment=Database!$Y$95),VLOOKUP($C39,Industry_PGImpact,Database!$AC$44,FALSE),IF(AND(Industry_PGAssessment=\"Impact\",Industry_Segment=Database!$AD$119),VLOOKUP($C39,Industry_PGImpact,Database!$AH$44,FALSE),\"Check\"))))))))))","v":""},{"$f":"IF($C39=\"\",\"\",IF(VLOOKUP($C39,PG_Flag,Database!Y$44,FALSE)=\"\",\"-\",\n\nIF(AND(Industry_PGAssessment=\"Count\",Industry_Segment=Database!$O$119),VLOOKUP($C39,Industry_PGCount,Database!$S$44,FALSE),IF(AND(Industry_PGAssessment=\"Count\",Industry_Segment=Database!$T$95),VLOOKUP($C39,Industry_PGCount,Database!$X$44,FALSE),IF(AND(Industry_PGAssessment=\"Count\",Industry_Segment=Database!$Y$95),VLOOKUP($C39,Industry_PGCount,Database!$AC$44,FALSE),IF(AND(Industry_PGAssessment=\"Count\",Industry_Segment=Database!$AD$95),VLOOKUP($C39,Industry_PGCount,Database!$AH$44,FALSE),\n\nIF(AND(Industry_PGAssessment=\"Impact\",Industry_Segment=Database!$O$119),VLOOKUP($C39,Industry_PGImpact,Database!$S$44,FALSE),IF(AND(Industry_PGAssessment=\"Impact\",Industry_Segment=Database!$T$119),VLOOKUP($C39,Industry_PGImpact,Database!$X$44,FALSE),IF(AND(Industry_PGAssessment=\"Impact\",Industry_Segment=Database!$Y$95),VLOOKUP($C39,Industry_PGImpact,Database!$AC$44,FALSE),IF(AND(Industry_PGAssessment=\"Impact\",Industry_Segment=Database!$AD$119),VLOOKUP($C39,Industry_PGImpact,Database!$AH$44,FALSE),\"Check\"))))))))))","v":""},{"$f":"IF($C39=\"\",\"\",IF(VLOOKUP($C39,PG_Flag,Database!Z$44,FALSE)=\"\",\"-\",\n\nIF(AND(Industry_PGAssessment=\"Count\",Industry_Segment=Database!$O$119),VLOOKUP($C39,Industry_PGCount,Database!$S$44,FALSE),IF(AND(Industry_PGAssessment=\"Count\",Industry_Segment=Database!$T$95),VLOOKUP($C39,Industry_PGCount,Database!$X$44,FALSE),IF(AND(Industry_PGAssessment=\"Count\",Industry_Segment=Database!$Y$95),VLOOKUP($C39,Industry_PGCount,Database!$AC$44,FALSE),IF(AND(Industry_PGAssessment=\"Count\",Industry_Segment=Database!$AD$95),VLOOKUP($C39,Industry_PGCount,Database!$AH$44,FALSE),\n\nIF(AND(Industry_PGAssessment=\"Impact\",Industry_Segment=Database!$O$119),VLOOKUP($C39,Industry_PGImpact,Database!$S$44,FALSE),IF(AND(Industry_PGAssessment=\"Impact\",Industry_Segment=Database!$T$119),VLOOKUP($C39,Industry_PGImpact,Database!$X$44,FALSE),IF(AND(Industry_PGAssessment=\"Impact\",Industry_Segment=Database!$Y$95),VLOOKUP($C39,Industry_PGImpact,Database!$AC$44,FALSE),IF(AND(Industry_PGAssessment=\"Impact\",Industry_Segment=Database!$AD$119),VLOOKUP($C39,Industry_PGImpact,Database!$AH$44,FALSE),\"Check\"))))))))))","v":""},null,{"$f":"IF($C39=\"\",\"\",IF(VLOOKUP($C39,PG_Flag,Database!AA$44,FALSE)=\"\",\"-\",\n\nIF(AND(Industry_PGAssessment=\"Count\",Industry_Segment=Database!$O$119),VLOOKUP($C39,Industry_PGCount,Database!$S$44,FALSE),IF(AND(Industry_PGAssessment=\"Count\",Industry_Segment=Database!$T$95),VLOOKUP($C39,Industry_PGCount,Database!$X$44,FALSE),IF(AND(Industry_PGAssessment=\"Count\",Industry_Segment=Database!$Y$95),VLOOKUP($C39,Industry_PGCount,Database!$AC$44,FALSE),IF(AND(Industry_PGAssessment=\"Count\",Industry_Segment=Database!$AD$95),VLOOKUP($C39,Industry_PGCount,Database!$AH$44,FALSE),\n\nIF(AND(Industry_PGAssessment=\"Impact\",Industry_Segment=Database!$O$119),VLOOKUP($C39,Industry_PGImpact,Database!$S$44,FALSE),IF(AND(Industry_PGAssessment=\"Impact\",Industry_Segment=Database!$T$119),VLOOKUP($C39,Industry_PGImpact,Database!$X$44,FALSE),IF(AND(Industry_PGAssessment=\"Impact\",Industry_Segment=Database!$Y$95),VLOOKUP($C39,Industry_PGImpact,Database!$AC$44,FALSE),IF(AND(Industry_PGAssessment=\"Impact\",Industry_Segment=Database!$AD$119),VLOOKUP($C39,Industry_PGImpact,Database!$AH$44,FALSE),\"Check\"))))))))))","v":""},null,{"$f":"IF($C39=\"\",\"\",IF(VLOOKUP($C39,PG_Flag,Database!AB$44,FALSE)=\"\",\"-\",\n\nIF(AND(Industry_PGAssessment=\"Count\",Industry_Segment=Database!$O$119),VLOOKUP($C39,Industry_PGCount,Database!$S$44,FALSE),IF(AND(Industry_PGAssessment=\"Count\",Industry_Segment=Database!$T$95),VLOOKUP($C39,Industry_PGCount,Database!$X$44,FALSE),IF(AND(Industry_PGAssessment=\"Count\",Industry_Segment=Database!$Y$95),VLOOKUP($C39,Industry_PGCount,Database!$AC$44,FALSE),IF(AND(Industry_PGAssessment=\"Count\",Industry_Segment=Database!$AD$95),VLOOKUP($C39,Industry_PGCount,Database!$AH$44,FALSE),\n\nIF(AND(Industry_PGAssessment=\"Impact\",Industry_Segment=Database!$O$119),VLOOKUP($C39,Industry_PGImpact,Database!$S$44,FALSE),IF(AND(Industry_PGAssessment=\"Impact\",Industry_Segment=Database!$T$119),VLOOKUP($C39,Industry_PGImpact,Database!$X$44,FALSE),IF(AND(Industry_PGAssessment=\"Impact\",Industry_Segment=Database!$Y$95),VLOOKUP($C39,Industry_PGImpact,Database!$AC$44,FALSE),IF(AND(Industry_PGAssessment=\"Impact\",Industry_Segment=Database!$AD$119),VLOOKUP($C39,Industry_PGImpact,Database!$AH$44,FALSE),\"Check\"))))))))))","v":""},null,{"$f":"IF($C39=\"\",\"\",IF(VLOOKUP($C39,PG_Flag,Database!AC$44,FALSE)=\"\",\"-\",\n\nIF(AND(Industry_PGAssessment=\"Count\",Industry_Segment=Database!$O$119),VLOOKUP($C39,Industry_PGCount,Database!$S$44,FALSE),IF(AND(Industry_PGAssessment=\"Count\",Industry_Segment=Database!$T$95),VLOOKUP($C39,Industry_PGCount,Database!$X$44,FALSE),IF(AND(Industry_PGAssessment=\"Count\",Industry_Segment=Database!$Y$95),VLOOKUP($C39,Industry_PGCount,Database!$AC$44,FALSE),IF(AND(Industry_PGAssessment=\"Count\",Industry_Segment=Database!$AD$95),VLOOKUP($C39,Industry_PGCount,Database!$AH$44,FALSE),\n\nIF(AND(Industry_PGAssessment=\"Impact\",Industry_Segment=Database!$O$119),VLOOKUP($C39,Industry_PGImpact,Database!$S$44,FALSE),IF(AND(Industry_PGAssessment=\"Impact\",Industry_Segment=Database!$T$119),VLOOKUP($C39,Industry_PGImpact,Database!$X$44,FALSE),IF(AND(Industry_PGAssessment=\"Impact\",Industry_Segment=Database!$Y$95),VLOOKUP($C39,Industry_PGImpact,Database!$AC$44,FALSE),IF(AND(Industry_PGAssessment=\"Impact\",Industry_Segment=Database!$AD$119),VLOOKUP($C39,Industry_PGImpact,Database!$AH$44,FALSE),\"Check\"))))))))))","v":""}]
[null,null,{"$f":"IF(Database!C65=\"\",\"\",Database!C65)","v":""},{"$f":"IF($C40=\"\",\"\",IF(VLOOKUP($C40,PG_Flag,Database!R$44,FALSE)=\"\",\"-\",\n\nIF(AND(Industry_PGAssessment=\"Count\",Industry_Segment=Database!$O$119),VLOOKUP($C40,Industry_PGCount,Database!$S$44,FALSE),IF(AND(Industry_PGAssessment=\"Count\",Industry_Segment=Database!$T$95),VLOOKUP($C40,Industry_PGCount,Database!$X$44,FALSE),IF(AND(Industry_PGAssessment=\"Count\",Industry_Segment=Database!$Y$95),VLOOKUP($C40,Industry_PGCount,Database!$AC$44,FALSE),IF(AND(Industry_PGAssessment=\"Count\",Industry_Segment=Database!$AD$95),VLOOKUP($C40,Industry_PGCount,Database!$AH$44,FALSE),\n\nIF(AND(Industry_PGAssessment=\"Impact\",Industry_Segment=Database!$O$119),VLOOKUP($C40,Industry_PGImpact,Database!$S$44,FALSE),IF(AND(Industry_PGAssessment=\"Impact\",Industry_Segment=Database!$T$119),VLOOKUP($C40,Industry_PGImpact,Database!$X$44,FALSE),IF(AND(Industry_PGAssessment=\"Impact\",Industry_Segment=Database!$Y$95),VLOOKUP($C40,Industry_PGImpact,Database!$AC$44,FALSE),IF(AND(Industry_PGAssessment=\"Impact\",Industry_Segment=Database!$AD$119),VLOOKUP($C40,Industry_PGImpact,Database!$AH$44,FALSE),\"Check\"))))))))))","v":""},{"$f":"IF($C40=\"\",\"\",IF(VLOOKUP($C40,PG_Flag,Database!S$44,FALSE)=\"\",\"-\",\n\nIF(AND(Industry_PGAssessment=\"Count\",Industry_Segment=Database!$O$119),VLOOKUP($C40,Industry_PGCount,Database!$S$44,FALSE),IF(AND(Industry_PGAssessment=\"Count\",Industry_Segment=Database!$T$95),VLOOKUP($C40,Industry_PGCount,Database!$X$44,FALSE),IF(AND(Industry_PGAssessment=\"Count\",Industry_Segment=Database!$Y$95),VLOOKUP($C40,Industry_PGCount,Database!$AC$44,FALSE),IF(AND(Industry_PGAssessment=\"Count\",Industry_Segment=Database!$AD$95),VLOOKUP($C40,Industry_PGCount,Database!$AH$44,FALSE),\n\nIF(AND(Industry_PGAssessment=\"Impact\",Industry_Segment=Database!$O$119),VLOOKUP($C40,Industry_PGImpact,Database!$S$44,FALSE),IF(AND(Industry_PGAssessment=\"Impact\",Industry_Segment=Database!$T$119),VLOOKUP($C40,Industry_PGImpact,Database!$X$44,FALSE),IF(AND(Industry_PGAssessment=\"Impact\",Industry_Segment=Database!$Y$95),VLOOKUP($C40,Industry_PGImpact,Database!$AC$44,FALSE),IF(AND(Industry_PGAssessment=\"Impact\",Industry_Segment=Database!$AD$119),VLOOKUP($C40,Industry_PGImpact,Database!$AH$44,FALSE),\"Check\"))))))))))","v":""},{"$f":"IF($C40=\"\",\"\",IF(VLOOKUP($C40,PG_Flag,Database!T$44,FALSE)=\"\",\"-\",\n\nIF(AND(Industry_PGAssessment=\"Count\",Industry_Segment=Database!$O$119),VLOOKUP($C40,Industry_PGCount,Database!$S$44,FALSE),IF(AND(Industry_PGAssessment=\"Count\",Industry_Segment=Database!$T$95),VLOOKUP($C40,Industry_PGCount,Database!$X$44,FALSE),IF(AND(Industry_PGAssessment=\"Count\",Industry_Segment=Database!$Y$95),VLOOKUP($C40,Industry_PGCount,Database!$AC$44,FALSE),IF(AND(Industry_PGAssessment=\"Count\",Industry_Segment=Database!$AD$95),VLOOKUP($C40,Industry_PGCount,Database!$AH$44,FALSE),\n\nIF(AND(Industry_PGAssessment=\"Impact\",Industry_Segment=Database!$O$119),VLOOKUP($C40,Industry_PGImpact,Database!$S$44,FALSE),IF(AND(Industry_PGAssessment=\"Impact\",Industry_Segment=Database!$T$119),VLOOKUP($C40,Industry_PGImpact,Database!$X$44,FALSE),IF(AND(Industry_PGAssessment=\"Impact\",Industry_Segment=Database!$Y$95),VLOOKUP($C40,Industry_PGImpact,Database!$AC$44,FALSE),IF(AND(Industry_PGAssessment=\"Impact\",Industry_Segment=Database!$AD$119),VLOOKUP($C40,Industry_PGImpact,Database!$AH$44,FALSE),\"Check\"))))))))))","v":""},{"$f":"IF($C40=\"\",\"\",IF(VLOOKUP($C40,PG_Flag,Database!U$44,FALSE)=\"\",\"-\",\n\nIF(AND(Industry_PGAssessment=\"Count\",Industry_Segment=Database!$O$119),VLOOKUP($C40,Industry_PGCount,Database!$S$44,FALSE),IF(AND(Industry_PGAssessment=\"Count\",Industry_Segment=Database!$T$95),VLOOKUP($C40,Industry_PGCount,Database!$X$44,FALSE),IF(AND(Industry_PGAssessment=\"Count\",Industry_Segment=Database!$Y$95),VLOOKUP($C40,Industry_PGCount,Database!$AC$44,FALSE),IF(AND(Industry_PGAssessment=\"Count\",Industry_Segment=Database!$AD$95),VLOOKUP($C40,Industry_PGCount,Database!$AH$44,FALSE),\n\nIF(AND(Industry_PGAssessment=\"Impact\",Industry_Segment=Database!$O$119),VLOOKUP($C40,Industry_PGImpact,Database!$S$44,FALSE),IF(AND(Industry_PGAssessment=\"Impact\",Industry_Segment=Database!$T$119),VLOOKUP($C40,Industry_PGImpact,Database!$X$44,FALSE),IF(AND(Industry_PGAssessment=\"Impact\",Industry_Segment=Database!$Y$95),VLOOKUP($C40,Industry_PGImpact,Database!$AC$44,FALSE),IF(AND(Industry_PGAssessment=\"Impact\",Industry_Segment=Database!$AD$119),VLOOKUP($C40,Industry_PGImpact,Database!$AH$44,FALSE),\"Check\"))))))))))","v":""},{"$f":"IF($C40=\"\",\"\",IF(VLOOKUP($C40,PG_Flag,Database!V$44,FALSE)=\"\",\"-\",\n\nIF(AND(Industry_PGAssessment=\"Count\",Industry_Segment=Database!$O$119),VLOOKUP($C40,Industry_PGCount,Database!$S$44,FALSE),IF(AND(Industry_PGAssessment=\"Count\",Industry_Segment=Database!$T$95),VLOOKUP($C40,Industry_PGCount,Database!$X$44,FALSE),IF(AND(Industry_PGAssessment=\"Count\",Industry_Segment=Database!$Y$95),VLOOKUP($C40,Industry_PGCount,Database!$AC$44,FALSE),IF(AND(Industry_PGAssessment=\"Count\",Industry_Segment=Database!$AD$95),VLOOKUP($C40,Industry_PGCount,Database!$AH$44,FALSE),\n\nIF(AND(Industry_PGAssessment=\"Impact\",Industry_Segment=Database!$O$119),VLOOKUP($C40,Industry_PGImpact,Database!$S$44,FALSE),IF(AND(Industry_PGAssessment=\"Impact\",Industry_Segment=Database!$T$119),VLOOKUP($C40,Industry_PGImpact,Database!$X$44,FALSE),IF(AND(Industry_PGAssessment=\"Impact\",Industry_Segment=Database!$Y$95),VLOOKUP($C40,Industry_PGImpact,Database!$AC$44,FALSE),IF(AND(Industry_PGAssessment=\"Impact\",Industry_Segment=Database!$AD$119),VLOOKUP($C40,Industry_PGImpact,Database!$AH$44,FALSE),\"Check\"))))))))))","v":""},{"$f":"IF($C40=\"\",\"\",IF(VLOOKUP($C40,PG_Flag,Database!W$44,FALSE)=\"\",\"-\",\n\nIF(AND(Industry_PGAssessment=\"Count\",Industry_Segment=Database!$O$119),VLOOKUP($C40,Industry_PGCount,Database!$S$44,FALSE),IF(AND(Industry_PGAssessment=\"Count\",Industry_Segment=Database!$T$95),VLOOKUP($C40,Industry_PGCount,Database!$X$44,FALSE),IF(AND(Industry_PGAssessment=\"Count\",Industry_Segment=Database!$Y$95),VLOOKUP($C40,Industry_PGCount,Database!$AC$44,FALSE),IF(AND(Industry_PGAssessment=\"Count\",Industry_Segment=Database!$AD$95),VLOOKUP($C40,Industry_PGCount,Database!$AH$44,FALSE),\n\nIF(AND(Industry_PGAssessment=\"Impact\",Industry_Segment=Database!$O$119),VLOOKUP($C40,Industry_PGImpact,Database!$S$44,FALSE),IF(AND(Industry_PGAssessment=\"Impact\",Industry_Segment=Database!$T$119),VLOOKUP($C40,Industry_PGImpact,Database!$X$44,FALSE),IF(AND(Industry_PGAssessment=\"Impact\",Industry_Segment=Database!$Y$95),VLOOKUP($C40,Industry_PGImpact,Database!$AC$44,FALSE),IF(AND(Industry_PGAssessment=\"Impact\",Industry_Segment=Database!$AD$119),VLOOKUP($C40,Industry_PGImpact,Database!$AH$44,FALSE),\"Check\"))))))))))","v":""},{"$f":"IF($C40=\"\",\"\",IF(VLOOKUP($C40,PG_Flag,Database!X$44,FALSE)=\"\",\"-\",\n\nIF(AND(Industry_PGAssessment=\"Count\",Industry_Segment=Database!$O$119),VLOOKUP($C40,Industry_PGCount,Database!$S$44,FALSE),IF(AND(Industry_PGAssessment=\"Count\",Industry_Segment=Database!$T$95),VLOOKUP($C40,Industry_PGCount,Database!$X$44,FALSE),IF(AND(Industry_PGAssessment=\"Count\",Industry_Segment=Database!$Y$95),VLOOKUP($C40,Industry_PGCount,Database!$AC$44,FALSE),IF(AND(Industry_PGAssessment=\"Count\",Industry_Segment=Database!$AD$95),VLOOKUP($C40,Industry_PGCount,Database!$AH$44,FALSE),\n\nIF(AND(Industry_PGAssessment=\"Impact\",Industry_Segment=Database!$O$119),VLOOKUP($C40,Industry_PGImpact,Database!$S$44,FALSE),IF(AND(Industry_PGAssessment=\"Impact\",Industry_Segment=Database!$T$119),VLOOKUP($C40,Industry_PGImpact,Database!$X$44,FALSE),IF(AND(Industry_PGAssessment=\"Impact\",Industry_Segment=Database!$Y$95),VLOOKUP($C40,Industry_PGImpact,Database!$AC$44,FALSE),IF(AND(Industry_PGAssessment=\"Impact\",Industry_Segment=Database!$AD$119),VLOOKUP($C40,Industry_PGImpact,Database!$AH$44,FALSE),\"Check\"))))))))))","v":""},{"$f":"IF($C40=\"\",\"\",IF(VLOOKUP($C40,PG_Flag,Database!Y$44,FALSE)=\"\",\"-\",\n\nIF(AND(Industry_PGAssessment=\"Count\",Industry_Segment=Database!$O$119),VLOOKUP($C40,Industry_PGCount,Database!$S$44,FALSE),IF(AND(Industry_PGAssessment=\"Count\",Industry_Segment=Database!$T$95),VLOOKUP($C40,Industry_PGCount,Database!$X$44,FALSE),IF(AND(Industry_PGAssessment=\"Count\",Industry_Segment=Database!$Y$95),VLOOKUP($C40,Industry_PGCount,Database!$AC$44,FALSE),IF(AND(Industry_PGAssessment=\"Count\",Industry_Segment=Database!$AD$95),VLOOKUP($C40,Industry_PGCount,Database!$AH$44,FALSE),\n\nIF(AND(Industry_PGAssessment=\"Impact\",Industry_Segment=Database!$O$119),VLOOKUP($C40,Industry_PGImpact,Database!$S$44,FALSE),IF(AND(Industry_PGAssessment=\"Impact\",Industry_Segment=Database!$T$119),VLOOKUP($C40,Industry_PGImpact,Database!$X$44,FALSE),IF(AND(Industry_PGAssessment=\"Impact\",Industry_Segment=Database!$Y$95),VLOOKUP($C40,Industry_PGImpact,Database!$AC$44,FALSE),IF(AND(Industry_PGAssessment=\"Impact\",Industry_Segment=Database!$AD$119),VLOOKUP($C40,Industry_PGImpact,Database!$AH$44,FALSE),\"Check\"))))))))))","v":""},{"$f":"IF($C40=\"\",\"\",IF(VLOOKUP($C40,PG_Flag,Database!Z$44,FALSE)=\"\",\"-\",\n\nIF(AND(Industry_PGAssessment=\"Count\",Industry_Segment=Database!$O$119),VLOOKUP($C40,Industry_PGCount,Database!$S$44,FALSE),IF(AND(Industry_PGAssessment=\"Count\",Industry_Segment=Database!$T$95),VLOOKUP($C40,Industry_PGCount,Database!$X$44,FALSE),IF(AND(Industry_PGAssessment=\"Count\",Industry_Segment=Database!$Y$95),VLOOKUP($C40,Industry_PGCount,Database!$AC$44,FALSE),IF(AND(Industry_PGAssessment=\"Count\",Industry_Segment=Database!$AD$95),VLOOKUP($C40,Industry_PGCount,Database!$AH$44,FALSE),\n\nIF(AND(Industry_PGAssessment=\"Impact\",Industry_Segment=Database!$O$119),VLOOKUP($C40,Industry_PGImpact,Database!$S$44,FALSE),IF(AND(Industry_PGAssessment=\"Impact\",Industry_Segment=Database!$T$119),VLOOKUP($C40,Industry_PGImpact,Database!$X$44,FALSE),IF(AND(Industry_PGAssessment=\"Impact\",Industry_Segment=Database!$Y$95),VLOOKUP($C40,Industry_PGImpact,Database!$AC$44,FALSE),IF(AND(Industry_PGAssessment=\"Impact\",Industry_Segment=Database!$AD$119),VLOOKUP($C40,Industry_PGImpact,Database!$AH$44,FALSE),\"Check\"))))))))))","v":""},null,{"$f":"IF($C40=\"\",\"\",IF(VLOOKUP($C40,PG_Flag,Database!AA$44,FALSE)=\"\",\"-\",\n\nIF(AND(Industry_PGAssessment=\"Count\",Industry_Segment=Database!$O$119),VLOOKUP($C40,Industry_PGCount,Database!$S$44,FALSE),IF(AND(Industry_PGAssessment=\"Count\",Industry_Segment=Database!$T$95),VLOOKUP($C40,Industry_PGCount,Database!$X$44,FALSE),IF(AND(Industry_PGAssessment=\"Count\",Industry_Segment=Database!$Y$95),VLOOKUP($C40,Industry_PGCount,Database!$AC$44,FALSE),IF(AND(Industry_PGAssessment=\"Count\",Industry_Segment=Database!$AD$95),VLOOKUP($C40,Industry_PGCount,Database!$AH$44,FALSE),\n\nIF(AND(Industry_PGAssessment=\"Impact\",Industry_Segment=Database!$O$119),VLOOKUP($C40,Industry_PGImpact,Database!$S$44,FALSE),IF(AND(Industry_PGAssessment=\"Impact\",Industry_Segment=Database!$T$119),VLOOKUP($C40,Industry_PGImpact,Database!$X$44,FALSE),IF(AND(Industry_PGAssessment=\"Impact\",Industry_Segment=Database!$Y$95),VLOOKUP($C40,Industry_PGImpact,Database!$AC$44,FALSE),IF(AND(Industry_PGAssessment=\"Impact\",Industry_Segment=Database!$AD$119),VLOOKUP($C40,Industry_PGImpact,Database!$AH$44,FALSE),\"Check\"))))))))))","v":""},null,{"$f":"IF($C40=\"\",\"\",IF(VLOOKUP($C40,PG_Flag,Database!AB$44,FALSE)=\"\",\"-\",\n\nIF(AND(Industry_PGAssessment=\"Count\",Industry_Segment=Database!$O$119),VLOOKUP($C40,Industry_PGCount,Database!$S$44,FALSE),IF(AND(Industry_PGAssessment=\"Count\",Industry_Segment=Database!$T$95),VLOOKUP($C40,Industry_PGCount,Database!$X$44,FALSE),IF(AND(Industry_PGAssessment=\"Count\",Industry_Segment=Database!$Y$95),VLOOKUP($C40,Industry_PGCount,Database!$AC$44,FALSE),IF(AND(Industry_PGAssessment=\"Count\",Industry_Segment=Database!$AD$95),VLOOKUP($C40,Industry_PGCount,Database!$AH$44,FALSE),\n\nIF(AND(Industry_PGAssessment=\"Impact\",Industry_Segment=Database!$O$119),VLOOKUP($C40,Industry_PGImpact,Database!$S$44,FALSE),IF(AND(Industry_PGAssessment=\"Impact\",Industry_Segment=Database!$T$119),VLOOKUP($C40,Industry_PGImpact,Database!$X$44,FALSE),IF(AND(Industry_PGAssessment=\"Impact\",Industry_Segment=Database!$Y$95),VLOOKUP($C40,Industry_PGImpact,Database!$AC$44,FALSE),IF(AND(Industry_PGAssessment=\"Impact\",Industry_Segment=Database!$AD$119),VLOOKUP($C40,Industry_PGImpact,Database!$AH$44,FALSE),\"Check\"))))))))))","v":""},null,{"$f":"IF($C40=\"\",\"\",IF(VLOOKUP($C40,PG_Flag,Database!AC$44,FALSE)=\"\",\"-\",\n\nIF(AND(Industry_PGAssessment=\"Count\",Industry_Segment=Database!$O$119),VLOOKUP($C40,Industry_PGCount,Database!$S$44,FALSE),IF(AND(Industry_PGAssessment=\"Count\",Industry_Segment=Database!$T$95),VLOOKUP($C40,Industry_PGCount,Database!$X$44,FALSE),IF(AND(Industry_PGAssessment=\"Count\",Industry_Segment=Database!$Y$95),VLOOKUP($C40,Industry_PGCount,Database!$AC$44,FALSE),IF(AND(Industry_PGAssessment=\"Count\",Industry_Segment=Database!$AD$95),VLOOKUP($C40,Industry_PGCount,Database!$AH$44,FALSE),\n\nIF(AND(Industry_PGAssessment=\"Impact\",Industry_Segment=Database!$O$119),VLOOKUP($C40,Industry_PGImpact,Database!$S$44,FALSE),IF(AND(Industry_PGAssessment=\"Impact\",Industry_Segment=Database!$T$119),VLOOKUP($C40,Industry_PGImpact,Database!$X$44,FALSE),IF(AND(Industry_PGAssessment=\"Impact\",Industry_Segment=Database!$Y$95),VLOOKUP($C40,Industry_PGImpact,Database!$AC$44,FALSE),IF(AND(Industry_PGAssessment=\"Impact\",Industry_Segment=Database!$AD$119),VLOOKUP($C40,Industry_PGImpact,Database!$AH$44,FALSE),\"Check\"))))))))))","v":""}]
[null,null,{"$f":"IF(Database!C66=\"\",\"\",Database!C66)","v":""},{"$f":"IF($C41=\"\",\"\",IF(VLOOKUP($C41,PG_Flag,Database!R$44,FALSE)=\"\",\"-\",\n\nIF(AND(Industry_PGAssessment=\"Count\",Industry_Segment=Database!$O$119),VLOOKUP($C41,Industry_PGCount,Database!$S$44,FALSE),IF(AND(Industry_PGAssessment=\"Count\",Industry_Segment=Database!$T$95),VLOOKUP($C41,Industry_PGCount,Database!$X$44,FALSE),IF(AND(Industry_PGAssessment=\"Count\",Industry_Segment=Database!$Y$95),VLOOKUP($C41,Industry_PGCount,Database!$AC$44,FALSE),IF(AND(Industry_PGAssessment=\"Count\",Industry_Segment=Database!$AD$95),VLOOKUP($C41,Industry_PGCount,Database!$AH$44,FALSE),\n\nIF(AND(Industry_PGAssessment=\"Impact\",Industry_Segment=Database!$O$119),VLOOKUP($C41,Industry_PGImpact,Database!$S$44,FALSE),IF(AND(Industry_PGAssessment=\"Impact\",Industry_Segment=Database!$T$119),VLOOKUP($C41,Industry_PGImpact,Database!$X$44,FALSE),IF(AND(Industry_PGAssessment=\"Impact\",Industry_Segment=Database!$Y$95),VLOOKUP($C41,Industry_PGImpact,Database!$AC$44,FALSE),IF(AND(Industry_PGAssessment=\"Impact\",Industry_Segment=Database!$AD$119),VLOOKUP($C41,Industry_PGImpact,Database!$AH$44,FALSE),\"Check\"))))))))))","v":""},{"$f":"IF($C41=\"\",\"\",IF(VLOOKUP($C41,PG_Flag,Database!S$44,FALSE)=\"\",\"-\",\n\nIF(AND(Industry_PGAssessment=\"Count\",Industry_Segment=Database!$O$119),VLOOKUP($C41,Industry_PGCount,Database!$S$44,FALSE),IF(AND(Industry_PGAssessment=\"Count\",Industry_Segment=Database!$T$95),VLOOKUP($C41,Industry_PGCount,Database!$X$44,FALSE),IF(AND(Industry_PGAssessment=\"Count\",Industry_Segment=Database!$Y$95),VLOOKUP($C41,Industry_PGCount,Database!$AC$44,FALSE),IF(AND(Industry_PGAssessment=\"Count\",Industry_Segment=Database!$AD$95),VLOOKUP($C41,Industry_PGCount,Database!$AH$44,FALSE),\n\nIF(AND(Industry_PGAssessment=\"Impact\",Industry_Segment=Database!$O$119),VLOOKUP($C41,Industry_PGImpact,Database!$S$44,FALSE),IF(AND(Industry_PGAssessment=\"Impact\",Industry_Segment=Database!$T$119),VLOOKUP($C41,Industry_PGImpact,Database!$X$44,FALSE),IF(AND(Industry_PGAssessment=\"Impact\",Industry_Segment=Database!$Y$95),VLOOKUP($C41,Industry_PGImpact,Database!$AC$44,FALSE),IF(AND(Industry_PGAssessment=\"Impact\",Industry_Segment=Database!$AD$119),VLOOKUP($C41,Industry_PGImpact,Database!$AH$44,FALSE),\"Check\"))))))))))","v":""},{"$f":"IF($C41=\"\",\"\",IF(VLOOKUP($C41,PG_Flag,Database!T$44,FALSE)=\"\",\"-\",\n\nIF(AND(Industry_PGAssessment=\"Count\",Industry_Segment=Database!$O$119),VLOOKUP($C41,Industry_PGCount,Database!$S$44,FALSE),IF(AND(Industry_PGAssessment=\"Count\",Industry_Segment=Database!$T$95),VLOOKUP($C41,Industry_PGCount,Database!$X$44,FALSE),IF(AND(Industry_PGAssessment=\"Count\",Industry_Segment=Database!$Y$95),VLOOKUP($C41,Industry_PGCount,Database!$AC$44,FALSE),IF(AND(Industry_PGAssessment=\"Count\",Industry_Segment=Database!$AD$95),VLOOKUP($C41,Industry_PGCount,Database!$AH$44,FALSE),\n\nIF(AND(Industry_PGAssessment=\"Impact\",Industry_Segment=Database!$O$119),VLOOKUP($C41,Industry_PGImpact,Database!$S$44,FALSE),IF(AND(Industry_PGAssessment=\"Impact\",Industry_Segment=Database!$T$119),VLOOKUP($C41,Industry_PGImpact,Database!$X$44,FALSE),IF(AND(Industry_PGAssessment=\"Impact\",Industry_Segment=Database!$Y$95),VLOOKUP($C41,Industry_PGImpact,Database!$AC$44,FALSE),IF(AND(Industry_PGAssessment=\"Impact\",Industry_Segment=Database!$AD$119),VLOOKUP($C41,Industry_PGImpact,Database!$AH$44,FALSE),\"Check\"))))))))))","v":""},{"$f":"IF($C41=\"\",\"\",IF(VLOOKUP($C41,PG_Flag,Database!U$44,FALSE)=\"\",\"-\",\n\nIF(AND(Industry_PGAssessment=\"Count\",Industry_Segment=Database!$O$119),VLOOKUP($C41,Industry_PGCount,Database!$S$44,FALSE),IF(AND(Industry_PGAssessment=\"Count\",Industry_Segment=Database!$T$95),VLOOKUP($C41,Industry_PGCount,Database!$X$44,FALSE),IF(AND(Industry_PGAssessment=\"Count\",Industry_Segment=Database!$Y$95),VLOOKUP($C41,Industry_PGCount,Database!$AC$44,FALSE),IF(AND(Industry_PGAssessment=\"Count\",Industry_Segment=Database!$AD$95),VLOOKUP($C41,Industry_PGCount,Database!$AH$44,FALSE),\n\nIF(AND(Industry_PGAssessment=\"Impact\",Industry_Segment=Database!$O$119),VLOOKUP($C41,Industry_PGImpact,Database!$S$44,FALSE),IF(AND(Industry_PGAssessment=\"Impact\",Industry_Segment=Database!$T$119),VLOOKUP($C41,Industry_PGImpact,Database!$X$44,FALSE),IF(AND(Industry_PGAssessment=\"Impact\",Industry_Segment=Database!$Y$95),VLOOKUP($C41,Industry_PGImpact,Database!$AC$44,FALSE),IF(AND(Industry_PGAssessment=\"Impact\",Industry_Segment=Database!$AD$119),VLOOKUP($C41,Industry_PGImpact,Database!$AH$44,FALSE),\"Check\"))))))))))","v":""},{"$f":"IF($C41=\"\",\"\",IF(VLOOKUP($C41,PG_Flag,Database!V$44,FALSE)=\"\",\"-\",\n\nIF(AND(Industry_PGAssessment=\"Count\",Industry_Segment=Database!$O$119),VLOOKUP($C41,Industry_PGCount,Database!$S$44,FALSE),IF(AND(Industry_PGAssessment=\"Count\",Industry_Segment=Database!$T$95),VLOOKUP($C41,Industry_PGCount,Database!$X$44,FALSE),IF(AND(Industry_PGAssessment=\"Count\",Industry_Segment=Database!$Y$95),VLOOKUP($C41,Industry_PGCount,Database!$AC$44,FALSE),IF(AND(Industry_PGAssessment=\"Count\",Industry_Segment=Database!$AD$95),VLOOKUP($C41,Industry_PGCount,Database!$AH$44,FALSE),\n\nIF(AND(Industry_PGAssessment=\"Impact\",Industry_Segment=Database!$O$119),VLOOKUP($C41,Industry_PGImpact,Database!$S$44,FALSE),IF(AND(Industry_PGAssessment=\"Impact\",Industry_Segment=Database!$T$119),VLOOKUP($C41,Industry_PGImpact,Database!$X$44,FALSE),IF(AND(Industry_PGAssessment=\"Impact\",Industry_Segment=Database!$Y$95),VLOOKUP($C41,Industry_PGImpact,Database!$AC$44,FALSE),IF(AND(Industry_PGAssessment=\"Impact\",Industry_Segment=Database!$AD$119),VLOOKUP($C41,Industry_PGImpact,Database!$AH$44,FALSE),\"Check\"))))))))))","v":""},{"$f":"IF($C41=\"\",\"\",IF(VLOOKUP($C41,PG_Flag,Database!W$44,FALSE)=\"\",\"-\",\n\nIF(AND(Industry_PGAssessment=\"Count\",Industry_Segment=Database!$O$119),VLOOKUP($C41,Industry_PGCount,Database!$S$44,FALSE),IF(AND(Industry_PGAssessment=\"Count\",Industry_Segment=Database!$T$95),VLOOKUP($C41,Industry_PGCount,Database!$X$44,FALSE),IF(AND(Industry_PGAssessment=\"Count\",Industry_Segment=Database!$Y$95),VLOOKUP($C41,Industry_PGCount,Database!$AC$44,FALSE),IF(AND(Industry_PGAssessment=\"Count\",Industry_Segment=Database!$AD$95),VLOOKUP($C41,Industry_PGCount,Database!$AH$44,FALSE),\n\nIF(AND(Industry_PGAssessment=\"Impact\",Industry_Segment=Database!$O$119),VLOOKUP($C41,Industry_PGImpact,Database!$S$44,FALSE),IF(AND(Industry_PGAssessment=\"Impact\",Industry_Segment=Database!$T$119),VLOOKUP($C41,Industry_PGImpact,Database!$X$44,FALSE),IF(AND(Industry_PGAssessment=\"Impact\",Industry_Segment=Database!$Y$95),VLOOKUP($C41,Industry_PGImpact,Database!$AC$44,FALSE),IF(AND(Industry_PGAssessment=\"Impact\",Industry_Segment=Database!$AD$119),VLOOKUP($C41,Industry_PGImpact,Database!$AH$44,FALSE),\"Check\"))))))))))","v":""},{"$f":"IF($C41=\"\",\"\",IF(VLOOKUP($C41,PG_Flag,Database!X$44,FALSE)=\"\",\"-\",\n\nIF(AND(Industry_PGAssessment=\"Count\",Industry_Segment=Database!$O$119),VLOOKUP($C41,Industry_PGCount,Database!$S$44,FALSE),IF(AND(Industry_PGAssessment=\"Count\",Industry_Segment=Database!$T$95),VLOOKUP($C41,Industry_PGCount,Database!$X$44,FALSE),IF(AND(Industry_PGAssessment=\"Count\",Industry_Segment=Database!$Y$95),VLOOKUP($C41,Industry_PGCount,Database!$AC$44,FALSE),IF(AND(Industry_PGAssessment=\"Count\",Industry_Segment=Database!$AD$95),VLOOKUP($C41,Industry_PGCount,Database!$AH$44,FALSE),\n\nIF(AND(Industry_PGAssessment=\"Impact\",Industry_Segment=Database!$O$119),VLOOKUP($C41,Industry_PGImpact,Database!$S$44,FALSE),IF(AND(Industry_PGAssessment=\"Impact\",Industry_Segment=Database!$T$119),VLOOKUP($C41,Industry_PGImpact,Database!$X$44,FALSE),IF(AND(Industry_PGAssessment=\"Impact\",Industry_Segment=Database!$Y$95),VLOOKUP($C41,Industry_PGImpact,Database!$AC$44,FALSE),IF(AND(Industry_PGAssessment=\"Impact\",Industry_Segment=Database!$AD$119),VLOOKUP($C41,Industry_PGImpact,Database!$AH$44,FALSE),\"Check\"))))))))))","v":""},{"$f":"IF($C41=\"\",\"\",IF(VLOOKUP($C41,PG_Flag,Database!Y$44,FALSE)=\"\",\"-\",\n\nIF(AND(Industry_PGAssessment=\"Count\",Industry_Segment=Database!$O$119),VLOOKUP($C41,Industry_PGCount,Database!$S$44,FALSE),IF(AND(Industry_PGAssessment=\"Count\",Industry_Segment=Database!$T$95),VLOOKUP($C41,Industry_PGCount,Database!$X$44,FALSE),IF(AND(Industry_PGAssessment=\"Count\",Industry_Segment=Database!$Y$95),VLOOKUP($C41,Industry_PGCount,Database!$AC$44,FALSE),IF(AND(Industry_PGAssessment=\"Count\",Industry_Segment=Database!$AD$95),VLOOKUP($C41,Industry_PGCount,Database!$AH$44,FALSE),\n\nIF(AND(Industry_PGAssessment=\"Impact\",Industry_Segment=Database!$O$119),VLOOKUP($C41,Industry_PGImpact,Database!$S$44,FALSE),IF(AND(Industry_PGAssessment=\"Impact\",Industry_Segment=Database!$T$119),VLOOKUP($C41,Industry_PGImpact,Database!$X$44,FALSE),IF(AND(Industry_PGAssessment=\"Impact\",Industry_Segment=Database!$Y$95),VLOOKUP($C41,Industry_PGImpact,Database!$AC$44,FALSE),IF(AND(Industry_PGAssessment=\"Impact\",Industry_Segment=Database!$AD$119),VLOOKUP($C41,Industry_PGImpact,Database!$AH$44,FALSE),\"Check\"))))))))))","v":""},{"$f":"IF($C41=\"\",\"\",IF(VLOOKUP($C41,PG_Flag,Database!Z$44,FALSE)=\"\",\"-\",\n\nIF(AND(Industry_PGAssessment=\"Count\",Industry_Segment=Database!$O$119),VLOOKUP($C41,Industry_PGCount,Database!$S$44,FALSE),IF(AND(Industry_PGAssessment=\"Count\",Industry_Segment=Database!$T$95),VLOOKUP($C41,Industry_PGCount,Database!$X$44,FALSE),IF(AND(Industry_PGAssessment=\"Count\",Industry_Segment=Database!$Y$95),VLOOKUP($C41,Industry_PGCount,Database!$AC$44,FALSE),IF(AND(Industry_PGAssessment=\"Count\",Industry_Segment=Database!$AD$95),VLOOKUP($C41,Industry_PGCount,Database!$AH$44,FALSE),\n\nIF(AND(Industry_PGAssessment=\"Impact\",Industry_Segment=Database!$O$119),VLOOKUP($C41,Industry_PGImpact,Database!$S$44,FALSE),IF(AND(Industry_PGAssessment=\"Impact\",Industry_Segment=Database!$T$119),VLOOKUP($C41,Industry_PGImpact,Database!$X$44,FALSE),IF(AND(Industry_PGAssessment=\"Impact\",Industry_Segment=Database!$Y$95),VLOOKUP($C41,Industry_PGImpact,Database!$AC$44,FALSE),IF(AND(Industry_PGAssessment=\"Impact\",Industry_Segment=Database!$AD$119),VLOOKUP($C41,Industry_PGImpact,Database!$AH$44,FALSE),\"Check\"))))))))))","v":""},null,{"$f":"IF($C41=\"\",\"\",IF(VLOOKUP($C41,PG_Flag,Database!AA$44,FALSE)=\"\",\"-\",\n\nIF(AND(Industry_PGAssessment=\"Count\",Industry_Segment=Database!$O$119),VLOOKUP($C41,Industry_PGCount,Database!$S$44,FALSE),IF(AND(Industry_PGAssessment=\"Count\",Industry_Segment=Database!$T$95),VLOOKUP($C41,Industry_PGCount,Database!$X$44,FALSE),IF(AND(Industry_PGAssessment=\"Count\",Industry_Segment=Database!$Y$95),VLOOKUP($C41,Industry_PGCount,Database!$AC$44,FALSE),IF(AND(Industry_PGAssessment=\"Count\",Industry_Segment=Database!$AD$95),VLOOKUP($C41,Industry_PGCount,Database!$AH$44,FALSE),\n\nIF(AND(Industry_PGAssessment=\"Impact\",Industry_Segment=Database!$O$119),VLOOKUP($C41,Industry_PGImpact,Database!$S$44,FALSE),IF(AND(Industry_PGAssessment=\"Impact\",Industry_Segment=Database!$T$119),VLOOKUP($C41,Industry_PGImpact,Database!$X$44,FALSE),IF(AND(Industry_PGAssessment=\"Impact\",Industry_Segment=Database!$Y$95),VLOOKUP($C41,Industry_PGImpact,Database!$AC$44,FALSE),IF(AND(Industry_PGAssessment=\"Impact\",Industry_Segment=Database!$AD$119),VLOOKUP($C41,Industry_PGImpact,Database!$AH$44,FALSE),\"Check\"))))))))))","v":""},null,{"$f":"IF($C41=\"\",\"\",IF(VLOOKUP($C41,PG_Flag,Database!AB$44,FALSE)=\"\",\"-\",\n\nIF(AND(Industry_PGAssessment=\"Count\",Industry_Segment=Database!$O$119),VLOOKUP($C41,Industry_PGCount,Database!$S$44,FALSE),IF(AND(Industry_PGAssessment=\"Count\",Industry_Segment=Database!$T$95),VLOOKUP($C41,Industry_PGCount,Database!$X$44,FALSE),IF(AND(Industry_PGAssessment=\"Count\",Industry_Segment=Database!$Y$95),VLOOKUP($C41,Industry_PGCount,Database!$AC$44,FALSE),IF(AND(Industry_PGAssessment=\"Count\",Industry_Segment=Database!$AD$95),VLOOKUP($C41,Industry_PGCount,Database!$AH$44,FALSE),\n\nIF(AND(Industry_PGAssessment=\"Impact\",Industry_Segment=Database!$O$119),VLOOKUP($C41,Industry_PGImpact,Database!$S$44,FALSE),IF(AND(Industry_PGAssessment=\"Impact\",Industry_Segment=Database!$T$119),VLOOKUP($C41,Industry_PGImpact,Database!$X$44,FALSE),IF(AND(Industry_PGAssessment=\"Impact\",Industry_Segment=Database!$Y$95),VLOOKUP($C41,Industry_PGImpact,Database!$AC$44,FALSE),IF(AND(Industry_PGAssessment=\"Impact\",Industry_Segment=Database!$AD$119),VLOOKUP($C41,Industry_PGImpact,Database!$AH$44,FALSE),\"Check\"))))))))))","v":""},null,{"$f":"IF($C41=\"\",\"\",IF(VLOOKUP($C41,PG_Flag,Database!AC$44,FALSE)=\"\",\"-\",\n\nIF(AND(Industry_PGAssessment=\"Count\",Industry_Segment=Database!$O$119),VLOOKUP($C41,Industry_PGCount,Database!$S$44,FALSE),IF(AND(Industry_PGAssessment=\"Count\",Industry_Segment=Database!$T$95),VLOOKUP($C41,Industry_PGCount,Database!$X$44,FALSE),IF(AND(Industry_PGAssessment=\"Count\",Industry_Segment=Database!$Y$95),VLOOKUP($C41,Industry_PGCount,Database!$AC$44,FALSE),IF(AND(Industry_PGAssessment=\"Count\",Industry_Segment=Database!$AD$95),VLOOKUP($C41,Industry_PGCount,Database!$AH$44,FALSE),\n\nIF(AND(Industry_PGAssessment=\"Impact\",Industry_Segment=Database!$O$119),VLOOKUP($C41,Industry_PGImpact,Database!$S$44,FALSE),IF(AND(Industry_PGAssessment=\"Impact\",Industry_Segment=Database!$T$119),VLOOKUP($C41,Industry_PGImpact,Database!$X$44,FALSE),IF(AND(Industry_PGAssessment=\"Impact\",Industry_Segment=Database!$Y$95),VLOOKUP($C41,Industry_PGImpact,Database!$AC$44,FALSE),IF(AND(Industry_PGAssessment=\"Impact\",Industry_Segment=Database!$AD$119),VLOOKUP($C41,Industry_PGImpact,Database!$AH$44,FALSE),\"Check\"))))))))))","v":""}]
[null,null,{"$f":"IF(Database!C67=\"\",\"\",Database!C67)","v":""},{"$f":"IF($C42=\"\",\"\",IF(VLOOKUP($C42,PG_Flag,Database!R$44,FALSE)=\"\",\"-\",\n\nIF(AND(Industry_PGAssessment=\"Count\",Industry_Segment=Database!$O$119),VLOOKUP($C42,Industry_PGCount,Database!$S$44,FALSE),IF(AND(Industry_PGAssessment=\"Count\",Industry_Segment=Database!$T$95),VLOOKUP($C42,Industry_PGCount,Database!$X$44,FALSE),IF(AND(Industry_PGAssessment=\"Count\",Industry_Segment=Database!$Y$95),VLOOKUP($C42,Industry_PGCount,Database!$AC$44,FALSE),IF(AND(Industry_PGAssessment=\"Count\",Industry_Segment=Database!$AD$95),VLOOKUP($C42,Industry_PGCount,Database!$AH$44,FALSE),\n\nIF(AND(Industry_PGAssessment=\"Impact\",Industry_Segment=Database!$O$119),VLOOKUP($C42,Industry_PGImpact,Database!$S$44,FALSE),IF(AND(Industry_PGAssessment=\"Impact\",Industry_Segment=Database!$T$119),VLOOKUP($C42,Industry_PGImpact,Database!$X$44,FALSE),IF(AND(Industry_PGAssessment=\"Impact\",Industry_Segment=Database!$Y$95),VLOOKUP($C42,Industry_PGImpact,Database!$AC$44,FALSE),IF(AND(Industry_PGAssessment=\"Impact\",Industry_Segment=Database!$AD$119),VLOOKUP($C42,Industry_PGImpact,Database!$AH$44,FALSE),\"Check\"))))))))))","v":""},{"$f":"IF($C42=\"\",\"\",IF(VLOOKUP($C42,PG_Flag,Database!S$44,FALSE)=\"\",\"-\",\n\nIF(AND(Industry_PGAssessment=\"Count\",Industry_Segment=Database!$O$119),VLOOKUP($C42,Industry_PGCount,Database!$S$44,FALSE),IF(AND(Industry_PGAssessment=\"Count\",Industry_Segment=Database!$T$95),VLOOKUP($C42,Industry_PGCount,Database!$X$44,FALSE),IF(AND(Industry_PGAssessment=\"Count\",Industry_Segment=Database!$Y$95),VLOOKUP($C42,Industry_PGCount,Database!$AC$44,FALSE),IF(AND(Industry_PGAssessment=\"Count\",Industry_Segment=Database!$AD$95),VLOOKUP($C42,Industry_PGCount,Database!$AH$44,FALSE),\n\nIF(AND(Industry_PGAssessment=\"Impact\",Industry_Segment=Database!$O$119),VLOOKUP($C42,Industry_PGImpact,Database!$S$44,FALSE),IF(AND(Industry_PGAssessment=\"Impact\",Industry_Segment=Database!$T$119),VLOOKUP($C42,Industry_PGImpact,Database!$X$44,FALSE),IF(AND(Industry_PGAssessment=\"Impact\",Industry_Segment=Database!$Y$95),VLOOKUP($C42,Industry_PGImpact,Database!$AC$44,FALSE),IF(AND(Industry_PGAssessment=\"Impact\",Industry_Segment=Database!$AD$119),VLOOKUP($C42,Industry_PGImpact,Database!$AH$44,FALSE),\"Check\"))))))))))","v":""},{"$f":"IF($C42=\"\",\"\",IF(VLOOKUP($C42,PG_Flag,Database!T$44,FALSE)=\"\",\"-\",\n\nIF(AND(Industry_PGAssessment=\"Count\",Industry_Segment=Database!$O$119),VLOOKUP($C42,Industry_PGCount,Database!$S$44,FALSE),IF(AND(Industry_PGAssessment=\"Count\",Industry_Segment=Database!$T$95),VLOOKUP($C42,Industry_PGCount,Database!$X$44,FALSE),IF(AND(Industry_PGAssessment=\"Count\",Industry_Segment=Database!$Y$95),VLOOKUP($C42,Industry_PGCount,Database!$AC$44,FALSE),IF(AND(Industry_PGAssessment=\"Count\",Industry_Segment=Database!$AD$95),VLOOKUP($C42,Industry_PGCount,Database!$AH$44,FALSE),\n\nIF(AND(Industry_PGAssessment=\"Impact\",Industry_Segment=Database!$O$119),VLOOKUP($C42,Industry_PGImpact,Database!$S$44,FALSE),IF(AND(Industry_PGAssessment=\"Impact\",Industry_Segment=Database!$T$119),VLOOKUP($C42,Industry_PGImpact,Database!$X$44,FALSE),IF(AND(Industry_PGAssessment=\"Impact\",Industry_Segment=Database!$Y$95),VLOOKUP($C42,Industry_PGImpact,Database!$AC$44,FALSE),IF(AND(Industry_PGAssessment=\"Impact\",Industry_Segment=Database!$AD$119),VLOOKUP($C42,Industry_PGImpact,Database!$AH$44,FALSE),\"Check\"))))))))))","v":""},{"$f":"IF($C42=\"\",\"\",IF(VLOOKUP($C42,PG_Flag,Database!U$44,FALSE)=\"\",\"-\",\n\nIF(AND(Industry_PGAssessment=\"Count\",Industry_Segment=Database!$O$119),VLOOKUP($C42,Industry_PGCount,Database!$S$44,FALSE),IF(AND(Industry_PGAssessment=\"Count\",Industry_Segment=Database!$T$95),VLOOKUP($C42,Industry_PGCount,Database!$X$44,FALSE),IF(AND(Industry_PGAssessment=\"Count\",Industry_Segment=Database!$Y$95),VLOOKUP($C42,Industry_PGCount,Database!$AC$44,FALSE),IF(AND(Industry_PGAssessment=\"Count\",Industry_Segment=Database!$AD$95),VLOOKUP($C42,Industry_PGCount,Database!$AH$44,FALSE),\n\nIF(AND(Industry_PGAssessment=\"Impact\",Industry_Segment=Database!$O$119),VLOOKUP($C42,Industry_PGImpact,Database!$S$44,FALSE),IF(AND(Industry_PGAssessment=\"Impact\",Industry_Segment=Database!$T$119),VLOOKUP($C42,Industry_PGImpact,Database!$X$44,FALSE),IF(AND(Industry_PGAssessment=\"Impact\",Industry_Segment=Database!$Y$95),VLOOKUP($C42,Industry_PGImpact,Database!$AC$44,FALSE),IF(AND(Industry_PGAssessment=\"Impact\",Industry_Segment=Database!$AD$119),VLOOKUP($C42,Industry_PGImpact,Database!$AH$44,FALSE),\"Check\"))))))))))","v":""},{"$f":"IF($C42=\"\",\"\",IF(VLOOKUP($C42,PG_Flag,Database!V$44,FALSE)=\"\",\"-\",\n\nIF(AND(Industry_PGAssessment=\"Count\",Industry_Segment=Database!$O$119),VLOOKUP($C42,Industry_PGCount,Database!$S$44,FALSE),IF(AND(Industry_PGAssessment=\"Count\",Industry_Segment=Database!$T$95),VLOOKUP($C42,Industry_PGCount,Database!$X$44,FALSE),IF(AND(Industry_PGAssessment=\"Count\",Industry_Segment=Database!$Y$95),VLOOKUP($C42,Industry_PGCount,Database!$AC$44,FALSE),IF(AND(Industry_PGAssessment=\"Count\",Industry_Segment=Database!$AD$95),VLOOKUP($C42,Industry_PGCount,Database!$AH$44,FALSE),\n\nIF(AND(Industry_PGAssessment=\"Impact\",Industry_Segment=Database!$O$119),VLOOKUP($C42,Industry_PGImpact,Database!$S$44,FALSE),IF(AND(Industry_PGAssessment=\"Impact\",Industry_Segment=Database!$T$119),VLOOKUP($C42,Industry_PGImpact,Database!$X$44,FALSE),IF(AND(Industry_PGAssessment=\"Impact\",Industry_Segment=Database!$Y$95),VLOOKUP($C42,Industry_PGImpact,Database!$AC$44,FALSE),IF(AND(Industry_PGAssessment=\"Impact\",Industry_Segment=Database!$AD$119),VLOOKUP($C42,Industry_PGImpact,Database!$AH$44,FALSE),\"Check\"))))))))))","v":""},{"$f":"IF($C42=\"\",\"\",IF(VLOOKUP($C42,PG_Flag,Database!W$44,FALSE)=\"\",\"-\",\n\nIF(AND(Industry_PGAssessment=\"Count\",Industry_Segment=Database!$O$119),VLOOKUP($C42,Industry_PGCount,Database!$S$44,FALSE),IF(AND(Industry_PGAssessment=\"Count\",Industry_Segment=Database!$T$95),VLOOKUP($C42,Industry_PGCount,Database!$X$44,FALSE),IF(AND(Industry_PGAssessment=\"Count\",Industry_Segment=Database!$Y$95),VLOOKUP($C42,Industry_PGCount,Database!$AC$44,FALSE),IF(AND(Industry_PGAssessment=\"Count\",Industry_Segment=Database!$AD$95),VLOOKUP($C42,Industry_PGCount,Database!$AH$44,FALSE),\n\nIF(AND(Industry_PGAssessment=\"Impact\",Industry_Segment=Database!$O$119),VLOOKUP($C42,Industry_PGImpact,Database!$S$44,FALSE),IF(AND(Industry_PGAssessment=\"Impact\",Industry_Segment=Database!$T$119),VLOOKUP($C42,Industry_PGImpact,Database!$X$44,FALSE),IF(AND(Industry_PGAssessment=\"Impact\",Industry_Segment=Database!$Y$95),VLOOKUP($C42,Industry_PGImpact,Database!$AC$44,FALSE),IF(AND(Industry_PGAssessment=\"Impact\",Industry_Segment=Database!$AD$119),VLOOKUP($C42,Industry_PGImpact,Database!$AH$44,FALSE),\"Check\"))))))))))","v":""},{"$f":"IF($C42=\"\",\"\",IF(VLOOKUP($C42,PG_Flag,Database!X$44,FALSE)=\"\",\"-\",\n\nIF(AND(Industry_PGAssessment=\"Count\",Industry_Segment=Database!$O$119),VLOOKUP($C42,Industry_PGCount,Database!$S$44,FALSE),IF(AND(Industry_PGAssessment=\"Count\",Industry_Segment=Database!$T$95),VLOOKUP($C42,Industry_PGCount,Database!$X$44,FALSE),IF(AND(Industry_PGAssessment=\"Count\",Industry_Segment=Database!$Y$95),VLOOKUP($C42,Industry_PGCount,Database!$AC$44,FALSE),IF(AND(Industry_PGAssessment=\"Count\",Industry_Segment=Database!$AD$95),VLOOKUP($C42,Industry_PGCount,Database!$AH$44,FALSE),\n\nIF(AND(Industry_PGAssessment=\"Impact\",Industry_Segment=Database!$O$119),VLOOKUP($C42,Industry_PGImpact,Database!$S$44,FALSE),IF(AND(Industry_PGAssessment=\"Impact\",Industry_Segment=Database!$T$119),VLOOKUP($C42,Industry_PGImpact,Database!$X$44,FALSE),IF(AND(Industry_PGAssessment=\"Impact\",Industry_Segment=Database!$Y$95),VLOOKUP($C42,Industry_PGImpact,Database!$AC$44,FALSE),IF(AND(Industry_PGAssessment=\"Impact\",Industry_Segment=Database!$AD$119),VLOOKUP($C42,Industry_PGImpact,Database!$AH$44,FALSE),\"Check\"))))))))))","v":""},{"$f":"IF($C42=\"\",\"\",IF(VLOOKUP($C42,PG_Flag,Database!Y$44,FALSE)=\"\",\"-\",\n\nIF(AND(Industry_PGAssessment=\"Count\",Industry_Segment=Database!$O$119),VLOOKUP($C42,Industry_PGCount,Database!$S$44,FALSE),IF(AND(Industry_PGAssessment=\"Count\",Industry_Segment=Database!$T$95),VLOOKUP($C42,Industry_PGCount,Database!$X$44,FALSE),IF(AND(Industry_PGAssessment=\"Count\",Industry_Segment=Database!$Y$95),VLOOKUP($C42,Industry_PGCount,Database!$AC$44,FALSE),IF(AND(Industry_PGAssessment=\"Count\",Industry_Segment=Database!$AD$95),VLOOKUP($C42,Industry_PGCount,Database!$AH$44,FALSE),\n\nIF(AND(Industry_PGAssessment=\"Impact\",Industry_Segment=Database!$O$119),VLOOKUP($C42,Industry_PGImpact,Database!$S$44,FALSE),IF(AND(Industry_PGAssessment=\"Impact\",Industry_Segment=Database!$T$119),VLOOKUP($C42,Industry_PGImpact,Database!$X$44,FALSE),IF(AND(Industry_PGAssessment=\"Impact\",Industry_Segment=Database!$Y$95),VLOOKUP($C42,Industry_PGImpact,Database!$AC$44,FALSE),IF(AND(Industry_PGAssessment=\"Impact\",Industry_Segment=Database!$AD$119),VLOOKUP($C42,Industry_PGImpact,Database!$AH$44,FALSE),\"Check\"))))))))))","v":""},{"$f":"IF($C42=\"\",\"\",IF(VLOOKUP($C42,PG_Flag,Database!Z$44,FALSE)=\"\",\"-\",\n\nIF(AND(Industry_PGAssessment=\"Count\",Industry_Segment=Database!$O$119),VLOOKUP($C42,Industry_PGCount,Database!$S$44,FALSE),IF(AND(Industry_PGAssessment=\"Count\",Industry_Segment=Database!$T$95),VLOOKUP($C42,Industry_PGCount,Database!$X$44,FALSE),IF(AND(Industry_PGAssessment=\"Count\",Industry_Segment=Database!$Y$95),VLOOKUP($C42,Industry_PGCount,Database!$AC$44,FALSE),IF(AND(Industry_PGAssessment=\"Count\",Industry_Segment=Database!$AD$95),VLOOKUP($C42,Industry_PGCount,Database!$AH$44,FALSE),\n\nIF(AND(Industry_PGAssessment=\"Impact\",Industry_Segment=Database!$O$119),VLOOKUP($C42,Industry_PGImpact,Database!$S$44,FALSE),IF(AND(Industry_PGAssessment=\"Impact\",Industry_Segment=Database!$T$119),VLOOKUP($C42,Industry_PGImpact,Database!$X$44,FALSE),IF(AND(Industry_PGAssessment=\"Impact\",Industry_Segment=Database!$Y$95),VLOOKUP($C42,Industry_PGImpact,Database!$AC$44,FALSE),IF(AND(Industry_PGAssessment=\"Impact\",Industry_Segment=Database!$AD$119),VLOOKUP($C42,Industry_PGImpact,Database!$AH$44,FALSE),\"Check\"))))))))))","v":""},null,{"$f":"IF($C42=\"\",\"\",IF(VLOOKUP($C42,PG_Flag,Database!AA$44,FALSE)=\"\",\"-\",\n\nIF(AND(Industry_PGAssessment=\"Count\",Industry_Segment=Database!$O$119),VLOOKUP($C42,Industry_PGCount,Database!$S$44,FALSE),IF(AND(Industry_PGAssessment=\"Count\",Industry_Segment=Database!$T$95),VLOOKUP($C42,Industry_PGCount,Database!$X$44,FALSE),IF(AND(Industry_PGAssessment=\"Count\",Industry_Segment=Database!$Y$95),VLOOKUP($C42,Industry_PGCount,Database!$AC$44,FALSE),IF(AND(Industry_PGAssessment=\"Count\",Industry_Segment=Database!$AD$95),VLOOKUP($C42,Industry_PGCount,Database!$AH$44,FALSE),\n\nIF(AND(Industry_PGAssessment=\"Impact\",Industry_Segment=Database!$O$119),VLOOKUP($C42,Industry_PGImpact,Database!$S$44,FALSE),IF(AND(Industry_PGAssessment=\"Impact\",Industry_Segment=Database!$T$119),VLOOKUP($C42,Industry_PGImpact,Database!$X$44,FALSE),IF(AND(Industry_PGAssessment=\"Impact\",Industry_Segment=Database!$Y$95),VLOOKUP($C42,Industry_PGImpact,Database!$AC$44,FALSE),IF(AND(Industry_PGAssessment=\"Impact\",Industry_Segment=Database!$AD$119),VLOOKUP($C42,Industry_PGImpact,Database!$AH$44,FALSE),\"Check\"))))))))))","v":""},null,{"$f":"IF($C42=\"\",\"\",IF(VLOOKUP($C42,PG_Flag,Database!AB$44,FALSE)=\"\",\"-\",\n\nIF(AND(Industry_PGAssessment=\"Count\",Industry_Segment=Database!$O$119),VLOOKUP($C42,Industry_PGCount,Database!$S$44,FALSE),IF(AND(Industry_PGAssessment=\"Count\",Industry_Segment=Database!$T$95),VLOOKUP($C42,Industry_PGCount,Database!$X$44,FALSE),IF(AND(Industry_PGAssessment=\"Count\",Industry_Segment=Database!$Y$95),VLOOKUP($C42,Industry_PGCount,Database!$AC$44,FALSE),IF(AND(Industry_PGAssessment=\"Count\",Industry_Segment=Database!$AD$95),VLOOKUP($C42,Industry_PGCount,Database!$AH$44,FALSE),\n\nIF(AND(Industry_PGAssessment=\"Impact\",Industry_Segment=Database!$O$119),VLOOKUP($C42,Industry_PGImpact,Database!$S$44,FALSE),IF(AND(Industry_PGAssessment=\"Impact\",Industry_Segment=Database!$T$119),VLOOKUP($C42,Industry_PGImpact,Database!$X$44,FALSE),IF(AND(Industry_PGAssessment=\"Impact\",Industry_Segment=Database!$Y$95),VLOOKUP($C42,Industry_PGImpact,Database!$AC$44,FALSE),IF(AND(Industry_PGAssessment=\"Impact\",Industry_Segment=Database!$AD$119),VLOOKUP($C42,Industry_PGImpact,Database!$AH$44,FALSE),\"Check\"))))))))))","v":""},null,{"$f":"IF($C42=\"\",\"\",IF(VLOOKUP($C42,PG_Flag,Database!AC$44,FALSE)=\"\",\"-\",\n\nIF(AND(Industry_PGAssessment=\"Count\",Industry_Segment=Database!$O$119),VLOOKUP($C42,Industry_PGCount,Database!$S$44,FALSE),IF(AND(Industry_PGAssessment=\"Count\",Industry_Segment=Database!$T$95),VLOOKUP($C42,Industry_PGCount,Database!$X$44,FALSE),IF(AND(Industry_PGAssessment=\"Count\",Industry_Segment=Database!$Y$95),VLOOKUP($C42,Industry_PGCount,Database!$AC$44,FALSE),IF(AND(Industry_PGAssessment=\"Count\",Industry_Segment=Database!$AD$95),VLOOKUP($C42,Industry_PGCount,Database!$AH$44,FALSE),\n\nIF(AND(Industry_PGAssessment=\"Impact\",Industry_Segment=Database!$O$119),VLOOKUP($C42,Industry_PGImpact,Database!$S$44,FALSE),IF(AND(Industry_PGAssessment=\"Impact\",Industry_Segment=Database!$T$119),VLOOKUP($C42,Industry_PGImpact,Database!$X$44,FALSE),IF(AND(Industry_PGAssessment=\"Impact\",Industry_Segment=Database!$Y$95),VLOOKUP($C42,Industry_PGImpact,Database!$AC$44,FALSE),IF(AND(Industry_PGAssessment=\"Impact\",Industry_Segment=Database!$AD$119),VLOOKUP($C42,Industry_PGImpact,Database!$AH$44,FALSE),\"Check\"))))))))))","v":""}]
[null,null,"IT Solution Delivery",{"$f":"IF(SUM(D44:D63)>=(Database!$U$25*VLOOKUP(Industry_Segment,Industry_SegmentAdjust,Database!$O$44,FALSE)),\"R\",IF(SUM(D44:D63)<(Database!$V$25*VLOOKUP(Industry_Segment,Industry_SegmentAdjust,Database!$O$44,FALSE)),\"G\",\"A\"))","v":"R"},{"$f":"IF(SUM(E44:E63)>=(Database!$U$25*VLOOKUP(Industry_Segment,Industry_SegmentAdjust,Database!$O$44,FALSE)),\"R\",IF(SUM(E44:E63)<(Database!$V$25*VLOOKUP(Industry_Segment,Industry_SegmentAdjust,Database!$O$44,FALSE)),\"G\",\"A\"))","v":"R"},{"$f":"IF(SUM(F44:F63)>=(Database!$U$25*VLOOKUP(Industry_Segment,Industry_SegmentAdjust,Database!$O$44,FALSE)),\"R\",IF(SUM(F44:F63)<(Database!$V$25*VLOOKUP(Industry_Segment,Industry_SegmentAdjust,Database!$O$44,FALSE)),\"G\",\"A\"))","v":"R"},{"$f":"IF(SUM(G44:G63)>=(Database!$U$25*VLOOKUP(Industry_Segment,Industry_SegmentAdjust,Database!$O$44,FALSE)),\"R\",IF(SUM(G44:G63)<(Database!$V$25*VLOOKUP(Industry_Segment,Industry_SegmentAdjust,Database!$O$44,FALSE)),\"G\",\"A\"))","v":"R"},{"$f":"IF(SUM(H44:H63)>=(Database!$U$25*VLOOKUP(Industry_Segment,Industry_SegmentAdjust,Database!$O$44,FALSE)),\"R\",IF(SUM(H44:H63)<(Database!$V$25*VLOOKUP(Industry_Segment,Industry_SegmentAdjust,Database!$O$44,FALSE)),\"G\",\"A\"))","v":"R"},{"$f":"IF(SUM(I44:I63)>=(Database!$U$25*VLOOKUP(Industry_Segment,Industry_SegmentAdjust,Database!$O$44,FALSE)),\"R\",IF(SUM(I44:I63)<(Database!$V$25*VLOOKUP(Industry_Segment,Industry_SegmentAdjust,Database!$O$44,FALSE)),\"G\",\"A\"))","v":"R"},{"$f":"IF(SUM(J44:J63)>=(Database!$U$25*VLOOKUP(Industry_Segment,Industry_SegmentAdjust,Database!$O$44,FALSE)),\"R\",IF(SUM(J44:J63)<(Database!$V$25*VLOOKUP(Industry_Segment,Industry_SegmentAdjust,Database!$O$44,FALSE)),\"G\",\"A\"))","v":"R"},{"$f":"IF(SUM(K44:K63)>=(Database!$U$25*VLOOKUP(Industry_Segment,Industry_SegmentAdjust,Database!$O$44,FALSE)),\"R\",IF(SUM(K44:K63)<(Database!$V$25*VLOOKUP(Industry_Segment,Industry_SegmentAdjust,Database!$O$44,FALSE)),\"G\",\"A\"))","v":"R"},{"$f":"IF(SUM(L44:M63)>=(Database!$U$25*VLOOKUP(Industry_Segment,Industry_SegmentAdjust,Database!$O$44,FALSE)),\"R\",IF(SUM(L44:M63)<(Database!$V$25*VLOOKUP(Industry_Segment,Industry_SegmentAdjust,Database!$O$44,FALSE)),\"G\",\"A\"))","v":"R"},null,{"$f":"IF(SUM(N44:O63)>=(Database!$U$25*VLOOKUP(Industry_Segment,Industry_SegmentAdjust,Database!$O$44,FALSE)),\"R\",IF(SUM(N44:O63)<(Database!$V$25*VLOOKUP(Industry_Segment,Industry_SegmentAdjust,Database!$O$44,FALSE)),\"G\",\"A\"))","v":"R"},null,{"$f":"IF(SUM(P44:Q63)>=(Database!$U$25*VLOOKUP(Industry_Segment,Industry_SegmentAdjust,Database!$O$44,FALSE)),\"R\",IF(SUM(P44:Q63)<(Database!$V$25*VLOOKUP(Industry_Segment,Industry_SegmentAdjust,Database!$O$44,FALSE)),\"G\",\"A\"))","v":"G"},null,{"$f":"IF(SUM(R44:S63)>=(Database!$U$25*VLOOKUP(Industry_Segment,Industry_SegmentAdjust,Database!$O$44,FALSE)),\"R\",IF(SUM(R44:S63)<(Database!$V$25*VLOOKUP(Industry_Segment,Industry_SegmentAdjust,Database!$O$44,FALSE)),\"G\",\"A\"))","v":"G"}]
[null,null,{"$f":"IF(Database!C48=\"\",\"\",Database!C48)","v":"I - SCADA Lite"},{"$f":"IF($C44=\"\",\"\",IF(VLOOKUP($C44,IT_Flag,Database!R$44,FALSE)=\"\",\"-\",IF(Industry_Segment=Database!$N$193,VLOOKUP($C44,Industry_IT,Database!$S$44,FALSE),IF(Industry_Segment=Database!$O$193,VLOOKUP($C44,Industry_IT,Database!$X$44,FALSE),IF(Industry_Segment=Database!$Q$193,VLOOKUP($C44,Industry_IT,Database!$AC$44,FALSE),IF(Industry_Segment=Database!$S$193,VLOOKUP($C44,Industry_IT,Database!$AH$44,FALSE),\"-\"))))))","v":1},{"$f":"IF($C44=\"\",\"\",IF(VLOOKUP($C44,IT_Flag,Database!S$44,FALSE)=\"\",\"-\",IF(Industry_Segment=Database!$N$193,VLOOKUP($C44,Industry_IT,Database!$S$44,FALSE),IF(Industry_Segment=Database!$O$193,VLOOKUP($C44,Industry_IT,Database!$X$44,FALSE),IF(Industry_Segment=Database!$Q$193,VLOOKUP($C44,Industry_IT,Database!$AC$44,FALSE),IF(Industry_Segment=Database!$S$193,VLOOKUP($C44,Industry_IT,Database!$AH$44,FALSE),\"-\"))))))","v":1},{"$f":"IF($C44=\"\",\"\",IF(VLOOKUP($C44,IT_Flag,Database!T$44,FALSE)=\"\",\"-\",IF(Industry_Segment=Database!$N$193,VLOOKUP($C44,Industry_IT,Database!$S$44,FALSE),IF(Industry_Segment=Database!$O$193,VLOOKUP($C44,Industry_IT,Database!$X$44,FALSE),IF(Industry_Segment=Database!$Q$193,VLOOKUP($C44,Industry_IT,Database!$AC$44,FALSE),IF(Industry_Segment=Database!$S$193,VLOOKUP($C44,Industry_IT,Database!$AH$44,FALSE),\"-\"))))))","v":"-"},{"$f":"IF($C44=\"\",\"\",IF(VLOOKUP($C44,IT_Flag,Database!U$44,FALSE)=\"\",\"-\",IF(Industry_Segment=Database!$N$193,VLOOKUP($C44,Industry_IT,Database!$S$44,FALSE),IF(Industry_Segment=Database!$O$193,VLOOKUP($C44,Industry_IT,Database!$X$44,FALSE),IF(Industry_Segment=Database!$Q$193,VLOOKUP($C44,Industry_IT,Database!$AC$44,FALSE),IF(Industry_Segment=Database!$S$193,VLOOKUP($C44,Industry_IT,Database!$AH$44,FALSE),\"-\"))))))","v":"-"},{"$f":"IF($C44=\"\",\"\",IF(VLOOKUP($C44,IT_Flag,Database!V$44,FALSE)=\"\",\"-\",IF(Industry_Segment=Database!$N$193,VLOOKUP($C44,Industry_IT,Database!$S$44,FALSE),IF(Industry_Segment=Database!$O$193,VLOOKUP($C44,Industry_IT,Database!$X$44,FALSE),IF(Industry_Segment=Database!$Q$193,VLOOKUP($C44,Industry_IT,Database!$AC$44,FALSE),IF(Industry_Segment=Database!$S$193,VLOOKUP($C44,Industry_IT,Database!$AH$44,FALSE),\"-\"))))))","v":"-"},{"$f":"IF($C44=\"\",\"\",IF(VLOOKUP($C44,IT_Flag,Database!W$44,FALSE)=\"\",\"-\",IF(Industry_Segment=Database!$N$193,VLOOKUP($C44,Industry_IT,Database!$S$44,FALSE),IF(Industry_Segment=Database!$O$193,VLOOKUP($C44,Industry_IT,Database!$X$44,FALSE),IF(Industry_Segment=Database!$Q$193,VLOOKUP($C44,Industry_IT,Database!$AC$44,FALSE),IF(Industry_Segment=Database!$S$193,VLOOKUP($C44,Industry_IT,Database!$AH$44,FALSE),\"-\"))))))","v":"-"},{"$f":"IF($C44=\"\",\"\",IF(VLOOKUP($C44,IT_Flag,Database!X$44,FALSE)=\"\",\"-\",IF(Industry_Segment=Database!$N$193,VLOOKUP($C44,Industry_IT,Database!$S$44,FALSE),IF(Industry_Segment=Database!$O$193,VLOOKUP($C44,Industry_IT,Database!$X$44,FALSE),IF(Industry_Segment=Database!$Q$193,VLOOKUP($C44,Industry_IT,Database!$AC$44,FALSE),IF(Industry_Segment=Database!$S$193,VLOOKUP($C44,Industry_IT,Database!$AH$44,FALSE),\"-\"))))))","v":"-"},{"$f":"IF($C44=\"\",\"\",IF(VLOOKUP($C44,IT_Flag,Database!Y$44,FALSE)=\"\",\"-\",IF(Industry_Segment=Database!$N$193,VLOOKUP($C44,Industry_IT,Database!$S$44,FALSE),IF(Industry_Segment=Database!$O$193,VLOOKUP($C44,Industry_IT,Database!$X$44,FALSE),IF(Industry_Segment=Database!$Q$193,VLOOKUP($C44,Industry_IT,Database!$AC$44,FALSE),IF(Industry_Segment=Database!$S$193,VLOOKUP($C44,Industry_IT,Database!$AH$44,FALSE),\"-\"))))))","v":"-"},{"$f":"IF($C44=\"\",\"\",IF(VLOOKUP($C44,IT_Flag,Database!Z$44,FALSE)=\"\",\"-\",IF(Industry_Segment=Database!$N$193,VLOOKUP($C44,Industry_IT,Database!$S$44,FALSE),IF(Industry_Segment=Database!$O$193,VLOOKUP($C44,Industry_IT,Database!$X$44,FALSE),IF(Industry_Segment=Database!$Q$193,VLOOKUP($C44,Industry_IT,Database!$AC$44,FALSE),IF(Industry_Segment=Database!$S$193,VLOOKUP($C44,Industry_IT,Database!$AH$44,FALSE),\"-\"))))))","v":"-"},null,{"$f":"IF($C44=\"\",\"\",IF(VLOOKUP($C44,IT_Flag,Database!AA$44,FALSE)=\"\",\"-\",IF(Industry_Segment=Database!$N$193,VLOOKUP($C44,Industry_IT,Database!$S$44,FALSE),IF(Industry_Segment=Database!$O$193,VLOOKUP($C44,Industry_IT,Database!$X$44,FALSE),IF(Industry_Segment=Database!$Q$193,VLOOKUP($C44,Industry_IT,Database!$AC$44,FALSE),IF(Industry_Segment=Database!$S$193,VLOOKUP($C44,Industry_IT,Database!$AH$44,FALSE),\"-\"))))))","v":"-"},null,{"$f":"IF($C44=\"\",\"\",IF(VLOOKUP($C44,IT_Flag,Database!AB$44,FALSE)=\"\",\"-\",IF(Industry_Segment=Database!$N$193,VLOOKUP($C44,Industry_IT,Database!$S$44,FALSE),IF(Industry_Segment=Database!$O$193,VLOOKUP($C44,Industry_IT,Database!$X$44,FALSE),IF(Industry_Segment=Database!$Q$193,VLOOKUP($C44,Industry_IT,Database!$AC$44,FALSE),IF(Industry_Segment=Database!$S$193,VLOOKUP($C44,Industry_IT,Database!$AH$44,FALSE),\"-\"))))))","v":"-"},null,{"$f":"IF($C44=\"\",\"\",IF(VLOOKUP($C44,IT_Flag,Database!AC$44,FALSE)=\"\",\"-\",IF(Industry_Segment=Database!$N$193,VLOOKUP($C44,Industry_IT,Database!$S$44,FALSE),IF(Industry_Segment=Database!$O$193,VLOOKUP($C44,Industry_IT,Database!$X$44,FALSE),IF(Industry_Segment=Database!$Q$193,VLOOKUP($C44,Industry_IT,Database!$AC$44,FALSE),IF(Industry_Segment=Database!$S$193,VLOOKUP($C44,Industry_IT,Database!$AH$44,FALSE),\"-\"))))))","v":"-"}]
[null,null,{"$f":"IF(Database!C49=\"\",\"\",Database!C49)","v":"I - Frequency Performance Payments"},{"$f":"IF($C45=\"\",\"\",IF(VLOOKUP($C45,IT_Flag,Database!R$44,FALSE)=\"\",\"-\",IF(Industry_Segment=Database!$N$193,VLOOKUP($C45,Industry_IT,Database!$S$44,FALSE),IF(Industry_Segment=Database!$O$193,VLOOKUP($C45,Industry_IT,Database!$X$44,FALSE),IF(Industry_Segment=Database!$Q$193,VLOOKUP($C45,Industry_IT,Database!$AC$44,FALSE),IF(Industry_Segment=Database!$S$193,VLOOKUP($C45,Industry_IT,Database!$AH$44,FALSE),\"-\"))))))","v":3.3333333333333335},{"$f":"IF($C45=\"\",\"\",IF(VLOOKUP($C45,IT_Flag,Database!S$44,FALSE)=\"\",\"-\",IF(Industry_Segment=Database!$N$193,VLOOKUP($C45,Industry_IT,Database!$S$44,FALSE),IF(Industry_Segment=Database!$O$193,VLOOKUP($C45,Industry_IT,Database!$X$44,FALSE),IF(Industry_Segment=Database!$Q$193,VLOOKUP($C45,Industry_IT,Database!$AC$44,FALSE),IF(Industry_Segment=Database!$S$193,VLOOKUP($C45,Industry_IT,Database!$AH$44,FALSE),\"-\"))))))","v":"-"},{"$f":"IF($C45=\"\",\"\",IF(VLOOKUP($C45,IT_Flag,Database!T$44,FALSE)=\"\",\"-\",IF(Industry_Segment=Database!$N$193,VLOOKUP($C45,Industry_IT,Database!$S$44,FALSE),IF(Industry_Segment=Database!$O$193,VLOOKUP($C45,Industry_IT,Database!$X$44,FALSE),IF(Industry_Segment=Database!$Q$193,VLOOKUP($C45,Industry_IT,Database!$AC$44,FALSE),IF(Industry_Segment=Database!$S$193,VLOOKUP($C45,Industry_IT,Database!$AH$44,FALSE),\"-\"))))))","v":"-"},{"$f":"IF($C45=\"\",\"\",IF(VLOOKUP($C45,IT_Flag,Database!U$44,FALSE)=\"\",\"-\",IF(Industry_Segment=Database!$N$193,VLOOKUP($C45,Industry_IT,Database!$S$44,FALSE),IF(Industry_Segment=Database!$O$193,VLOOKUP($C45,Industry_IT,Database!$X$44,FALSE),IF(Industry_Segment=Database!$Q$193,VLOOKUP($C45,Industry_IT,Database!$AC$44,FALSE),IF(Industry_Segment=Database!$S$193,VLOOKUP($C45,Industry_IT,Database!$AH$44,FALSE),\"-\"))))))","v":"-"},{"$f":"IF($C45=\"\",\"\",IF(VLOOKUP($C45,IT_Flag,Database!V$44,FALSE)=\"\",\"-\",IF(Industry_Segment=Database!$N$193,VLOOKUP($C45,Industry_IT,Database!$S$44,FALSE),IF(Industry_Segment=Database!$O$193,VLOOKUP($C45,Industry_IT,Database!$X$44,FALSE),IF(Industry_Segment=Database!$Q$193,VLOOKUP($C45,Industry_IT,Database!$AC$44,FALSE),IF(Industry_Segment=Database!$S$193,VLOOKUP($C45,Industry_IT,Database!$AH$44,FALSE),\"-\"))))))","v":"-"},{"$f":"IF($C45=\"\",\"\",IF(VLOOKUP($C45,IT_Flag,Database!W$44,FALSE)=\"\",\"-\",IF(Industry_Segment=Database!$N$193,VLOOKUP($C45,Industry_IT,Database!$S$44,FALSE),IF(Industry_Segment=Database!$O$193,VLOOKUP($C45,Industry_IT,Database!$X$44,FALSE),IF(Industry_Segment=Database!$Q$193,VLOOKUP($C45,Industry_IT,Database!$AC$44,FALSE),IF(Industry_Segment=Database!$S$193,VLOOKUP($C45,Industry_IT,Database!$AH$44,FALSE),\"-\"))))))","v":"-"},{"$f":"IF($C45=\"\",\"\",IF(VLOOKUP($C45,IT_Flag,Database!X$44,FALSE)=\"\",\"-\",IF(Industry_Segment=Database!$N$193,VLOOKUP($C45,Industry_IT,Database!$S$44,FALSE),IF(Industry_Segment=Database!$O$193,VLOOKUP($C45,Industry_IT,Database!$X$44,FALSE),IF(Industry_Segment=Database!$Q$193,VLOOKUP($C45,Industry_IT,Database!$AC$44,FALSE),IF(Industry_Segment=Database!$S$193,VLOOKUP($C45,Industry_IT,Database!$AH$44,FALSE),\"-\"))))))","v":"-"},{"$f":"IF($C45=\"\",\"\",IF(VLOOKUP($C45,IT_Flag,Database!Y$44,FALSE)=\"\",\"-\",IF(Industry_Segment=Database!$N$193,VLOOKUP($C45,Industry_IT,Database!$S$44,FALSE),IF(Industry_Segment=Database!$O$193,VLOOKUP($C45,Industry_IT,Database!$X$44,FALSE),IF(Industry_Segment=Database!$Q$193,VLOOKUP($C45,Industry_IT,Database!$AC$44,FALSE),IF(Industry_Segment=Database!$S$193,VLOOKUP($C45,Industry_IT,Database!$AH$44,FALSE),\"-\"))))))","v":"-"},{"$f":"IF($C45=\"\",\"\",IF(VLOOKUP($C45,IT_Flag,Database!Z$44,FALSE)=\"\",\"-\",IF(Industry_Segment=Database!$N$193,VLOOKUP($C45,Industry_IT,Database!$S$44,FALSE),IF(Industry_Segment=Database!$O$193,VLOOKUP($C45,Industry_IT,Database!$X$44,FALSE),IF(Industry_Segment=Database!$Q$193,VLOOKUP($C45,Industry_IT,Database!$AC$44,FALSE),IF(Industry_Segment=Database!$S$193,VLOOKUP($C45,Industry_IT,Database!$AH$44,FALSE),\"-\"))))))","v":"-"},null,{"$f":"IF($C45=\"\",\"\",IF(VLOOKUP($C45,IT_Flag,Database!AA$44,FALSE)=\"\",\"-\",IF(Industry_Segment=Database!$N$193,VLOOKUP($C45,Industry_IT,Database!$S$44,FALSE),IF(Industry_Segment=Database!$O$193,VLOOKUP($C45,Industry_IT,Database!$X$44,FALSE),IF(Industry_Segment=Database!$Q$193,VLOOKUP($C45,Industry_IT,Database!$AC$44,FALSE),IF(Industry_Segment=Database!$S$193,VLOOKUP($C45,Industry_IT,Database!$AH$44,FALSE),\"-\"))))))","v":"-"},null,{"$f":"IF($C45=\"\",\"\",IF(VLOOKUP($C45,IT_Flag,Database!AB$44,FALSE)=\"\",\"-\",IF(Industry_Segment=Database!$N$193,VLOOKUP($C45,Industry_IT,Database!$S$44,FALSE),IF(Industry_Segment=Database!$O$193,VLOOKUP($C45,Industry_IT,Database!$X$44,FALSE),IF(Industry_Segment=Database!$Q$193,VLOOKUP($C45,Industry_IT,Database!$AC$44,FALSE),IF(Industry_Segment=Database!$S$193,VLOOKUP($C45,Industry_IT,Database!$AH$44,FALSE),\"-\"))))))","v":"-"},null,{"$f":"IF($C45=\"\",\"\",IF(VLOOKUP($C45,IT_Flag,Database!AC$44,FALSE)=\"\",\"-\",IF(Industry_Segment=Database!$N$193,VLOOKUP($C45,Industry_IT,Database!$S$44,FALSE),IF(Industry_Segment=Database!$O$193,VLOOKUP($C45,Industry_IT,Database!$X$44,FALSE),IF(Industry_Segment=Database!$Q$193,VLOOKUP($C45,Industry_IT,Database!$AC$44,FALSE),IF(Industry_Segment=Database!$S$193,VLOOKUP($C45,Industry_IT,Database!$AH$44,FALSE),\"-\"))))))","v":"-"}]
[null,null,{"$f":"IF(Database!C50=\"\",\"\",Database!C50)","v":"I - Enhancing Reserve Information"},{"$f":"IF($C46=\"\",\"\",IF(VLOOKUP($C46,IT_Flag,Database!R$44,FALSE)=\"\",\"-\",IF(Industry_Segment=Database!$N$193,VLOOKUP($C46,Industry_IT,Database!$S$44,FALSE),IF(Industry_Segment=Database!$O$193,VLOOKUP($C46,Industry_IT,Database!$X$44,FALSE),IF(Industry_Segment=Database!$Q$193,VLOOKUP($C46,Industry_IT,Database!$AC$44,FALSE),IF(Industry_Segment=Database!$S$193,VLOOKUP($C46,Industry_IT,Database!$AH$44,FALSE),\"-\"))))))","v":1},{"$f":"IF($C46=\"\",\"\",IF(VLOOKUP($C46,IT_Flag,Database!S$44,FALSE)=\"\",\"-\",IF(Industry_Segment=Database!$N$193,VLOOKUP($C46,Industry_IT,Database!$S$44,FALSE),IF(Industry_Segment=Database!$O$193,VLOOKUP($C46,Industry_IT,Database!$X$44,FALSE),IF(Industry_Segment=Database!$Q$193,VLOOKUP($C46,Industry_IT,Database!$AC$44,FALSE),IF(Industry_Segment=Database!$S$193,VLOOKUP($C46,Industry_IT,Database!$AH$44,FALSE),\"-\"))))))","v":1},{"$f":"IF($C46=\"\",\"\",IF(VLOOKUP($C46,IT_Flag,Database!T$44,FALSE)=\"\",\"-\",IF(Industry_Segment=Database!$N$193,VLOOKUP($C46,Industry_IT,Database!$S$44,FALSE),IF(Industry_Segment=Database!$O$193,VLOOKUP($C46,Industry_IT,Database!$X$44,FALSE),IF(Industry_Segment=Database!$Q$193,VLOOKUP($C46,Industry_IT,Database!$AC$44,FALSE),IF(Industry_Segment=Database!$S$193,VLOOKUP($C46,Industry_IT,Database!$AH$44,FALSE),\"-\"))))))","v":"-"},{"$f":"IF($C46=\"\",\"\",IF(VLOOKUP($C46,IT_Flag,Database!U$44,FALSE)=\"\",\"-\",IF(Industry_Segment=Database!$N$193,VLOOKUP($C46,Industry_IT,Database!$S$44,FALSE),IF(Industry_Segment=Database!$O$193,VLOOKUP($C46,Industry_IT,Database!$X$44,FALSE),IF(Industry_Segment=Database!$Q$193,VLOOKUP($C46,Industry_IT,Database!$AC$44,FALSE),IF(Industry_Segment=Database!$S$193,VLOOKUP($C46,Industry_IT,Database!$AH$44,FALSE),\"-\"))))))","v":"-"},{"$f":"IF($C46=\"\",\"\",IF(VLOOKUP($C46,IT_Flag,Database!V$44,FALSE)=\"\",\"-\",IF(Industry_Segment=Database!$N$193,VLOOKUP($C46,Industry_IT,Database!$S$44,FALSE),IF(Industry_Segment=Database!$O$193,VLOOKUP($C46,Industry_IT,Database!$X$44,FALSE),IF(Industry_Segment=Database!$Q$193,VLOOKUP($C46,Industry_IT,Database!$AC$44,FALSE),IF(Industry_Segment=Database!$S$193,VLOOKUP($C46,Industry_IT,Database!$AH$44,FALSE),\"-\"))))))","v":"-"},{"$f":"IF($C46=\"\",\"\",IF(VLOOKUP($C46,IT_Flag,Database!W$44,FALSE)=\"\",\"-\",IF(Industry_Segment=Database!$N$193,VLOOKUP($C46,Industry_IT,Database!$S$44,FALSE),IF(Industry_Segment=Database!$O$193,VLOOKUP($C46,Industry_IT,Database!$X$44,FALSE),IF(Industry_Segment=Database!$Q$193,VLOOKUP($C46,Industry_IT,Database!$AC$44,FALSE),IF(Industry_Segment=Database!$S$193,VLOOKUP($C46,Industry_IT,Database!$AH$44,FALSE),\"-\"))))))","v":"-"},{"$f":"IF($C46=\"\",\"\",IF(VLOOKUP($C46,IT_Flag,Database!X$44,FALSE)=\"\",\"-\",IF(Industry_Segment=Database!$N$193,VLOOKUP($C46,Industry_IT,Database!$S$44,FALSE),IF(Industry_Segment=Database!$O$193,VLOOKUP($C46,Industry_IT,Database!$X$44,FALSE),IF(Industry_Segment=Database!$Q$193,VLOOKUP($C46,Industry_IT,Database!$AC$44,FALSE),IF(Industry_Segment=Database!$S$193,VLOOKUP($C46,Industry_IT,Database!$AH$44,FALSE),\"-\"))))))","v":"-"},{"$f":"IF($C46=\"\",\"\",IF(VLOOKUP($C46,IT_Flag,Database!Y$44,FALSE)=\"\",\"-\",IF(Industry_Segment=Database!$N$193,VLOOKUP($C46,Industry_IT,Database!$S$44,FALSE),IF(Industry_Segment=Database!$O$193,VLOOKUP($C46,Industry_IT,Database!$X$44,FALSE),IF(Industry_Segment=Database!$Q$193,VLOOKUP($C46,Industry_IT,Database!$AC$44,FALSE),IF(Industry_Segment=Database!$S$193,VLOOKUP($C46,Industry_IT,Database!$AH$44,FALSE),\"-\"))))))","v":"-"},{"$f":"IF($C46=\"\",\"\",IF(VLOOKUP($C46,IT_Flag,Database!Z$44,FALSE)=\"\",\"-\",IF(Industry_Segment=Database!$N$193,VLOOKUP($C46,Industry_IT,Database!$S$44,FALSE),IF(Industry_Segment=Database!$O$193,VLOOKUP($C46,Industry_IT,Database!$X$44,FALSE),IF(Industry_Segment=Database!$Q$193,VLOOKUP($C46,Industry_IT,Database!$AC$44,FALSE),IF(Industry_Segment=Database!$S$193,VLOOKUP($C46,Industry_IT,Database!$AH$44,FALSE),\"-\"))))))","v":"-"},null,{"$f":"IF($C46=\"\",\"\",IF(VLOOKUP($C46,IT_Flag,Database!AA$44,FALSE)=\"\",\"-\",IF(Industry_Segment=Database!$N$193,VLOOKUP($C46,Industry_IT,Database!$S$44,FALSE),IF(Industry_Segment=Database!$O$193,VLOOKUP($C46,Industry_IT,Database!$X$44,FALSE),IF(Industry_Segment=Database!$Q$193,VLOOKUP($C46,Industry_IT,Database!$AC$44,FALSE),IF(Industry_Segment=Database!$S$193,VLOOKUP($C46,Industry_IT,Database!$AH$44,FALSE),\"-\"))))))","v":"-"},null,{"$f":"IF($C46=\"\",\"\",IF(VLOOKUP($C46,IT_Flag,Database!AB$44,FALSE)=\"\",\"-\",IF(Industry_Segment=Database!$N$193,VLOOKUP($C46,Industry_IT,Database!$S$44,FALSE),IF(Industry_Segment=Database!$O$193,VLOOKUP($C46,Industry_IT,Database!$X$44,FALSE),IF(Industry_Segment=Database!$Q$193,VLOOKUP($C46,Industry_IT,Database!$AC$44,FALSE),IF(Industry_Segment=Database!$S$193,VLOOKUP($C46,Industry_IT,Database!$AH$44,FALSE),\"-\"))))))","v":"-"},null,{"$f":"IF($C46=\"\",\"\",IF(VLOOKUP($C46,IT_Flag,Database!AC$44,FALSE)=\"\",\"-\",IF(Industry_Segment=Database!$N$193,VLOOKUP($C46,Industry_IT,Database!$S$44,FALSE),IF(Industry_Segment=Database!$O$193,VLOOKUP($C46,Industry_IT,Database!$X$44,FALSE),IF(Industry_Segment=Database!$Q$193,VLOOKUP($C46,Industry_IT,Database!$AC$44,FALSE),IF(Industry_Segment=Database!$S$193,VLOOKUP($C46,Industry_IT,Database!$AH$44,FALSE),\"-\"))))))","v":"-"}]
[null,null,{"$f":"IF(Database!C51=\"\",\"\",Database!C51)","v":"I - ST PASA Procedure & Recall Period"},{"$f":"IF($C47=\"\",\"\",IF(VLOOKUP($C47,IT_Flag,Database!R$44,FALSE)=\"\",\"-\",IF(Industry_Segment=Database!$N$193,VLOOKUP($C47,Industry_IT,Database!$S$44,FALSE),IF(Industry_Segment=Database!$O$193,VLOOKUP($C47,Industry_IT,Database!$X$44,FALSE),IF(Industry_Segment=Database!$Q$193,VLOOKUP($C47,Industry_IT,Database!$AC$44,FALSE),IF(Industry_Segment=Database!$S$193,VLOOKUP($C47,Industry_IT,Database!$AH$44,FALSE),\"-\"))))))","v":1.3333333333333333},{"$f":"IF($C47=\"\",\"\",IF(VLOOKUP($C47,IT_Flag,Database!S$44,FALSE)=\"\",\"-\",IF(Industry_Segment=Database!$N$193,VLOOKUP($C47,Industry_IT,Database!$S$44,FALSE),IF(Industry_Segment=Database!$O$193,VLOOKUP($C47,Industry_IT,Database!$X$44,FALSE),IF(Industry_Segment=Database!$Q$193,VLOOKUP($C47,Industry_IT,Database!$AC$44,FALSE),IF(Industry_Segment=Database!$S$193,VLOOKUP($C47,Industry_IT,Database!$AH$44,FALSE),\"-\"))))))","v":"-"},{"$f":"IF($C47=\"\",\"\",IF(VLOOKUP($C47,IT_Flag,Database!T$44,FALSE)=\"\",\"-\",IF(Industry_Segment=Database!$N$193,VLOOKUP($C47,Industry_IT,Database!$S$44,FALSE),IF(Industry_Segment=Database!$O$193,VLOOKUP($C47,Industry_IT,Database!$X$44,FALSE),IF(Industry_Segment=Database!$Q$193,VLOOKUP($C47,Industry_IT,Database!$AC$44,FALSE),IF(Industry_Segment=Database!$S$193,VLOOKUP($C47,Industry_IT,Database!$AH$44,FALSE),\"-\"))))))","v":"-"},{"$f":"IF($C47=\"\",\"\",IF(VLOOKUP($C47,IT_Flag,Database!U$44,FALSE)=\"\",\"-\",IF(Industry_Segment=Database!$N$193,VLOOKUP($C47,Industry_IT,Database!$S$44,FALSE),IF(Industry_Segment=Database!$O$193,VLOOKUP($C47,Industry_IT,Database!$X$44,FALSE),IF(Industry_Segment=Database!$Q$193,VLOOKUP($C47,Industry_IT,Database!$AC$44,FALSE),IF(Industry_Segment=Database!$S$193,VLOOKUP($C47,Industry_IT,Database!$AH$44,FALSE),\"-\"))))))","v":"-"},{"$f":"IF($C47=\"\",\"\",IF(VLOOKUP($C47,IT_Flag,Database!V$44,FALSE)=\"\",\"-\",IF(Industry_Segment=Database!$N$193,VLOOKUP($C47,Industry_IT,Database!$S$44,FALSE),IF(Industry_Segment=Database!$O$193,VLOOKUP($C47,Industry_IT,Database!$X$44,FALSE),IF(Industry_Segment=Database!$Q$193,VLOOKUP($C47,Industry_IT,Database!$AC$44,FALSE),IF(Industry_Segment=Database!$S$193,VLOOKUP($C47,Industry_IT,Database!$AH$44,FALSE),\"-\"))))))","v":"-"},{"$f":"IF($C47=\"\",\"\",IF(VLOOKUP($C47,IT_Flag,Database!W$44,FALSE)=\"\",\"-\",IF(Industry_Segment=Database!$N$193,VLOOKUP($C47,Industry_IT,Database!$S$44,FALSE),IF(Industry_Segment=Database!$O$193,VLOOKUP($C47,Industry_IT,Database!$X$44,FALSE),IF(Industry_Segment=Database!$Q$193,VLOOKUP($C47,Industry_IT,Database!$AC$44,FALSE),IF(Industry_Segment=Database!$S$193,VLOOKUP($C47,Industry_IT,Database!$AH$44,FALSE),\"-\"))))))","v":"-"},{"$f":"IF($C47=\"\",\"\",IF(VLOOKUP($C47,IT_Flag,Database!X$44,FALSE)=\"\",\"-\",IF(Industry_Segment=Database!$N$193,VLOOKUP($C47,Industry_IT,Database!$S$44,FALSE),IF(Industry_Segment=Database!$O$193,VLOOKUP($C47,Industry_IT,Database!$X$44,FALSE),IF(Industry_Segment=Database!$Q$193,VLOOKUP($C47,Industry_IT,Database!$AC$44,FALSE),IF(Industry_Segment=Database!$S$193,VLOOKUP($C47,Industry_IT,Database!$AH$44,FALSE),\"-\"))))))","v":"-"},{"$f":"IF($C47=\"\",\"\",IF(VLOOKUP($C47,IT_Flag,Database!Y$44,FALSE)=\"\",\"-\",IF(Industry_Segment=Database!$N$193,VLOOKUP($C47,Industry_IT,Database!$S$44,FALSE),IF(Industry_Segment=Database!$O$193,VLOOKUP($C47,Industry_IT,Database!$X$44,FALSE),IF(Industry_Segment=Database!$Q$193,VLOOKUP($C47,Industry_IT,Database!$AC$44,FALSE),IF(Industry_Segment=Database!$S$193,VLOOKUP($C47,Industry_IT,Database!$AH$44,FALSE),\"-\"))))))","v":"-"},{"$f":"IF($C47=\"\",\"\",IF(VLOOKUP($C47,IT_Flag,Database!Z$44,FALSE)=\"\",\"-\",IF(Industry_Segment=Database!$N$193,VLOOKUP($C47,Industry_IT,Database!$S$44,FALSE),IF(Industry_Segment=Database!$O$193,VLOOKUP($C47,Industry_IT,Database!$X$44,FALSE),IF(Industry_Segment=Database!$Q$193,VLOOKUP($C47,Industry_IT,Database!$AC$44,FALSE),IF(Industry_Segment=Database!$S$193,VLOOKUP($C47,Industry_IT,Database!$AH$44,FALSE),\"-\"))))))","v":"-"},null,{"$f":"IF($C47=\"\",\"\",IF(VLOOKUP($C47,IT_Flag,Database!AA$44,FALSE)=\"\",\"-\",IF(Industry_Segment=Database!$N$193,VLOOKUP($C47,Industry_IT,Database!$S$44,FALSE),IF(Industry_Segment=Database!$O$193,VLOOKUP($C47,Industry_IT,Database!$X$44,FALSE),IF(Industry_Segment=Database!$Q$193,VLOOKUP($C47,Industry_IT,Database!$AC$44,FALSE),IF(Industry_Segment=Database!$S$193,VLOOKUP($C47,Industry_IT,Database!$AH$44,FALSE),\"-\"))))))","v":"-"},null,{"$f":"IF($C47=\"\",\"\",IF(VLOOKUP($C47,IT_Flag,Database!AB$44,FALSE)=\"\",\"-\",IF(Industry_Segment=Database!$N$193,VLOOKUP($C47,Industry_IT,Database!$S$44,FALSE),IF(Industry_Segment=Database!$O$193,VLOOKUP($C47,Industry_IT,Database!$X$44,FALSE),IF(Industry_Segment=Database!$Q$193,VLOOKUP($C47,Industry_IT,Database!$AC$44,FALSE),IF(Industry_Segment=Database!$S$193,VLOOKUP($C47,Industry_IT,Database!$AH$44,FALSE),\"-\"))))))","v":"-"},null,{"$f":"IF($C47=\"\",\"\",IF(VLOOKUP($C47,IT_Flag,Database!AC$44,FALSE)=\"\",\"-\",IF(Industry_Segment=Database!$N$193,VLOOKUP($C47,Industry_IT,Database!$S$44,FALSE),IF(Industry_Segment=Database!$O$193,VLOOKUP($C47,Industry_IT,Database!$X$44,FALSE),IF(Industry_Segment=Database!$Q$193,VLOOKUP($C47,Industry_IT,Database!$AC$44,FALSE),IF(Industry_Segment=Database!$S$193,VLOOKUP($C47,Industry_IT,Database!$AH$44,FALSE),\"-\"))))))","v":"-"}]
[null,null,{"$f":"IF(Database!C52=\"\",\"\",Database!C52)","v":"I - Improving Security Frameworks"},{"$f":"IF($C48=\"\",\"\",IF(VLOOKUP($C48,IT_Flag,Database!R$44,FALSE)=\"\",\"-\",IF(Industry_Segment=Database!$N$193,VLOOKUP($C48,Industry_IT,Database!$S$44,FALSE),IF(Industry_Segment=Database!$O$193,VLOOKUP($C48,Industry_IT,Database!$X$44,FALSE),IF(Industry_Segment=Database!$Q$193,VLOOKUP($C48,Industry_IT,Database!$AC$44,FALSE),IF(Industry_Segment=Database!$S$193,VLOOKUP($C48,Industry_IT,Database!$AH$44,FALSE),\"-\"))))))","v":3},{"$f":"IF($C48=\"\",\"\",IF(VLOOKUP($C48,IT_Flag,Database!S$44,FALSE)=\"\",\"-\",IF(Industry_Segment=Database!$N$193,VLOOKUP($C48,Industry_IT,Database!$S$44,FALSE),IF(Industry_Segment=Database!$O$193,VLOOKUP($C48,Industry_IT,Database!$X$44,FALSE),IF(Industry_Segment=Database!$Q$193,VLOOKUP($C48,Industry_IT,Database!$AC$44,FALSE),IF(Industry_Segment=Database!$S$193,VLOOKUP($C48,Industry_IT,Database!$AH$44,FALSE),\"-\"))))))","v":3},{"$f":"IF($C48=\"\",\"\",IF(VLOOKUP($C48,IT_Flag,Database!T$44,FALSE)=\"\",\"-\",IF(Industry_Segment=Database!$N$193,VLOOKUP($C48,Industry_IT,Database!$S$44,FALSE),IF(Industry_Segment=Database!$O$193,VLOOKUP($C48,Industry_IT,Database!$X$44,FALSE),IF(Industry_Segment=Database!$Q$193,VLOOKUP($C48,Industry_IT,Database!$AC$44,FALSE),IF(Industry_Segment=Database!$S$193,VLOOKUP($C48,Industry_IT,Database!$AH$44,FALSE),\"-\"))))))","v":3},{"$f":"IF($C48=\"\",\"\",IF(VLOOKUP($C48,IT_Flag,Database!U$44,FALSE)=\"\",\"-\",IF(Industry_Segment=Database!$N$193,VLOOKUP($C48,Industry_IT,Database!$S$44,FALSE),IF(Industry_Segment=Database!$O$193,VLOOKUP($C48,Industry_IT,Database!$X$44,FALSE),IF(Industry_Segment=Database!$Q$193,VLOOKUP($C48,Industry_IT,Database!$AC$44,FALSE),IF(Industry_Segment=Database!$S$193,VLOOKUP($C48,Industry_IT,Database!$AH$44,FALSE),\"-\"))))))","v":3},{"$f":"IF($C48=\"\",\"\",IF(VLOOKUP($C48,IT_Flag,Database!V$44,FALSE)=\"\",\"-\",IF(Industry_Segment=Database!$N$193,VLOOKUP($C48,Industry_IT,Database!$S$44,FALSE),IF(Industry_Segment=Database!$O$193,VLOOKUP($C48,Industry_IT,Database!$X$44,FALSE),IF(Industry_Segment=Database!$Q$193,VLOOKUP($C48,Industry_IT,Database!$AC$44,FALSE),IF(Industry_Segment=Database!$S$193,VLOOKUP($C48,Industry_IT,Database!$AH$44,FALSE),\"-\"))))))","v":"-"},{"$f":"IF($C48=\"\",\"\",IF(VLOOKUP($C48,IT_Flag,Database!W$44,FALSE)=\"\",\"-\",IF(Industry_Segment=Database!$N$193,VLOOKUP($C48,Industry_IT,Database!$S$44,FALSE),IF(Industry_Segment=Database!$O$193,VLOOKUP($C48,Industry_IT,Database!$X$44,FALSE),IF(Industry_Segment=Database!$Q$193,VLOOKUP($C48,Industry_IT,Database!$AC$44,FALSE),IF(Industry_Segment=Database!$S$193,VLOOKUP($C48,Industry_IT,Database!$AH$44,FALSE),\"-\"))))))","v":"-"},{"$f":"IF($C48=\"\",\"\",IF(VLOOKUP($C48,IT_Flag,Database!X$44,FALSE)=\"\",\"-\",IF(Industry_Segment=Database!$N$193,VLOOKUP($C48,Industry_IT,Database!$S$44,FALSE),IF(Industry_Segment=Database!$O$193,VLOOKUP($C48,Industry_IT,Database!$X$44,FALSE),IF(Industry_Segment=Database!$Q$193,VLOOKUP($C48,Industry_IT,Database!$AC$44,FALSE),IF(Industry_Segment=Database!$S$193,VLOOKUP($C48,Industry_IT,Database!$AH$44,FALSE),\"-\"))))))","v":"-"},{"$f":"IF($C48=\"\",\"\",IF(VLOOKUP($C48,IT_Flag,Database!Y$44,FALSE)=\"\",\"-\",IF(Industry_Segment=Database!$N$193,VLOOKUP($C48,Industry_IT,Database!$S$44,FALSE),IF(Industry_Segment=Database!$O$193,VLOOKUP($C48,Industry_IT,Database!$X$44,FALSE),IF(Industry_Segment=Database!$Q$193,VLOOKUP($C48,Industry_IT,Database!$AC$44,FALSE),IF(Industry_Segment=Database!$S$193,VLOOKUP($C48,Industry_IT,Database!$AH$44,FALSE),\"-\"))))))","v":"-"},{"$f":"IF($C48=\"\",\"\",IF(VLOOKUP($C48,IT_Flag,Database!Z$44,FALSE)=\"\",\"-\",IF(Industry_Segment=Database!$N$193,VLOOKUP($C48,Industry_IT,Database!$S$44,FALSE),IF(Industry_Segment=Database!$O$193,VLOOKUP($C48,Industry_IT,Database!$X$44,FALSE),IF(Industry_Segment=Database!$Q$193,VLOOKUP($C48,Industry_IT,Database!$AC$44,FALSE),IF(Industry_Segment=Database!$S$193,VLOOKUP($C48,Industry_IT,Database!$AH$44,FALSE),\"-\"))))))","v":"-"},null,{"$f":"IF($C48=\"\",\"\",IF(VLOOKUP($C48,IT_Flag,Database!AA$44,FALSE)=\"\",\"-\",IF(Industry_Segment=Database!$N$193,VLOOKUP($C48,Industry_IT,Database!$S$44,FALSE),IF(Industry_Segment=Database!$O$193,VLOOKUP($C48,Industry_IT,Database!$X$44,FALSE),IF(Industry_Segment=Database!$Q$193,VLOOKUP($C48,Industry_IT,Database!$AC$44,FALSE),IF(Industry_Segment=Database!$S$193,VLOOKUP($C48,Industry_IT,Database!$AH$44,FALSE),\"-\"))))))","v":"-"},null,{"$f":"IF($C48=\"\",\"\",IF(VLOOKUP($C48,IT_Flag,Database!AB$44,FALSE)=\"\",\"-\",IF(Industry_Segment=Database!$N$193,VLOOKUP($C48,Industry_IT,Database!$S$44,FALSE),IF(Industry_Segment=Database!$O$193,VLOOKUP($C48,Industry_IT,Database!$X$44,FALSE),IF(Industry_Segment=Database!$Q$193,VLOOKUP($C48,Industry_IT,Database!$AC$44,FALSE),IF(Industry_Segment=Database!$S$193,VLOOKUP($C48,Industry_IT,Database!$AH$44,FALSE),\"-\"))))))","v":"-"},null,{"$f":"IF($C48=\"\",\"\",IF(VLOOKUP($C48,IT_Flag,Database!AC$44,FALSE)=\"\",\"-\",IF(Industry_Segment=Database!$N$193,VLOOKUP($C48,Industry_IT,Database!$S$44,FALSE),IF(Industry_Segment=Database!$O$193,VLOOKUP($C48,Industry_IT,Database!$X$44,FALSE),IF(Industry_Segment=Database!$Q$193,VLOOKUP($C48,Industry_IT,Database!$AC$44,FALSE),IF(Industry_Segment=Database!$S$193,VLOOKUP($C48,Industry_IT,Database!$AH$44,FALSE),\"-\"))))))","v":"-"}]
[null,null,{"$f":"IF(Database!C53=\"\",\"\",Database!C53)","v":"I - Unlocking CER Benefits Through Flexible Trading"},{"$f":"IF($C49=\"\",\"\",IF(VLOOKUP($C49,IT_Flag,Database!R$44,FALSE)=\"\",\"-\",IF(Industry_Segment=Database!$N$193,VLOOKUP($C49,Industry_IT,Database!$S$44,FALSE),IF(Industry_Segment=Database!$O$193,VLOOKUP($C49,Industry_IT,Database!$X$44,FALSE),IF(Industry_Segment=Database!$Q$193,VLOOKUP($C49,Industry_IT,Database!$AC$44,FALSE),IF(Industry_Segment=Database!$S$193,VLOOKUP($C49,Industry_IT,Database!$AH$44,FALSE),\"-\"))))))","v":"-"},{"$f":"IF($C49=\"\",\"\",IF(VLOOKUP($C49,IT_Flag,Database!S$44,FALSE)=\"\",\"-\",IF(Industry_Segment=Database!$N$193,VLOOKUP($C49,Industry_IT,Database!$S$44,FALSE),IF(Industry_Segment=Database!$O$193,VLOOKUP($C49,Industry_IT,Database!$X$44,FALSE),IF(Industry_Segment=Database!$Q$193,VLOOKUP($C49,Industry_IT,Database!$AC$44,FALSE),IF(Industry_Segment=Database!$S$193,VLOOKUP($C49,Industry_IT,Database!$AH$44,FALSE),\"-\"))))))","v":"-"},{"$f":"IF($C49=\"\",\"\",IF(VLOOKUP($C49,IT_Flag,Database!T$44,FALSE)=\"\",\"-\",IF(Industry_Segment=Database!$N$193,VLOOKUP($C49,Industry_IT,Database!$S$44,FALSE),IF(Industry_Segment=Database!$O$193,VLOOKUP($C49,Industry_IT,Database!$X$44,FALSE),IF(Industry_Segment=Database!$Q$193,VLOOKUP($C49,Industry_IT,Database!$AC$44,FALSE),IF(Industry_Segment=Database!$S$193,VLOOKUP($C49,Industry_IT,Database!$AH$44,FALSE),\"-\"))))))","v":3},{"$f":"IF($C49=\"\",\"\",IF(VLOOKUP($C49,IT_Flag,Database!U$44,FALSE)=\"\",\"-\",IF(Industry_Segment=Database!$N$193,VLOOKUP($C49,Industry_IT,Database!$S$44,FALSE),IF(Industry_Segment=Database!$O$193,VLOOKUP($C49,Industry_IT,Database!$X$44,FALSE),IF(Industry_Segment=Database!$Q$193,VLOOKUP($C49,Industry_IT,Database!$AC$44,FALSE),IF(Industry_Segment=Database!$S$193,VLOOKUP($C49,Industry_IT,Database!$AH$44,FALSE),\"-\"))))))","v":3},{"$f":"IF($C49=\"\",\"\",IF(VLOOKUP($C49,IT_Flag,Database!V$44,FALSE)=\"\",\"-\",IF(Industry_Segment=Database!$N$193,VLOOKUP($C49,Industry_IT,Database!$S$44,FALSE),IF(Industry_Segment=Database!$O$193,VLOOKUP($C49,Industry_IT,Database!$X$44,FALSE),IF(Industry_Segment=Database!$Q$193,VLOOKUP($C49,Industry_IT,Database!$AC$44,FALSE),IF(Industry_Segment=Database!$S$193,VLOOKUP($C49,Industry_IT,Database!$AH$44,FALSE),\"-\"))))))","v":3},{"$f":"IF($C49=\"\",\"\",IF(VLOOKUP($C49,IT_Flag,Database!W$44,FALSE)=\"\",\"-\",IF(Industry_Segment=Database!$N$193,VLOOKUP($C49,Industry_IT,Database!$S$44,FALSE),IF(Industry_Segment=Database!$O$193,VLOOKUP($C49,Industry_IT,Database!$X$44,FALSE),IF(Industry_Segment=Database!$Q$193,VLOOKUP($C49,Industry_IT,Database!$AC$44,FALSE),IF(Industry_Segment=Database!$S$193,VLOOKUP($C49,Industry_IT,Database!$AH$44,FALSE),\"-\"))))))","v":3},{"$f":"IF($C49=\"\",\"\",IF(VLOOKUP($C49,IT_Flag,Database!X$44,FALSE)=\"\",\"-\",IF(Industry_Segment=Database!$N$193,VLOOKUP($C49,Industry_IT,Database!$S$44,FALSE),IF(Industry_Segment=Database!$O$193,VLOOKUP($C49,Industry_IT,Database!$X$44,FALSE),IF(Industry_Segment=Database!$Q$193,VLOOKUP($C49,Industry_IT,Database!$AC$44,FALSE),IF(Industry_Segment=Database!$S$193,VLOOKUP($C49,Industry_IT,Database!$AH$44,FALSE),\"-\"))))))","v":3},{"$f":"IF($C49=\"\",\"\",IF(VLOOKUP($C49,IT_Flag,Database!Y$44,FALSE)=\"\",\"-\",IF(Industry_Segment=Database!$N$193,VLOOKUP($C49,Industry_IT,Database!$S$44,FALSE),IF(Industry_Segment=Database!$O$193,VLOOKUP($C49,Industry_IT,Database!$X$44,FALSE),IF(Industry_Segment=Database!$Q$193,VLOOKUP($C49,Industry_IT,Database!$AC$44,FALSE),IF(Industry_Segment=Database!$S$193,VLOOKUP($C49,Industry_IT,Database!$AH$44,FALSE),\"-\"))))))","v":"-"},{"$f":"IF($C49=\"\",\"\",IF(VLOOKUP($C49,IT_Flag,Database!Z$44,FALSE)=\"\",\"-\",IF(Industry_Segment=Database!$N$193,VLOOKUP($C49,Industry_IT,Database!$S$44,FALSE),IF(Industry_Segment=Database!$O$193,VLOOKUP($C49,Industry_IT,Database!$X$44,FALSE),IF(Industry_Segment=Database!$Q$193,VLOOKUP($C49,Industry_IT,Database!$AC$44,FALSE),IF(Industry_Segment=Database!$S$193,VLOOKUP($C49,Industry_IT,Database!$AH$44,FALSE),\"-\"))))))","v":"-"},null,{"$f":"IF($C49=\"\",\"\",IF(VLOOKUP($C49,IT_Flag,Database!AA$44,FALSE)=\"\",\"-\",IF(Industry_Segment=Database!$N$193,VLOOKUP($C49,Industry_IT,Database!$S$44,FALSE),IF(Industry_Segment=Database!$O$193,VLOOKUP($C49,Industry_IT,Database!$X$44,FALSE),IF(Industry_Segment=Database!$Q$193,VLOOKUP($C49,Industry_IT,Database!$AC$44,FALSE),IF(Industry_Segment=Database!$S$193,VLOOKUP($C49,Industry_IT,Database!$AH$44,FALSE),\"-\"))))))","v":"-"},null,{"$f":"IF($C49=\"\",\"\",IF(VLOOKUP($C49,IT_Flag,Database!AB$44,FALSE)=\"\",\"-\",IF(Industry_Segment=Database!$N$193,VLOOKUP($C49,Industry_IT,Database!$S$44,FALSE),IF(Industry_Segment=Database!$O$193,VLOOKUP($C49,Industry_IT,Database!$X$44,FALSE),IF(Industry_Segment=Database!$Q$193,VLOOKUP($C49,Industry_IT,Database!$AC$44,FALSE),IF(Industry_Segment=Database!$S$193,VLOOKUP($C49,Industry_IT,Database!$AH$44,FALSE),\"-\"))))))","v":"-"},null,{"$f":"IF($C49=\"\",\"\",IF(VLOOKUP($C49,IT_Flag,Database!AC$44,FALSE)=\"\",\"-\",IF(Industry_Segment=Database!$N$193,VLOOKUP($C49,Industry_IT,Database!$S$44,FALSE),IF(Industry_Segment=Database!$O$193,VLOOKUP($C49,Industry_IT,Database!$X$44,FALSE),IF(Industry_Segment=Database!$Q$193,VLOOKUP($C49,Industry_IT,Database!$AC$44,FALSE),IF(Industry_Segment=Database!$S$193,VLOOKUP($C49,Industry_IT,Database!$AH$44,FALSE),\"-\"))))))","v":"-"}]
[null,null,{"$f":"IF(Database!C54=\"\",\"\",Database!C54)","v":"I - MSR (Accelerating Smart Meter Deployment - Package 1 & 2)"},{"$f":"IF($C50=\"\",\"\",IF(VLOOKUP($C50,IT_Flag,Database!R$44,FALSE)=\"\",\"-\",IF(Industry_Segment=Database!$N$193,VLOOKUP($C50,Industry_IT,Database!$S$44,FALSE),IF(Industry_Segment=Database!$O$193,VLOOKUP($C50,Industry_IT,Database!$X$44,FALSE),IF(Industry_Segment=Database!$Q$193,VLOOKUP($C50,Industry_IT,Database!$AC$44,FALSE),IF(Industry_Segment=Database!$S$193,VLOOKUP($C50,Industry_IT,Database!$AH$44,FALSE),\"-\"))))))","v":2.3333333333333335},{"$f":"IF($C50=\"\",\"\",IF(VLOOKUP($C50,IT_Flag,Database!S$44,FALSE)=\"\",\"-\",IF(Industry_Segment=Database!$N$193,VLOOKUP($C50,Industry_IT,Database!$S$44,FALSE),IF(Industry_Segment=Database!$O$193,VLOOKUP($C50,Industry_IT,Database!$X$44,FALSE),IF(Industry_Segment=Database!$Q$193,VLOOKUP($C50,Industry_IT,Database!$AC$44,FALSE),IF(Industry_Segment=Database!$S$193,VLOOKUP($C50,Industry_IT,Database!$AH$44,FALSE),\"-\"))))))","v":2.3333333333333335},{"$f":"IF($C50=\"\",\"\",IF(VLOOKUP($C50,IT_Flag,Database!T$44,FALSE)=\"\",\"-\",IF(Industry_Segment=Database!$N$193,VLOOKUP($C50,Industry_IT,Database!$S$44,FALSE),IF(Industry_Segment=Database!$O$193,VLOOKUP($C50,Industry_IT,Database!$X$44,FALSE),IF(Industry_Segment=Database!$Q$193,VLOOKUP($C50,Industry_IT,Database!$AC$44,FALSE),IF(Industry_Segment=Database!$S$193,VLOOKUP($C50,Industry_IT,Database!$AH$44,FALSE),\"-\"))))))","v":2.3333333333333335},{"$f":"IF($C50=\"\",\"\",IF(VLOOKUP($C50,IT_Flag,Database!U$44,FALSE)=\"\",\"-\",IF(Industry_Segment=Database!$N$193,VLOOKUP($C50,Industry_IT,Database!$S$44,FALSE),IF(Industry_Segment=Database!$O$193,VLOOKUP($C50,Industry_IT,Database!$X$44,FALSE),IF(Industry_Segment=Database!$Q$193,VLOOKUP($C50,Industry_IT,Database!$AC$44,FALSE),IF(Industry_Segment=Database!$S$193,VLOOKUP($C50,Industry_IT,Database!$AH$44,FALSE),\"-\"))))))","v":"-"},{"$f":"IF($C50=\"\",\"\",IF(VLOOKUP($C50,IT_Flag,Database!V$44,FALSE)=\"\",\"-\",IF(Industry_Segment=Database!$N$193,VLOOKUP($C50,Industry_IT,Database!$S$44,FALSE),IF(Industry_Segment=Database!$O$193,VLOOKUP($C50,Industry_IT,Database!$X$44,FALSE),IF(Industry_Segment=Database!$Q$193,VLOOKUP($C50,Industry_IT,Database!$AC$44,FALSE),IF(Industry_Segment=Database!$S$193,VLOOKUP($C50,Industry_IT,Database!$AH$44,FALSE),\"-\"))))))","v":"-"},{"$f":"IF($C50=\"\",\"\",IF(VLOOKUP($C50,IT_Flag,Database!W$44,FALSE)=\"\",\"-\",IF(Industry_Segment=Database!$N$193,VLOOKUP($C50,Industry_IT,Database!$S$44,FALSE),IF(Industry_Segment=Database!$O$193,VLOOKUP($C50,Industry_IT,Database!$X$44,FALSE),IF(Industry_Segment=Database!$Q$193,VLOOKUP($C50,Industry_IT,Database!$AC$44,FALSE),IF(Industry_Segment=Database!$S$193,VLOOKUP($C50,Industry_IT,Database!$AH$44,FALSE),\"-\"))))))","v":"-"},{"$f":"IF($C50=\"\",\"\",IF(VLOOKUP($C50,IT_Flag,Database!X$44,FALSE)=\"\",\"-\",IF(Industry_Segment=Database!$N$193,VLOOKUP($C50,Industry_IT,Database!$S$44,FALSE),IF(Industry_Segment=Database!$O$193,VLOOKUP($C50,Industry_IT,Database!$X$44,FALSE),IF(Industry_Segment=Database!$Q$193,VLOOKUP($C50,Industry_IT,Database!$AC$44,FALSE),IF(Industry_Segment=Database!$S$193,VLOOKUP($C50,Industry_IT,Database!$AH$44,FALSE),\"-\"))))))","v":"-"},{"$f":"IF($C50=\"\",\"\",IF(VLOOKUP($C50,IT_Flag,Database!Y$44,FALSE)=\"\",\"-\",IF(Industry_Segment=Database!$N$193,VLOOKUP($C50,Industry_IT,Database!$S$44,FALSE),IF(Industry_Segment=Database!$O$193,VLOOKUP($C50,Industry_IT,Database!$X$44,FALSE),IF(Industry_Segment=Database!$Q$193,VLOOKUP($C50,Industry_IT,Database!$AC$44,FALSE),IF(Industry_Segment=Database!$S$193,VLOOKUP($C50,Industry_IT,Database!$AH$44,FALSE),\"-\"))))))","v":"-"},{"$f":"IF($C50=\"\",\"\",IF(VLOOKUP($C50,IT_Flag,Database!Z$44,FALSE)=\"\",\"-\",IF(Industry_Segment=Database!$N$193,VLOOKUP($C50,Industry_IT,Database!$S$44,FALSE),IF(Industry_Segment=Database!$O$193,VLOOKUP($C50,Industry_IT,Database!$X$44,FALSE),IF(Industry_Segment=Database!$Q$193,VLOOKUP($C50,Industry_IT,Database!$AC$44,FALSE),IF(Industry_Segment=Database!$S$193,VLOOKUP($C50,Industry_IT,Database!$AH$44,FALSE),\"-\"))))))","v":"-"},null,{"$f":"IF($C50=\"\",\"\",IF(VLOOKUP($C50,IT_Flag,Database!AA$44,FALSE)=\"\",\"-\",IF(Industry_Segment=Database!$N$193,VLOOKUP($C50,Industry_IT,Database!$S$44,FALSE),IF(Industry_Segment=Database!$O$193,VLOOKUP($C50,Industry_IT,Database!$X$44,FALSE),IF(Industry_Segment=Database!$Q$193,VLOOKUP($C50,Industry_IT,Database!$AC$44,FALSE),IF(Industry_Segment=Database!$S$193,VLOOKUP($C50,Industry_IT,Database!$AH$44,FALSE),\"-\"))))))","v":"-"},null,{"$f":"IF($C50=\"\",\"\",IF(VLOOKUP($C50,IT_Flag,Database!AB$44,FALSE)=\"\",\"-\",IF(Industry_Segment=Database!$N$193,VLOOKUP($C50,Industry_IT,Database!$S$44,FALSE),IF(Industry_Segment=Database!$O$193,VLOOKUP($C50,Industry_IT,Database!$X$44,FALSE),IF(Industry_Segment=Database!$Q$193,VLOOKUP($C50,Industry_IT,Database!$AC$44,FALSE),IF(Industry_Segment=Database!$S$193,VLOOKUP($C50,Industry_IT,Database!$AH$44,FALSE),\"-\"))))))","v":"-"},null,{"$f":"IF($C50=\"\",\"\",IF(VLOOKUP($C50,IT_Flag,Database!AC$44,FALSE)=\"\",\"-\",IF(Industry_Segment=Database!$N$193,VLOOKUP($C50,Industry_IT,Database!$S$44,FALSE),IF(Industry_Segment=Database!$O$193,VLOOKUP($C50,Industry_IT,Database!$X$44,FALSE),IF(Industry_Segment=Database!$Q$193,VLOOKUP($C50,Industry_IT,Database!$AC$44,FALSE),IF(Industry_Segment=Database!$S$193,VLOOKUP($C50,Industry_IT,Database!$AH$44,FALSE),\"-\"))))))","v":"-"}]
[null,null,{"$f":"IF(Database!C55=\"\",\"\",Database!C55)","v":"I - Shortening the Settlement Cycle"},{"$f":"IF($C51=\"\",\"\",IF(VLOOKUP($C51,IT_Flag,Database!R$44,FALSE)=\"\",\"-\",IF(Industry_Segment=Database!$N$193,VLOOKUP($C51,Industry_IT,Database!$S$44,FALSE),IF(Industry_Segment=Database!$O$193,VLOOKUP($C51,Industry_IT,Database!$X$44,FALSE),IF(Industry_Segment=Database!$Q$193,VLOOKUP($C51,Industry_IT,Database!$AC$44,FALSE),IF(Industry_Segment=Database!$S$193,VLOOKUP($C51,Industry_IT,Database!$AH$44,FALSE),\"-\"))))))","v":"-"},{"$f":"IF($C51=\"\",\"\",IF(VLOOKUP($C51,IT_Flag,Database!S$44,FALSE)=\"\",\"-\",IF(Industry_Segment=Database!$N$193,VLOOKUP($C51,Industry_IT,Database!$S$44,FALSE),IF(Industry_Segment=Database!$O$193,VLOOKUP($C51,Industry_IT,Database!$X$44,FALSE),IF(Industry_Segment=Database!$Q$193,VLOOKUP($C51,Industry_IT,Database!$AC$44,FALSE),IF(Industry_Segment=Database!$S$193,VLOOKUP($C51,Industry_IT,Database!$AH$44,FALSE),\"-\"))))))","v":2.6666666666666665},{"$f":"IF($C51=\"\",\"\",IF(VLOOKUP($C51,IT_Flag,Database!T$44,FALSE)=\"\",\"-\",IF(Industry_Segment=Database!$N$193,VLOOKUP($C51,Industry_IT,Database!$S$44,FALSE),IF(Industry_Segment=Database!$O$193,VLOOKUP($C51,Industry_IT,Database!$X$44,FALSE),IF(Industry_Segment=Database!$Q$193,VLOOKUP($C51,Industry_IT,Database!$AC$44,FALSE),IF(Industry_Segment=Database!$S$193,VLOOKUP($C51,Industry_IT,Database!$AH$44,FALSE),\"-\"))))))","v":2.6666666666666665},{"$f":"IF($C51=\"\",\"\",IF(VLOOKUP($C51,IT_Flag,Database!U$44,FALSE)=\"\",\"-\",IF(Industry_Segment=Database!$N$193,VLOOKUP($C51,Industry_IT,Database!$S$44,FALSE),IF(Industry_Segment=Database!$O$193,VLOOKUP($C51,Industry_IT,Database!$X$44,FALSE),IF(Industry_Segment=Database!$Q$193,VLOOKUP($C51,Industry_IT,Database!$AC$44,FALSE),IF(Industry_Segment=Database!$S$193,VLOOKUP($C51,Industry_IT,Database!$AH$44,FALSE),\"-\"))))))","v":2.6666666666666665},{"$f":"IF($C51=\"\",\"\",IF(VLOOKUP($C51,IT_Flag,Database!V$44,FALSE)=\"\",\"-\",IF(Industry_Segment=Database!$N$193,VLOOKUP($C51,Industry_IT,Database!$S$44,FALSE),IF(Industry_Segment=Database!$O$193,VLOOKUP($C51,Industry_IT,Database!$X$44,FALSE),IF(Industry_Segment=Database!$Q$193,VLOOKUP($C51,Industry_IT,Database!$AC$44,FALSE),IF(Industry_Segment=Database!$S$193,VLOOKUP($C51,Industry_IT,Database!$AH$44,FALSE),\"-\"))))))","v":2.6666666666666665},{"$f":"IF($C51=\"\",\"\",IF(VLOOKUP($C51,IT_Flag,Database!W$44,FALSE)=\"\",\"-\",IF(Industry_Segment=Database!$N$193,VLOOKUP($C51,Industry_IT,Database!$S$44,FALSE),IF(Industry_Segment=Database!$O$193,VLOOKUP($C51,Industry_IT,Database!$X$44,FALSE),IF(Industry_Segment=Database!$Q$193,VLOOKUP($C51,Industry_IT,Database!$AC$44,FALSE),IF(Industry_Segment=Database!$S$193,VLOOKUP($C51,Industry_IT,Database!$AH$44,FALSE),\"-\"))))))","v":2.6666666666666665},{"$f":"IF($C51=\"\",\"\",IF(VLOOKUP($C51,IT_Flag,Database!X$44,FALSE)=\"\",\"-\",IF(Industry_Segment=Database!$N$193,VLOOKUP($C51,Industry_IT,Database!$S$44,FALSE),IF(Industry_Segment=Database!$O$193,VLOOKUP($C51,Industry_IT,Database!$X$44,FALSE),IF(Industry_Segment=Database!$Q$193,VLOOKUP($C51,Industry_IT,Database!$AC$44,FALSE),IF(Industry_Segment=Database!$S$193,VLOOKUP($C51,Industry_IT,Database!$AH$44,FALSE),\"-\"))))))","v":"-"},{"$f":"IF($C51=\"\",\"\",IF(VLOOKUP($C51,IT_Flag,Database!Y$44,FALSE)=\"\",\"-\",IF(Industry_Segment=Database!$N$193,VLOOKUP($C51,Industry_IT,Database!$S$44,FALSE),IF(Industry_Segment=Database!$O$193,VLOOKUP($C51,Industry_IT,Database!$X$44,FALSE),IF(Industry_Segment=Database!$Q$193,VLOOKUP($C51,Industry_IT,Database!$AC$44,FALSE),IF(Industry_Segment=Database!$S$193,VLOOKUP($C51,Industry_IT,Database!$AH$44,FALSE),\"-\"))))))","v":"-"},{"$f":"IF($C51=\"\",\"\",IF(VLOOKUP($C51,IT_Flag,Database!Z$44,FALSE)=\"\",\"-\",IF(Industry_Segment=Database!$N$193,VLOOKUP($C51,Industry_IT,Database!$S$44,FALSE),IF(Industry_Segment=Database!$O$193,VLOOKUP($C51,Industry_IT,Database!$X$44,FALSE),IF(Industry_Segment=Database!$Q$193,VLOOKUP($C51,Industry_IT,Database!$AC$44,FALSE),IF(Industry_Segment=Database!$S$193,VLOOKUP($C51,Industry_IT,Database!$AH$44,FALSE),\"-\"))))))","v":"-"},null,{"$f":"IF($C51=\"\",\"\",IF(VLOOKUP($C51,IT_Flag,Database!AA$44,FALSE)=\"\",\"-\",IF(Industry_Segment=Database!$N$193,VLOOKUP($C51,Industry_IT,Database!$S$44,FALSE),IF(Industry_Segment=Database!$O$193,VLOOKUP($C51,Industry_IT,Database!$X$44,FALSE),IF(Industry_Segment=Database!$Q$193,VLOOKUP($C51,Industry_IT,Database!$AC$44,FALSE),IF(Industry_Segment=Database!$S$193,VLOOKUP($C51,Industry_IT,Database!$AH$44,FALSE),\"-\"))))))","v":"-"},null,{"$f":"IF($C51=\"\",\"\",IF(VLOOKUP($C51,IT_Flag,Database!AB$44,FALSE)=\"\",\"-\",IF(Industry_Segment=Database!$N$193,VLOOKUP($C51,Industry_IT,Database!$S$44,FALSE),IF(Industry_Segment=Database!$O$193,VLOOKUP($C51,Industry_IT,Database!$X$44,FALSE),IF(Industry_Segment=Database!$Q$193,VLOOKUP($C51,Industry_IT,Database!$AC$44,FALSE),IF(Industry_Segment=Database!$S$193,VLOOKUP($C51,Industry_IT,Database!$AH$44,FALSE),\"-\"))))))","v":"-"},null,{"$f":"IF($C51=\"\",\"\",IF(VLOOKUP($C51,IT_Flag,Database!AC$44,FALSE)=\"\",\"-\",IF(Industry_Segment=Database!$N$193,VLOOKUP($C51,Industry_IT,Database!$S$44,FALSE),IF(Industry_Segment=Database!$O$193,VLOOKUP($C51,Industry_IT,Database!$X$44,FALSE),IF(Industry_Segment=Database!$Q$193,VLOOKUP($C51,Industry_IT,Database!$AC$44,FALSE),IF(Industry_Segment=Database!$S$193,VLOOKUP($C51,Industry_IT,Database!$AH$44,FALSE),\"-\"))))))","v":"-"}]
[null,null,{"$f":"IF(Database!C56=\"\",\"\",Database!C56)","v":"I - Integrating Price Responsive Resources into the NEM"},{"$f":"IF($C52=\"\",\"\",IF(VLOOKUP($C52,IT_Flag,Database!R$44,FALSE)=\"\",\"-\",IF(Industry_Segment=Database!$N$193,VLOOKUP($C52,Industry_IT,Database!$S$44,FALSE),IF(Industry_Segment=Database!$O$193,VLOOKUP($C52,Industry_IT,Database!$X$44,FALSE),IF(Industry_Segment=Database!$Q$193,VLOOKUP($C52,Industry_IT,Database!$AC$44,FALSE),IF(Industry_Segment=Database!$S$193,VLOOKUP($C52,Industry_IT,Database!$AH$44,FALSE),\"-\"))))))","v":"-"},{"$f":"IF($C52=\"\",\"\",IF(VLOOKUP($C52,IT_Flag,Database!S$44,FALSE)=\"\",\"-\",IF(Industry_Segment=Database!$N$193,VLOOKUP($C52,Industry_IT,Database!$S$44,FALSE),IF(Industry_Segment=Database!$O$193,VLOOKUP($C52,Industry_IT,Database!$X$44,FALSE),IF(Industry_Segment=Database!$Q$193,VLOOKUP($C52,Industry_IT,Database!$AC$44,FALSE),IF(Industry_Segment=Database!$S$193,VLOOKUP($C52,Industry_IT,Database!$AH$44,FALSE),\"-\"))))))","v":6.333333333333333},{"$f":"IF($C52=\"\",\"\",IF(VLOOKUP($C52,IT_Flag,Database!T$44,FALSE)=\"\",\"-\",IF(Industry_Segment=Database!$N$193,VLOOKUP($C52,Industry_IT,Database!$S$44,FALSE),IF(Industry_Segment=Database!$O$193,VLOOKUP($C52,Industry_IT,Database!$X$44,FALSE),IF(Industry_Segment=Database!$Q$193,VLOOKUP($C52,Industry_IT,Database!$AC$44,FALSE),IF(Industry_Segment=Database!$S$193,VLOOKUP($C52,Industry_IT,Database!$AH$44,FALSE),\"-\"))))))","v":6.333333333333333},{"$f":"IF($C52=\"\",\"\",IF(VLOOKUP($C52,IT_Flag,Database!U$44,FALSE)=\"\",\"-\",IF(Industry_Segment=Database!$N$193,VLOOKUP($C52,Industry_IT,Database!$S$44,FALSE),IF(Industry_Segment=Database!$O$193,VLOOKUP($C52,Industry_IT,Database!$X$44,FALSE),IF(Industry_Segment=Database!$Q$193,VLOOKUP($C52,Industry_IT,Database!$AC$44,FALSE),IF(Industry_Segment=Database!$S$193,VLOOKUP($C52,Industry_IT,Database!$AH$44,FALSE),\"-\"))))))","v":6.333333333333333},{"$f":"IF($C52=\"\",\"\",IF(VLOOKUP($C52,IT_Flag,Database!V$44,FALSE)=\"\",\"-\",IF(Industry_Segment=Database!$N$193,VLOOKUP($C52,Industry_IT,Database!$S$44,FALSE),IF(Industry_Segment=Database!$O$193,VLOOKUP($C52,Industry_IT,Database!$X$44,FALSE),IF(Industry_Segment=Database!$Q$193,VLOOKUP($C52,Industry_IT,Database!$AC$44,FALSE),IF(Industry_Segment=Database!$S$193,VLOOKUP($C52,Industry_IT,Database!$AH$44,FALSE),\"-\"))))))","v":6.333333333333333},{"$f":"IF($C52=\"\",\"\",IF(VLOOKUP($C52,IT_Flag,Database!W$44,FALSE)=\"\",\"-\",IF(Industry_Segment=Database!$N$193,VLOOKUP($C52,Industry_IT,Database!$S$44,FALSE),IF(Industry_Segment=Database!$O$193,VLOOKUP($C52,Industry_IT,Database!$X$44,FALSE),IF(Industry_Segment=Database!$Q$193,VLOOKUP($C52,Industry_IT,Database!$AC$44,FALSE),IF(Industry_Segment=Database!$S$193,VLOOKUP($C52,Industry_IT,Database!$AH$44,FALSE),\"-\"))))))","v":6.333333333333333},{"$f":"IF($C52=\"\",\"\",IF(VLOOKUP($C52,IT_Flag,Database!X$44,FALSE)=\"\",\"-\",IF(Industry_Segment=Database!$N$193,VLOOKUP($C52,Industry_IT,Database!$S$44,FALSE),IF(Industry_Segment=Database!$O$193,VLOOKUP($C52,Industry_IT,Database!$X$44,FALSE),IF(Industry_Segment=Database!$Q$193,VLOOKUP($C52,Industry_IT,Database!$AC$44,FALSE),IF(Industry_Segment=Database!$S$193,VLOOKUP($C52,Industry_IT,Database!$AH$44,FALSE),\"-\"))))))","v":6.333333333333333},{"$f":"IF($C52=\"\",\"\",IF(VLOOKUP($C52,IT_Flag,Database!Y$44,FALSE)=\"\",\"-\",IF(Industry_Segment=Database!$N$193,VLOOKUP($C52,Industry_IT,Database!$S$44,FALSE),IF(Industry_Segment=Database!$O$193,VLOOKUP($C52,Industry_IT,Database!$X$44,FALSE),IF(Industry_Segment=Database!$Q$193,VLOOKUP($C52,Industry_IT,Database!$AC$44,FALSE),IF(Industry_Segment=Database!$S$193,VLOOKUP($C52,Industry_IT,Database!$AH$44,FALSE),\"-\"))))))","v":6.333333333333333},{"$f":"IF($C52=\"\",\"\",IF(VLOOKUP($C52,IT_Flag,Database!Z$44,FALSE)=\"\",\"-\",IF(Industry_Segment=Database!$N$193,VLOOKUP($C52,Industry_IT,Database!$S$44,FALSE),IF(Industry_Segment=Database!$O$193,VLOOKUP($C52,Industry_IT,Database!$X$44,FALSE),IF(Industry_Segment=Database!$Q$193,VLOOKUP($C52,Industry_IT,Database!$AC$44,FALSE),IF(Industry_Segment=Database!$S$193,VLOOKUP($C52,Industry_IT,Database!$AH$44,FALSE),\"-\"))))))","v":6.333333333333333},null,{"$f":"IF($C52=\"\",\"\",IF(VLOOKUP($C52,IT_Flag,Database!AA$44,FALSE)=\"\",\"-\",IF(Industry_Segment=Database!$N$193,VLOOKUP($C52,Industry_IT,Database!$S$44,FALSE),IF(Industry_Segment=Database!$O$193,VLOOKUP($C52,Industry_IT,Database!$X$44,FALSE),IF(Industry_Segment=Database!$Q$193,VLOOKUP($C52,Industry_IT,Database!$AC$44,FALSE),IF(Industry_Segment=Database!$S$193,VLOOKUP($C52,Industry_IT,Database!$AH$44,FALSE),\"-\"))))))","v":6.333333333333333},null,{"$f":"IF($C52=\"\",\"\",IF(VLOOKUP($C52,IT_Flag,Database!AB$44,FALSE)=\"\",\"-\",IF(Industry_Segment=Database!$N$193,VLOOKUP($C52,Industry_IT,Database!$S$44,FALSE),IF(Industry_Segment=Database!$O$193,VLOOKUP($C52,Industry_IT,Database!$X$44,FALSE),IF(Industry_Segment=Database!$Q$193,VLOOKUP($C52,Industry_IT,Database!$AC$44,FALSE),IF(Industry_Segment=Database!$S$193,VLOOKUP($C52,Industry_IT,Database!$AH$44,FALSE),\"-\"))))))","v":"-"},null,{"$f":"IF($C52=\"\",\"\",IF(VLOOKUP($C52,IT_Flag,Database!AC$44,FALSE)=\"\",\"-\",IF(Industry_Segment=Database!$N$193,VLOOKUP($C52,Industry_IT,Database!$S$44,FALSE),IF(Industry_Segment=Database!$O$193,VLOOKUP($C52,Industry_IT,Database!$X$44,FALSE),IF(Industry_Segment=Database!$Q$193,VLOOKUP($C52,Industry_IT,Database!$AC$44,FALSE),IF(Industry_Segment=Database!$S$193,VLOOKUP($C52,Industry_IT,Database!$AH$44,FALSE),\"-\"))))))","v":"-"}]
[null,null,{"$f":"IF(Database!C57=\"\",\"\",Database!C57)","v":"I - IDX (Foundation)"},{"$f":"IF($C53=\"\",\"\",IF(VLOOKUP($C53,IT_Flag,Database!R$44,FALSE)=\"\",\"-\",IF(Industry_Segment=Database!$N$193,VLOOKUP($C53,Industry_IT,Database!$S$44,FALSE),IF(Industry_Segment=Database!$O$193,VLOOKUP($C53,Industry_IT,Database!$X$44,FALSE),IF(Industry_Segment=Database!$Q$193,VLOOKUP($C53,Industry_IT,Database!$AC$44,FALSE),IF(Industry_Segment=Database!$S$193,VLOOKUP($C53,Industry_IT,Database!$AH$44,FALSE),\"-\"))))))","v":"-"},{"$f":"IF($C53=\"\",\"\",IF(VLOOKUP($C53,IT_Flag,Database!S$44,FALSE)=\"\",\"-\",IF(Industry_Segment=Database!$N$193,VLOOKUP($C53,Industry_IT,Database!$S$44,FALSE),IF(Industry_Segment=Database!$O$193,VLOOKUP($C53,Industry_IT,Database!$X$44,FALSE),IF(Industry_Segment=Database!$Q$193,VLOOKUP($C53,Industry_IT,Database!$AC$44,FALSE),IF(Industry_Segment=Database!$S$193,VLOOKUP($C53,Industry_IT,Database!$AH$44,FALSE),\"-\"))))))","v":3.6666666666666665},{"$f":"IF($C53=\"\",\"\",IF(VLOOKUP($C53,IT_Flag,Database!T$44,FALSE)=\"\",\"-\",IF(Industry_Segment=Database!$N$193,VLOOKUP($C53,Industry_IT,Database!$S$44,FALSE),IF(Industry_Segment=Database!$O$193,VLOOKUP($C53,Industry_IT,Database!$X$44,FALSE),IF(Industry_Segment=Database!$Q$193,VLOOKUP($C53,Industry_IT,Database!$AC$44,FALSE),IF(Industry_Segment=Database!$S$193,VLOOKUP($C53,Industry_IT,Database!$AH$44,FALSE),\"-\"))))))","v":3.6666666666666665},{"$f":"IF($C53=\"\",\"\",IF(VLOOKUP($C53,IT_Flag,Database!U$44,FALSE)=\"\",\"-\",IF(Industry_Segment=Database!$N$193,VLOOKUP($C53,Industry_IT,Database!$S$44,FALSE),IF(Industry_Segment=Database!$O$193,VLOOKUP($C53,Industry_IT,Database!$X$44,FALSE),IF(Industry_Segment=Database!$Q$193,VLOOKUP($C53,Industry_IT,Database!$AC$44,FALSE),IF(Industry_Segment=Database!$S$193,VLOOKUP($C53,Industry_IT,Database!$AH$44,FALSE),\"-\"))))))","v":3.6666666666666665},{"$f":"IF($C53=\"\",\"\",IF(VLOOKUP($C53,IT_Flag,Database!V$44,FALSE)=\"\",\"-\",IF(Industry_Segment=Database!$N$193,VLOOKUP($C53,Industry_IT,Database!$S$44,FALSE),IF(Industry_Segment=Database!$O$193,VLOOKUP($C53,Industry_IT,Database!$X$44,FALSE),IF(Industry_Segment=Database!$Q$193,VLOOKUP($C53,Industry_IT,Database!$AC$44,FALSE),IF(Industry_Segment=Database!$S$193,VLOOKUP($C53,Industry_IT,Database!$AH$44,FALSE),\"-\"))))))","v":3.6666666666666665},{"$f":"IF($C53=\"\",\"\",IF(VLOOKUP($C53,IT_Flag,Database!W$44,FALSE)=\"\",\"-\",IF(Industry_Segment=Database!$N$193,VLOOKUP($C53,Industry_IT,Database!$S$44,FALSE),IF(Industry_Segment=Database!$O$193,VLOOKUP($C53,Industry_IT,Database!$X$44,FALSE),IF(Industry_Segment=Database!$Q$193,VLOOKUP($C53,Industry_IT,Database!$AC$44,FALSE),IF(Industry_Segment=Database!$S$193,VLOOKUP($C53,Industry_IT,Database!$AH$44,FALSE),\"-\"))))))","v":3.6666666666666665},{"$f":"IF($C53=\"\",\"\",IF(VLOOKUP($C53,IT_Flag,Database!X$44,FALSE)=\"\",\"-\",IF(Industry_Segment=Database!$N$193,VLOOKUP($C53,Industry_IT,Database!$S$44,FALSE),IF(Industry_Segment=Database!$O$193,VLOOKUP($C53,Industry_IT,Database!$X$44,FALSE),IF(Industry_Segment=Database!$Q$193,VLOOKUP($C53,Industry_IT,Database!$AC$44,FALSE),IF(Industry_Segment=Database!$S$193,VLOOKUP($C53,Industry_IT,Database!$AH$44,FALSE),\"-\"))))))","v":"-"},{"$f":"IF($C53=\"\",\"\",IF(VLOOKUP($C53,IT_Flag,Database!Y$44,FALSE)=\"\",\"-\",IF(Industry_Segment=Database!$N$193,VLOOKUP($C53,Industry_IT,Database!$S$44,FALSE),IF(Industry_Segment=Database!$O$193,VLOOKUP($C53,Industry_IT,Database!$X$44,FALSE),IF(Industry_Segment=Database!$Q$193,VLOOKUP($C53,Industry_IT,Database!$AC$44,FALSE),IF(Industry_Segment=Database!$S$193,VLOOKUP($C53,Industry_IT,Database!$AH$44,FALSE),\"-\"))))))","v":"-"},{"$f":"IF($C53=\"\",\"\",IF(VLOOKUP($C53,IT_Flag,Database!Z$44,FALSE)=\"\",\"-\",IF(Industry_Segment=Database!$N$193,VLOOKUP($C53,Industry_IT,Database!$S$44,FALSE),IF(Industry_Segment=Database!$O$193,VLOOKUP($C53,Industry_IT,Database!$X$44,FALSE),IF(Industry_Segment=Database!$Q$193,VLOOKUP($C53,Industry_IT,Database!$AC$44,FALSE),IF(Industry_Segment=Database!$S$193,VLOOKUP($C53,Industry_IT,Database!$AH$44,FALSE),\"-\"))))))","v":"-"},null,{"$f":"IF($C53=\"\",\"\",IF(VLOOKUP($C53,IT_Flag,Database!AA$44,FALSE)=\"\",\"-\",IF(Industry_Segment=Database!$N$193,VLOOKUP($C53,Industry_IT,Database!$S$44,FALSE),IF(Industry_Segment=Database!$O$193,VLOOKUP($C53,Industry_IT,Database!$X$44,FALSE),IF(Industry_Segment=Database!$Q$193,VLOOKUP($C53,Industry_IT,Database!$AC$44,FALSE),IF(Industry_Segment=Database!$S$193,VLOOKUP($C53,Industry_IT,Database!$AH$44,FALSE),\"-\"))))))","v":"-"},null,{"$f":"IF($C53=\"\",\"\",IF(VLOOKUP($C53,IT_Flag,Database!AB$44,FALSE)=\"\",\"-\",IF(Industry_Segment=Database!$N$193,VLOOKUP($C53,Industry_IT,Database!$S$44,FALSE),IF(Industry_Segment=Database!$O$193,VLOOKUP($C53,Industry_IT,Database!$X$44,FALSE),IF(Industry_Segment=Database!$Q$193,VLOOKUP($C53,Industry_IT,Database!$AC$44,FALSE),IF(Industry_Segment=Database!$S$193,VLOOKUP($C53,Industry_IT,Database!$AH$44,FALSE),\"-\"))))))","v":"-"},null,{"$f":"IF($C53=\"\",\"\",IF(VLOOKUP($C53,IT_Flag,Database!AC$44,FALSE)=\"\",\"-\",IF(Industry_Segment=Database!$N$193,VLOOKUP($C53,Industry_IT,Database!$S$44,FALSE),IF(Industry_Segment=Database!$O$193,VLOOKUP($C53,Industry_IT,Database!$X$44,FALSE),IF(Industry_Segment=Database!$Q$193,VLOOKUP($C53,Industry_IT,Database!$AC$44,FALSE),IF(Industry_Segment=Database!$S$193,VLOOKUP($C53,Industry_IT,Database!$AH$44,FALSE),\"-\"))))))","v":"-"}]
[null,null,{"$f":"IF(Database!C58=\"\",\"\",Database!C58)","v":"I - IDAM (Foundation)"},{"$f":"IF($C54=\"\",\"\",IF(VLOOKUP($C54,IT_Flag,Database!R$44,FALSE)=\"\",\"-\",IF(Industry_Segment=Database!$N$193,VLOOKUP($C54,Industry_IT,Database!$S$44,FALSE),IF(Industry_Segment=Database!$O$193,VLOOKUP($C54,Industry_IT,Database!$X$44,FALSE),IF(Industry_Segment=Database!$Q$193,VLOOKUP($C54,Industry_IT,Database!$AC$44,FALSE),IF(Industry_Segment=Database!$S$193,VLOOKUP($C54,Industry_IT,Database!$AH$44,FALSE),\"-\"))))))","v":"-"},{"$f":"IF($C54=\"\",\"\",IF(VLOOKUP($C54,IT_Flag,Database!S$44,FALSE)=\"\",\"-\",IF(Industry_Segment=Database!$N$193,VLOOKUP($C54,Industry_IT,Database!$S$44,FALSE),IF(Industry_Segment=Database!$O$193,VLOOKUP($C54,Industry_IT,Database!$X$44,FALSE),IF(Industry_Segment=Database!$Q$193,VLOOKUP($C54,Industry_IT,Database!$AC$44,FALSE),IF(Industry_Segment=Database!$S$193,VLOOKUP($C54,Industry_IT,Database!$AH$44,FALSE),\"-\"))))))","v":"-"},{"$f":"IF($C54=\"\",\"\",IF(VLOOKUP($C54,IT_Flag,Database!T$44,FALSE)=\"\",\"-\",IF(Industry_Segment=Database!$N$193,VLOOKUP($C54,Industry_IT,Database!$S$44,FALSE),IF(Industry_Segment=Database!$O$193,VLOOKUP($C54,Industry_IT,Database!$X$44,FALSE),IF(Industry_Segment=Database!$Q$193,VLOOKUP($C54,Industry_IT,Database!$AC$44,FALSE),IF(Industry_Segment=Database!$S$193,VLOOKUP($C54,Industry_IT,Database!$AH$44,FALSE),\"-\"))))))","v":3.6666666666666665},{"$f":"IF($C54=\"\",\"\",IF(VLOOKUP($C54,IT_Flag,Database!U$44,FALSE)=\"\",\"-\",IF(Industry_Segment=Database!$N$193,VLOOKUP($C54,Industry_IT,Database!$S$44,FALSE),IF(Industry_Segment=Database!$O$193,VLOOKUP($C54,Industry_IT,Database!$X$44,FALSE),IF(Industry_Segment=Database!$Q$193,VLOOKUP($C54,Industry_IT,Database!$AC$44,FALSE),IF(Industry_Segment=Database!$S$193,VLOOKUP($C54,Industry_IT,Database!$AH$44,FALSE),\"-\"))))))","v":3.6666666666666665},{"$f":"IF($C54=\"\",\"\",IF(VLOOKUP($C54,IT_Flag,Database!V$44,FALSE)=\"\",\"-\",IF(Industry_Segment=Database!$N$193,VLOOKUP($C54,Industry_IT,Database!$S$44,FALSE),IF(Industry_Segment=Database!$O$193,VLOOKUP($C54,Industry_IT,Database!$X$44,FALSE),IF(Industry_Segment=Database!$Q$193,VLOOKUP($C54,Industry_IT,Database!$AC$44,FALSE),IF(Industry_Segment=Database!$S$193,VLOOKUP($C54,Industry_IT,Database!$AH$44,FALSE),\"-\"))))))","v":3.6666666666666665},{"$f":"IF($C54=\"\",\"\",IF(VLOOKUP($C54,IT_Flag,Database!W$44,FALSE)=\"\",\"-\",IF(Industry_Segment=Database!$N$193,VLOOKUP($C54,Industry_IT,Database!$S$44,FALSE),IF(Industry_Segment=Database!$O$193,VLOOKUP($C54,Industry_IT,Database!$X$44,FALSE),IF(Industry_Segment=Database!$Q$193,VLOOKUP($C54,Industry_IT,Database!$AC$44,FALSE),IF(Industry_Segment=Database!$S$193,VLOOKUP($C54,Industry_IT,Database!$AH$44,FALSE),\"-\"))))))","v":3.6666666666666665},{"$f":"IF($C54=\"\",\"\",IF(VLOOKUP($C54,IT_Flag,Database!X$44,FALSE)=\"\",\"-\",IF(Industry_Segment=Database!$N$193,VLOOKUP($C54,Industry_IT,Database!$S$44,FALSE),IF(Industry_Segment=Database!$O$193,VLOOKUP($C54,Industry_IT,Database!$X$44,FALSE),IF(Industry_Segment=Database!$Q$193,VLOOKUP($C54,Industry_IT,Database!$AC$44,FALSE),IF(Industry_Segment=Database!$S$193,VLOOKUP($C54,Industry_IT,Database!$AH$44,FALSE),\"-\"))))))","v":3.6666666666666665},{"$f":"IF($C54=\"\",\"\",IF(VLOOKUP($C54,IT_Flag,Database!Y$44,FALSE)=\"\",\"-\",IF(Industry_Segment=Database!$N$193,VLOOKUP($C54,Industry_IT,Database!$S$44,FALSE),IF(Industry_Segment=Database!$O$193,VLOOKUP($C54,Industry_IT,Database!$X$44,FALSE),IF(Industry_Segment=Database!$Q$193,VLOOKUP($C54,Industry_IT,Database!$AC$44,FALSE),IF(Industry_Segment=Database!$S$193,VLOOKUP($C54,Industry_IT,Database!$AH$44,FALSE),\"-\"))))))","v":"-"},{"$f":"IF($C54=\"\",\"\",IF(VLOOKUP($C54,IT_Flag,Database!Z$44,FALSE)=\"\",\"-\",IF(Industry_Segment=Database!$N$193,VLOOKUP($C54,Industry_IT,Database!$S$44,FALSE),IF(Industry_Segment=Database!$O$193,VLOOKUP($C54,Industry_IT,Database!$X$44,FALSE),IF(Industry_Segment=Database!$Q$193,VLOOKUP($C54,Industry_IT,Database!$AC$44,FALSE),IF(Industry_Segment=Database!$S$193,VLOOKUP($C54,Industry_IT,Database!$AH$44,FALSE),\"-\"))))))","v":"-"},null,{"$f":"IF($C54=\"\",\"\",IF(VLOOKUP($C54,IT_Flag,Database!AA$44,FALSE)=\"\",\"-\",IF(Industry_Segment=Database!$N$193,VLOOKUP($C54,Industry_IT,Database!$S$44,FALSE),IF(Industry_Segment=Database!$O$193,VLOOKUP($C54,Industry_IT,Database!$X$44,FALSE),IF(Industry_Segment=Database!$Q$193,VLOOKUP($C54,Industry_IT,Database!$AC$44,FALSE),IF(Industry_Segment=Database!$S$193,VLOOKUP($C54,Industry_IT,Database!$AH$44,FALSE),\"-\"))))))","v":"-"},null,{"$f":"IF($C54=\"\",\"\",IF(VLOOKUP($C54,IT_Flag,Database!AB$44,FALSE)=\"\",\"-\",IF(Industry_Segment=Database!$N$193,VLOOKUP($C54,Industry_IT,Database!$S$44,FALSE),IF(Industry_Segment=Database!$O$193,VLOOKUP($C54,Industry_IT,Database!$X$44,FALSE),IF(Industry_Segment=Database!$Q$193,VLOOKUP($C54,Industry_IT,Database!$AC$44,FALSE),IF(Industry_Segment=Database!$S$193,VLOOKUP($C54,Industry_IT,Database!$AH$44,FALSE),\"-\"))))))","v":"-"},null,{"$f":"IF($C54=\"\",\"\",IF(VLOOKUP($C54,IT_Flag,Database!AC$44,FALSE)=\"\",\"-\",IF(Industry_Segment=Database!$N$193,VLOOKUP($C54,Industry_IT,Database!$S$44,FALSE),IF(Industry_Segment=Database!$O$193,VLOOKUP($C54,Industry_IT,Database!$X$44,FALSE),IF(Industry_Segment=Database!$Q$193,VLOOKUP($C54,Industry_IT,Database!$AC$44,FALSE),IF(Industry_Segment=Database!$S$193,VLOOKUP($C54,Industry_IT,Database!$AH$44,FALSE),\"-\"))))))","v":"-"}]
[null,null,{"$f":"IF(Database!C59=\"\",\"\",Database!C59)","v":"I - MSR (Accelerating Smart Meter Deployment - Package 3)"},{"$f":"IF($C55=\"\",\"\",IF(VLOOKUP($C55,IT_Flag,Database!R$44,FALSE)=\"\",\"-\",IF(Industry_Segment=Database!$N$193,VLOOKUP($C55,Industry_IT,Database!$S$44,FALSE),IF(Industry_Segment=Database!$O$193,VLOOKUP($C55,Industry_IT,Database!$X$44,FALSE),IF(Industry_Segment=Database!$Q$193,VLOOKUP($C55,Industry_IT,Database!$AC$44,FALSE),IF(Industry_Segment=Database!$S$193,VLOOKUP($C55,Industry_IT,Database!$AH$44,FALSE),\"-\"))))))","v":"-"},{"$f":"IF($C55=\"\",\"\",IF(VLOOKUP($C55,IT_Flag,Database!S$44,FALSE)=\"\",\"-\",IF(Industry_Segment=Database!$N$193,VLOOKUP($C55,Industry_IT,Database!$S$44,FALSE),IF(Industry_Segment=Database!$O$193,VLOOKUP($C55,Industry_IT,Database!$X$44,FALSE),IF(Industry_Segment=Database!$Q$193,VLOOKUP($C55,Industry_IT,Database!$AC$44,FALSE),IF(Industry_Segment=Database!$S$193,VLOOKUP($C55,Industry_IT,Database!$AH$44,FALSE),\"-\"))))))","v":"-"},{"$f":"IF($C55=\"\",\"\",IF(VLOOKUP($C55,IT_Flag,Database!T$44,FALSE)=\"\",\"-\",IF(Industry_Segment=Database!$N$193,VLOOKUP($C55,Industry_IT,Database!$S$44,FALSE),IF(Industry_Segment=Database!$O$193,VLOOKUP($C55,Industry_IT,Database!$X$44,FALSE),IF(Industry_Segment=Database!$Q$193,VLOOKUP($C55,Industry_IT,Database!$AC$44,FALSE),IF(Industry_Segment=Database!$S$193,VLOOKUP($C55,Industry_IT,Database!$AH$44,FALSE),\"-\"))))))","v":1.6666666666666667},{"$f":"IF($C55=\"\",\"\",IF(VLOOKUP($C55,IT_Flag,Database!U$44,FALSE)=\"\",\"-\",IF(Industry_Segment=Database!$N$193,VLOOKUP($C55,Industry_IT,Database!$S$44,FALSE),IF(Industry_Segment=Database!$O$193,VLOOKUP($C55,Industry_IT,Database!$X$44,FALSE),IF(Industry_Segment=Database!$Q$193,VLOOKUP($C55,Industry_IT,Database!$AC$44,FALSE),IF(Industry_Segment=Database!$S$193,VLOOKUP($C55,Industry_IT,Database!$AH$44,FALSE),\"-\"))))))","v":1.6666666666666667},{"$f":"IF($C55=\"\",\"\",IF(VLOOKUP($C55,IT_Flag,Database!V$44,FALSE)=\"\",\"-\",IF(Industry_Segment=Database!$N$193,VLOOKUP($C55,Industry_IT,Database!$S$44,FALSE),IF(Industry_Segment=Database!$O$193,VLOOKUP($C55,Industry_IT,Database!$X$44,FALSE),IF(Industry_Segment=Database!$Q$193,VLOOKUP($C55,Industry_IT,Database!$AC$44,FALSE),IF(Industry_Segment=Database!$S$193,VLOOKUP($C55,Industry_IT,Database!$AH$44,FALSE),\"-\"))))))","v":1.6666666666666667},{"$f":"IF($C55=\"\",\"\",IF(VLOOKUP($C55,IT_Flag,Database!W$44,FALSE)=\"\",\"-\",IF(Industry_Segment=Database!$N$193,VLOOKUP($C55,Industry_IT,Database!$S$44,FALSE),IF(Industry_Segment=Database!$O$193,VLOOKUP($C55,Industry_IT,Database!$X$44,FALSE),IF(Industry_Segment=Database!$Q$193,VLOOKUP($C55,Industry_IT,Database!$AC$44,FALSE),IF(Industry_Segment=Database!$S$193,VLOOKUP($C55,Industry_IT,Database!$AH$44,FALSE),\"-\"))))))","v":1.6666666666666667},{"$f":"IF($C55=\"\",\"\",IF(VLOOKUP($C55,IT_Flag,Database!X$44,FALSE)=\"\",\"-\",IF(Industry_Segment=Database!$N$193,VLOOKUP($C55,Industry_IT,Database!$S$44,FALSE),IF(Industry_Segment=Database!$O$193,VLOOKUP($C55,Industry_IT,Database!$X$44,FALSE),IF(Industry_Segment=Database!$Q$193,VLOOKUP($C55,Industry_IT,Database!$AC$44,FALSE),IF(Industry_Segment=Database!$S$193,VLOOKUP($C55,Industry_IT,Database!$AH$44,FALSE),\"-\"))))))","v":"-"},{"$f":"IF($C55=\"\",\"\",IF(VLOOKUP($C55,IT_Flag,Database!Y$44,FALSE)=\"\",\"-\",IF(Industry_Segment=Database!$N$193,VLOOKUP($C55,Industry_IT,Database!$S$44,FALSE),IF(Industry_Segment=Database!$O$193,VLOOKUP($C55,Industry_IT,Database!$X$44,FALSE),IF(Industry_Segment=Database!$Q$193,VLOOKUP($C55,Industry_IT,Database!$AC$44,FALSE),IF(Industry_Segment=Database!$S$193,VLOOKUP($C55,Industry_IT,Database!$AH$44,FALSE),\"-\"))))))","v":"-"},{"$f":"IF($C55=\"\",\"\",IF(VLOOKUP($C55,IT_Flag,Database!Z$44,FALSE)=\"\",\"-\",IF(Industry_Segment=Database!$N$193,VLOOKUP($C55,Industry_IT,Database!$S$44,FALSE),IF(Industry_Segment=Database!$O$193,VLOOKUP($C55,Industry_IT,Database!$X$44,FALSE),IF(Industry_Segment=Database!$Q$193,VLOOKUP($C55,Industry_IT,Database!$AC$44,FALSE),IF(Industry_Segment=Database!$S$193,VLOOKUP($C55,Industry_IT,Database!$AH$44,FALSE),\"-\"))))))","v":"-"},null,{"$f":"IF($C55=\"\",\"\",IF(VLOOKUP($C55,IT_Flag,Database!AA$44,FALSE)=\"\",\"-\",IF(Industry_Segment=Database!$N$193,VLOOKUP($C55,Industry_IT,Database!$S$44,FALSE),IF(Industry_Segment=Database!$O$193,VLOOKUP($C55,Industry_IT,Database!$X$44,FALSE),IF(Industry_Segment=Database!$Q$193,VLOOKUP($C55,Industry_IT,Database!$AC$44,FALSE),IF(Industry_Segment=Database!$S$193,VLOOKUP($C55,Industry_IT,Database!$AH$44,FALSE),\"-\"))))))","v":"-"},null,{"$f":"IF($C55=\"\",\"\",IF(VLOOKUP($C55,IT_Flag,Database!AB$44,FALSE)=\"\",\"-\",IF(Industry_Segment=Database!$N$193,VLOOKUP($C55,Industry_IT,Database!$S$44,FALSE),IF(Industry_Segment=Database!$O$193,VLOOKUP($C55,Industry_IT,Database!$X$44,FALSE),IF(Industry_Segment=Database!$Q$193,VLOOKUP($C55,Industry_IT,Database!$AC$44,FALSE),IF(Industry_Segment=Database!$S$193,VLOOKUP($C55,Industry_IT,Database!$AH$44,FALSE),\"-\"))))))","v":"-"},null,{"$f":"IF($C55=\"\",\"\",IF(VLOOKUP($C55,IT_Flag,Database!AC$44,FALSE)=\"\",\"-\",IF(Industry_Segment=Database!$N$193,VLOOKUP($C55,Industry_IT,Database!$S$44,FALSE),IF(Industry_Segment=Database!$O$193,VLOOKUP($C55,Industry_IT,Database!$X$44,FALSE),IF(Industry_Segment=Database!$Q$193,VLOOKUP($C55,Industry_IT,Database!$AC$44,FALSE),IF(Industry_Segment=Database!$S$193,VLOOKUP($C55,Industry_IT,Database!$AH$44,FALSE),\"-\"))))))","v":"-"}]
[null,null,{"$f":"IF(Database!C60=\"\",\"\",Database!C60)","v":"A - Inter-regional SRAs for transmission loops (PEC-MI)"},{"$f":"IF($C56=\"\",\"\",IF(VLOOKUP($C56,IT_Flag,Database!R$44,FALSE)=\"\",\"-\",IF(Industry_Segment=Database!$N$193,VLOOKUP($C56,Industry_IT,Database!$S$44,FALSE),IF(Industry_Segment=Database!$O$193,VLOOKUP($C56,Industry_IT,Database!$X$44,FALSE),IF(Industry_Segment=Database!$Q$193,VLOOKUP($C56,Industry_IT,Database!$AC$44,FALSE),IF(Industry_Segment=Database!$S$193,VLOOKUP($C56,Industry_IT,Database!$AH$44,FALSE),\"-\"))))))","v":"-"},{"$f":"IF($C56=\"\",\"\",IF(VLOOKUP($C56,IT_Flag,Database!S$44,FALSE)=\"\",\"-\",IF(Industry_Segment=Database!$N$193,VLOOKUP($C56,Industry_IT,Database!$S$44,FALSE),IF(Industry_Segment=Database!$O$193,VLOOKUP($C56,Industry_IT,Database!$X$44,FALSE),IF(Industry_Segment=Database!$Q$193,VLOOKUP($C56,Industry_IT,Database!$AC$44,FALSE),IF(Industry_Segment=Database!$S$193,VLOOKUP($C56,Industry_IT,Database!$AH$44,FALSE),\"-\"))))))","v":"-"},{"$f":"IF($C56=\"\",\"\",IF(VLOOKUP($C56,IT_Flag,Database!T$44,FALSE)=\"\",\"-\",IF(Industry_Segment=Database!$N$193,VLOOKUP($C56,Industry_IT,Database!$S$44,FALSE),IF(Industry_Segment=Database!$O$193,VLOOKUP($C56,Industry_IT,Database!$X$44,FALSE),IF(Industry_Segment=Database!$Q$193,VLOOKUP($C56,Industry_IT,Database!$AC$44,FALSE),IF(Industry_Segment=Database!$S$193,VLOOKUP($C56,Industry_IT,Database!$AH$44,FALSE),\"-\"))))))","v":"-"},{"$f":"IF($C56=\"\",\"\",IF(VLOOKUP($C56,IT_Flag,Database!U$44,FALSE)=\"\",\"-\",IF(Industry_Segment=Database!$N$193,VLOOKUP($C56,Industry_IT,Database!$S$44,FALSE),IF(Industry_Segment=Database!$O$193,VLOOKUP($C56,Industry_IT,Database!$X$44,FALSE),IF(Industry_Segment=Database!$Q$193,VLOOKUP($C56,Industry_IT,Database!$AC$44,FALSE),IF(Industry_Segment=Database!$S$193,VLOOKUP($C56,Industry_IT,Database!$AH$44,FALSE),\"-\"))))))","v":2.3333333333333335},{"$f":"IF($C56=\"\",\"\",IF(VLOOKUP($C56,IT_Flag,Database!V$44,FALSE)=\"\",\"-\",IF(Industry_Segment=Database!$N$193,VLOOKUP($C56,Industry_IT,Database!$S$44,FALSE),IF(Industry_Segment=Database!$O$193,VLOOKUP($C56,Industry_IT,Database!$X$44,FALSE),IF(Industry_Segment=Database!$Q$193,VLOOKUP($C56,Industry_IT,Database!$AC$44,FALSE),IF(Industry_Segment=Database!$S$193,VLOOKUP($C56,Industry_IT,Database!$AH$44,FALSE),\"-\"))))))","v":"-"},{"$f":"IF($C56=\"\",\"\",IF(VLOOKUP($C56,IT_Flag,Database!W$44,FALSE)=\"\",\"-\",IF(Industry_Segment=Database!$N$193,VLOOKUP($C56,Industry_IT,Database!$S$44,FALSE),IF(Industry_Segment=Database!$O$193,VLOOKUP($C56,Industry_IT,Database!$X$44,FALSE),IF(Industry_Segment=Database!$Q$193,VLOOKUP($C56,Industry_IT,Database!$AC$44,FALSE),IF(Industry_Segment=Database!$S$193,VLOOKUP($C56,Industry_IT,Database!$AH$44,FALSE),\"-\"))))))","v":"-"},{"$f":"IF($C56=\"\",\"\",IF(VLOOKUP($C56,IT_Flag,Database!X$44,FALSE)=\"\",\"-\",IF(Industry_Segment=Database!$N$193,VLOOKUP($C56,Industry_IT,Database!$S$44,FALSE),IF(Industry_Segment=Database!$O$193,VLOOKUP($C56,Industry_IT,Database!$X$44,FALSE),IF(Industry_Segment=Database!$Q$193,VLOOKUP($C56,Industry_IT,Database!$AC$44,FALSE),IF(Industry_Segment=Database!$S$193,VLOOKUP($C56,Industry_IT,Database!$AH$44,FALSE),\"-\"))))))","v":"-"},{"$f":"IF($C56=\"\",\"\",IF(VLOOKUP($C56,IT_Flag,Database!Y$44,FALSE)=\"\",\"-\",IF(Industry_Segment=Database!$N$193,VLOOKUP($C56,Industry_IT,Database!$S$44,FALSE),IF(Industry_Segment=Database!$O$193,VLOOKUP($C56,Industry_IT,Database!$X$44,FALSE),IF(Industry_Segment=Database!$Q$193,VLOOKUP($C56,Industry_IT,Database!$AC$44,FALSE),IF(Industry_Segment=Database!$S$193,VLOOKUP($C56,Industry_IT,Database!$AH$44,FALSE),\"-\"))))))","v":"-"},{"$f":"IF($C56=\"\",\"\",IF(VLOOKUP($C56,IT_Flag,Database!Z$44,FALSE)=\"\",\"-\",IF(Industry_Segment=Database!$N$193,VLOOKUP($C56,Industry_IT,Database!$S$44,FALSE),IF(Industry_Segment=Database!$O$193,VLOOKUP($C56,Industry_IT,Database!$X$44,FALSE),IF(Industry_Segment=Database!$Q$193,VLOOKUP($C56,Industry_IT,Database!$AC$44,FALSE),IF(Industry_Segment=Database!$S$193,VLOOKUP($C56,Industry_IT,Database!$AH$44,FALSE),\"-\"))))))","v":"-"},null,{"$f":"IF($C56=\"\",\"\",IF(VLOOKUP($C56,IT_Flag,Database!AA$44,FALSE)=\"\",\"-\",IF(Industry_Segment=Database!$N$193,VLOOKUP($C56,Industry_IT,Database!$S$44,FALSE),IF(Industry_Segment=Database!$O$193,VLOOKUP($C56,Industry_IT,Database!$X$44,FALSE),IF(Industry_Segment=Database!$Q$193,VLOOKUP($C56,Industry_IT,Database!$AC$44,FALSE),IF(Industry_Segment=Database!$S$193,VLOOKUP($C56,Industry_IT,Database!$AH$44,FALSE),\"-\"))))))","v":"-"},null,{"$f":"IF($C56=\"\",\"\",IF(VLOOKUP($C56,IT_Flag,Database!AB$44,FALSE)=\"\",\"-\",IF(Industry_Segment=Database!$N$193,VLOOKUP($C56,Industry_IT,Database!$S$44,FALSE),IF(Industry_Segment=Database!$O$193,VLOOKUP($C56,Industry_IT,Database!$X$44,FALSE),IF(Industry_Segment=Database!$Q$193,VLOOKUP($C56,Industry_IT,Database!$AC$44,FALSE),IF(Industry_Segment=Database!$S$193,VLOOKUP($C56,Industry_IT,Database!$AH$44,FALSE),\"-\"))))))","v":"-"},null,{"$f":"IF($C56=\"\",\"\",IF(VLOOKUP($C56,IT_Flag,Database!AC$44,FALSE)=\"\",\"-\",IF(Industry_Segment=Database!$N$193,VLOOKUP($C56,Industry_IT,Database!$S$44,FALSE),IF(Industry_Segment=Database!$O$193,VLOOKUP($C56,Industry_IT,Database!$X$44,FALSE),IF(Industry_Segment=Database!$Q$193,VLOOKUP($C56,Industry_IT,Database!$AC$44,FALSE),IF(Industry_Segment=Database!$S$193,VLOOKUP($C56,Industry_IT,Database!$AH$44,FALSE),\"-\"))))))","v":"-"}]
[null,null,{"$f":"IF(Database!C61=\"\",\"\",Database!C61)","v":""},{"$f":"IF($C57=\"\",\"\",IF(VLOOKUP($C57,IT_Flag,Database!R$44,FALSE)=\"\",\"-\",IF(Industry_Segment=Database!$N$193,VLOOKUP($C57,Industry_IT,Database!$S$44,FALSE),IF(Industry_Segment=Database!$O$193,VLOOKUP($C57,Industry_IT,Database!$X$44,FALSE),IF(Industry_Segment=Database!$Q$193,VLOOKUP($C57,Industry_IT,Database!$AC$44,FALSE),IF(Industry_Segment=Database!$S$193,VLOOKUP($C57,Industry_IT,Database!$AH$44,FALSE),\"-\"))))))","v":""},{"$f":"IF($C57=\"\",\"\",IF(VLOOKUP($C57,IT_Flag,Database!S$44,FALSE)=\"\",\"-\",IF(Industry_Segment=Database!$N$193,VLOOKUP($C57,Industry_IT,Database!$S$44,FALSE),IF(Industry_Segment=Database!$O$193,VLOOKUP($C57,Industry_IT,Database!$X$44,FALSE),IF(Industry_Segment=Database!$Q$193,VLOOKUP($C57,Industry_IT,Database!$AC$44,FALSE),IF(Industry_Segment=Database!$S$193,VLOOKUP($C57,Industry_IT,Database!$AH$44,FALSE),\"-\"))))))","v":""},{"$f":"IF($C57=\"\",\"\",IF(VLOOKUP($C57,IT_Flag,Database!T$44,FALSE)=\"\",\"-\",IF(Industry_Segment=Database!$N$193,VLOOKUP($C57,Industry_IT,Database!$S$44,FALSE),IF(Industry_Segment=Database!$O$193,VLOOKUP($C57,Industry_IT,Database!$X$44,FALSE),IF(Industry_Segment=Database!$Q$193,VLOOKUP($C57,Industry_IT,Database!$AC$44,FALSE),IF(Industry_Segment=Database!$S$193,VLOOKUP($C57,Industry_IT,Database!$AH$44,FALSE),\"-\"))))))","v":""},{"$f":"IF($C57=\"\",\"\",IF(VLOOKUP($C57,IT_Flag,Database!U$44,FALSE)=\"\",\"-\",IF(Industry_Segment=Database!$N$193,VLOOKUP($C57,Industry_IT,Database!$S$44,FALSE),IF(Industry_Segment=Database!$O$193,VLOOKUP($C57,Industry_IT,Database!$X$44,FALSE),IF(Industry_Segment=Database!$Q$193,VLOOKUP($C57,Industry_IT,Database!$AC$44,FALSE),IF(Industry_Segment=Database!$S$193,VLOOKUP($C57,Industry_IT,Database!$AH$44,FALSE),\"-\"))))))","v":""},{"$f":"IF($C57=\"\",\"\",IF(VLOOKUP($C57,IT_Flag,Database!V$44,FALSE)=\"\",\"-\",IF(Industry_Segment=Database!$N$193,VLOOKUP($C57,Industry_IT,Database!$S$44,FALSE),IF(Industry_Segment=Database!$O$193,VLOOKUP($C57,Industry_IT,Database!$X$44,FALSE),IF(Industry_Segment=Database!$Q$193,VLOOKUP($C57,Industry_IT,Database!$AC$44,FALSE),IF(Industry_Segment=Database!$S$193,VLOOKUP($C57,Industry_IT,Database!$AH$44,FALSE),\"-\"))))))","v":""},{"$f":"IF($C57=\"\",\"\",IF(VLOOKUP($C57,IT_Flag,Database!W$44,FALSE)=\"\",\"-\",IF(Industry_Segment=Database!$N$193,VLOOKUP($C57,Industry_IT,Database!$S$44,FALSE),IF(Industry_Segment=Database!$O$193,VLOOKUP($C57,Industry_IT,Database!$X$44,FALSE),IF(Industry_Segment=Database!$Q$193,VLOOKUP($C57,Industry_IT,Database!$AC$44,FALSE),IF(Industry_Segment=Database!$S$193,VLOOKUP($C57,Industry_IT,Database!$AH$44,FALSE),\"-\"))))))","v":""},{"$f":"IF($C57=\"\",\"\",IF(VLOOKUP($C57,IT_Flag,Database!X$44,FALSE)=\"\",\"-\",IF(Industry_Segment=Database!$N$193,VLOOKUP($C57,Industry_IT,Database!$S$44,FALSE),IF(Industry_Segment=Database!$O$193,VLOOKUP($C57,Industry_IT,Database!$X$44,FALSE),IF(Industry_Segment=Database!$Q$193,VLOOKUP($C57,Industry_IT,Database!$AC$44,FALSE),IF(Industry_Segment=Database!$S$193,VLOOKUP($C57,Industry_IT,Database!$AH$44,FALSE),\"-\"))))))","v":""},{"$f":"IF($C57=\"\",\"\",IF(VLOOKUP($C57,IT_Flag,Database!Y$44,FALSE)=\"\",\"-\",IF(Industry_Segment=Database!$N$193,VLOOKUP($C57,Industry_IT,Database!$S$44,FALSE),IF(Industry_Segment=Database!$O$193,VLOOKUP($C57,Industry_IT,Database!$X$44,FALSE),IF(Industry_Segment=Database!$Q$193,VLOOKUP($C57,Industry_IT,Database!$AC$44,FALSE),IF(Industry_Segment=Database!$S$193,VLOOKUP($C57,Industry_IT,Database!$AH$44,FALSE),\"-\"))))))","v":""},{"$f":"IF($C57=\"\",\"\",IF(VLOOKUP($C57,IT_Flag,Database!Z$44,FALSE)=\"\",\"-\",IF(Industry_Segment=Database!$N$193,VLOOKUP($C57,Industry_IT,Database!$S$44,FALSE),IF(Industry_Segment=Database!$O$193,VLOOKUP($C57,Industry_IT,Database!$X$44,FALSE),IF(Industry_Segment=Database!$Q$193,VLOOKUP($C57,Industry_IT,Database!$AC$44,FALSE),IF(Industry_Segment=Database!$S$193,VLOOKUP($C57,Industry_IT,Database!$AH$44,FALSE),\"-\"))))))","v":""},null,{"$f":"IF($C57=\"\",\"\",IF(VLOOKUP($C57,IT_Flag,Database!AA$44,FALSE)=\"\",\"-\",IF(Industry_Segment=Database!$N$193,VLOOKUP($C57,Industry_IT,Database!$S$44,FALSE),IF(Industry_Segment=Database!$O$193,VLOOKUP($C57,Industry_IT,Database!$X$44,FALSE),IF(Industry_Segment=Database!$Q$193,VLOOKUP($C57,Industry_IT,Database!$AC$44,FALSE),IF(Industry_Segment=Database!$S$193,VLOOKUP($C57,Industry_IT,Database!$AH$44,FALSE),\"-\"))))))","v":""},null,{"$f":"IF($C57=\"\",\"\",IF(VLOOKUP($C57,IT_Flag,Database!AB$44,FALSE)=\"\",\"-\",IF(Industry_Segment=Database!$N$193,VLOOKUP($C57,Industry_IT,Database!$S$44,FALSE),IF(Industry_Segment=Database!$O$193,VLOOKUP($C57,Industry_IT,Database!$X$44,FALSE),IF(Industry_Segment=Database!$Q$193,VLOOKUP($C57,Industry_IT,Database!$AC$44,FALSE),IF(Industry_Segment=Database!$S$193,VLOOKUP($C57,Industry_IT,Database!$AH$44,FALSE),\"-\"))))))","v":""},null,{"$f":"IF($C57=\"\",\"\",IF(VLOOKUP($C57,IT_Flag,Database!AC$44,FALSE)=\"\",\"-\",IF(Industry_Segment=Database!$N$193,VLOOKUP($C57,Industry_IT,Database!$S$44,FALSE),IF(Industry_Segment=Database!$O$193,VLOOKUP($C57,Industry_IT,Database!$X$44,FALSE),IF(Industry_Segment=Database!$Q$193,VLOOKUP($C57,Industry_IT,Database!$AC$44,FALSE),IF(Industry_Segment=Database!$S$193,VLOOKUP($C57,Industry_IT,Database!$AH$44,FALSE),\"-\"))))))","v":""}]
[null,null,{"$f":"IF(Database!C62=\"\",\"\",Database!C62)","v":""},{"$f":"IF($C58=\"\",\"\",IF(VLOOKUP($C58,IT_Flag,Database!R$44,FALSE)=\"\",\"-\",IF(Industry_Segment=Database!$N$193,VLOOKUP($C58,Industry_IT,Database!$S$44,FALSE),IF(Industry_Segment=Database!$O$193,VLOOKUP($C58,Industry_IT,Database!$X$44,FALSE),IF(Industry_Segment=Database!$Q$193,VLOOKUP($C58,Industry_IT,Database!$AC$44,FALSE),IF(Industry_Segment=Database!$S$193,VLOOKUP($C58,Industry_IT,Database!$AH$44,FALSE),\"-\"))))))","v":""},{"$f":"IF($C58=\"\",\"\",IF(VLOOKUP($C58,IT_Flag,Database!S$44,FALSE)=\"\",\"-\",IF(Industry_Segment=Database!$N$193,VLOOKUP($C58,Industry_IT,Database!$S$44,FALSE),IF(Industry_Segment=Database!$O$193,VLOOKUP($C58,Industry_IT,Database!$X$44,FALSE),IF(Industry_Segment=Database!$Q$193,VLOOKUP($C58,Industry_IT,Database!$AC$44,FALSE),IF(Industry_Segment=Database!$S$193,VLOOKUP($C58,Industry_IT,Database!$AH$44,FALSE),\"-\"))))))","v":""},{"$f":"IF($C58=\"\",\"\",IF(VLOOKUP($C58,IT_Flag,Database!T$44,FALSE)=\"\",\"-\",IF(Industry_Segment=Database!$N$193,VLOOKUP($C58,Industry_IT,Database!$S$44,FALSE),IF(Industry_Segment=Database!$O$193,VLOOKUP($C58,Industry_IT,Database!$X$44,FALSE),IF(Industry_Segment=Database!$Q$193,VLOOKUP($C58,Industry_IT,Database!$AC$44,FALSE),IF(Industry_Segment=Database!$S$193,VLOOKUP($C58,Industry_IT,Database!$AH$44,FALSE),\"-\"))))))","v":""},{"$f":"IF($C58=\"\",\"\",IF(VLOOKUP($C58,IT_Flag,Database!U$44,FALSE)=\"\",\"-\",IF(Industry_Segment=Database!$N$193,VLOOKUP($C58,Industry_IT,Database!$S$44,FALSE),IF(Industry_Segment=Database!$O$193,VLOOKUP($C58,Industry_IT,Database!$X$44,FALSE),IF(Industry_Segment=Database!$Q$193,VLOOKUP($C58,Industry_IT,Database!$AC$44,FALSE),IF(Industry_Segment=Database!$S$193,VLOOKUP($C58,Industry_IT,Database!$AH$44,FALSE),\"-\"))))))","v":""},{"$f":"IF($C58=\"\",\"\",IF(VLOOKUP($C58,IT_Flag,Database!V$44,FALSE)=\"\",\"-\",IF(Industry_Segment=Database!$N$193,VLOOKUP($C58,Industry_IT,Database!$S$44,FALSE),IF(Industry_Segment=Database!$O$193,VLOOKUP($C58,Industry_IT,Database!$X$44,FALSE),IF(Industry_Segment=Database!$Q$193,VLOOKUP($C58,Industry_IT,Database!$AC$44,FALSE),IF(Industry_Segment=Database!$S$193,VLOOKUP($C58,Industry_IT,Database!$AH$44,FALSE),\"-\"))))))","v":""},{"$f":"IF($C58=\"\",\"\",IF(VLOOKUP($C58,IT_Flag,Database!W$44,FALSE)=\"\",\"-\",IF(Industry_Segment=Database!$N$193,VLOOKUP($C58,Industry_IT,Database!$S$44,FALSE),IF(Industry_Segment=Database!$O$193,VLOOKUP($C58,Industry_IT,Database!$X$44,FALSE),IF(Industry_Segment=Database!$Q$193,VLOOKUP($C58,Industry_IT,Database!$AC$44,FALSE),IF(Industry_Segment=Database!$S$193,VLOOKUP($C58,Industry_IT,Database!$AH$44,FALSE),\"-\"))))))","v":""},{"$f":"IF($C58=\"\",\"\",IF(VLOOKUP($C58,IT_Flag,Database!X$44,FALSE)=\"\",\"-\",IF(Industry_Segment=Database!$N$193,VLOOKUP($C58,Industry_IT,Database!$S$44,FALSE),IF(Industry_Segment=Database!$O$193,VLOOKUP($C58,Industry_IT,Database!$X$44,FALSE),IF(Industry_Segment=Database!$Q$193,VLOOKUP($C58,Industry_IT,Database!$AC$44,FALSE),IF(Industry_Segment=Database!$S$193,VLOOKUP($C58,Industry_IT,Database!$AH$44,FALSE),\"-\"))))))","v":""},{"$f":"IF($C58=\"\",\"\",IF(VLOOKUP($C58,IT_Flag,Database!Y$44,FALSE)=\"\",\"-\",IF(Industry_Segment=Database!$N$193,VLOOKUP($C58,Industry_IT,Database!$S$44,FALSE),IF(Industry_Segment=Database!$O$193,VLOOKUP($C58,Industry_IT,Database!$X$44,FALSE),IF(Industry_Segment=Database!$Q$193,VLOOKUP($C58,Industry_IT,Database!$AC$44,FALSE),IF(Industry_Segment=Database!$S$193,VLOOKUP($C58,Industry_IT,Database!$AH$44,FALSE),\"-\"))))))","v":""},{"$f":"IF($C58=\"\",\"\",IF(VLOOKUP($C58,IT_Flag,Database!Z$44,FALSE)=\"\",\"-\",IF(Industry_Segment=Database!$N$193,VLOOKUP($C58,Industry_IT,Database!$S$44,FALSE),IF(Industry_Segment=Database!$O$193,VLOOKUP($C58,Industry_IT,Database!$X$44,FALSE),IF(Industry_Segment=Database!$Q$193,VLOOKUP($C58,Industry_IT,Database!$AC$44,FALSE),IF(Industry_Segment=Database!$S$193,VLOOKUP($C58,Industry_IT,Database!$AH$44,FALSE),\"-\"))))))","v":""},null,{"$f":"IF($C58=\"\",\"\",IF(VLOOKUP($C58,IT_Flag,Database!AA$44,FALSE)=\"\",\"-\",IF(Industry_Segment=Database!$N$193,VLOOKUP($C58,Industry_IT,Database!$S$44,FALSE),IF(Industry_Segment=Database!$O$193,VLOOKUP($C58,Industry_IT,Database!$X$44,FALSE),IF(Industry_Segment=Database!$Q$193,VLOOKUP($C58,Industry_IT,Database!$AC$44,FALSE),IF(Industry_Segment=Database!$S$193,VLOOKUP($C58,Industry_IT,Database!$AH$44,FALSE),\"-\"))))))","v":""},null,{"$f":"IF($C58=\"\",\"\",IF(VLOOKUP($C58,IT_Flag,Database!AB$44,FALSE)=\"\",\"-\",IF(Industry_Segment=Database!$N$193,VLOOKUP($C58,Industry_IT,Database!$S$44,FALSE),IF(Industry_Segment=Database!$O$193,VLOOKUP($C58,Industry_IT,Database!$X$44,FALSE),IF(Industry_Segment=Database!$Q$193,VLOOKUP($C58,Industry_IT,Database!$AC$44,FALSE),IF(Industry_Segment=Database!$S$193,VLOOKUP($C58,Industry_IT,Database!$AH$44,FALSE),\"-\"))))))","v":""},null,{"$f":"IF($C58=\"\",\"\",IF(VLOOKUP($C58,IT_Flag,Database!AC$44,FALSE)=\"\",\"-\",IF(Industry_Segment=Database!$N$193,VLOOKUP($C58,Industry_IT,Database!$S$44,FALSE),IF(Industry_Segment=Database!$O$193,VLOOKUP($C58,Industry_IT,Database!$X$44,FALSE),IF(Industry_Segment=Database!$Q$193,VLOOKUP($C58,Industry_IT,Database!$AC$44,FALSE),IF(Industry_Segment=Database!$S$193,VLOOKUP($C58,Industry_IT,Database!$AH$44,FALSE),\"-\"))))))","v":""}]
[null,null,{"$f":"IF(Database!C63=\"\",\"\",Database!C63)","v":""},{"$f":"IF($C59=\"\",\"\",IF(VLOOKUP($C59,IT_Flag,Database!R$44,FALSE)=\"\",\"-\",IF(Industry_Segment=Database!$N$193,VLOOKUP($C59,Industry_IT,Database!$S$44,FALSE),IF(Industry_Segment=Database!$O$193,VLOOKUP($C59,Industry_IT,Database!$X$44,FALSE),IF(Industry_Segment=Database!$Q$193,VLOOKUP($C59,Industry_IT,Database!$AC$44,FALSE),IF(Industry_Segment=Database!$S$193,VLOOKUP($C59,Industry_IT,Database!$AH$44,FALSE),\"-\"))))))","v":""},{"$f":"IF($C59=\"\",\"\",IF(VLOOKUP($C59,IT_Flag,Database!S$44,FALSE)=\"\",\"-\",IF(Industry_Segment=Database!$N$193,VLOOKUP($C59,Industry_IT,Database!$S$44,FALSE),IF(Industry_Segment=Database!$O$193,VLOOKUP($C59,Industry_IT,Database!$X$44,FALSE),IF(Industry_Segment=Database!$Q$193,VLOOKUP($C59,Industry_IT,Database!$AC$44,FALSE),IF(Industry_Segment=Database!$S$193,VLOOKUP($C59,Industry_IT,Database!$AH$44,FALSE),\"-\"))))))","v":""},{"$f":"IF($C59=\"\",\"\",IF(VLOOKUP($C59,IT_Flag,Database!T$44,FALSE)=\"\",\"-\",IF(Industry_Segment=Database!$N$193,VLOOKUP($C59,Industry_IT,Database!$S$44,FALSE),IF(Industry_Segment=Database!$O$193,VLOOKUP($C59,Industry_IT,Database!$X$44,FALSE),IF(Industry_Segment=Database!$Q$193,VLOOKUP($C59,Industry_IT,Database!$AC$44,FALSE),IF(Industry_Segment=Database!$S$193,VLOOKUP($C59,Industry_IT,Database!$AH$44,FALSE),\"-\"))))))","v":""},{"$f":"IF($C59=\"\",\"\",IF(VLOOKUP($C59,IT_Flag,Database!U$44,FALSE)=\"\",\"-\",IF(Industry_Segment=Database!$N$193,VLOOKUP($C59,Industry_IT,Database!$S$44,FALSE),IF(Industry_Segment=Database!$O$193,VLOOKUP($C59,Industry_IT,Database!$X$44,FALSE),IF(Industry_Segment=Database!$Q$193,VLOOKUP($C59,Industry_IT,Database!$AC$44,FALSE),IF(Industry_Segment=Database!$S$193,VLOOKUP($C59,Industry_IT,Database!$AH$44,FALSE),\"-\"))))))","v":""},{"$f":"IF($C59=\"\",\"\",IF(VLOOKUP($C59,IT_Flag,Database!V$44,FALSE)=\"\",\"-\",IF(Industry_Segment=Database!$N$193,VLOOKUP($C59,Industry_IT,Database!$S$44,FALSE),IF(Industry_Segment=Database!$O$193,VLOOKUP($C59,Industry_IT,Database!$X$44,FALSE),IF(Industry_Segment=Database!$Q$193,VLOOKUP($C59,Industry_IT,Database!$AC$44,FALSE),IF(Industry_Segment=Database!$S$193,VLOOKUP($C59,Industry_IT,Database!$AH$44,FALSE),\"-\"))))))","v":""},{"$f":"IF($C59=\"\",\"\",IF(VLOOKUP($C59,IT_Flag,Database!W$44,FALSE)=\"\",\"-\",IF(Industry_Segment=Database!$N$193,VLOOKUP($C59,Industry_IT,Database!$S$44,FALSE),IF(Industry_Segment=Database!$O$193,VLOOKUP($C59,Industry_IT,Database!$X$44,FALSE),IF(Industry_Segment=Database!$Q$193,VLOOKUP($C59,Industry_IT,Database!$AC$44,FALSE),IF(Industry_Segment=Database!$S$193,VLOOKUP($C59,Industry_IT,Database!$AH$44,FALSE),\"-\"))))))","v":""},{"$f":"IF($C59=\"\",\"\",IF(VLOOKUP($C59,IT_Flag,Database!X$44,FALSE)=\"\",\"-\",IF(Industry_Segment=Database!$N$193,VLOOKUP($C59,Industry_IT,Database!$S$44,FALSE),IF(Industry_Segment=Database!$O$193,VLOOKUP($C59,Industry_IT,Database!$X$44,FALSE),IF(Industry_Segment=Database!$Q$193,VLOOKUP($C59,Industry_IT,Database!$AC$44,FALSE),IF(Industry_Segment=Database!$S$193,VLOOKUP($C59,Industry_IT,Database!$AH$44,FALSE),\"-\"))))))","v":""},{"$f":"IF($C59=\"\",\"\",IF(VLOOKUP($C59,IT_Flag,Database!Y$44,FALSE)=\"\",\"-\",IF(Industry_Segment=Database!$N$193,VLOOKUP($C59,Industry_IT,Database!$S$44,FALSE),IF(Industry_Segment=Database!$O$193,VLOOKUP($C59,Industry_IT,Database!$X$44,FALSE),IF(Industry_Segment=Database!$Q$193,VLOOKUP($C59,Industry_IT,Database!$AC$44,FALSE),IF(Industry_Segment=Database!$S$193,VLOOKUP($C59,Industry_IT,Database!$AH$44,FALSE),\"-\"))))))","v":""},{"$f":"IF($C59=\"\",\"\",IF(VLOOKUP($C59,IT_Flag,Database!Z$44,FALSE)=\"\",\"-\",IF(Industry_Segment=Database!$N$193,VLOOKUP($C59,Industry_IT,Database!$S$44,FALSE),IF(Industry_Segment=Database!$O$193,VLOOKUP($C59,Industry_IT,Database!$X$44,FALSE),IF(Industry_Segment=Database!$Q$193,VLOOKUP($C59,Industry_IT,Database!$AC$44,FALSE),IF(Industry_Segment=Database!$S$193,VLOOKUP($C59,Industry_IT,Database!$AH$44,FALSE),\"-\"))))))","v":""},null,{"$f":"IF($C59=\"\",\"\",IF(VLOOKUP($C59,IT_Flag,Database!AA$44,FALSE)=\"\",\"-\",IF(Industry_Segment=Database!$N$193,VLOOKUP($C59,Industry_IT,Database!$S$44,FALSE),IF(Industry_Segment=Database!$O$193,VLOOKUP($C59,Industry_IT,Database!$X$44,FALSE),IF(Industry_Segment=Database!$Q$193,VLOOKUP($C59,Industry_IT,Database!$AC$44,FALSE),IF(Industry_Segment=Database!$S$193,VLOOKUP($C59,Industry_IT,Database!$AH$44,FALSE),\"-\"))))))","v":""},null,{"$f":"IF($C59=\"\",\"\",IF(VLOOKUP($C59,IT_Flag,Database!AB$44,FALSE)=\"\",\"-\",IF(Industry_Segment=Database!$N$193,VLOOKUP($C59,Industry_IT,Database!$S$44,FALSE),IF(Industry_Segment=Database!$O$193,VLOOKUP($C59,Industry_IT,Database!$X$44,FALSE),IF(Industry_Segment=Database!$Q$193,VLOOKUP($C59,Industry_IT,Database!$AC$44,FALSE),IF(Industry_Segment=Database!$S$193,VLOOKUP($C59,Industry_IT,Database!$AH$44,FALSE),\"-\"))))))","v":""},null,{"$f":"IF($C59=\"\",\"\",IF(VLOOKUP($C59,IT_Flag,Database!AC$44,FALSE)=\"\",\"-\",IF(Industry_Segment=Database!$N$193,VLOOKUP($C59,Industry_IT,Database!$S$44,FALSE),IF(Industry_Segment=Database!$O$193,VLOOKUP($C59,Industry_IT,Database!$X$44,FALSE),IF(Industry_Segment=Database!$Q$193,VLOOKUP($C59,Industry_IT,Database!$AC$44,FALSE),IF(Industry_Segment=Database!$S$193,VLOOKUP($C59,Industry_IT,Database!$AH$44,FALSE),\"-\"))))))","v":""}]
[null,null,{"$f":"IF(Database!C64=\"\",\"\",Database!C64)","v":""},{"$f":"IF($C60=\"\",\"\",IF(VLOOKUP($C60,IT_Flag,Database!R$44,FALSE)=\"\",\"-\",IF(Industry_Segment=Database!$N$193,VLOOKUP($C60,Industry_IT,Database!$S$44,FALSE),IF(Industry_Segment=Database!$O$193,VLOOKUP($C60,Industry_IT,Database!$X$44,FALSE),IF(Industry_Segment=Database!$Q$193,VLOOKUP($C60,Industry_IT,Database!$AC$44,FALSE),IF(Industry_Segment=Database!$S$193,VLOOKUP($C60,Industry_IT,Database!$AH$44,FALSE),\"-\"))))))","v":""},{"$f":"IF($C60=\"\",\"\",IF(VLOOKUP($C60,IT_Flag,Database!S$44,FALSE)=\"\",\"-\",IF(Industry_Segment=Database!$N$193,VLOOKUP($C60,Industry_IT,Database!$S$44,FALSE),IF(Industry_Segment=Database!$O$193,VLOOKUP($C60,Industry_IT,Database!$X$44,FALSE),IF(Industry_Segment=Database!$Q$193,VLOOKUP($C60,Industry_IT,Database!$AC$44,FALSE),IF(Industry_Segment=Database!$S$193,VLOOKUP($C60,Industry_IT,Database!$AH$44,FALSE),\"-\"))))))","v":""},{"$f":"IF($C60=\"\",\"\",IF(VLOOKUP($C60,IT_Flag,Database!T$44,FALSE)=\"\",\"-\",IF(Industry_Segment=Database!$N$193,VLOOKUP($C60,Industry_IT,Database!$S$44,FALSE),IF(Industry_Segment=Database!$O$193,VLOOKUP($C60,Industry_IT,Database!$X$44,FALSE),IF(Industry_Segment=Database!$Q$193,VLOOKUP($C60,Industry_IT,Database!$AC$44,FALSE),IF(Industry_Segment=Database!$S$193,VLOOKUP($C60,Industry_IT,Database!$AH$44,FALSE),\"-\"))))))","v":""},{"$f":"IF($C60=\"\",\"\",IF(VLOOKUP($C60,IT_Flag,Database!U$44,FALSE)=\"\",\"-\",IF(Industry_Segment=Database!$N$193,VLOOKUP($C60,Industry_IT,Database!$S$44,FALSE),IF(Industry_Segment=Database!$O$193,VLOOKUP($C60,Industry_IT,Database!$X$44,FALSE),IF(Industry_Segment=Database!$Q$193,VLOOKUP($C60,Industry_IT,Database!$AC$44,FALSE),IF(Industry_Segment=Database!$S$193,VLOOKUP($C60,Industry_IT,Database!$AH$44,FALSE),\"-\"))))))","v":""},{"$f":"IF($C60=\"\",\"\",IF(VLOOKUP($C60,IT_Flag,Database!V$44,FALSE)=\"\",\"-\",IF(Industry_Segment=Database!$N$193,VLOOKUP($C60,Industry_IT,Database!$S$44,FALSE),IF(Industry_Segment=Database!$O$193,VLOOKUP($C60,Industry_IT,Database!$X$44,FALSE),IF(Industry_Segment=Database!$Q$193,VLOOKUP($C60,Industry_IT,Database!$AC$44,FALSE),IF(Industry_Segment=Database!$S$193,VLOOKUP($C60,Industry_IT,Database!$AH$44,FALSE),\"-\"))))))","v":""},{"$f":"IF($C60=\"\",\"\",IF(VLOOKUP($C60,IT_Flag,Database!W$44,FALSE)=\"\",\"-\",IF(Industry_Segment=Database!$N$193,VLOOKUP($C60,Industry_IT,Database!$S$44,FALSE),IF(Industry_Segment=Database!$O$193,VLOOKUP($C60,Industry_IT,Database!$X$44,FALSE),IF(Industry_Segment=Database!$Q$193,VLOOKUP($C60,Industry_IT,Database!$AC$44,FALSE),IF(Industry_Segment=Database!$S$193,VLOOKUP($C60,Industry_IT,Database!$AH$44,FALSE),\"-\"))))))","v":""},{"$f":"IF($C60=\"\",\"\",IF(VLOOKUP($C60,IT_Flag,Database!X$44,FALSE)=\"\",\"-\",IF(Industry_Segment=Database!$N$193,VLOOKUP($C60,Industry_IT,Database!$S$44,FALSE),IF(Industry_Segment=Database!$O$193,VLOOKUP($C60,Industry_IT,Database!$X$44,FALSE),IF(Industry_Segment=Database!$Q$193,VLOOKUP($C60,Industry_IT,Database!$AC$44,FALSE),IF(Industry_Segment=Database!$S$193,VLOOKUP($C60,Industry_IT,Database!$AH$44,FALSE),\"-\"))))))","v":""},{"$f":"IF($C60=\"\",\"\",IF(VLOOKUP($C60,IT_Flag,Database!Y$44,FALSE)=\"\",\"-\",IF(Industry_Segment=Database!$N$193,VLOOKUP($C60,Industry_IT,Database!$S$44,FALSE),IF(Industry_Segment=Database!$O$193,VLOOKUP($C60,Industry_IT,Database!$X$44,FALSE),IF(Industry_Segment=Database!$Q$193,VLOOKUP($C60,Industry_IT,Database!$AC$44,FALSE),IF(Industry_Segment=Database!$S$193,VLOOKUP($C60,Industry_IT,Database!$AH$44,FALSE),\"-\"))))))","v":""},{"$f":"IF($C60=\"\",\"\",IF(VLOOKUP($C60,IT_Flag,Database!Z$44,FALSE)=\"\",\"-\",IF(Industry_Segment=Database!$N$193,VLOOKUP($C60,Industry_IT,Database!$S$44,FALSE),IF(Industry_Segment=Database!$O$193,VLOOKUP($C60,Industry_IT,Database!$X$44,FALSE),IF(Industry_Segment=Database!$Q$193,VLOOKUP($C60,Industry_IT,Database!$AC$44,FALSE),IF(Industry_Segment=Database!$S$193,VLOOKUP($C60,Industry_IT,Database!$AH$44,FALSE),\"-\"))))))","v":""},null,{"$f":"IF($C60=\"\",\"\",IF(VLOOKUP($C60,IT_Flag,Database!AA$44,FALSE)=\"\",\"-\",IF(Industry_Segment=Database!$N$193,VLOOKUP($C60,Industry_IT,Database!$S$44,FALSE),IF(Industry_Segment=Database!$O$193,VLOOKUP($C60,Industry_IT,Database!$X$44,FALSE),IF(Industry_Segment=Database!$Q$193,VLOOKUP($C60,Industry_IT,Database!$AC$44,FALSE),IF(Industry_Segment=Database!$S$193,VLOOKUP($C60,Industry_IT,Database!$AH$44,FALSE),\"-\"))))))","v":""},null,{"$f":"IF($C60=\"\",\"\",IF(VLOOKUP($C60,IT_Flag,Database!AB$44,FALSE)=\"\",\"-\",IF(Industry_Segment=Database!$N$193,VLOOKUP($C60,Industry_IT,Database!$S$44,FALSE),IF(Industry_Segment=Database!$O$193,VLOOKUP($C60,Industry_IT,Database!$X$44,FALSE),IF(Industry_Segment=Database!$Q$193,VLOOKUP($C60,Industry_IT,Database!$AC$44,FALSE),IF(Industry_Segment=Database!$S$193,VLOOKUP($C60,Industry_IT,Database!$AH$44,FALSE),\"-\"))))))","v":""},null,{"$f":"IF($C60=\"\",\"\",IF(VLOOKUP($C60,IT_Flag,Database!AC$44,FALSE)=\"\",\"-\",IF(Industry_Segment=Database!$N$193,VLOOKUP($C60,Industry_IT,Database!$S$44,FALSE),IF(Industry_Segment=Database!$O$193,VLOOKUP($C60,Industry_IT,Database!$X$44,FALSE),IF(Industry_Segment=Database!$Q$193,VLOOKUP($C60,Industry_IT,Database!$AC$44,FALSE),IF(Industry_Segment=Database!$S$193,VLOOKUP($C60,Industry_IT,Database!$AH$44,FALSE),\"-\"))))))","v":""}]
[null,null,{"$f":"IF(Database!C65=\"\",\"\",Database!C65)","v":""},{"$f":"IF($C61=\"\",\"\",IF(VLOOKUP($C61,IT_Flag,Database!R$44,FALSE)=\"\",\"-\",IF(Industry_Segment=Database!$N$193,VLOOKUP($C61,Industry_IT,Database!$S$44,FALSE),IF(Industry_Segment=Database!$O$193,VLOOKUP($C61,Industry_IT,Database!$X$44,FALSE),IF(Industry_Segment=Database!$Q$193,VLOOKUP($C61,Industry_IT,Database!$AC$44,FALSE),IF(Industry_Segment=Database!$S$193,VLOOKUP($C61,Industry_IT,Database!$AH$44,FALSE),\"-\"))))))","v":""},{"$f":"IF($C61=\"\",\"\",IF(VLOOKUP($C61,IT_Flag,Database!S$44,FALSE)=\"\",\"-\",IF(Industry_Segment=Database!$N$193,VLOOKUP($C61,Industry_IT,Database!$S$44,FALSE),IF(Industry_Segment=Database!$O$193,VLOOKUP($C61,Industry_IT,Database!$X$44,FALSE),IF(Industry_Segment=Database!$Q$193,VLOOKUP($C61,Industry_IT,Database!$AC$44,FALSE),IF(Industry_Segment=Database!$S$193,VLOOKUP($C61,Industry_IT,Database!$AH$44,FALSE),\"-\"))))))","v":""},{"$f":"IF($C61=\"\",\"\",IF(VLOOKUP($C61,IT_Flag,Database!T$44,FALSE)=\"\",\"-\",IF(Industry_Segment=Database!$N$193,VLOOKUP($C61,Industry_IT,Database!$S$44,FALSE),IF(Industry_Segment=Database!$O$193,VLOOKUP($C61,Industry_IT,Database!$X$44,FALSE),IF(Industry_Segment=Database!$Q$193,VLOOKUP($C61,Industry_IT,Database!$AC$44,FALSE),IF(Industry_Segment=Database!$S$193,VLOOKUP($C61,Industry_IT,Database!$AH$44,FALSE),\"-\"))))))","v":""},{"$f":"IF($C61=\"\",\"\",IF(VLOOKUP($C61,IT_Flag,Database!U$44,FALSE)=\"\",\"-\",IF(Industry_Segment=Database!$N$193,VLOOKUP($C61,Industry_IT,Database!$S$44,FALSE),IF(Industry_Segment=Database!$O$193,VLOOKUP($C61,Industry_IT,Database!$X$44,FALSE),IF(Industry_Segment=Database!$Q$193,VLOOKUP($C61,Industry_IT,Database!$AC$44,FALSE),IF(Industry_Segment=Database!$S$193,VLOOKUP($C61,Industry_IT,Database!$AH$44,FALSE),\"-\"))))))","v":""},{"$f":"IF($C61=\"\",\"\",IF(VLOOKUP($C61,IT_Flag,Database!V$44,FALSE)=\"\",\"-\",IF(Industry_Segment=Database!$N$193,VLOOKUP($C61,Industry_IT,Database!$S$44,FALSE),IF(Industry_Segment=Database!$O$193,VLOOKUP($C61,Industry_IT,Database!$X$44,FALSE),IF(Industry_Segment=Database!$Q$193,VLOOKUP($C61,Industry_IT,Database!$AC$44,FALSE),IF(Industry_Segment=Database!$S$193,VLOOKUP($C61,Industry_IT,Database!$AH$44,FALSE),\"-\"))))))","v":""},{"$f":"IF($C61=\"\",\"\",IF(VLOOKUP($C61,IT_Flag,Database!W$44,FALSE)=\"\",\"-\",IF(Industry_Segment=Database!$N$193,VLOOKUP($C61,Industry_IT,Database!$S$44,FALSE),IF(Industry_Segment=Database!$O$193,VLOOKUP($C61,Industry_IT,Database!$X$44,FALSE),IF(Industry_Segment=Database!$Q$193,VLOOKUP($C61,Industry_IT,Database!$AC$44,FALSE),IF(Industry_Segment=Database!$S$193,VLOOKUP($C61,Industry_IT,Database!$AH$44,FALSE),\"-\"))))))","v":""},{"$f":"IF($C61=\"\",\"\",IF(VLOOKUP($C61,IT_Flag,Database!X$44,FALSE)=\"\",\"-\",IF(Industry_Segment=Database!$N$193,VLOOKUP($C61,Industry_IT,Database!$S$44,FALSE),IF(Industry_Segment=Database!$O$193,VLOOKUP($C61,Industry_IT,Database!$X$44,FALSE),IF(Industry_Segment=Database!$Q$193,VLOOKUP($C61,Industry_IT,Database!$AC$44,FALSE),IF(Industry_Segment=Database!$S$193,VLOOKUP($C61,Industry_IT,Database!$AH$44,FALSE),\"-\"))))))","v":""},{"$f":"IF($C61=\"\",\"\",IF(VLOOKUP($C61,IT_Flag,Database!Y$44,FALSE)=\"\",\"-\",IF(Industry_Segment=Database!$N$193,VLOOKUP($C61,Industry_IT,Database!$S$44,FALSE),IF(Industry_Segment=Database!$O$193,VLOOKUP($C61,Industry_IT,Database!$X$44,FALSE),IF(Industry_Segment=Database!$Q$193,VLOOKUP($C61,Industry_IT,Database!$AC$44,FALSE),IF(Industry_Segment=Database!$S$193,VLOOKUP($C61,Industry_IT,Database!$AH$44,FALSE),\"-\"))))))","v":""},{"$f":"IF($C61=\"\",\"\",IF(VLOOKUP($C61,IT_Flag,Database!Z$44,FALSE)=\"\",\"-\",IF(Industry_Segment=Database!$N$193,VLOOKUP($C61,Industry_IT,Database!$S$44,FALSE),IF(Industry_Segment=Database!$O$193,VLOOKUP($C61,Industry_IT,Database!$X$44,FALSE),IF(Industry_Segment=Database!$Q$193,VLOOKUP($C61,Industry_IT,Database!$AC$44,FALSE),IF(Industry_Segment=Database!$S$193,VLOOKUP($C61,Industry_IT,Database!$AH$44,FALSE),\"-\"))))))","v":""},null,{"$f":"IF($C61=\"\",\"\",IF(VLOOKUP($C61,IT_Flag,Database!AA$44,FALSE)=\"\",\"-\",IF(Industry_Segment=Database!$N$193,VLOOKUP($C61,Industry_IT,Database!$S$44,FALSE),IF(Industry_Segment=Database!$O$193,VLOOKUP($C61,Industry_IT,Database!$X$44,FALSE),IF(Industry_Segment=Database!$Q$193,VLOOKUP($C61,Industry_IT,Database!$AC$44,FALSE),IF(Industry_Segment=Database!$S$193,VLOOKUP($C61,Industry_IT,Database!$AH$44,FALSE),\"-\"))))))","v":""},null,{"$f":"IF($C61=\"\",\"\",IF(VLOOKUP($C61,IT_Flag,Database!AB$44,FALSE)=\"\",\"-\",IF(Industry_Segment=Database!$N$193,VLOOKUP($C61,Industry_IT,Database!$S$44,FALSE),IF(Industry_Segment=Database!$O$193,VLOOKUP($C61,Industry_IT,Database!$X$44,FALSE),IF(Industry_Segment=Database!$Q$193,VLOOKUP($C61,Industry_IT,Database!$AC$44,FALSE),IF(Industry_Segment=Database!$S$193,VLOOKUP($C61,Industry_IT,Database!$AH$44,FALSE),\"-\"))))))","v":""},null,{"$f":"IF($C61=\"\",\"\",IF(VLOOKUP($C61,IT_Flag,Database!AC$44,FALSE)=\"\",\"-\",IF(Industry_Segment=Database!$N$193,VLOOKUP($C61,Industry_IT,Database!$S$44,FALSE),IF(Industry_Segment=Database!$O$193,VLOOKUP($C61,Industry_IT,Database!$X$44,FALSE),IF(Industry_Segment=Database!$Q$193,VLOOKUP($C61,Industry_IT,Database!$AC$44,FALSE),IF(Industry_Segment=Database!$S$193,VLOOKUP($C61,Industry_IT,Database!$AH$44,FALSE),\"-\"))))))","v":""}]
[null,null,{"$f":"IF(Database!C66=\"\",\"\",Database!C66)","v":""},{"$f":"IF($C62=\"\",\"\",IF(VLOOKUP($C62,IT_Flag,Database!R$44,FALSE)=\"\",\"-\",IF(Industry_Segment=Database!$N$193,VLOOKUP($C62,Industry_IT,Database!$S$44,FALSE),IF(Industry_Segment=Database!$O$193,VLOOKUP($C62,Industry_IT,Database!$X$44,FALSE),IF(Industry_Segment=Database!$Q$193,VLOOKUP($C62,Industry_IT,Database!$AC$44,FALSE),IF(Industry_Segment=Database!$S$193,VLOOKUP($C62,Industry_IT,Database!$AH$44,FALSE),\"-\"))))))","v":""},{"$f":"IF($C62=\"\",\"\",IF(VLOOKUP($C62,IT_Flag,Database!S$44,FALSE)=\"\",\"-\",IF(Industry_Segment=Database!$N$193,VLOOKUP($C62,Industry_IT,Database!$S$44,FALSE),IF(Industry_Segment=Database!$O$193,VLOOKUP($C62,Industry_IT,Database!$X$44,FALSE),IF(Industry_Segment=Database!$Q$193,VLOOKUP($C62,Industry_IT,Database!$AC$44,FALSE),IF(Industry_Segment=Database!$S$193,VLOOKUP($C62,Industry_IT,Database!$AH$44,FALSE),\"-\"))))))","v":""},{"$f":"IF($C62=\"\",\"\",IF(VLOOKUP($C62,IT_Flag,Database!T$44,FALSE)=\"\",\"-\",IF(Industry_Segment=Database!$N$193,VLOOKUP($C62,Industry_IT,Database!$S$44,FALSE),IF(Industry_Segment=Database!$O$193,VLOOKUP($C62,Industry_IT,Database!$X$44,FALSE),IF(Industry_Segment=Database!$Q$193,VLOOKUP($C62,Industry_IT,Database!$AC$44,FALSE),IF(Industry_Segment=Database!$S$193,VLOOKUP($C62,Industry_IT,Database!$AH$44,FALSE),\"-\"))))))","v":""},{"$f":"IF($C62=\"\",\"\",IF(VLOOKUP($C62,IT_Flag,Database!U$44,FALSE)=\"\",\"-\",IF(Industry_Segment=Database!$N$193,VLOOKUP($C62,Industry_IT,Database!$S$44,FALSE),IF(Industry_Segment=Database!$O$193,VLOOKUP($C62,Industry_IT,Database!$X$44,FALSE),IF(Industry_Segment=Database!$Q$193,VLOOKUP($C62,Industry_IT,Database!$AC$44,FALSE),IF(Industry_Segment=Database!$S$193,VLOOKUP($C62,Industry_IT,Database!$AH$44,FALSE),\"-\"))))))","v":""},{"$f":"IF($C62=\"\",\"\",IF(VLOOKUP($C62,IT_Flag,Database!V$44,FALSE)=\"\",\"-\",IF(Industry_Segment=Database!$N$193,VLOOKUP($C62,Industry_IT,Database!$S$44,FALSE),IF(Industry_Segment=Database!$O$193,VLOOKUP($C62,Industry_IT,Database!$X$44,FALSE),IF(Industry_Segment=Database!$Q$193,VLOOKUP($C62,Industry_IT,Database!$AC$44,FALSE),IF(Industry_Segment=Database!$S$193,VLOOKUP($C62,Industry_IT,Database!$AH$44,FALSE),\"-\"))))))","v":""},{"$f":"IF($C62=\"\",\"\",IF(VLOOKUP($C62,IT_Flag,Database!W$44,FALSE)=\"\",\"-\",IF(Industry_Segment=Database!$N$193,VLOOKUP($C62,Industry_IT,Database!$S$44,FALSE),IF(Industry_Segment=Database!$O$193,VLOOKUP($C62,Industry_IT,Database!$X$44,FALSE),IF(Industry_Segment=Database!$Q$193,VLOOKUP($C62,Industry_IT,Database!$AC$44,FALSE),IF(Industry_Segment=Database!$S$193,VLOOKUP($C62,Industry_IT,Database!$AH$44,FALSE),\"-\"))))))","v":""},{"$f":"IF($C62=\"\",\"\",IF(VLOOKUP($C62,IT_Flag,Database!X$44,FALSE)=\"\",\"-\",IF(Industry_Segment=Database!$N$193,VLOOKUP($C62,Industry_IT,Database!$S$44,FALSE),IF(Industry_Segment=Database!$O$193,VLOOKUP($C62,Industry_IT,Database!$X$44,FALSE),IF(Industry_Segment=Database!$Q$193,VLOOKUP($C62,Industry_IT,Database!$AC$44,FALSE),IF(Industry_Segment=Database!$S$193,VLOOKUP($C62,Industry_IT,Database!$AH$44,FALSE),\"-\"))))))","v":""},{"$f":"IF($C62=\"\",\"\",IF(VLOOKUP($C62,IT_Flag,Database!Y$44,FALSE)=\"\",\"-\",IF(Industry_Segment=Database!$N$193,VLOOKUP($C62,Industry_IT,Database!$S$44,FALSE),IF(Industry_Segment=Database!$O$193,VLOOKUP($C62,Industry_IT,Database!$X$44,FALSE),IF(Industry_Segment=Database!$Q$193,VLOOKUP($C62,Industry_IT,Database!$AC$44,FALSE),IF(Industry_Segment=Database!$S$193,VLOOKUP($C62,Industry_IT,Database!$AH$44,FALSE),\"-\"))))))","v":""},{"$f":"IF($C62=\"\",\"\",IF(VLOOKUP($C62,IT_Flag,Database!Z$44,FALSE)=\"\",\"-\",IF(Industry_Segment=Database!$N$193,VLOOKUP($C62,Industry_IT,Database!$S$44,FALSE),IF(Industry_Segment=Database!$O$193,VLOOKUP($C62,Industry_IT,Database!$X$44,FALSE),IF(Industry_Segment=Database!$Q$193,VLOOKUP($C62,Industry_IT,Database!$AC$44,FALSE),IF(Industry_Segment=Database!$S$193,VLOOKUP($C62,Industry_IT,Database!$AH$44,FALSE),\"-\"))))))","v":""},null,{"$f":"IF($C62=\"\",\"\",IF(VLOOKUP($C62,IT_Flag,Database!AA$44,FALSE)=\"\",\"-\",IF(Industry_Segment=Database!$N$193,VLOOKUP($C62,Industry_IT,Database!$S$44,FALSE),IF(Industry_Segment=Database!$O$193,VLOOKUP($C62,Industry_IT,Database!$X$44,FALSE),IF(Industry_Segment=Database!$Q$193,VLOOKUP($C62,Industry_IT,Database!$AC$44,FALSE),IF(Industry_Segment=Database!$S$193,VLOOKUP($C62,Industry_IT,Database!$AH$44,FALSE),\"-\"))))))","v":""},null,{"$f":"IF($C62=\"\",\"\",IF(VLOOKUP($C62,IT_Flag,Database!AB$44,FALSE)=\"\",\"-\",IF(Industry_Segment=Database!$N$193,VLOOKUP($C62,Industry_IT,Database!$S$44,FALSE),IF(Industry_Segment=Database!$O$193,VLOOKUP($C62,Industry_IT,Database!$X$44,FALSE),IF(Industry_Segment=Database!$Q$193,VLOOKUP($C62,Industry_IT,Database!$AC$44,FALSE),IF(Industry_Segment=Database!$S$193,VLOOKUP($C62,Industry_IT,Database!$AH$44,FALSE),\"-\"))))))","v":""},null,{"$f":"IF($C62=\"\",\"\",IF(VLOOKUP($C62,IT_Flag,Database!AC$44,FALSE)=\"\",\"-\",IF(Industry_Segment=Database!$N$193,VLOOKUP($C62,Industry_IT,Database!$S$44,FALSE),IF(Industry_Segment=Database!$O$193,VLOOKUP($C62,Industry_IT,Database!$X$44,FALSE),IF(Industry_Segment=Database!$Q$193,VLOOKUP($C62,Industry_IT,Database!$AC$44,FALSE),IF(Industry_Segment=Database!$S$193,VLOOKUP($C62,Industry_IT,Database!$AH$44,FALSE),\"-\"))))))","v":""}]
[null,null,{"$f":"IF(Database!C67=\"\",\"\",Database!C67)","v":""},{"$f":"IF($C63=\"\",\"\",IF(VLOOKUP($C63,IT_Flag,Database!R$44,FALSE)=\"\",\"-\",IF(Industry_Segment=Database!$N$193,VLOOKUP($C63,Industry_IT,Database!$S$44,FALSE),IF(Industry_Segment=Database!$O$193,VLOOKUP($C63,Industry_IT,Database!$X$44,FALSE),IF(Industry_Segment=Database!$Q$193,VLOOKUP($C63,Industry_IT,Database!$AC$44,FALSE),IF(Industry_Segment=Database!$S$193,VLOOKUP($C63,Industry_IT,Database!$AH$44,FALSE),\"-\"))))))","v":""},{"$f":"IF($C63=\"\",\"\",IF(VLOOKUP($C63,IT_Flag,Database!S$44,FALSE)=\"\",\"-\",IF(Industry_Segment=Database!$N$193,VLOOKUP($C63,Industry_IT,Database!$S$44,FALSE),IF(Industry_Segment=Database!$O$193,VLOOKUP($C63,Industry_IT,Database!$X$44,FALSE),IF(Industry_Segment=Database!$Q$193,VLOOKUP($C63,Industry_IT,Database!$AC$44,FALSE),IF(Industry_Segment=Database!$S$193,VLOOKUP($C63,Industry_IT,Database!$AH$44,FALSE),\"-\"))))))","v":""},{"$f":"IF($C63=\"\",\"\",IF(VLOOKUP($C63,IT_Flag,Database!T$44,FALSE)=\"\",\"-\",IF(Industry_Segment=Database!$N$193,VLOOKUP($C63,Industry_IT,Database!$S$44,FALSE),IF(Industry_Segment=Database!$O$193,VLOOKUP($C63,Industry_IT,Database!$X$44,FALSE),IF(Industry_Segment=Database!$Q$193,VLOOKUP($C63,Industry_IT,Database!$AC$44,FALSE),IF(Industry_Segment=Database!$S$193,VLOOKUP($C63,Industry_IT,Database!$AH$44,FALSE),\"-\"))))))","v":""},{"$f":"IF($C63=\"\",\"\",IF(VLOOKUP($C63,IT_Flag,Database!U$44,FALSE)=\"\",\"-\",IF(Industry_Segment=Database!$N$193,VLOOKUP($C63,Industry_IT,Database!$S$44,FALSE),IF(Industry_Segment=Database!$O$193,VLOOKUP($C63,Industry_IT,Database!$X$44,FALSE),IF(Industry_Segment=Database!$Q$193,VLOOKUP($C63,Industry_IT,Database!$AC$44,FALSE),IF(Industry_Segment=Database!$S$193,VLOOKUP($C63,Industry_IT,Database!$AH$44,FALSE),\"-\"))))))","v":""},{"$f":"IF($C63=\"\",\"\",IF(VLOOKUP($C63,IT_Flag,Database!V$44,FALSE)=\"\",\"-\",IF(Industry_Segment=Database!$N$193,VLOOKUP($C63,Industry_IT,Database!$S$44,FALSE),IF(Industry_Segment=Database!$O$193,VLOOKUP($C63,Industry_IT,Database!$X$44,FALSE),IF(Industry_Segment=Database!$Q$193,VLOOKUP($C63,Industry_IT,Database!$AC$44,FALSE),IF(Industry_Segment=Database!$S$193,VLOOKUP($C63,Industry_IT,Database!$AH$44,FALSE),\"-\"))))))","v":""},{"$f":"IF($C63=\"\",\"\",IF(VLOOKUP($C63,IT_Flag,Database!W$44,FALSE)=\"\",\"-\",IF(Industry_Segment=Database!$N$193,VLOOKUP($C63,Industry_IT,Database!$S$44,FALSE),IF(Industry_Segment=Database!$O$193,VLOOKUP($C63,Industry_IT,Database!$X$44,FALSE),IF(Industry_Segment=Database!$Q$193,VLOOKUP($C63,Industry_IT,Database!$AC$44,FALSE),IF(Industry_Segment=Database!$S$193,VLOOKUP($C63,Industry_IT,Database!$AH$44,FALSE),\"-\"))))))","v":""},{"$f":"IF($C63=\"\",\"\",IF(VLOOKUP($C63,IT_Flag,Database!X$44,FALSE)=\"\",\"-\",IF(Industry_Segment=Database!$N$193,VLOOKUP($C63,Industry_IT,Database!$S$44,FALSE),IF(Industry_Segment=Database!$O$193,VLOOKUP($C63,Industry_IT,Database!$X$44,FALSE),IF(Industry_Segment=Database!$Q$193,VLOOKUP($C63,Industry_IT,Database!$AC$44,FALSE),IF(Industry_Segment=Database!$S$193,VLOOKUP($C63,Industry_IT,Database!$AH$44,FALSE),\"-\"))))))","v":""},{"$f":"IF($C63=\"\",\"\",IF(VLOOKUP($C63,IT_Flag,Database!Y$44,FALSE)=\"\",\"-\",IF(Industry_Segment=Database!$N$193,VLOOKUP($C63,Industry_IT,Database!$S$44,FALSE),IF(Industry_Segment=Database!$O$193,VLOOKUP($C63,Industry_IT,Database!$X$44,FALSE),IF(Industry_Segment=Database!$Q$193,VLOOKUP($C63,Industry_IT,Database!$AC$44,FALSE),IF(Industry_Segment=Database!$S$193,VLOOKUP($C63,Industry_IT,Database!$AH$44,FALSE),\"-\"))))))","v":""},{"$f":"IF($C63=\"\",\"\",IF(VLOOKUP($C63,IT_Flag,Database!Z$44,FALSE)=\"\",\"-\",IF(Industry_Segment=Database!$N$193,VLOOKUP($C63,Industry_IT,Database!$S$44,FALSE),IF(Industry_Segment=Database!$O$193,VLOOKUP($C63,Industry_IT,Database!$X$44,FALSE),IF(Industry_Segment=Database!$Q$193,VLOOKUP($C63,Industry_IT,Database!$AC$44,FALSE),IF(Industry_Segment=Database!$S$193,VLOOKUP($C63,Industry_IT,Database!$AH$44,FALSE),\"-\"))))))","v":""},null,{"$f":"IF($C63=\"\",\"\",IF(VLOOKUP($C63,IT_Flag,Database!AA$44,FALSE)=\"\",\"-\",IF(Industry_Segment=Database!$N$193,VLOOKUP($C63,Industry_IT,Database!$S$44,FALSE),IF(Industry_Segment=Database!$O$193,VLOOKUP($C63,Industry_IT,Database!$X$44,FALSE),IF(Industry_Segment=Database!$Q$193,VLOOKUP($C63,Industry_IT,Database!$AC$44,FALSE),IF(Industry_Segment=Database!$S$193,VLOOKUP($C63,Industry_IT,Database!$AH$44,FALSE),\"-\"))))))","v":""},null,{"$f":"IF($C63=\"\",\"\",IF(VLOOKUP($C63,IT_Flag,Database!AB$44,FALSE)=\"\",\"-\",IF(Industry_Segment=Database!$N$193,VLOOKUP($C63,Industry_IT,Database!$S$44,FALSE),IF(Industry_Segment=Database!$O$193,VLOOKUP($C63,Industry_IT,Database!$X$44,FALSE),IF(Industry_Segment=Database!$Q$193,VLOOKUP($C63,Industry_IT,Database!$AC$44,FALSE),IF(Industry_Segment=Database!$S$193,VLOOKUP($C63,Industry_IT,Database!$AH$44,FALSE),\"-\"))))))","v":""},null,{"$f":"IF($C63=\"\",\"\",IF(VLOOKUP($C63,IT_Flag,Database!AC$44,FALSE)=\"\",\"-\",IF(Industry_Segment=Database!$N$193,VLOOKUP($C63,Industry_IT,Database!$S$44,FALSE),IF(Industry_Segment=Database!$O$193,VLOOKUP($C63,Industry_IT,Database!$X$44,FALSE),IF(Industry_Segment=Database!$Q$193,VLOOKUP($C63,Industry_IT,Database!$AC$44,FALSE),IF(Industry_Segment=Database!$S$193,VLOOKUP($C63,Industry_IT,Database!$AH$44,FALSE),\"-\"))))))","v":""}]
[null,null,"Testing & Readiness",{"$f":"IF(AND(Industry_Segment=Database!$N$169,SUM(D65:D84)>=Database!$U$27),\"R\",IF(AND(Industry_Segment=Database!$N$169,SUM(D65:D84)<Database!$V$27),\"G\",IF(SUM(D65:D84)>=(Database!$U$27*VLOOKUP(Industry_Segment,Industry_SegmentAdjust,Database!$O$44,FALSE)),\"R\",IF(SUM(D65:D84)<(Database!$V$27*VLOOKUP(Industry_Segment,Industry_SegmentAdjust,Database!$O$44,FALSE)),\"G\",\"A\"))))","v":"A"},{"$f":"IF(AND(Industry_Segment=Database!$N$169,SUM(E65:E84)>=Database!$U$27),\"R\",IF(AND(Industry_Segment=Database!$N$169,SUM(E65:E84)<Database!$V$27),\"G\",IF(SUM(E65:E84)>=(Database!$U$27*VLOOKUP(Industry_Segment,Industry_SegmentAdjust,Database!$O$44,FALSE)),\"R\",IF(SUM(E65:E84)<(Database!$V$27*VLOOKUP(Industry_Segment,Industry_SegmentAdjust,Database!$O$44,FALSE)),\"G\",\"A\"))))","v":"A"},{"$f":"IF(AND(Industry_Segment=Database!$N$169,SUM(F65:F84)>=Database!$U$27),\"R\",IF(AND(Industry_Segment=Database!$N$169,SUM(F65:F84)<Database!$V$27),\"G\",IF(SUM(F65:F84)>=(Database!$U$27*VLOOKUP(Industry_Segment,Industry_SegmentAdjust,Database!$O$44,FALSE)),\"R\",IF(SUM(F65:F84)<(Database!$V$27*VLOOKUP(Industry_Segment,Industry_SegmentAdjust,Database!$O$44,FALSE)),\"G\",\"A\"))))","v":"A"},{"$f":"IF(AND(Industry_Segment=Database!$N$169,SUM(G65:G84)>=Database!$U$27),\"R\",IF(AND(Industry_Segment=Database!$N$169,SUM(G65:G84)<Database!$V$27),\"G\",IF(SUM(G65:G84)>=(Database!$U$27*VLOOKUP(Industry_Segment,Industry_SegmentAdjust,Database!$O$44,FALSE)),\"R\",IF(SUM(G65:G84)<(Database!$V$27*VLOOKUP(Industry_Segment,Industry_SegmentAdjust,Database!$O$44,FALSE)),\"G\",\"A\"))))","v":"A"},{"$f":"IF(AND(Industry_Segment=Database!$N$169,SUM(H65:H84)>=Database!$U$27),\"R\",IF(AND(Industry_Segment=Database!$N$169,SUM(H65:H84)<Database!$V$27),\"G\",IF(SUM(H65:H84)>=(Database!$U$27*VLOOKUP(Industry_Segment,Industry_SegmentAdjust,Database!$O$44,FALSE)),\"R\",IF(SUM(H65:H84)<(Database!$V$27*VLOOKUP(Industry_Segment,Industry_SegmentAdjust,Database!$O$44,FALSE)),\"G\",\"A\"))))","v":"A"},{"$f":"IF(AND(Industry_Segment=Database!$N$169,SUM(I65:I84)>=Database!$U$27),\"R\",IF(AND(Industry_Segment=Database!$N$169,SUM(I65:I84)<Database!$V$27),\"G\",IF(SUM(I65:I84)>=(Database!$U$27*VLOOKUP(Industry_Segment,Industry_SegmentAdjust,Database!$O$44,FALSE)),\"R\",IF(SUM(I65:I84)<(Database!$V$27*VLOOKUP(Industry_Segment,Industry_SegmentAdjust,Database!$O$44,FALSE)),\"G\",\"A\"))))","v":"R"},{"$f":"IF(AND(Industry_Segment=Database!$N$169,SUM(J65:J84)>=Database!$U$27),\"R\",IF(AND(Industry_Segment=Database!$N$169,SUM(J65:J84)<Database!$V$27),\"G\",IF(SUM(J65:J84)>=(Database!$U$27*VLOOKUP(Industry_Segment,Industry_SegmentAdjust,Database!$O$44,FALSE)),\"R\",IF(SUM(J65:J84)<(Database!$V$27*VLOOKUP(Industry_Segment,Industry_SegmentAdjust,Database!$O$44,FALSE)),\"G\",\"A\"))))","v":"A"},{"$f":"IF(AND(Industry_Segment=Database!$N$169,SUM(K65:K84)>=Database!$U$27),\"R\",IF(AND(Industry_Segment=Database!$N$169,SUM(K65:K84)<Database!$V$27),\"G\",IF(SUM(K65:K84)>=(Database!$U$27*VLOOKUP(Industry_Segment,Industry_SegmentAdjust,Database!$O$44,FALSE)),\"R\",IF(SUM(K65:K84)<(Database!$V$27*VLOOKUP(Industry_Segment,Industry_SegmentAdjust,Database!$O$44,FALSE)),\"G\",\"A\"))))","v":"G"},{"$f":"IF(AND(Industry_Segment=Database!$N$169,SUM(L65:M84)>=Database!$U$27),\"R\",IF(AND(Industry_Segment=Database!$N$169,SUM(L65:M84)<Database!$V$27),\"G\",IF(SUM(L65:M84)>=(Database!$U$27*VLOOKUP(Industry_Segment,Industry_SegmentAdjust,Database!$O$44,FALSE)),\"R\",IF(SUM(L65:M84)<(Database!$V$27*VLOOKUP(Industry_Segment,Industry_SegmentAdjust,Database!$O$44,FALSE)),\"G\",\"A\"))))","v":"G"},null,{"$f":"IF(AND(Industry_Segment=Database!$N$169,SUM(N65:O84)>=Database!$U$27),\"R\",IF(AND(Industry_Segment=Database!$N$169,SUM(N65:O84)<Database!$V$27),\"G\",IF(SUM(N65:O84)>=(Database!$U$27*VLOOKUP(Industry_Segment,Industry_SegmentAdjust,Database!$O$44,FALSE)),\"R\",IF(SUM(N65:O84)<(Database!$V$27*VLOOKUP(Industry_Segment,Industry_SegmentAdjust,Database!$O$44,FALSE)),\"G\",\"A\"))))","v":"G"},null,{"$f":"IF(AND(Industry_Segment=Database!$N$169,SUM(P65:Q84)>=Database!$U$27),\"R\",IF(AND(Industry_Segment=Database!$N$169,SUM(P65:Q84)<Database!$V$27),\"G\",IF(SUM(P65:Q84)>=(Database!$U$27*VLOOKUP(Industry_Segment,Industry_SegmentAdjust,Database!$O$44,FALSE)),\"R\",IF(SUM(P65:Q84)<(Database!$V$27*VLOOKUP(Industry_Segment,Industry_SegmentAdjust,Database!$O$44,FALSE)),\"G\",\"A\"))))","v":"G"},null,{"$f":"IF(AND(Industry_Segment=Database!$N$169,SUM(R65:S84)>=Database!$U$27),\"R\",IF(AND(Industry_Segment=Database!$N$169,SUM(R65:S84)<Database!$V$27),\"G\",IF(SUM(R65:S84)>=(Database!$U$27*VLOOKUP(Industry_Segment,Industry_SegmentAdjust,Database!$O$44,FALSE)),\"R\",IF(SUM(R65:S84)<(Database!$V$27*VLOOKUP(Industry_Segment,Industry_SegmentAdjust,Database!$O$44,FALSE)),\"G\",\"A\"))))","v":"G"}]
[null,null,{"$f":"IF(Database!C48=\"\",\"\",Database!C48)","v":"I - SCADA Lite"},{"$f":"IF($C65=\"\",\"\",IF(VLOOKUP($C65,TR_Flag,Database!R$44,FALSE)=\"\",\"-\",IF(HLOOKUP(Industry_Segment,Industry_TR,Database!$B47,FALSE)=1,1,\"-\")))","v":1},{"$f":"IF($C65=\"\",\"\",IF(VLOOKUP($C65,TR_Flag,Database!S$44,FALSE)=\"\",\"-\",IF(HLOOKUP(Industry_Segment,Industry_TR,Database!$B47,FALSE)=1,1,\"-\")))","v":1},{"$f":"IF($C65=\"\",\"\",IF(VLOOKUP($C65,TR_Flag,Database!T$44,FALSE)=\"\",\"-\",IF(HLOOKUP(Industry_Segment,Industry_TR,Database!$B47,FALSE)=1,1,\"-\")))","v":"-"},{"$f":"IF($C65=\"\",\"\",IF(VLOOKUP($C65,TR_Flag,Database!U$44,FALSE)=\"\",\"-\",IF(HLOOKUP(Industry_Segment,Industry_TR,Database!$B47,FALSE)=1,1,\"-\")))","v":"-"},{"$f":"IF($C65=\"\",\"\",IF(VLOOKUP($C65,TR_Flag,Database!V$44,FALSE)=\"\",\"-\",IF(HLOOKUP(Industry_Segment,Industry_TR,Database!$B47,FALSE)=1,1,\"-\")))","v":"-"},{"$f":"IF($C65=\"\",\"\",IF(VLOOKUP($C65,TR_Flag,Database!W$44,FALSE)=\"\",\"-\",IF(HLOOKUP(Industry_Segment,Industry_TR,Database!$B47,FALSE)=1,1,\"-\")))","v":"-"},{"$f":"IF($C65=\"\",\"\",IF(VLOOKUP($C65,TR_Flag,Database!X$44,FALSE)=\"\",\"-\",IF(HLOOKUP(Industry_Segment,Industry_TR,Database!$B47,FALSE)=1,1,\"-\")))","v":"-"},{"$f":"IF($C65=\"\",\"\",IF(VLOOKUP($C65,TR_Flag,Database!Y$44,FALSE)=\"\",\"-\",IF(HLOOKUP(Industry_Segment,Industry_TR,Database!$B47,FALSE)=1,1,\"-\")))","v":"-"},{"$f":"IF($C65=\"\",\"\",IF(VLOOKUP($C65,TR_Flag,Database!Z$44,FALSE)=\"\",\"-\",IF(HLOOKUP(Industry_Segment,Industry_TR,Database!$B47,FALSE)=1,1,\"-\")))","v":"-"},null,{"$f":"IF($C65=\"\",\"\",IF(VLOOKUP($C65,TR_Flag,Database!AA$44,FALSE)=\"\",\"-\",IF(HLOOKUP(Industry_Segment,Industry_TR,Database!$B47,FALSE)=1,1,\"-\")))","v":"-"},null,{"$f":"IF($C65=\"\",\"\",IF(VLOOKUP($C65,TR_Flag,Database!AB$44,FALSE)=\"\",\"-\",IF(HLOOKUP(Industry_Segment,Industry_TR,Database!$B47,FALSE)=1,1,\"-\")))","v":"-"},null,{"$f":"IF($C65=\"\",\"\",IF(VLOOKUP($C65,TR_Flag,Database!AC$44,FALSE)=\"\",\"-\",IF(HLOOKUP(Industry_Segment,Industry_TR,Database!$B47,FALSE)=1,1,\"-\")))","v":"-"}]
[null,null,{"$f":"IF(Database!C49=\"\",\"\",Database!C49)","v":"I - Frequency Performance Payments"},{"$f":"IF($C66=\"\",\"\",IF(VLOOKUP($C66,TR_Flag,Database!R$44,FALSE)=\"\",\"-\",IF(HLOOKUP(Industry_Segment,Industry_TR,Database!$B48,FALSE)=1,1,\"-\")))","v":1},{"$f":"IF($C66=\"\",\"\",IF(VLOOKUP($C66,TR_Flag,Database!S$44,FALSE)=\"\",\"-\",IF(HLOOKUP(Industry_Segment,Industry_TR,Database!$B48,FALSE)=1,1,\"-\")))","v":1},{"$f":"IF($C66=\"\",\"\",IF(VLOOKUP($C66,TR_Flag,Database!T$44,FALSE)=\"\",\"-\",IF(HLOOKUP(Industry_Segment,Industry_TR,Database!$B48,FALSE)=1,1,\"-\")))","v":"-"},{"$f":"IF($C66=\"\",\"\",IF(VLOOKUP($C66,TR_Flag,Database!U$44,FALSE)=\"\",\"-\",IF(HLOOKUP(Industry_Segment,Industry_TR,Database!$B48,FALSE)=1,1,\"-\")))","v":"-"},{"$f":"IF($C66=\"\",\"\",IF(VLOOKUP($C66,TR_Flag,Database!V$44,FALSE)=\"\",\"-\",IF(HLOOKUP(Industry_Segment,Industry_TR,Database!$B48,FALSE)=1,1,\"-\")))","v":"-"},{"$f":"IF($C66=\"\",\"\",IF(VLOOKUP($C66,TR_Flag,Database!W$44,FALSE)=\"\",\"-\",IF(HLOOKUP(Industry_Segment,Industry_TR,Database!$B48,FALSE)=1,1,\"-\")))","v":"-"},{"$f":"IF($C66=\"\",\"\",IF(VLOOKUP($C66,TR_Flag,Database!X$44,FALSE)=\"\",\"-\",IF(HLOOKUP(Industry_Segment,Industry_TR,Database!$B48,FALSE)=1,1,\"-\")))","v":"-"},{"$f":"IF($C66=\"\",\"\",IF(VLOOKUP($C66,TR_Flag,Database!Y$44,FALSE)=\"\",\"-\",IF(HLOOKUP(Industry_Segment,Industry_TR,Database!$B48,FALSE)=1,1,\"-\")))","v":"-"},{"$f":"IF($C66=\"\",\"\",IF(VLOOKUP($C66,TR_Flag,Database!Z$44,FALSE)=\"\",\"-\",IF(HLOOKUP(Industry_Segment,Industry_TR,Database!$B48,FALSE)=1,1,\"-\")))","v":"-"},null,{"$f":"IF($C66=\"\",\"\",IF(VLOOKUP($C66,TR_Flag,Database!AA$44,FALSE)=\"\",\"-\",IF(HLOOKUP(Industry_Segment,Industry_TR,Database!$B48,FALSE)=1,1,\"-\")))","v":"-"},null,{"$f":"IF($C66=\"\",\"\",IF(VLOOKUP($C66,TR_Flag,Database!AB$44,FALSE)=\"\",\"-\",IF(HLOOKUP(Industry_Segment,Industry_TR,Database!$B48,FALSE)=1,1,\"-\")))","v":"-"},null,{"$f":"IF($C66=\"\",\"\",IF(VLOOKUP($C66,TR_Flag,Database!AC$44,FALSE)=\"\",\"-\",IF(HLOOKUP(Industry_Segment,Industry_TR,Database!$B48,FALSE)=1,1,\"-\")))","v":"-"}]
[null,null,{"$f":"IF(Database!C50=\"\",\"\",Database!C50)","v":"I - Enhancing Reserve Information"},{"$f":"IF($C67=\"\",\"\",IF(VLOOKUP($C67,TR_Flag,Database!R$44,FALSE)=\"\",\"-\",IF(HLOOKUP(Industry_Segment,Industry_TR,Database!$B49,FALSE)=1,1,\"-\")))","v":"-"},{"$f":"IF($C67=\"\",\"\",IF(VLOOKUP($C67,TR_Flag,Database!S$44,FALSE)=\"\",\"-\",IF(HLOOKUP(Industry_Segment,Industry_TR,Database!$B49,FALSE)=1,1,\"-\")))","v":1},{"$f":"IF($C67=\"\",\"\",IF(VLOOKUP($C67,TR_Flag,Database!T$44,FALSE)=\"\",\"-\",IF(HLOOKUP(Industry_Segment,Industry_TR,Database!$B49,FALSE)=1,1,\"-\")))","v":"-"},{"$f":"IF($C67=\"\",\"\",IF(VLOOKUP($C67,TR_Flag,Database!U$44,FALSE)=\"\",\"-\",IF(HLOOKUP(Industry_Segment,Industry_TR,Database!$B49,FALSE)=1,1,\"-\")))","v":"-"},{"$f":"IF($C67=\"\",\"\",IF(VLOOKUP($C67,TR_Flag,Database!V$44,FALSE)=\"\",\"-\",IF(HLOOKUP(Industry_Segment,Industry_TR,Database!$B49,FALSE)=1,1,\"-\")))","v":"-"},{"$f":"IF($C67=\"\",\"\",IF(VLOOKUP($C67,TR_Flag,Database!W$44,FALSE)=\"\",\"-\",IF(HLOOKUP(Industry_Segment,Industry_TR,Database!$B49,FALSE)=1,1,\"-\")))","v":"-"},{"$f":"IF($C67=\"\",\"\",IF(VLOOKUP($C67,TR_Flag,Database!X$44,FALSE)=\"\",\"-\",IF(HLOOKUP(Industry_Segment,Industry_TR,Database!$B49,FALSE)=1,1,\"-\")))","v":"-"},{"$f":"IF($C67=\"\",\"\",IF(VLOOKUP($C67,TR_Flag,Database!Y$44,FALSE)=\"\",\"-\",IF(HLOOKUP(Industry_Segment,Industry_TR,Database!$B49,FALSE)=1,1,\"-\")))","v":"-"},{"$f":"IF($C67=\"\",\"\",IF(VLOOKUP($C67,TR_Flag,Database!Z$44,FALSE)=\"\",\"-\",IF(HLOOKUP(Industry_Segment,Industry_TR,Database!$B49,FALSE)=1,1,\"-\")))","v":"-"},null,{"$f":"IF($C67=\"\",\"\",IF(VLOOKUP($C67,TR_Flag,Database!AA$44,FALSE)=\"\",\"-\",IF(HLOOKUP(Industry_Segment,Industry_TR,Database!$B49,FALSE)=1,1,\"-\")))","v":"-"},null,{"$f":"IF($C67=\"\",\"\",IF(VLOOKUP($C67,TR_Flag,Database!AB$44,FALSE)=\"\",\"-\",IF(HLOOKUP(Industry_Segment,Industry_TR,Database!$B49,FALSE)=1,1,\"-\")))","v":"-"},null,{"$f":"IF($C67=\"\",\"\",IF(VLOOKUP($C67,TR_Flag,Database!AC$44,FALSE)=\"\",\"-\",IF(HLOOKUP(Industry_Segment,Industry_TR,Database!$B49,FALSE)=1,1,\"-\")))","v":"-"}]
[null,null,{"$f":"IF(Database!C51=\"\",\"\",Database!C51)","v":"I - ST PASA Procedure & Recall Period"},{"$f":"IF($C68=\"\",\"\",IF(VLOOKUP($C68,TR_Flag,Database!R$44,FALSE)=\"\",\"-\",IF(HLOOKUP(Industry_Segment,Industry_TR,Database!$B50,FALSE)=1,1,\"-\")))","v":1},{"$f":"IF($C68=\"\",\"\",IF(VLOOKUP($C68,TR_Flag,Database!S$44,FALSE)=\"\",\"-\",IF(HLOOKUP(Industry_Segment,Industry_TR,Database!$B50,FALSE)=1,1,\"-\")))","v":1},{"$f":"IF($C68=\"\",\"\",IF(VLOOKUP($C68,TR_Flag,Database!T$44,FALSE)=\"\",\"-\",IF(HLOOKUP(Industry_Segment,Industry_TR,Database!$B50,FALSE)=1,1,\"-\")))","v":"-"},{"$f":"IF($C68=\"\",\"\",IF(VLOOKUP($C68,TR_Flag,Database!U$44,FALSE)=\"\",\"-\",IF(HLOOKUP(Industry_Segment,Industry_TR,Database!$B50,FALSE)=1,1,\"-\")))","v":"-"},{"$f":"IF($C68=\"\",\"\",IF(VLOOKUP($C68,TR_Flag,Database!V$44,FALSE)=\"\",\"-\",IF(HLOOKUP(Industry_Segment,Industry_TR,Database!$B50,FALSE)=1,1,\"-\")))","v":"-"},{"$f":"IF($C68=\"\",\"\",IF(VLOOKUP($C68,TR_Flag,Database!W$44,FALSE)=\"\",\"-\",IF(HLOOKUP(Industry_Segment,Industry_TR,Database!$B50,FALSE)=1,1,\"-\")))","v":"-"},{"$f":"IF($C68=\"\",\"\",IF(VLOOKUP($C68,TR_Flag,Database!X$44,FALSE)=\"\",\"-\",IF(HLOOKUP(Industry_Segment,Industry_TR,Database!$B50,FALSE)=1,1,\"-\")))","v":"-"},{"$f":"IF($C68=\"\",\"\",IF(VLOOKUP($C68,TR_Flag,Database!Y$44,FALSE)=\"\",\"-\",IF(HLOOKUP(Industry_Segment,Industry_TR,Database!$B50,FALSE)=1,1,\"-\")))","v":"-"},{"$f":"IF($C68=\"\",\"\",IF(VLOOKUP($C68,TR_Flag,Database!Z$44,FALSE)=\"\",\"-\",IF(HLOOKUP(Industry_Segment,Industry_TR,Database!$B50,FALSE)=1,1,\"-\")))","v":"-"},null,{"$f":"IF($C68=\"\",\"\",IF(VLOOKUP($C68,TR_Flag,Database!AA$44,FALSE)=\"\",\"-\",IF(HLOOKUP(Industry_Segment,Industry_TR,Database!$B50,FALSE)=1,1,\"-\")))","v":"-"},null,{"$f":"IF($C68=\"\",\"\",IF(VLOOKUP($C68,TR_Flag,Database!AB$44,FALSE)=\"\",\"-\",IF(HLOOKUP(Industry_Segment,Industry_TR,Database!$B50,FALSE)=1,1,\"-\")))","v":"-"},null,{"$f":"IF($C68=\"\",\"\",IF(VLOOKUP($C68,TR_Flag,Database!AC$44,FALSE)=\"\",\"-\",IF(HLOOKUP(Industry_Segment,Industry_TR,Database!$B50,FALSE)=1,1,\"-\")))","v":"-"}]
[null,null,{"$f":"IF(Database!C52=\"\",\"\",Database!C52)","v":"I - Improving Security Frameworks"},{"$f":"IF($C69=\"\",\"\",IF(VLOOKUP($C69,TR_Flag,Database!R$44,FALSE)=\"\",\"-\",IF(HLOOKUP(Industry_Segment,Industry_TR,Database!$B51,FALSE)=1,1,\"-\")))","v":"-"},{"$f":"IF($C69=\"\",\"\",IF(VLOOKUP($C69,TR_Flag,Database!S$44,FALSE)=\"\",\"-\",IF(HLOOKUP(Industry_Segment,Industry_TR,Database!$B51,FALSE)=1,1,\"-\")))","v":"-"},{"$f":"IF($C69=\"\",\"\",IF(VLOOKUP($C69,TR_Flag,Database!T$44,FALSE)=\"\",\"-\",IF(HLOOKUP(Industry_Segment,Industry_TR,Database!$B51,FALSE)=1,1,\"-\")))","v":1},{"$f":"IF($C69=\"\",\"\",IF(VLOOKUP($C69,TR_Flag,Database!U$44,FALSE)=\"\",\"-\",IF(HLOOKUP(Industry_Segment,Industry_TR,Database!$B51,FALSE)=1,1,\"-\")))","v":1},{"$f":"IF($C69=\"\",\"\",IF(VLOOKUP($C69,TR_Flag,Database!V$44,FALSE)=\"\",\"-\",IF(HLOOKUP(Industry_Segment,Industry_TR,Database!$B51,FALSE)=1,1,\"-\")))","v":"-"},{"$f":"IF($C69=\"\",\"\",IF(VLOOKUP($C69,TR_Flag,Database!W$44,FALSE)=\"\",\"-\",IF(HLOOKUP(Industry_Segment,Industry_TR,Database!$B51,FALSE)=1,1,\"-\")))","v":"-"},{"$f":"IF($C69=\"\",\"\",IF(VLOOKUP($C69,TR_Flag,Database!X$44,FALSE)=\"\",\"-\",IF(HLOOKUP(Industry_Segment,Industry_TR,Database!$B51,FALSE)=1,1,\"-\")))","v":"-"},{"$f":"IF($C69=\"\",\"\",IF(VLOOKUP($C69,TR_Flag,Database!Y$44,FALSE)=\"\",\"-\",IF(HLOOKUP(Industry_Segment,Industry_TR,Database!$B51,FALSE)=1,1,\"-\")))","v":"-"},{"$f":"IF($C69=\"\",\"\",IF(VLOOKUP($C69,TR_Flag,Database!Z$44,FALSE)=\"\",\"-\",IF(HLOOKUP(Industry_Segment,Industry_TR,Database!$B51,FALSE)=1,1,\"-\")))","v":"-"},null,{"$f":"IF($C69=\"\",\"\",IF(VLOOKUP($C69,TR_Flag,Database!AA$44,FALSE)=\"\",\"-\",IF(HLOOKUP(Industry_Segment,Industry_TR,Database!$B51,FALSE)=1,1,\"-\")))","v":"-"},null,{"$f":"IF($C69=\"\",\"\",IF(VLOOKUP($C69,TR_Flag,Database!AB$44,FALSE)=\"\",\"-\",IF(HLOOKUP(Industry_Segment,Industry_TR,Database!$B51,FALSE)=1,1,\"-\")))","v":"-"},null,{"$f":"IF($C69=\"\",\"\",IF(VLOOKUP($C69,TR_Flag,Database!AC$44,FALSE)=\"\",\"-\",IF(HLOOKUP(Industry_Segment,Industry_TR,Database!$B51,FALSE)=1,1,\"-\")))","v":"-"}]
[null,null,{"$f":"IF(Database!C53=\"\",\"\",Database!C53)","v":"I - Unlocking CER Benefits Through Flexible Trading"},{"$f":"IF($C70=\"\",\"\",IF(VLOOKUP($C70,TR_Flag,Database!R$44,FALSE)=\"\",\"-\",IF(HLOOKUP(Industry_Segment,Industry_TR,Database!$B52,FALSE)=1,1,\"-\")))","v":"-"},{"$f":"IF($C70=\"\",\"\",IF(VLOOKUP($C70,TR_Flag,Database!S$44,FALSE)=\"\",\"-\",IF(HLOOKUP(Industry_Segment,Industry_TR,Database!$B52,FALSE)=1,1,\"-\")))","v":"-"},{"$f":"IF($C70=\"\",\"\",IF(VLOOKUP($C70,TR_Flag,Database!T$44,FALSE)=\"\",\"-\",IF(HLOOKUP(Industry_Segment,Industry_TR,Database!$B52,FALSE)=1,1,\"-\")))","v":"-"},{"$f":"IF($C70=\"\",\"\",IF(VLOOKUP($C70,TR_Flag,Database!U$44,FALSE)=\"\",\"-\",IF(HLOOKUP(Industry_Segment,Industry_TR,Database!$B52,FALSE)=1,1,\"-\")))","v":1},{"$f":"IF($C70=\"\",\"\",IF(VLOOKUP($C70,TR_Flag,Database!V$44,FALSE)=\"\",\"-\",IF(HLOOKUP(Industry_Segment,Industry_TR,Database!$B52,FALSE)=1,1,\"-\")))","v":1},{"$f":"IF($C70=\"\",\"\",IF(VLOOKUP($C70,TR_Flag,Database!W$44,FALSE)=\"\",\"-\",IF(HLOOKUP(Industry_Segment,Industry_TR,Database!$B52,FALSE)=1,1,\"-\")))","v":1},{"$f":"IF($C70=\"\",\"\",IF(VLOOKUP($C70,TR_Flag,Database!X$44,FALSE)=\"\",\"-\",IF(HLOOKUP(Industry_Segment,Industry_TR,Database!$B52,FALSE)=1,1,\"-\")))","v":1},{"$f":"IF($C70=\"\",\"\",IF(VLOOKUP($C70,TR_Flag,Database!Y$44,FALSE)=\"\",\"-\",IF(HLOOKUP(Industry_Segment,Industry_TR,Database!$B52,FALSE)=1,1,\"-\")))","v":1},{"$f":"IF($C70=\"\",\"\",IF(VLOOKUP($C70,TR_Flag,Database!Z$44,FALSE)=\"\",\"-\",IF(HLOOKUP(Industry_Segment,Industry_TR,Database!$B52,FALSE)=1,1,\"-\")))","v":"-"},null,{"$f":"IF($C70=\"\",\"\",IF(VLOOKUP($C70,TR_Flag,Database!AA$44,FALSE)=\"\",\"-\",IF(HLOOKUP(Industry_Segment,Industry_TR,Database!$B52,FALSE)=1,1,\"-\")))","v":"-"},null,{"$f":"IF($C70=\"\",\"\",IF(VLOOKUP($C70,TR_Flag,Database!AB$44,FALSE)=\"\",\"-\",IF(HLOOKUP(Industry_Segment,Industry_TR,Database!$B52,FALSE)=1,1,\"-\")))","v":"-"},null,{"$f":"IF($C70=\"\",\"\",IF(VLOOKUP($C70,TR_Flag,Database!AC$44,FALSE)=\"\",\"-\",IF(HLOOKUP(Industry_Segment,Industry_TR,Database!$B52,FALSE)=1,1,\"-\")))","v":"-"}]
[null,null,{"$f":"IF(Database!C54=\"\",\"\",Database!C54)","v":"I - MSR (Accelerating Smart Meter Deployment - Package 1 & 2)"},{"$f":"IF($C71=\"\",\"\",IF(VLOOKUP($C71,TR_Flag,Database!R$44,FALSE)=\"\",\"-\",IF(HLOOKUP(Industry_Segment,Industry_TR,Database!$B53,FALSE)=1,1,\"-\")))","v":1},{"$f":"IF($C71=\"\",\"\",IF(VLOOKUP($C71,TR_Flag,Database!S$44,FALSE)=\"\",\"-\",IF(HLOOKUP(Industry_Segment,Industry_TR,Database!$B53,FALSE)=1,1,\"-\")))","v":1},{"$f":"IF($C71=\"\",\"\",IF(VLOOKUP($C71,TR_Flag,Database!T$44,FALSE)=\"\",\"-\",IF(HLOOKUP(Industry_Segment,Industry_TR,Database!$B53,FALSE)=1,1,\"-\")))","v":1},{"$f":"IF($C71=\"\",\"\",IF(VLOOKUP($C71,TR_Flag,Database!U$44,FALSE)=\"\",\"-\",IF(HLOOKUP(Industry_Segment,Industry_TR,Database!$B53,FALSE)=1,1,\"-\")))","v":1},{"$f":"IF($C71=\"\",\"\",IF(VLOOKUP($C71,TR_Flag,Database!V$44,FALSE)=\"\",\"-\",IF(HLOOKUP(Industry_Segment,Industry_TR,Database!$B53,FALSE)=1,1,\"-\")))","v":"-"},{"$f":"IF($C71=\"\",\"\",IF(VLOOKUP($C71,TR_Flag,Database!W$44,FALSE)=\"\",\"-\",IF(HLOOKUP(Industry_Segment,Industry_TR,Database!$B53,FALSE)=1,1,\"-\")))","v":"-"},{"$f":"IF($C71=\"\",\"\",IF(VLOOKUP($C71,TR_Flag,Database!X$44,FALSE)=\"\",\"-\",IF(HLOOKUP(Industry_Segment,Industry_TR,Database!$B53,FALSE)=1,1,\"-\")))","v":"-"},{"$f":"IF($C71=\"\",\"\",IF(VLOOKUP($C71,TR_Flag,Database!Y$44,FALSE)=\"\",\"-\",IF(HLOOKUP(Industry_Segment,Industry_TR,Database!$B53,FALSE)=1,1,\"-\")))","v":"-"},{"$f":"IF($C71=\"\",\"\",IF(VLOOKUP($C71,TR_Flag,Database!Z$44,FALSE)=\"\",\"-\",IF(HLOOKUP(Industry_Segment,Industry_TR,Database!$B53,FALSE)=1,1,\"-\")))","v":"-"},null,{"$f":"IF($C71=\"\",\"\",IF(VLOOKUP($C71,TR_Flag,Database!AA$44,FALSE)=\"\",\"-\",IF(HLOOKUP(Industry_Segment,Industry_TR,Database!$B53,FALSE)=1,1,\"-\")))","v":"-"},null,{"$f":"IF($C71=\"\",\"\",IF(VLOOKUP($C71,TR_Flag,Database!AB$44,FALSE)=\"\",\"-\",IF(HLOOKUP(Industry_Segment,Industry_TR,Database!$B53,FALSE)=1,1,\"-\")))","v":"-"},null,{"$f":"IF($C71=\"\",\"\",IF(VLOOKUP($C71,TR_Flag,Database!AC$44,FALSE)=\"\",\"-\",IF(HLOOKUP(Industry_Segment,Industry_TR,Database!$B53,FALSE)=1,1,\"-\")))","v":"-"}]
[null,null,{"$f":"IF(Database!C55=\"\",\"\",Database!C55)","v":"I - Shortening the Settlement Cycle"},{"$f":"IF($C72=\"\",\"\",IF(VLOOKUP($C72,TR_Flag,Database!R$44,FALSE)=\"\",\"-\",IF(HLOOKUP(Industry_Segment,Industry_TR,Database!$B54,FALSE)=1,1,\"-\")))","v":"-"},{"$f":"IF($C72=\"\",\"\",IF(VLOOKUP($C72,TR_Flag,Database!S$44,FALSE)=\"\",\"-\",IF(HLOOKUP(Industry_Segment,Industry_TR,Database!$B54,FALSE)=1,1,\"-\")))","v":"-"},{"$f":"IF($C72=\"\",\"\",IF(VLOOKUP($C72,TR_Flag,Database!T$44,FALSE)=\"\",\"-\",IF(HLOOKUP(Industry_Segment,Industry_TR,Database!$B54,FALSE)=1,1,\"-\")))","v":"-"},{"$f":"IF($C72=\"\",\"\",IF(VLOOKUP($C72,TR_Flag,Database!U$44,FALSE)=\"\",\"-\",IF(HLOOKUP(Industry_Segment,Industry_TR,Database!$B54,FALSE)=1,1,\"-\")))","v":"-"},{"$f":"IF($C72=\"\",\"\",IF(VLOOKUP($C72,TR_Flag,Database!V$44,FALSE)=\"\",\"-\",IF(HLOOKUP(Industry_Segment,Industry_TR,Database!$B54,FALSE)=1,1,\"-\")))","v":1},{"$f":"IF($C72=\"\",\"\",IF(VLOOKUP($C72,TR_Flag,Database!W$44,FALSE)=\"\",\"-\",IF(HLOOKUP(Industry_Segment,Industry_TR,Database!$B54,FALSE)=1,1,\"-\")))","v":1},{"$f":"IF($C72=\"\",\"\",IF(VLOOKUP($C72,TR_Flag,Database!X$44,FALSE)=\"\",\"-\",IF(HLOOKUP(Industry_Segment,Industry_TR,Database!$B54,FALSE)=1,1,\"-\")))","v":"-"},{"$f":"IF($C72=\"\",\"\",IF(VLOOKUP($C72,TR_Flag,Database!Y$44,FALSE)=\"\",\"-\",IF(HLOOKUP(Industry_Segment,Industry_TR,Database!$B54,FALSE)=1,1,\"-\")))","v":"-"},{"$f":"IF($C72=\"\",\"\",IF(VLOOKUP($C72,TR_Flag,Database!Z$44,FALSE)=\"\",\"-\",IF(HLOOKUP(Industry_Segment,Industry_TR,Database!$B54,FALSE)=1,1,\"-\")))","v":"-"},null,{"$f":"IF($C72=\"\",\"\",IF(VLOOKUP($C72,TR_Flag,Database!AA$44,FALSE)=\"\",\"-\",IF(HLOOKUP(Industry_Segment,Industry_TR,Database!$B54,FALSE)=1,1,\"-\")))","v":"-"},null,{"$f":"IF($C72=\"\",\"\",IF(VLOOKUP($C72,TR_Flag,Database!AB$44,FALSE)=\"\",\"-\",IF(HLOOKUP(Industry_Segment,Industry_TR,Database!$B54,FALSE)=1,1,\"-\")))","v":"-"},null,{"$f":"IF($C72=\"\",\"\",IF(VLOOKUP($C72,TR_Flag,Database!AC$44,FALSE)=\"\",\"-\",IF(HLOOKUP(Industry_Segment,Industry_TR,Database!$B54,FALSE)=1,1,\"-\")))","v":"-"}]
[null,null,{"$f":"IF(Database!C56=\"\",\"\",Database!C56)","v":"I - Integrating Price Responsive Resources into the NEM"},{"$f":"IF($C73=\"\",\"\",IF(VLOOKUP($C73,TR_Flag,Database!R$44,FALSE)=\"\",\"-\",IF(HLOOKUP(Industry_Segment,Industry_TR,Database!$B55,FALSE)=1,1,\"-\")))","v":"-"},{"$f":"IF($C73=\"\",\"\",IF(VLOOKUP($C73,TR_Flag,Database!S$44,FALSE)=\"\",\"-\",IF(HLOOKUP(Industry_Segment,Industry_TR,Database!$B55,FALSE)=1,1,\"-\")))","v":"-"},{"$f":"IF($C73=\"\",\"\",IF(VLOOKUP($C73,TR_Flag,Database!T$44,FALSE)=\"\",\"-\",IF(HLOOKUP(Industry_Segment,Industry_TR,Database!$B55,FALSE)=1,1,\"-\")))","v":"-"},{"$f":"IF($C73=\"\",\"\",IF(VLOOKUP($C73,TR_Flag,Database!U$44,FALSE)=\"\",\"-\",IF(HLOOKUP(Industry_Segment,Industry_TR,Database!$B55,FALSE)=1,1,\"-\")))","v":"-"},{"$f":"IF($C73=\"\",\"\",IF(VLOOKUP($C73,TR_Flag,Database!V$44,FALSE)=\"\",\"-\",IF(HLOOKUP(Industry_Segment,Industry_TR,Database!$B55,FALSE)=1,1,\"-\")))","v":"-"},{"$f":"IF($C73=\"\",\"\",IF(VLOOKUP($C73,TR_Flag,Database!W$44,FALSE)=\"\",\"-\",IF(HLOOKUP(Industry_Segment,Industry_TR,Database!$B55,FALSE)=1,1,\"-\")))","v":"-"},{"$f":"IF($C73=\"\",\"\",IF(VLOOKUP($C73,TR_Flag,Database!X$44,FALSE)=\"\",\"-\",IF(HLOOKUP(Industry_Segment,Industry_TR,Database!$B55,FALSE)=1,1,\"-\")))","v":1},{"$f":"IF($C73=\"\",\"\",IF(VLOOKUP($C73,TR_Flag,Database!Y$44,FALSE)=\"\",\"-\",IF(HLOOKUP(Industry_Segment,Industry_TR,Database!$B55,FALSE)=1,1,\"-\")))","v":1},{"$f":"IF($C73=\"\",\"\",IF(VLOOKUP($C73,TR_Flag,Database!Z$44,FALSE)=\"\",\"-\",IF(HLOOKUP(Industry_Segment,Industry_TR,Database!$B55,FALSE)=1,1,\"-\")))","v":1},null,{"$f":"IF($C73=\"\",\"\",IF(VLOOKUP($C73,TR_Flag,Database!AA$44,FALSE)=\"\",\"-\",IF(HLOOKUP(Industry_Segment,Industry_TR,Database!$B55,FALSE)=1,1,\"-\")))","v":1},null,{"$f":"IF($C73=\"\",\"\",IF(VLOOKUP($C73,TR_Flag,Database!AB$44,FALSE)=\"\",\"-\",IF(HLOOKUP(Industry_Segment,Industry_TR,Database!$B55,FALSE)=1,1,\"-\")))","v":"-"},null,{"$f":"IF($C73=\"\",\"\",IF(VLOOKUP($C73,TR_Flag,Database!AC$44,FALSE)=\"\",\"-\",IF(HLOOKUP(Industry_Segment,Industry_TR,Database!$B55,FALSE)=1,1,\"-\")))","v":"-"}]
[null,null,{"$f":"IF(Database!C57=\"\",\"\",Database!C57)","v":"I - IDX (Foundation)"},{"$f":"IF($C74=\"\",\"\",IF(VLOOKUP($C74,TR_Flag,Database!R$44,FALSE)=\"\",\"-\",IF(HLOOKUP(Industry_Segment,Industry_TR,Database!$B56,FALSE)=1,1,\"-\")))","v":"-"},{"$f":"IF($C74=\"\",\"\",IF(VLOOKUP($C74,TR_Flag,Database!S$44,FALSE)=\"\",\"-\",IF(HLOOKUP(Industry_Segment,Industry_TR,Database!$B56,FALSE)=1,1,\"-\")))","v":"-"},{"$f":"IF($C74=\"\",\"\",IF(VLOOKUP($C74,TR_Flag,Database!T$44,FALSE)=\"\",\"-\",IF(HLOOKUP(Industry_Segment,Industry_TR,Database!$B56,FALSE)=1,1,\"-\")))","v":1},{"$f":"IF($C74=\"\",\"\",IF(VLOOKUP($C74,TR_Flag,Database!U$44,FALSE)=\"\",\"-\",IF(HLOOKUP(Industry_Segment,Industry_TR,Database!$B56,FALSE)=1,1,\"-\")))","v":1},{"$f":"IF($C74=\"\",\"\",IF(VLOOKUP($C74,TR_Flag,Database!V$44,FALSE)=\"\",\"-\",IF(HLOOKUP(Industry_Segment,Industry_TR,Database!$B56,FALSE)=1,1,\"-\")))","v":1},{"$f":"IF($C74=\"\",\"\",IF(VLOOKUP($C74,TR_Flag,Database!W$44,FALSE)=\"\",\"-\",IF(HLOOKUP(Industry_Segment,Industry_TR,Database!$B56,FALSE)=1,1,\"-\")))","v":1},{"$f":"IF($C74=\"\",\"\",IF(VLOOKUP($C74,TR_Flag,Database!X$44,FALSE)=\"\",\"-\",IF(HLOOKUP(Industry_Segment,Industry_TR,Database!$B56,FALSE)=1,1,\"-\")))","v":1},{"$f":"IF($C74=\"\",\"\",IF(VLOOKUP($C74,TR_Flag,Database!Y$44,FALSE)=\"\",\"-\",IF(HLOOKUP(Industry_Segment,Industry_TR,Database!$B56,FALSE)=1,1,\"-\")))","v":"-"},{"$f":"IF($C74=\"\",\"\",IF(VLOOKUP($C74,TR_Flag,Database!Z$44,FALSE)=\"\",\"-\",IF(HLOOKUP(Industry_Segment,Industry_TR,Database!$B56,FALSE)=1,1,\"-\")))","v":"-"},null,{"$f":"IF($C74=\"\",\"\",IF(VLOOKUP($C74,TR_Flag,Database!AA$44,FALSE)=\"\",\"-\",IF(HLOOKUP(Industry_Segment,Industry_TR,Database!$B56,FALSE)=1,1,\"-\")))","v":"-"},null,{"$f":"IF($C74=\"\",\"\",IF(VLOOKUP($C74,TR_Flag,Database!AB$44,FALSE)=\"\",\"-\",IF(HLOOKUP(Industry_Segment,Industry_TR,Database!$B56,FALSE)=1,1,\"-\")))","v":"-"},null,{"$f":"IF($C74=\"\",\"\",IF(VLOOKUP($C74,TR_Flag,Database!AC$44,FALSE)=\"\",\"-\",IF(HLOOKUP(Industry_Segment,Industry_TR,Database!$B56,FALSE)=1,1,\"-\")))","v":"-"}]
[null,null,{"$f":"IF(Database!C58=\"\",\"\",Database!C58)","v":"I - IDAM (Foundation)"},{"$f":"IF($C75=\"\",\"\",IF(VLOOKUP($C75,TR_Flag,Database!R$44,FALSE)=\"\",\"-\",IF(HLOOKUP(Industry_Segment,Industry_TR,Database!$B57,FALSE)=1,1,\"-\")))","v":"-"},{"$f":"IF($C75=\"\",\"\",IF(VLOOKUP($C75,TR_Flag,Database!S$44,FALSE)=\"\",\"-\",IF(HLOOKUP(Industry_Segment,Industry_TR,Database!$B57,FALSE)=1,1,\"-\")))","v":"-"},{"$f":"IF($C75=\"\",\"\",IF(VLOOKUP($C75,TR_Flag,Database!T$44,FALSE)=\"\",\"-\",IF(HLOOKUP(Industry_Segment,Industry_TR,Database!$B57,FALSE)=1,1,\"-\")))","v":"-"},{"$f":"IF($C75=\"\",\"\",IF(VLOOKUP($C75,TR_Flag,Database!U$44,FALSE)=\"\",\"-\",IF(HLOOKUP(Industry_Segment,Industry_TR,Database!$B57,FALSE)=1,1,\"-\")))","v":1},{"$f":"IF($C75=\"\",\"\",IF(VLOOKUP($C75,TR_Flag,Database!V$44,FALSE)=\"\",\"-\",IF(HLOOKUP(Industry_Segment,Industry_TR,Database!$B57,FALSE)=1,1,\"-\")))","v":1},{"$f":"IF($C75=\"\",\"\",IF(VLOOKUP($C75,TR_Flag,Database!W$44,FALSE)=\"\",\"-\",IF(HLOOKUP(Industry_Segment,Industry_TR,Database!$B57,FALSE)=1,1,\"-\")))","v":1},{"$f":"IF($C75=\"\",\"\",IF(VLOOKUP($C75,TR_Flag,Database!X$44,FALSE)=\"\",\"-\",IF(HLOOKUP(Industry_Segment,Industry_TR,Database!$B57,FALSE)=1,1,\"-\")))","v":1},{"$f":"IF($C75=\"\",\"\",IF(VLOOKUP($C75,TR_Flag,Database!Y$44,FALSE)=\"\",\"-\",IF(HLOOKUP(Industry_Segment,Industry_TR,Database!$B57,FALSE)=1,1,\"-\")))","v":"-"},{"$f":"IF($C75=\"\",\"\",IF(VLOOKUP($C75,TR_Flag,Database!Z$44,FALSE)=\"\",\"-\",IF(HLOOKUP(Industry_Segment,Industry_TR,Database!$B57,FALSE)=1,1,\"-\")))","v":"-"},null,{"$f":"IF($C75=\"\",\"\",IF(VLOOKUP($C75,TR_Flag,Database!AA$44,FALSE)=\"\",\"-\",IF(HLOOKUP(Industry_Segment,Industry_TR,Database!$B57,FALSE)=1,1,\"-\")))","v":"-"},null,{"$f":"IF($C75=\"\",\"\",IF(VLOOKUP($C75,TR_Flag,Database!AB$44,FALSE)=\"\",\"-\",IF(HLOOKUP(Industry_Segment,Industry_TR,Database!$B57,FALSE)=1,1,\"-\")))","v":"-"},null,{"$f":"IF($C75=\"\",\"\",IF(VLOOKUP($C75,TR_Flag,Database!AC$44,FALSE)=\"\",\"-\",IF(HLOOKUP(Industry_Segment,Industry_TR,Database!$B57,FALSE)=1,1,\"-\")))","v":"-"}]
[null,null,{"$f":"IF(Database!C59=\"\",\"\",Database!C59)","v":"I - MSR (Accelerating Smart Meter Deployment - Package 3)"},{"$f":"IF($C76=\"\",\"\",IF(VLOOKUP($C76,TR_Flag,Database!R$44,FALSE)=\"\",\"-\",IF(HLOOKUP(Industry_Segment,Industry_TR,Database!$B58,FALSE)=1,1,\"-\")))","v":"-"},{"$f":"IF($C76=\"\",\"\",IF(VLOOKUP($C76,TR_Flag,Database!S$44,FALSE)=\"\",\"-\",IF(HLOOKUP(Industry_Segment,Industry_TR,Database!$B58,FALSE)=1,1,\"-\")))","v":"-"},{"$f":"IF($C76=\"\",\"\",IF(VLOOKUP($C76,TR_Flag,Database!T$44,FALSE)=\"\",\"-\",IF(HLOOKUP(Industry_Segment,Industry_TR,Database!$B58,FALSE)=1,1,\"-\")))","v":"-"},{"$f":"IF($C76=\"\",\"\",IF(VLOOKUP($C76,TR_Flag,Database!U$44,FALSE)=\"\",\"-\",IF(HLOOKUP(Industry_Segment,Industry_TR,Database!$B58,FALSE)=1,1,\"-\")))","v":"-"},{"$f":"IF($C76=\"\",\"\",IF(VLOOKUP($C76,TR_Flag,Database!V$44,FALSE)=\"\",\"-\",IF(HLOOKUP(Industry_Segment,Industry_TR,Database!$B58,FALSE)=1,1,\"-\")))","v":"-"},{"$f":"IF($C76=\"\",\"\",IF(VLOOKUP($C76,TR_Flag,Database!W$44,FALSE)=\"\",\"-\",IF(HLOOKUP(Industry_Segment,Industry_TR,Database!$B58,FALSE)=1,1,\"-\")))","v":1},{"$f":"IF($C76=\"\",\"\",IF(VLOOKUP($C76,TR_Flag,Database!X$44,FALSE)=\"\",\"-\",IF(HLOOKUP(Industry_Segment,Industry_TR,Database!$B58,FALSE)=1,1,\"-\")))","v":"-"},{"$f":"IF($C76=\"\",\"\",IF(VLOOKUP($C76,TR_Flag,Database!Y$44,FALSE)=\"\",\"-\",IF(HLOOKUP(Industry_Segment,Industry_TR,Database!$B58,FALSE)=1,1,\"-\")))","v":"-"},{"$f":"IF($C76=\"\",\"\",IF(VLOOKUP($C76,TR_Flag,Database!Z$44,FALSE)=\"\",\"-\",IF(HLOOKUP(Industry_Segment,Industry_TR,Database!$B58,FALSE)=1,1,\"-\")))","v":"-"},null,{"$f":"IF($C76=\"\",\"\",IF(VLOOKUP($C76,TR_Flag,Database!AA$44,FALSE)=\"\",\"-\",IF(HLOOKUP(Industry_Segment,Industry_TR,Database!$B58,FALSE)=1,1,\"-\")))","v":"-"},null,{"$f":"IF($C76=\"\",\"\",IF(VLOOKUP($C76,TR_Flag,Database!AB$44,FALSE)=\"\",\"-\",IF(HLOOKUP(Industry_Segment,Industry_TR,Database!$B58,FALSE)=1,1,\"-\")))","v":"-"},null,{"$f":"IF($C76=\"\",\"\",IF(VLOOKUP($C76,TR_Flag,Database!AC$44,FALSE)=\"\",\"-\",IF(HLOOKUP(Industry_Segment,Industry_TR,Database!$B58,FALSE)=1,1,\"-\")))","v":"-"}]
[null,null,{"$f":"IF(Database!C60=\"\",\"\",Database!C60)","v":"A - Inter-regional SRAs for transmission loops (PEC-MI)"},{"$f":"IF($C77=\"\",\"\",IF(VLOOKUP($C77,TR_Flag,Database!R$44,FALSE)=\"\",\"-\",IF(HLOOKUP(Industry_Segment,Industry_TR,Database!$B59,FALSE)=1,1,\"-\")))","v":"-"},{"$f":"IF($C77=\"\",\"\",IF(VLOOKUP($C77,TR_Flag,Database!S$44,FALSE)=\"\",\"-\",IF(HLOOKUP(Industry_Segment,Industry_TR,Database!$B59,FALSE)=1,1,\"-\")))","v":"-"},{"$f":"IF($C77=\"\",\"\",IF(VLOOKUP($C77,TR_Flag,Database!T$44,FALSE)=\"\",\"-\",IF(HLOOKUP(Industry_Segment,Industry_TR,Database!$B59,FALSE)=1,1,\"-\")))","v":"-"},{"$f":"IF($C77=\"\",\"\",IF(VLOOKUP($C77,TR_Flag,Database!U$44,FALSE)=\"\",\"-\",IF(HLOOKUP(Industry_Segment,Industry_TR,Database!$B59,FALSE)=1,1,\"-\")))","v":"-"},{"$f":"IF($C77=\"\",\"\",IF(VLOOKUP($C77,TR_Flag,Database!V$44,FALSE)=\"\",\"-\",IF(HLOOKUP(Industry_Segment,Industry_TR,Database!$B59,FALSE)=1,1,\"-\")))","v":1},{"$f":"IF($C77=\"\",\"\",IF(VLOOKUP($C77,TR_Flag,Database!W$44,FALSE)=\"\",\"-\",IF(HLOOKUP(Industry_Segment,Industry_TR,Database!$B59,FALSE)=1,1,\"-\")))","v":1},{"$f":"IF($C77=\"\",\"\",IF(VLOOKUP($C77,TR_Flag,Database!X$44,FALSE)=\"\",\"-\",IF(HLOOKUP(Industry_Segment,Industry_TR,Database!$B59,FALSE)=1,1,\"-\")))","v":"-"},{"$f":"IF($C77=\"\",\"\",IF(VLOOKUP($C77,TR_Flag,Database!Y$44,FALSE)=\"\",\"-\",IF(HLOOKUP(Industry_Segment,Industry_TR,Database!$B59,FALSE)=1,1,\"-\")))","v":"-"},{"$f":"IF($C77=\"\",\"\",IF(VLOOKUP($C77,TR_Flag,Database!Z$44,FALSE)=\"\",\"-\",IF(HLOOKUP(Industry_Segment,Industry_TR,Database!$B59,FALSE)=1,1,\"-\")))","v":"-"},null,{"$f":"IF($C77=\"\",\"\",IF(VLOOKUP($C77,TR_Flag,Database!AA$44,FALSE)=\"\",\"-\",IF(HLOOKUP(Industry_Segment,Industry_TR,Database!$B59,FALSE)=1,1,\"-\")))","v":"-"},null,{"$f":"IF($C77=\"\",\"\",IF(VLOOKUP($C77,TR_Flag,Database!AB$44,FALSE)=\"\",\"-\",IF(HLOOKUP(Industry_Segment,Industry_TR,Database!$B59,FALSE)=1,1,\"-\")))","v":"-"},null,{"$f":"IF($C77=\"\",\"\",IF(VLOOKUP($C77,TR_Flag,Database!AC$44,FALSE)=\"\",\"-\",IF(HLOOKUP(Industry_Segment,Industry_TR,Database!$B59,FALSE)=1,1,\"-\")))","v":"-"}]
[null,null,{"$f":"IF(Database!C61=\"\",\"\",Database!C61)","v":""},{"$f":"IF($C78=\"\",\"\",IF(VLOOKUP($C78,TR_Flag,Database!R$44,FALSE)=\"\",\"-\",IF(HLOOKUP(Industry_Segment,Industry_TR,Database!$B60,FALSE)=1,1,\"-\")))","v":""},{"$f":"IF($C78=\"\",\"\",IF(VLOOKUP($C78,TR_Flag,Database!S$44,FALSE)=\"\",\"-\",IF(HLOOKUP(Industry_Segment,Industry_TR,Database!$B60,FALSE)=1,1,\"-\")))","v":""},{"$f":"IF($C78=\"\",\"\",IF(VLOOKUP($C78,TR_Flag,Database!T$44,FALSE)=\"\",\"-\",IF(HLOOKUP(Industry_Segment,Industry_TR,Database!$B60,FALSE)=1,1,\"-\")))","v":""},{"$f":"IF($C78=\"\",\"\",IF(VLOOKUP($C78,TR_Flag,Database!U$44,FALSE)=\"\",\"-\",IF(HLOOKUP(Industry_Segment,Industry_TR,Database!$B60,FALSE)=1,1,\"-\")))","v":""},{"$f":"IF($C78=\"\",\"\",IF(VLOOKUP($C78,TR_Flag,Database!V$44,FALSE)=\"\",\"-\",IF(HLOOKUP(Industry_Segment,Industry_TR,Database!$B60,FALSE)=1,1,\"-\")))","v":""},{"$f":"IF($C78=\"\",\"\",IF(VLOOKUP($C78,TR_Flag,Database!W$44,FALSE)=\"\",\"-\",IF(HLOOKUP(Industry_Segment,Industry_TR,Database!$B60,FALSE)=1,1,\"-\")))","v":""},{"$f":"IF($C78=\"\",\"\",IF(VLOOKUP($C78,TR_Flag,Database!X$44,FALSE)=\"\",\"-\",IF(HLOOKUP(Industry_Segment,Industry_TR,Database!$B60,FALSE)=1,1,\"-\")))","v":""},{"$f":"IF($C78=\"\",\"\",IF(VLOOKUP($C78,TR_Flag,Database!Y$44,FALSE)=\"\",\"-\",IF(HLOOKUP(Industry_Segment,Industry_TR,Database!$B60,FALSE)=1,1,\"-\")))","v":""},{"$f":"IF($C78=\"\",\"\",IF(VLOOKUP($C78,TR_Flag,Database!Z$44,FALSE)=\"\",\"-\",IF(HLOOKUP(Industry_Segment,Industry_TR,Database!$B60,FALSE)=1,1,\"-\")))","v":""},null,{"$f":"IF($C78=\"\",\"\",IF(VLOOKUP($C78,TR_Flag,Database!AA$44,FALSE)=\"\",\"-\",IF(HLOOKUP(Industry_Segment,Industry_TR,Database!$B60,FALSE)=1,1,\"-\")))","v":""},null,{"$f":"IF($C78=\"\",\"\",IF(VLOOKUP($C78,TR_Flag,Database!AB$44,FALSE)=\"\",\"-\",IF(HLOOKUP(Industry_Segment,Industry_TR,Database!$B60,FALSE)=1,1,\"-\")))","v":""},null,{"$f":"IF($C78=\"\",\"\",IF(VLOOKUP($C78,TR_Flag,Database!AC$44,FALSE)=\"\",\"-\",IF(HLOOKUP(Industry_Segment,Industry_TR,Database!$B60,FALSE)=1,1,\"-\")))","v":""}]
[null,null,{"$f":"IF(Database!C62=\"\",\"\",Database!C62)","v":""},{"$f":"IF($C79=\"\",\"\",IF(VLOOKUP($C79,TR_Flag,Database!R$44,FALSE)=\"\",\"-\",IF(HLOOKUP(Industry_Segment,Industry_TR,Database!$B61,FALSE)=1,1,\"-\")))","v":""},{"$f":"IF($C79=\"\",\"\",IF(VLOOKUP($C79,TR_Flag,Database!S$44,FALSE)=\"\",\"-\",IF(HLOOKUP(Industry_Segment,Industry_TR,Database!$B61,FALSE)=1,1,\"-\")))","v":""},{"$f":"IF($C79=\"\",\"\",IF(VLOOKUP($C79,TR_Flag,Database!T$44,FALSE)=\"\",\"-\",IF(HLOOKUP(Industry_Segment,Industry_TR,Database!$B61,FALSE)=1,1,\"-\")))","v":""},{"$f":"IF($C79=\"\",\"\",IF(VLOOKUP($C79,TR_Flag,Database!U$44,FALSE)=\"\",\"-\",IF(HLOOKUP(Industry_Segment,Industry_TR,Database!$B61,FALSE)=1,1,\"-\")))","v":""},{"$f":"IF($C79=\"\",\"\",IF(VLOOKUP($C79,TR_Flag,Database!V$44,FALSE)=\"\",\"-\",IF(HLOOKUP(Industry_Segment,Industry_TR,Database!$B61,FALSE)=1,1,\"-\")))","v":""},{"$f":"IF($C79=\"\",\"\",IF(VLOOKUP($C79,TR_Flag,Database!W$44,FALSE)=\"\",\"-\",IF(HLOOKUP(Industry_Segment,Industry_TR,Database!$B61,FALSE)=1,1,\"-\")))","v":""},{"$f":"IF($C79=\"\",\"\",IF(VLOOKUP($C79,TR_Flag,Database!X$44,FALSE)=\"\",\"-\",IF(HLOOKUP(Industry_Segment,Industry_TR,Database!$B61,FALSE)=1,1,\"-\")))","v":""},{"$f":"IF($C79=\"\",\"\",IF(VLOOKUP($C79,TR_Flag,Database!Y$44,FALSE)=\"\",\"-\",IF(HLOOKUP(Industry_Segment,Industry_TR,Database!$B61,FALSE)=1,1,\"-\")))","v":""},{"$f":"IF($C79=\"\",\"\",IF(VLOOKUP($C79,TR_Flag,Database!Z$44,FALSE)=\"\",\"-\",IF(HLOOKUP(Industry_Segment,Industry_TR,Database!$B61,FALSE)=1,1,\"-\")))","v":""},null,{"$f":"IF($C79=\"\",\"\",IF(VLOOKUP($C79,TR_Flag,Database!AA$44,FALSE)=\"\",\"-\",IF(HLOOKUP(Industry_Segment,Industry_TR,Database!$B61,FALSE)=1,1,\"-\")))","v":""},null,{"$f":"IF($C79=\"\",\"\",IF(VLOOKUP($C79,TR_Flag,Database!AB$44,FALSE)=\"\",\"-\",IF(HLOOKUP(Industry_Segment,Industry_TR,Database!$B61,FALSE)=1,1,\"-\")))","v":""},null,{"$f":"IF($C79=\"\",\"\",IF(VLOOKUP($C79,TR_Flag,Database!AC$44,FALSE)=\"\",\"-\",IF(HLOOKUP(Industry_Segment,Industry_TR,Database!$B61,FALSE)=1,1,\"-\")))","v":""}]
[null,null,{"$f":"IF(Database!C63=\"\",\"\",Database!C63)","v":""},{"$f":"IF($C80=\"\",\"\",IF(VLOOKUP($C80,TR_Flag,Database!R$44,FALSE)=\"\",\"-\",IF(HLOOKUP(Industry_Segment,Industry_TR,Database!$B62,FALSE)=1,1,\"-\")))","v":""},{"$f":"IF($C80=\"\",\"\",IF(VLOOKUP($C80,TR_Flag,Database!S$44,FALSE)=\"\",\"-\",IF(HLOOKUP(Industry_Segment,Industry_TR,Database!$B62,FALSE)=1,1,\"-\")))","v":""},{"$f":"IF($C80=\"\",\"\",IF(VLOOKUP($C80,TR_Flag,Database!T$44,FALSE)=\"\",\"-\",IF(HLOOKUP(Industry_Segment,Industry_TR,Database!$B62,FALSE)=1,1,\"-\")))","v":""},{"$f":"IF($C80=\"\",\"\",IF(VLOOKUP($C80,TR_Flag,Database!U$44,FALSE)=\"\",\"-\",IF(HLOOKUP(Industry_Segment,Industry_TR,Database!$B62,FALSE)=1,1,\"-\")))","v":""},{"$f":"IF($C80=\"\",\"\",IF(VLOOKUP($C80,TR_Flag,Database!V$44,FALSE)=\"\",\"-\",IF(HLOOKUP(Industry_Segment,Industry_TR,Database!$B62,FALSE)=1,1,\"-\")))","v":""},{"$f":"IF($C80=\"\",\"\",IF(VLOOKUP($C80,TR_Flag,Database!W$44,FALSE)=\"\",\"-\",IF(HLOOKUP(Industry_Segment,Industry_TR,Database!$B62,FALSE)=1,1,\"-\")))","v":""},{"$f":"IF($C80=\"\",\"\",IF(VLOOKUP($C80,TR_Flag,Database!X$44,FALSE)=\"\",\"-\",IF(HLOOKUP(Industry_Segment,Industry_TR,Database!$B62,FALSE)=1,1,\"-\")))","v":""},{"$f":"IF($C80=\"\",\"\",IF(VLOOKUP($C80,TR_Flag,Database!Y$44,FALSE)=\"\",\"-\",IF(HLOOKUP(Industry_Segment,Industry_TR,Database!$B62,FALSE)=1,1,\"-\")))","v":""},{"$f":"IF($C80=\"\",\"\",IF(VLOOKUP($C80,TR_Flag,Database!Z$44,FALSE)=\"\",\"-\",IF(HLOOKUP(Industry_Segment,Industry_TR,Database!$B62,FALSE)=1,1,\"-\")))","v":""},null,{"$f":"IF($C80=\"\",\"\",IF(VLOOKUP($C80,TR_Flag,Database!AA$44,FALSE)=\"\",\"-\",IF(HLOOKUP(Industry_Segment,Industry_TR,Database!$B62,FALSE)=1,1,\"-\")))","v":""},null,{"$f":"IF($C80=\"\",\"\",IF(VLOOKUP($C80,TR_Flag,Database!AB$44,FALSE)=\"\",\"-\",IF(HLOOKUP(Industry_Segment,Industry_TR,Database!$B62,FALSE)=1,1,\"-\")))","v":""},null,{"$f":"IF($C80=\"\",\"\",IF(VLOOKUP($C80,TR_Flag,Database!AC$44,FALSE)=\"\",\"-\",IF(HLOOKUP(Industry_Segment,Industry_TR,Database!$B62,FALSE)=1,1,\"-\")))","v":""}]
[null,null,{"$f":"IF(Database!C64=\"\",\"\",Database!C64)","v":""},{"$f":"IF($C81=\"\",\"\",IF(VLOOKUP($C81,TR_Flag,Database!R$44,FALSE)=\"\",\"-\",IF(HLOOKUP(Industry_Segment,Industry_TR,Database!$B63,FALSE)=1,1,\"-\")))","v":""},{"$f":"IF($C81=\"\",\"\",IF(VLOOKUP($C81,TR_Flag,Database!S$44,FALSE)=\"\",\"-\",IF(HLOOKUP(Industry_Segment,Industry_TR,Database!$B63,FALSE)=1,1,\"-\")))","v":""},{"$f":"IF($C81=\"\",\"\",IF(VLOOKUP($C81,TR_Flag,Database!T$44,FALSE)=\"\",\"-\",IF(HLOOKUP(Industry_Segment,Industry_TR,Database!$B63,FALSE)=1,1,\"-\")))","v":""},{"$f":"IF($C81=\"\",\"\",IF(VLOOKUP($C81,TR_Flag,Database!U$44,FALSE)=\"\",\"-\",IF(HLOOKUP(Industry_Segment,Industry_TR,Database!$B63,FALSE)=1,1,\"-\")))","v":""},{"$f":"IF($C81=\"\",\"\",IF(VLOOKUP($C81,TR_Flag,Database!V$44,FALSE)=\"\",\"-\",IF(HLOOKUP(Industry_Segment,Industry_TR,Database!$B63,FALSE)=1,1,\"-\")))","v":""},{"$f":"IF($C81=\"\",\"\",IF(VLOOKUP($C81,TR_Flag,Database!W$44,FALSE)=\"\",\"-\",IF(HLOOKUP(Industry_Segment,Industry_TR,Database!$B63,FALSE)=1,1,\"-\")))","v":""},{"$f":"IF($C81=\"\",\"\",IF(VLOOKUP($C81,TR_Flag,Database!X$44,FALSE)=\"\",\"-\",IF(HLOOKUP(Industry_Segment,Industry_TR,Database!$B63,FALSE)=1,1,\"-\")))","v":""},{"$f":"IF($C81=\"\",\"\",IF(VLOOKUP($C81,TR_Flag,Database!Y$44,FALSE)=\"\",\"-\",IF(HLOOKUP(Industry_Segment,Industry_TR,Database!$B63,FALSE)=1,1,\"-\")))","v":""},{"$f":"IF($C81=\"\",\"\",IF(VLOOKUP($C81,TR_Flag,Database!Z$44,FALSE)=\"\",\"-\",IF(HLOOKUP(Industry_Segment,Industry_TR,Database!$B63,FALSE)=1,1,\"-\")))","v":""},null,{"$f":"IF($C81=\"\",\"\",IF(VLOOKUP($C81,TR_Flag,Database!AA$44,FALSE)=\"\",\"-\",IF(HLOOKUP(Industry_Segment,Industry_TR,Database!$B63,FALSE)=1,1,\"-\")))","v":""},null,{"$f":"IF($C81=\"\",\"\",IF(VLOOKUP($C81,TR_Flag,Database!AB$44,FALSE)=\"\",\"-\",IF(HLOOKUP(Industry_Segment,Industry_TR,Database!$B63,FALSE)=1,1,\"-\")))","v":""},null,{"$f":"IF($C81=\"\",\"\",IF(VLOOKUP($C81,TR_Flag,Database!AC$44,FALSE)=\"\",\"-\",IF(HLOOKUP(Industry_Segment,Industry_TR,Database!$B63,FALSE)=1,1,\"-\")))","v":""}]
[null,null,{"$f":"IF(Database!C65=\"\",\"\",Database!C65)","v":""},{"$f":"IF($C82=\"\",\"\",IF(VLOOKUP($C82,TR_Flag,Database!R$44,FALSE)=\"\",\"-\",IF(HLOOKUP(Industry_Segment,Industry_TR,Database!$B64,FALSE)=1,1,\"-\")))","v":""},{"$f":"IF($C82=\"\",\"\",IF(VLOOKUP($C82,TR_Flag,Database!S$44,FALSE)=\"\",\"-\",IF(HLOOKUP(Industry_Segment,Industry_TR,Database!$B64,FALSE)=1,1,\"-\")))","v":""},{"$f":"IF($C82=\"\",\"\",IF(VLOOKUP($C82,TR_Flag,Database!T$44,FALSE)=\"\",\"-\",IF(HLOOKUP(Industry_Segment,Industry_TR,Database!$B64,FALSE)=1,1,\"-\")))","v":""},{"$f":"IF($C82=\"\",\"\",IF(VLOOKUP($C82,TR_Flag,Database!U$44,FALSE)=\"\",\"-\",IF(HLOOKUP(Industry_Segment,Industry_TR,Database!$B64,FALSE)=1,1,\"-\")))","v":""},{"$f":"IF($C82=\"\",\"\",IF(VLOOKUP($C82,TR_Flag,Database!V$44,FALSE)=\"\",\"-\",IF(HLOOKUP(Industry_Segment,Industry_TR,Database!$B64,FALSE)=1,1,\"-\")))","v":""},{"$f":"IF($C82=\"\",\"\",IF(VLOOKUP($C82,TR_Flag,Database!W$44,FALSE)=\"\",\"-\",IF(HLOOKUP(Industry_Segment,Industry_TR,Database!$B64,FALSE)=1,1,\"-\")))","v":""},{"$f":"IF($C82=\"\",\"\",IF(VLOOKUP($C82,TR_Flag,Database!X$44,FALSE)=\"\",\"-\",IF(HLOOKUP(Industry_Segment,Industry_TR,Database!$B64,FALSE)=1,1,\"-\")))","v":""},{"$f":"IF($C82=\"\",\"\",IF(VLOOKUP($C82,TR_Flag,Database!Y$44,FALSE)=\"\",\"-\",IF(HLOOKUP(Industry_Segment,Industry_TR,Database!$B64,FALSE)=1,1,\"-\")))","v":""},{"$f":"IF($C82=\"\",\"\",IF(VLOOKUP($C82,TR_Flag,Database!Z$44,FALSE)=\"\",\"-\",IF(HLOOKUP(Industry_Segment,Industry_TR,Database!$B64,FALSE)=1,1,\"-\")))","v":""},null,{"$f":"IF($C82=\"\",\"\",IF(VLOOKUP($C82,TR_Flag,Database!AA$44,FALSE)=\"\",\"-\",IF(HLOOKUP(Industry_Segment,Industry_TR,Database!$B64,FALSE)=1,1,\"-\")))","v":""},null,{"$f":"IF($C82=\"\",\"\",IF(VLOOKUP($C82,TR_Flag,Database!AB$44,FALSE)=\"\",\"-\",IF(HLOOKUP(Industry_Segment,Industry_TR,Database!$B64,FALSE)=1,1,\"-\")))","v":""},null,{"$f":"IF($C82=\"\",\"\",IF(VLOOKUP($C82,TR_Flag,Database!AC$44,FALSE)=\"\",\"-\",IF(HLOOKUP(Industry_Segment,Industry_TR,Database!$B64,FALSE)=1,1,\"-\")))","v":""}]
[null,null,{"$f":"IF(Database!C66=\"\",\"\",Database!C66)","v":""},{"$f":"IF($C83=\"\",\"\",IF(VLOOKUP($C83,TR_Flag,Database!R$44,FALSE)=\"\",\"-\",IF(HLOOKUP(Industry_Segment,Industry_TR,Database!$B65,FALSE)=1,1,\"-\")))","v":""},{"$f":"IF($C83=\"\",\"\",IF(VLOOKUP($C83,TR_Flag,Database!S$44,FALSE)=\"\",\"-\",IF(HLOOKUP(Industry_Segment,Industry_TR,Database!$B65,FALSE)=1,1,\"-\")))","v":""},{"$f":"IF($C83=\"\",\"\",IF(VLOOKUP($C83,TR_Flag,Database!T$44,FALSE)=\"\",\"-\",IF(HLOOKUP(Industry_Segment,Industry_TR,Database!$B65,FALSE)=1,1,\"-\")))","v":""},{"$f":"IF($C83=\"\",\"\",IF(VLOOKUP($C83,TR_Flag,Database!U$44,FALSE)=\"\",\"-\",IF(HLOOKUP(Industry_Segment,Industry_TR,Database!$B65,FALSE)=1,1,\"-\")))","v":""},{"$f":"IF($C83=\"\",\"\",IF(VLOOKUP($C83,TR_Flag,Database!V$44,FALSE)=\"\",\"-\",IF(HLOOKUP(Industry_Segment,Industry_TR,Database!$B65,FALSE)=1,1,\"-\")))","v":""},{"$f":"IF($C83=\"\",\"\",IF(VLOOKUP($C83,TR_Flag,Database!W$44,FALSE)=\"\",\"-\",IF(HLOOKUP(Industry_Segment,Industry_TR,Database!$B65,FALSE)=1,1,\"-\")))","v":""},{"$f":"IF($C83=\"\",\"\",IF(VLOOKUP($C83,TR_Flag,Database!X$44,FALSE)=\"\",\"-\",IF(HLOOKUP(Industry_Segment,Industry_TR,Database!$B65,FALSE)=1,1,\"-\")))","v":""},{"$f":"IF($C83=\"\",\"\",IF(VLOOKUP($C83,TR_Flag,Database!Y$44,FALSE)=\"\",\"-\",IF(HLOOKUP(Industry_Segment,Industry_TR,Database!$B65,FALSE)=1,1,\"-\")))","v":""},{"$f":"IF($C83=\"\",\"\",IF(VLOOKUP($C83,TR_Flag,Database!Z$44,FALSE)=\"\",\"-\",IF(HLOOKUP(Industry_Segment,Industry_TR,Database!$B65,FALSE)=1,1,\"-\")))","v":""},null,{"$f":"IF($C83=\"\",\"\",IF(VLOOKUP($C83,TR_Flag,Database!AA$44,FALSE)=\"\",\"-\",IF(HLOOKUP(Industry_Segment,Industry_TR,Database!$B65,FALSE)=1,1,\"-\")))","v":""},null,{"$f":"IF($C83=\"\",\"\",IF(VLOOKUP($C83,TR_Flag,Database!AB$44,FALSE)=\"\",\"-\",IF(HLOOKUP(Industry_Segment,Industry_TR,Database!$B65,FALSE)=1,1,\"-\")))","v":""},null,{"$f":"IF($C83=\"\",\"\",IF(VLOOKUP($C83,TR_Flag,Database!AC$44,FALSE)=\"\",\"-\",IF(HLOOKUP(Industry_Segment,Industry_TR,Database!$B65,FALSE)=1,1,\"-\")))","v":""}]
[null,null,{"$f":"IF(Database!C67=\"\",\"\",Database!C67)","v":""},{"$f":"IF($C84=\"\",\"\",IF(VLOOKUP($C84,TR_Flag,Database!R$44,FALSE)=\"\",\"-\",IF(HLOOKUP(Industry_Segment,Industry_TR,Database!$B66,FALSE)=1,1,\"-\")))","v":""},{"$f":"IF($C84=\"\",\"\",IF(VLOOKUP($C84,TR_Flag,Database!S$44,FALSE)=\"\",\"-\",IF(HLOOKUP(Industry_Segment,Industry_TR,Database!$B66,FALSE)=1,1,\"-\")))","v":""},{"$f":"IF($C84=\"\",\"\",IF(VLOOKUP($C84,TR_Flag,Database!T$44,FALSE)=\"\",\"-\",IF(HLOOKUP(Industry_Segment,Industry_TR,Database!$B66,FALSE)=1,1,\"-\")))","v":""},{"$f":"IF($C84=\"\",\"\",IF(VLOOKUP($C84,TR_Flag,Database!U$44,FALSE)=\"\",\"-\",IF(HLOOKUP(Industry_Segment,Industry_TR,Database!$B66,FALSE)=1,1,\"-\")))","v":""},{"$f":"IF($C84=\"\",\"\",IF(VLOOKUP($C84,TR_Flag,Database!V$44,FALSE)=\"\",\"-\",IF(HLOOKUP(Industry_Segment,Industry_TR,Database!$B66,FALSE)=1,1,\"-\")))","v":""},{"$f":"IF($C84=\"\",\"\",IF(VLOOKUP($C84,TR_Flag,Database!W$44,FALSE)=\"\",\"-\",IF(HLOOKUP(Industry_Segment,Industry_TR,Database!$B66,FALSE)=1,1,\"-\")))","v":""},{"$f":"IF($C84=\"\",\"\",IF(VLOOKUP($C84,TR_Flag,Database!X$44,FALSE)=\"\",\"-\",IF(HLOOKUP(Industry_Segment,Industry_TR,Database!$B66,FALSE)=1,1,\"-\")))","v":""},{"$f":"IF($C84=\"\",\"\",IF(VLOOKUP($C84,TR_Flag,Database!Y$44,FALSE)=\"\",\"-\",IF(HLOOKUP(Industry_Segment,Industry_TR,Database!$B66,FALSE)=1,1,\"-\")))","v":""},{"$f":"IF($C84=\"\",\"\",IF(VLOOKUP($C84,TR_Flag,Database!Z$44,FALSE)=\"\",\"-\",IF(HLOOKUP(Industry_Segment,Industry_TR,Database!$B66,FALSE)=1,1,\"-\")))","v":""},null,{"$f":"IF($C84=\"\",\"\",IF(VLOOKUP($C84,TR_Flag,Database!AA$44,FALSE)=\"\",\"-\",IF(HLOOKUP(Industry_Segment,Industry_TR,Database!$B66,FALSE)=1,1,\"-\")))","v":""},null,{"$f":"IF($C84=\"\",\"\",IF(VLOOKUP($C84,TR_Flag,Database!AB$44,FALSE)=\"\",\"-\",IF(HLOOKUP(Industry_Segment,Industry_TR,Database!$B66,FALSE)=1,1,\"-\")))","v":""},null,{"$f":"IF($C84=\"\",\"\",IF(VLOOKUP($C84,TR_Flag,Database!AC$44,FALSE)=\"\",\"-\",IF(HLOOKUP(Industry_Segment,Industry_TR,Database!$B66,FALSE)=1,1,\"-\")))","v":""}]
[null,null,"Go-Live",{"$f":"IF(AND(Industry_Segment=Database!$N$193,SUM(C86:E105)>=Database!$U$29),\"R\",IF(AND(Industry_Segment=Database!$N$193,SUM(C86:E105)<Database!$V$29),\"G\",IF(SUM(C86:E105)>=(Database!$U$29*VLOOKUP(Industry_Segment,Industry_SegmentAdjust,Database!$O$44,FALSE)),\"R\",IF(SUM(C86:E105)<(Database!$V$29*VLOOKUP(Industry_Segment,Industry_SegmentAdjust,Database!$O$44,FALSE)),\"G\",\"A\"))))","v":"A"},{"$f":"IF(AND(Industry_Segment=Database!$N$193,SUM(D86:F105)>=Database!$U$29),\"R\",IF(AND(Industry_Segment=Database!$N$193,SUM(D86:F105)<Database!$V$29),\"G\",IF(SUM(D86:F105)>=(Database!$U$29*VLOOKUP(Industry_Segment,Industry_SegmentAdjust,Database!$O$44,FALSE)),\"R\",IF(SUM(D86:F105)<(Database!$V$29*VLOOKUP(Industry_Segment,Industry_SegmentAdjust,Database!$O$44,FALSE)),\"G\",\"A\"))))","v":"R"},{"$f":"IF(AND(Industry_Segment=Database!$N$193,SUM(E86:G105)>=Database!$U$29),\"R\",IF(AND(Industry_Segment=Database!$N$193,SUM(E86:G105)<Database!$V$29),\"G\",IF(SUM(E86:G105)>=(Database!$U$29*VLOOKUP(Industry_Segment,Industry_SegmentAdjust,Database!$O$44,FALSE)),\"R\",IF(SUM(E86:G105)<(Database!$V$29*VLOOKUP(Industry_Segment,Industry_SegmentAdjust,Database!$O$44,FALSE)),\"G\",\"A\"))))","v":"R"},{"$f":"IF(AND(Industry_Segment=Database!$N$193,SUM(F86:H105)>=Database!$U$29),\"R\",IF(AND(Industry_Segment=Database!$N$193,SUM(F86:H105)<Database!$V$29),\"G\",IF(SUM(F86:H105)>=(Database!$U$29*VLOOKUP(Industry_Segment,Industry_SegmentAdjust,Database!$O$44,FALSE)),\"R\",IF(SUM(F86:H105)<(Database!$V$29*VLOOKUP(Industry_Segment,Industry_SegmentAdjust,Database!$O$44,FALSE)),\"G\",\"A\"))))","v":"R"},{"$f":"IF(AND(Industry_Segment=Database!$N$193,SUM(G86:I105)>=Database!$U$29),\"R\",IF(AND(Industry_Segment=Database!$N$193,SUM(G86:I105)<Database!$V$29),\"G\",IF(SUM(G86:I105)>=(Database!$U$29*VLOOKUP(Industry_Segment,Industry_SegmentAdjust,Database!$O$44,FALSE)),\"R\",IF(SUM(G86:I105)<(Database!$V$29*VLOOKUP(Industry_Segment,Industry_SegmentAdjust,Database!$O$44,FALSE)),\"G\",\"A\"))))","v":"R"},{"$f":"IF(AND(Industry_Segment=Database!$N$193,SUM(H86:J105)>=Database!$U$29),\"R\",IF(AND(Industry_Segment=Database!$N$193,SUM(H86:J105)<Database!$V$29),\"G\",IF(SUM(H86:J105)>=(Database!$U$29*VLOOKUP(Industry_Segment,Industry_SegmentAdjust,Database!$O$44,FALSE)),\"R\",IF(SUM(H86:J105)<(Database!$V$29*VLOOKUP(Industry_Segment,Industry_SegmentAdjust,Database!$O$44,FALSE)),\"G\",\"A\"))))","v":"A"},{"$f":"IF(AND(Industry_Segment=Database!$N$193,SUM(I86:K105)>=Database!$U$29),\"R\",IF(AND(Industry_Segment=Database!$N$193,SUM(I86:K105)<Database!$V$29),\"G\",IF(SUM(I86:K105)>=(Database!$U$29*VLOOKUP(Industry_Segment,Industry_SegmentAdjust,Database!$O$44,FALSE)),\"R\",IF(SUM(I86:K105)<(Database!$V$29*VLOOKUP(Industry_Segment,Industry_SegmentAdjust,Database!$O$44,FALSE)),\"G\",\"A\"))))","v":"R"},{"$f":"IF(AND(Industry_Segment=Database!$N$193,SUM(J86:M105)>=Database!$U$29),\"R\",IF(AND(Industry_Segment=Database!$N$193,SUM(J86:M105)<Database!$V$29),\"G\",IF(SUM(J86:M105)>=(Database!$U$29*VLOOKUP(Industry_Segment,Industry_SegmentAdjust,Database!$O$44,FALSE)),\"R\",IF(SUM(J86:M105)<(Database!$V$29*VLOOKUP(Industry_Segment,Industry_SegmentAdjust,Database!$O$44,FALSE)),\"G\",\"A\"))))","v":"R"},{"$f":"IF(AND(Industry_Segment=Database!$N$193,SUM(K86:O105)>=Database!$U$29),\"R\",IF(AND(Industry_Segment=Database!$N$193,SUM(K86:O105)<Database!$V$29),\"G\",IF(SUM(K86:O105)>=(Database!$U$29*VLOOKUP(Industry_Segment,Industry_SegmentAdjust,Database!$O$44,FALSE)),\"R\",IF(SUM(K86:O105)<(Database!$V$29*VLOOKUP(Industry_Segment,Industry_SegmentAdjust,Database!$O$44,FALSE)),\"G\",\"A\"))))","v":"R"},null,{"$f":"IF(AND(Industry_Segment=Database!$N$193,SUM(L86:Q105)>=Database!$U$29),\"R\",IF(AND(Industry_Segment=Database!$N$193,SUM(L86:Q105)<Database!$V$29),\"G\",IF(SUM(L86:Q105)>=(Database!$U$29*VLOOKUP(Industry_Segment,Industry_SegmentAdjust,Database!$O$44,FALSE)),\"R\",IF(SUM(L86:Q105)<(Database!$V$29*VLOOKUP(Industry_Segment,Industry_SegmentAdjust,Database!$O$44,FALSE)),\"G\",\"A\"))))","v":"G"},null,{"$f":"IF(AND(Industry_Segment=Database!$N$193,SUM(N86:S105)>=Database!$U$29),\"R\",IF(AND(Industry_Segment=Database!$N$193,SUM(N86:S105)<Database!$V$29),\"G\",IF(SUM(N86:S105)>=(Database!$U$29*VLOOKUP(Industry_Segment,Industry_SegmentAdjust,Database!$O$44,FALSE)),\"R\",IF(SUM(N86:S105)<(Database!$V$29*VLOOKUP(Industry_Segment,Industry_SegmentAdjust,Database!$O$44,FALSE)),\"G\",\"A\"))))","v":"G"},null,{"$f":"IF(AND(Industry_Segment=Database!$N$193,SUM(P86:U105)>=Database!$U$29),\"R\",IF(AND(Industry_Segment=Database!$N$193,SUM(P86:U105)<Database!$V$29),\"G\",IF(SUM(P86:U105)>=(Database!$U$29*VLOOKUP(Industry_Segment,Industry_SegmentAdjust,Database!$O$44,FALSE)),\"R\",IF(SUM(P86:U105)<(Database!$V$29*VLOOKUP(Industry_Segment,Industry_SegmentAdjust,Database!$O$44,FALSE)),\"G\",\"A\"))))","v":"G"}]
[null,null,{"$f":"IF(Database!C48=\"\",\"\",Database!C48)","v":"I - SCADA Lite"},{"$f":"IF($C86=\"\",\"\",IF(VLOOKUP($C86,Go_Flag,Database!R$44,FALSE)=\"\",\"-\",IF(HLOOKUP(Industry_Segment,Industry_Golive,Database!$B47,FALSE)=1,1,\"-\")))","v":"-"},{"$f":"IF($C86=\"\",\"\",IF(VLOOKUP($C86,Go_Flag,Database!S$44,FALSE)=\"\",\"-\",IF(HLOOKUP(Industry_Segment,Industry_Golive,Database!$B47,FALSE)=1,1,\"-\")))","v":1},{"$f":"IF($C86=\"\",\"\",IF(VLOOKUP($C86,Go_Flag,Database!T$44,FALSE)=\"\",\"-\",IF(HLOOKUP(Industry_Segment,Industry_Golive,Database!$B47,FALSE)=1,1,\"-\")))","v":"-"},{"$f":"IF($C86=\"\",\"\",IF(VLOOKUP($C86,Go_Flag,Database!U$44,FALSE)=\"\",\"-\",IF(HLOOKUP(Industry_Segment,Industry_Golive,Database!$B47,FALSE)=1,1,\"-\")))","v":"-"},{"$f":"IF($C86=\"\",\"\",IF(VLOOKUP($C86,Go_Flag,Database!V$44,FALSE)=\"\",\"-\",IF(HLOOKUP(Industry_Segment,Industry_Golive,Database!$B47,FALSE)=1,1,\"-\")))","v":"-"},{"$f":"IF($C86=\"\",\"\",IF(VLOOKUP($C86,Go_Flag,Database!W$44,FALSE)=\"\",\"-\",IF(HLOOKUP(Industry_Segment,Industry_Golive,Database!$B47,FALSE)=1,1,\"-\")))","v":"-"},{"$f":"IF($C86=\"\",\"\",IF(VLOOKUP($C86,Go_Flag,Database!X$44,FALSE)=\"\",\"-\",IF(HLOOKUP(Industry_Segment,Industry_Golive,Database!$B47,FALSE)=1,1,\"-\")))","v":"-"},{"$f":"IF($C86=\"\",\"\",IF(VLOOKUP($C86,Go_Flag,Database!Y$44,FALSE)=\"\",\"-\",IF(HLOOKUP(Industry_Segment,Industry_Golive,Database!$B47,FALSE)=1,1,\"-\")))","v":"-"},{"$f":"IF($C86=\"\",\"\",IF(VLOOKUP($C86,Go_Flag,Database!Z$44,FALSE)=\"\",\"-\",IF(HLOOKUP(Industry_Segment,Industry_Golive,Database!$B47,FALSE)=1,1,\"-\")))","v":"-"},null,{"$f":"IF($C86=\"\",\"\",IF(VLOOKUP($C86,Go_Flag,Database!AA$44,FALSE)=\"\",\"-\",IF(HLOOKUP(Industry_Segment,Industry_Golive,Database!$B47,FALSE)=1,1,\"-\")))","v":"-"},null,{"$f":"IF($C86=\"\",\"\",IF(VLOOKUP($C86,Go_Flag,Database!AB$44,FALSE)=\"\",\"-\",IF(HLOOKUP(Industry_Segment,Industry_Golive,Database!$B47,FALSE)=1,1,\"-\")))","v":"-"},null,{"$f":"IF($C86=\"\",\"\",IF(VLOOKUP($C86,Go_Flag,Database!AC$44,FALSE)=\"\",\"-\",IF(HLOOKUP(Industry_Segment,Industry_Golive,Database!$B47,FALSE)=1,1,\"-\")))","v":"-"}]
[null,null,{"$f":"IF(Database!C49=\"\",\"\",Database!C49)","v":"I - Frequency Performance Payments"},{"$f":"IF($C87=\"\",\"\",IF(VLOOKUP($C87,Go_Flag,Database!R$44,FALSE)=\"\",\"-\",IF(HLOOKUP(Industry_Segment,Industry_Golive,Database!$B48,FALSE)=1,1,\"-\")))","v":"-"},{"$f":"IF($C87=\"\",\"\",IF(VLOOKUP($C87,Go_Flag,Database!S$44,FALSE)=\"\",\"-\",IF(HLOOKUP(Industry_Segment,Industry_Golive,Database!$B48,FALSE)=1,1,\"-\")))","v":1},{"$f":"IF($C87=\"\",\"\",IF(VLOOKUP($C87,Go_Flag,Database!T$44,FALSE)=\"\",\"-\",IF(HLOOKUP(Industry_Segment,Industry_Golive,Database!$B48,FALSE)=1,1,\"-\")))","v":"-"},{"$f":"IF($C87=\"\",\"\",IF(VLOOKUP($C87,Go_Flag,Database!U$44,FALSE)=\"\",\"-\",IF(HLOOKUP(Industry_Segment,Industry_Golive,Database!$B48,FALSE)=1,1,\"-\")))","v":"-"},{"$f":"IF($C87=\"\",\"\",IF(VLOOKUP($C87,Go_Flag,Database!V$44,FALSE)=\"\",\"-\",IF(HLOOKUP(Industry_Segment,Industry_Golive,Database!$B48,FALSE)=1,1,\"-\")))","v":"-"},{"$f":"IF($C87=\"\",\"\",IF(VLOOKUP($C87,Go_Flag,Database!W$44,FALSE)=\"\",\"-\",IF(HLOOKUP(Industry_Segment,Industry_Golive,Database!$B48,FALSE)=1,1,\"-\")))","v":"-"},{"$f":"IF($C87=\"\",\"\",IF(VLOOKUP($C87,Go_Flag,Database!X$44,FALSE)=\"\",\"-\",IF(HLOOKUP(Industry_Segment,Industry_Golive,Database!$B48,FALSE)=1,1,\"-\")))","v":"-"},{"$f":"IF($C87=\"\",\"\",IF(VLOOKUP($C87,Go_Flag,Database!Y$44,FALSE)=\"\",\"-\",IF(HLOOKUP(Industry_Segment,Industry_Golive,Database!$B48,FALSE)=1,1,\"-\")))","v":"-"},{"$f":"IF($C87=\"\",\"\",IF(VLOOKUP($C87,Go_Flag,Database!Z$44,FALSE)=\"\",\"-\",IF(HLOOKUP(Industry_Segment,Industry_Golive,Database!$B48,FALSE)=1,1,\"-\")))","v":"-"},null,{"$f":"IF($C87=\"\",\"\",IF(VLOOKUP($C87,Go_Flag,Database!AA$44,FALSE)=\"\",\"-\",IF(HLOOKUP(Industry_Segment,Industry_Golive,Database!$B48,FALSE)=1,1,\"-\")))","v":"-"},null,{"$f":"IF($C87=\"\",\"\",IF(VLOOKUP($C87,Go_Flag,Database!AB$44,FALSE)=\"\",\"-\",IF(HLOOKUP(Industry_Segment,Industry_Golive,Database!$B48,FALSE)=1,1,\"-\")))","v":"-"},null,{"$f":"IF($C87=\"\",\"\",IF(VLOOKUP($C87,Go_Flag,Database!AC$44,FALSE)=\"\",\"-\",IF(HLOOKUP(Industry_Segment,Industry_Golive,Database!$B48,FALSE)=1,1,\"-\")))","v":"-"}]
[null,null,{"$f":"IF(Database!C50=\"\",\"\",Database!C50)","v":"I - Enhancing Reserve Information"},{"$f":"IF($C88=\"\",\"\",IF(VLOOKUP($C88,Go_Flag,Database!R$44,FALSE)=\"\",\"-\",IF(HLOOKUP(Industry_Segment,Industry_Golive,Database!$B49,FALSE)=1,1,\"-\")))","v":"-"},{"$f":"IF($C88=\"\",\"\",IF(VLOOKUP($C88,Go_Flag,Database!S$44,FALSE)=\"\",\"-\",IF(HLOOKUP(Industry_Segment,Industry_Golive,Database!$B49,FALSE)=1,1,\"-\")))","v":"-"},{"$f":"IF($C88=\"\",\"\",IF(VLOOKUP($C88,Go_Flag,Database!T$44,FALSE)=\"\",\"-\",IF(HLOOKUP(Industry_Segment,Industry_Golive,Database!$B49,FALSE)=1,1,\"-\")))","v":1},{"$f":"IF($C88=\"\",\"\",IF(VLOOKUP($C88,Go_Flag,Database!U$44,FALSE)=\"\",\"-\",IF(HLOOKUP(Industry_Segment,Industry_Golive,Database!$B49,FALSE)=1,1,\"-\")))","v":"-"},{"$f":"IF($C88=\"\",\"\",IF(VLOOKUP($C88,Go_Flag,Database!V$44,FALSE)=\"\",\"-\",IF(HLOOKUP(Industry_Segment,Industry_Golive,Database!$B49,FALSE)=1,1,\"-\")))","v":"-"},{"$f":"IF($C88=\"\",\"\",IF(VLOOKUP($C88,Go_Flag,Database!W$44,FALSE)=\"\",\"-\",IF(HLOOKUP(Industry_Segment,Industry_Golive,Database!$B49,FALSE)=1,1,\"-\")))","v":"-"},{"$f":"IF($C88=\"\",\"\",IF(VLOOKUP($C88,Go_Flag,Database!X$44,FALSE)=\"\",\"-\",IF(HLOOKUP(Industry_Segment,Industry_Golive,Database!$B49,FALSE)=1,1,\"-\")))","v":"-"},{"$f":"IF($C88=\"\",\"\",IF(VLOOKUP($C88,Go_Flag,Database!Y$44,FALSE)=\"\",\"-\",IF(HLOOKUP(Industry_Segment,Industry_Golive,Database!$B49,FALSE)=1,1,\"-\")))","v":"-"},{"$f":"IF($C88=\"\",\"\",IF(VLOOKUP($C88,Go_Flag,Database!Z$44,FALSE)=\"\",\"-\",IF(HLOOKUP(Industry_Segment,Industry_Golive,Database!$B49,FALSE)=1,1,\"-\")))","v":"-"},null,{"$f":"IF($C88=\"\",\"\",IF(VLOOKUP($C88,Go_Flag,Database!AA$44,FALSE)=\"\",\"-\",IF(HLOOKUP(Industry_Segment,Industry_Golive,Database!$B49,FALSE)=1,1,\"-\")))","v":"-"},null,{"$f":"IF($C88=\"\",\"\",IF(VLOOKUP($C88,Go_Flag,Database!AB$44,FALSE)=\"\",\"-\",IF(HLOOKUP(Industry_Segment,Industry_Golive,Database!$B49,FALSE)=1,1,\"-\")))","v":"-"},null,{"$f":"IF($C88=\"\",\"\",IF(VLOOKUP($C88,Go_Flag,Database!AC$44,FALSE)=\"\",\"-\",IF(HLOOKUP(Industry_Segment,Industry_Golive,Database!$B49,FALSE)=1,1,\"-\")))","v":"-"}]
[null,null,{"$f":"IF(Database!C51=\"\",\"\",Database!C51)","v":"I - ST PASA Procedure & Recall Period"},{"$f":"IF($C89=\"\",\"\",IF(VLOOKUP($C89,Go_Flag,Database!R$44,FALSE)=\"\",\"-\",IF(HLOOKUP(Industry_Segment,Industry_Golive,Database!$B50,FALSE)=1,1,\"-\")))","v":"-"},{"$f":"IF($C89=\"\",\"\",IF(VLOOKUP($C89,Go_Flag,Database!S$44,FALSE)=\"\",\"-\",IF(HLOOKUP(Industry_Segment,Industry_Golive,Database!$B50,FALSE)=1,1,\"-\")))","v":"-"},{"$f":"IF($C89=\"\",\"\",IF(VLOOKUP($C89,Go_Flag,Database!T$44,FALSE)=\"\",\"-\",IF(HLOOKUP(Industry_Segment,Industry_Golive,Database!$B50,FALSE)=1,1,\"-\")))","v":1},{"$f":"IF($C89=\"\",\"\",IF(VLOOKUP($C89,Go_Flag,Database!U$44,FALSE)=\"\",\"-\",IF(HLOOKUP(Industry_Segment,Industry_Golive,Database!$B50,FALSE)=1,1,\"-\")))","v":"-"},{"$f":"IF($C89=\"\",\"\",IF(VLOOKUP($C89,Go_Flag,Database!V$44,FALSE)=\"\",\"-\",IF(HLOOKUP(Industry_Segment,Industry_Golive,Database!$B50,FALSE)=1,1,\"-\")))","v":"-"},{"$f":"IF($C89=\"\",\"\",IF(VLOOKUP($C89,Go_Flag,Database!W$44,FALSE)=\"\",\"-\",IF(HLOOKUP(Industry_Segment,Industry_Golive,Database!$B50,FALSE)=1,1,\"-\")))","v":"-"},{"$f":"IF($C89=\"\",\"\",IF(VLOOKUP($C89,Go_Flag,Database!X$44,FALSE)=\"\",\"-\",IF(HLOOKUP(Industry_Segment,Industry_Golive,Database!$B50,FALSE)=1,1,\"-\")))","v":"-"},{"$f":"IF($C89=\"\",\"\",IF(VLOOKUP($C89,Go_Flag,Database!Y$44,FALSE)=\"\",\"-\",IF(HLOOKUP(Industry_Segment,Industry_Golive,Database!$B50,FALSE)=1,1,\"-\")))","v":"-"},{"$f":"IF($C89=\"\",\"\",IF(VLOOKUP($C89,Go_Flag,Database!Z$44,FALSE)=\"\",\"-\",IF(HLOOKUP(Industry_Segment,Industry_Golive,Database!$B50,FALSE)=1,1,\"-\")))","v":"-"},null,{"$f":"IF($C89=\"\",\"\",IF(VLOOKUP($C89,Go_Flag,Database!AA$44,FALSE)=\"\",\"-\",IF(HLOOKUP(Industry_Segment,Industry_Golive,Database!$B50,FALSE)=1,1,\"-\")))","v":"-"},null,{"$f":"IF($C89=\"\",\"\",IF(VLOOKUP($C89,Go_Flag,Database!AB$44,FALSE)=\"\",\"-\",IF(HLOOKUP(Industry_Segment,Industry_Golive,Database!$B50,FALSE)=1,1,\"-\")))","v":"-"},null,{"$f":"IF($C89=\"\",\"\",IF(VLOOKUP($C89,Go_Flag,Database!AC$44,FALSE)=\"\",\"-\",IF(HLOOKUP(Industry_Segment,Industry_Golive,Database!$B50,FALSE)=1,1,\"-\")))","v":"-"}]
[null,null,{"$f":"IF(Database!C52=\"\",\"\",Database!C52)","v":"I - Improving Security Frameworks"},{"$f":"IF($C90=\"\",\"\",IF(VLOOKUP($C90,Go_Flag,Database!R$44,FALSE)=\"\",\"-\",IF(HLOOKUP(Industry_Segment,Industry_Golive,Database!$B51,FALSE)=1,1,\"-\")))","v":"-"},{"$f":"IF($C90=\"\",\"\",IF(VLOOKUP($C90,Go_Flag,Database!S$44,FALSE)=\"\",\"-\",IF(HLOOKUP(Industry_Segment,Industry_Golive,Database!$B51,FALSE)=1,1,\"-\")))","v":"-"},{"$f":"IF($C90=\"\",\"\",IF(VLOOKUP($C90,Go_Flag,Database!T$44,FALSE)=\"\",\"-\",IF(HLOOKUP(Industry_Segment,Industry_Golive,Database!$B51,FALSE)=1,1,\"-\")))","v":"-"},{"$f":"IF($C90=\"\",\"\",IF(VLOOKUP($C90,Go_Flag,Database!U$44,FALSE)=\"\",\"-\",IF(HLOOKUP(Industry_Segment,Industry_Golive,Database!$B51,FALSE)=1,1,\"-\")))","v":1},{"$f":"IF($C90=\"\",\"\",IF(VLOOKUP($C90,Go_Flag,Database!V$44,FALSE)=\"\",\"-\",IF(HLOOKUP(Industry_Segment,Industry_Golive,Database!$B51,FALSE)=1,1,\"-\")))","v":"-"},{"$f":"IF($C90=\"\",\"\",IF(VLOOKUP($C90,Go_Flag,Database!W$44,FALSE)=\"\",\"-\",IF(HLOOKUP(Industry_Segment,Industry_Golive,Database!$B51,FALSE)=1,1,\"-\")))","v":"-"},{"$f":"IF($C90=\"\",\"\",IF(VLOOKUP($C90,Go_Flag,Database!X$44,FALSE)=\"\",\"-\",IF(HLOOKUP(Industry_Segment,Industry_Golive,Database!$B51,FALSE)=1,1,\"-\")))","v":"-"},{"$f":"IF($C90=\"\",\"\",IF(VLOOKUP($C90,Go_Flag,Database!Y$44,FALSE)=\"\",\"-\",IF(HLOOKUP(Industry_Segment,Industry_Golive,Database!$B51,FALSE)=1,1,\"-\")))","v":"-"},{"$f":"IF($C90=\"\",\"\",IF(VLOOKUP($C90,Go_Flag,Database!Z$44,FALSE)=\"\",\"-\",IF(HLOOKUP(Industry_Segment,Industry_Golive,Database!$B51,FALSE)=1,1,\"-\")))","v":"-"},null,{"$f":"IF($C90=\"\",\"\",IF(VLOOKUP($C90,Go_Flag,Database!AA$44,FALSE)=\"\",\"-\",IF(HLOOKUP(Industry_Segment,Industry_Golive,Database!$B51,FALSE)=1,1,\"-\")))","v":"-"},null,{"$f":"IF($C90=\"\",\"\",IF(VLOOKUP($C90,Go_Flag,Database!AB$44,FALSE)=\"\",\"-\",IF(HLOOKUP(Industry_Segment,Industry_Golive,Database!$B51,FALSE)=1,1,\"-\")))","v":"-"},null,{"$f":"IF($C90=\"\",\"\",IF(VLOOKUP($C90,Go_Flag,Database!AC$44,FALSE)=\"\",\"-\",IF(HLOOKUP(Industry_Segment,Industry_Golive,Database!$B51,FALSE)=1,1,\"-\")))","v":"-"}]
[null,null,{"$f":"IF(Database!C53=\"\",\"\",Database!C53)","v":"I - Unlocking CER Benefits Through Flexible Trading"},{"$f":"IF($C91=\"\",\"\",IF(VLOOKUP($C91,Go_Flag,Database!R$44,FALSE)=\"\",\"-\",IF(HLOOKUP(Industry_Segment,Industry_Golive,Database!$B52,FALSE)=1,1,\"-\")))","v":"-"},{"$f":"IF($C91=\"\",\"\",IF(VLOOKUP($C91,Go_Flag,Database!S$44,FALSE)=\"\",\"-\",IF(HLOOKUP(Industry_Segment,Industry_Golive,Database!$B52,FALSE)=1,1,\"-\")))","v":"-"},{"$f":"IF($C91=\"\",\"\",IF(VLOOKUP($C91,Go_Flag,Database!T$44,FALSE)=\"\",\"-\",IF(HLOOKUP(Industry_Segment,Industry_Golive,Database!$B52,FALSE)=1,1,\"-\")))","v":"-"},{"$f":"IF($C91=\"\",\"\",IF(VLOOKUP($C91,Go_Flag,Database!U$44,FALSE)=\"\",\"-\",IF(HLOOKUP(Industry_Segment,Industry_Golive,Database!$B52,FALSE)=1,1,\"-\")))","v":"-"},{"$f":"IF($C91=\"\",\"\",IF(VLOOKUP($C91,Go_Flag,Database!V$44,FALSE)=\"\",\"-\",IF(HLOOKUP(Industry_Segment,Industry_Golive,Database!$B52,FALSE)=1,1,\"-\")))","v":"-"},{"$f":"IF($C91=\"\",\"\",IF(VLOOKUP($C91,Go_Flag,Database!W$44,FALSE)=\"\",\"-\",IF(HLOOKUP(Industry_Segment,Industry_Golive,Database!$B52,FALSE)=1,1,\"-\")))","v":"-"},{"$f":"IF($C91=\"\",\"\",IF(VLOOKUP($C91,Go_Flag,Database!X$44,FALSE)=\"\",\"-\",IF(HLOOKUP(Industry_Segment,Industry_Golive,Database!$B52,FALSE)=1,1,\"-\")))","v":"-"},{"$f":"IF($C91=\"\",\"\",IF(VLOOKUP($C91,Go_Flag,Database!Y$44,FALSE)=\"\",\"-\",IF(HLOOKUP(Industry_Segment,Industry_Golive,Database!$B52,FALSE)=1,1,\"-\")))","v":1},{"$f":"IF($C91=\"\",\"\",IF(VLOOKUP($C91,Go_Flag,Database!Z$44,FALSE)=\"\",\"-\",IF(HLOOKUP(Industry_Segment,Industry_Golive,Database!$B52,FALSE)=1,1,\"-\")))","v":"-"},null,{"$f":"IF($C91=\"\",\"\",IF(VLOOKUP($C91,Go_Flag,Database!AA$44,FALSE)=\"\",\"-\",IF(HLOOKUP(Industry_Segment,Industry_Golive,Database!$B52,FALSE)=1,1,\"-\")))","v":"-"},null,{"$f":"IF($C91=\"\",\"\",IF(VLOOKUP($C91,Go_Flag,Database!AB$44,FALSE)=\"\",\"-\",IF(HLOOKUP(Industry_Segment,Industry_Golive,Database!$B52,FALSE)=1,1,\"-\")))","v":"-"},null,{"$f":"IF($C91=\"\",\"\",IF(VLOOKUP($C91,Go_Flag,Database!AC$44,FALSE)=\"\",\"-\",IF(HLOOKUP(Industry_Segment,Industry_Golive,Database!$B52,FALSE)=1,1,\"-\")))","v":"-"}]
[null,null,{"$f":"IF(Database!C54=\"\",\"\",Database!C54)","v":"I - MSR (Accelerating Smart Meter Deployment - Package 1 & 2)"},{"$f":"IF($C92=\"\",\"\",IF(VLOOKUP($C92,Go_Flag,Database!R$44,FALSE)=\"\",\"-\",IF(HLOOKUP(Industry_Segment,Industry_Golive,Database!$B53,FALSE)=1,1,\"-\")))","v":"-"},{"$f":"IF($C92=\"\",\"\",IF(VLOOKUP($C92,Go_Flag,Database!S$44,FALSE)=\"\",\"-\",IF(HLOOKUP(Industry_Segment,Industry_Golive,Database!$B53,FALSE)=1,1,\"-\")))","v":"-"},{"$f":"IF($C92=\"\",\"\",IF(VLOOKUP($C92,Go_Flag,Database!T$44,FALSE)=\"\",\"-\",IF(HLOOKUP(Industry_Segment,Industry_Golive,Database!$B53,FALSE)=1,1,\"-\")))","v":"-"},{"$f":"IF($C92=\"\",\"\",IF(VLOOKUP($C92,Go_Flag,Database!U$44,FALSE)=\"\",\"-\",IF(HLOOKUP(Industry_Segment,Industry_Golive,Database!$B53,FALSE)=1,1,\"-\")))","v":1},{"$f":"IF($C92=\"\",\"\",IF(VLOOKUP($C92,Go_Flag,Database!V$44,FALSE)=\"\",\"-\",IF(HLOOKUP(Industry_Segment,Industry_Golive,Database!$B53,FALSE)=1,1,\"-\")))","v":"-"},{"$f":"IF($C92=\"\",\"\",IF(VLOOKUP($C92,Go_Flag,Database!W$44,FALSE)=\"\",\"-\",IF(HLOOKUP(Industry_Segment,Industry_Golive,Database!$B53,FALSE)=1,1,\"-\")))","v":"-"},{"$f":"IF($C92=\"\",\"\",IF(VLOOKUP($C92,Go_Flag,Database!X$44,FALSE)=\"\",\"-\",IF(HLOOKUP(Industry_Segment,Industry_Golive,Database!$B53,FALSE)=1,1,\"-\")))","v":"-"},{"$f":"IF($C92=\"\",\"\",IF(VLOOKUP($C92,Go_Flag,Database!Y$44,FALSE)=\"\",\"-\",IF(HLOOKUP(Industry_Segment,Industry_Golive,Database!$B53,FALSE)=1,1,\"-\")))","v":"-"},{"$f":"IF($C92=\"\",\"\",IF(VLOOKUP($C92,Go_Flag,Database!Z$44,FALSE)=\"\",\"-\",IF(HLOOKUP(Industry_Segment,Industry_Golive,Database!$B53,FALSE)=1,1,\"-\")))","v":"-"},null,{"$f":"IF($C92=\"\",\"\",IF(VLOOKUP($C92,Go_Flag,Database!AA$44,FALSE)=\"\",\"-\",IF(HLOOKUP(Industry_Segment,Industry_Golive,Database!$B53,FALSE)=1,1,\"-\")))","v":"-"},null,{"$f":"IF($C92=\"\",\"\",IF(VLOOKUP($C92,Go_Flag,Database!AB$44,FALSE)=\"\",\"-\",IF(HLOOKUP(Industry_Segment,Industry_Golive,Database!$B53,FALSE)=1,1,\"-\")))","v":"-"},null,{"$f":"IF($C92=\"\",\"\",IF(VLOOKUP($C92,Go_Flag,Database!AC$44,FALSE)=\"\",\"-\",IF(HLOOKUP(Industry_Segment,Industry_Golive,Database!$B53,FALSE)=1,1,\"-\")))","v":"-"}]
[null,null,{"$f":"IF(Database!C55=\"\",\"\",Database!C55)","v":"I - Shortening the Settlement Cycle"},{"$f":"IF($C93=\"\",\"\",IF(VLOOKUP($C93,Go_Flag,Database!R$44,FALSE)=\"\",\"-\",IF(HLOOKUP(Industry_Segment,Industry_Golive,Database!$B54,FALSE)=1,1,\"-\")))","v":"-"},{"$f":"IF($C93=\"\",\"\",IF(VLOOKUP($C93,Go_Flag,Database!S$44,FALSE)=\"\",\"-\",IF(HLOOKUP(Industry_Segment,Industry_Golive,Database!$B54,FALSE)=1,1,\"-\")))","v":"-"},{"$f":"IF($C93=\"\",\"\",IF(VLOOKUP($C93,Go_Flag,Database!T$44,FALSE)=\"\",\"-\",IF(HLOOKUP(Industry_Segment,Industry_Golive,Database!$B54,FALSE)=1,1,\"-\")))","v":"-"},{"$f":"IF($C93=\"\",\"\",IF(VLOOKUP($C93,Go_Flag,Database!U$44,FALSE)=\"\",\"-\",IF(HLOOKUP(Industry_Segment,Industry_Golive,Database!$B54,FALSE)=1,1,\"-\")))","v":"-"},{"$f":"IF($C93=\"\",\"\",IF(VLOOKUP($C93,Go_Flag,Database!V$44,FALSE)=\"\",\"-\",IF(HLOOKUP(Industry_Segment,Industry_Golive,Database!$B54,FALSE)=1,1,\"-\")))","v":"-"},{"$f":"IF($C93=\"\",\"\",IF(VLOOKUP($C93,Go_Flag,Database!W$44,FALSE)=\"\",\"-\",IF(HLOOKUP(Industry_Segment,Industry_Golive,Database!$B54,FALSE)=1,1,\"-\")))","v":1},{"$f":"IF($C93=\"\",\"\",IF(VLOOKUP($C93,Go_Flag,Database!X$44,FALSE)=\"\",\"-\",IF(HLOOKUP(Industry_Segment,Industry_Golive,Database!$B54,FALSE)=1,1,\"-\")))","v":"-"},{"$f":"IF($C93=\"\",\"\",IF(VLOOKUP($C93,Go_Flag,Database!Y$44,FALSE)=\"\",\"-\",IF(HLOOKUP(Industry_Segment,Industry_Golive,Database!$B54,FALSE)=1,1,\"-\")))","v":"-"},{"$f":"IF($C93=\"\",\"\",IF(VLOOKUP($C93,Go_Flag,Database!Z$44,FALSE)=\"\",\"-\",IF(HLOOKUP(Industry_Segment,Industry_Golive,Database!$B54,FALSE)=1,1,\"-\")))","v":"-"},null,{"$f":"IF($C93=\"\",\"\",IF(VLOOKUP($C93,Go_Flag,Database!AA$44,FALSE)=\"\",\"-\",IF(HLOOKUP(Industry_Segment,Industry_Golive,Database!$B54,FALSE)=1,1,\"-\")))","v":"-"},null,{"$f":"IF($C93=\"\",\"\",IF(VLOOKUP($C93,Go_Flag,Database!AB$44,FALSE)=\"\",\"-\",IF(HLOOKUP(Industry_Segment,Industry_Golive,Database!$B54,FALSE)=1,1,\"-\")))","v":"-"},null,{"$f":"IF($C93=\"\",\"\",IF(VLOOKUP($C93,Go_Flag,Database!AC$44,FALSE)=\"\",\"-\",IF(HLOOKUP(Industry_Segment,Industry_Golive,Database!$B54,FALSE)=1,1,\"-\")))","v":"-"}]
[null,null,{"$f":"IF(Database!C56=\"\",\"\",Database!C56)","v":"I - Integrating Price Responsive Resources into the NEM"},{"$f":"IF($C94=\"\",\"\",IF(VLOOKUP($C94,Go_Flag,Database!R$44,FALSE)=\"\",\"-\",IF(HLOOKUP(Industry_Segment,Industry_Golive,Database!$B55,FALSE)=1,1,\"-\")))","v":"-"},{"$f":"IF($C94=\"\",\"\",IF(VLOOKUP($C94,Go_Flag,Database!S$44,FALSE)=\"\",\"-\",IF(HLOOKUP(Industry_Segment,Industry_Golive,Database!$B55,FALSE)=1,1,\"-\")))","v":"-"},{"$f":"IF($C94=\"\",\"\",IF(VLOOKUP($C94,Go_Flag,Database!T$44,FALSE)=\"\",\"-\",IF(HLOOKUP(Industry_Segment,Industry_Golive,Database!$B55,FALSE)=1,1,\"-\")))","v":"-"},{"$f":"IF($C94=\"\",\"\",IF(VLOOKUP($C94,Go_Flag,Database!U$44,FALSE)=\"\",\"-\",IF(HLOOKUP(Industry_Segment,Industry_Golive,Database!$B55,FALSE)=1,1,\"-\")))","v":"-"},{"$f":"IF($C94=\"\",\"\",IF(VLOOKUP($C94,Go_Flag,Database!V$44,FALSE)=\"\",\"-\",IF(HLOOKUP(Industry_Segment,Industry_Golive,Database!$B55,FALSE)=1,1,\"-\")))","v":"-"},{"$f":"IF($C94=\"\",\"\",IF(VLOOKUP($C94,Go_Flag,Database!W$44,FALSE)=\"\",\"-\",IF(HLOOKUP(Industry_Segment,Industry_Golive,Database!$B55,FALSE)=1,1,\"-\")))","v":"-"},{"$f":"IF($C94=\"\",\"\",IF(VLOOKUP($C94,Go_Flag,Database!X$44,FALSE)=\"\",\"-\",IF(HLOOKUP(Industry_Segment,Industry_Golive,Database!$B55,FALSE)=1,1,\"-\")))","v":"-"},{"$f":"IF($C94=\"\",\"\",IF(VLOOKUP($C94,Go_Flag,Database!Y$44,FALSE)=\"\",\"-\",IF(HLOOKUP(Industry_Segment,Industry_Golive,Database!$B55,FALSE)=1,1,\"-\")))","v":"-"},{"$f":"IF($C94=\"\",\"\",IF(VLOOKUP($C94,Go_Flag,Database!Z$44,FALSE)=\"\",\"-\",IF(HLOOKUP(Industry_Segment,Industry_Golive,Database!$B55,FALSE)=1,1,\"-\")))","v":"-"},null,{"$f":"IF($C94=\"\",\"\",IF(VLOOKUP($C94,Go_Flag,Database!AA$44,FALSE)=\"\",\"-\",IF(HLOOKUP(Industry_Segment,Industry_Golive,Database!$B55,FALSE)=1,1,\"-\")))","v":1},null,{"$f":"IF($C94=\"\",\"\",IF(VLOOKUP($C94,Go_Flag,Database!AB$44,FALSE)=\"\",\"-\",IF(HLOOKUP(Industry_Segment,Industry_Golive,Database!$B55,FALSE)=1,1,\"-\")))","v":"-"},null,{"$f":"IF($C94=\"\",\"\",IF(VLOOKUP($C94,Go_Flag,Database!AC$44,FALSE)=\"\",\"-\",IF(HLOOKUP(Industry_Segment,Industry_Golive,Database!$B55,FALSE)=1,1,\"-\")))","v":"-"}]
[null,null,{"$f":"IF(Database!C57=\"\",\"\",Database!C57)","v":"I - IDX (Foundation)"},{"$f":"IF($C95=\"\",\"\",IF(VLOOKUP($C95,Go_Flag,Database!R$44,FALSE)=\"\",\"-\",IF(HLOOKUP(Industry_Segment,Industry_Golive,Database!$B56,FALSE)=1,1,\"-\")))","v":"-"},{"$f":"IF($C95=\"\",\"\",IF(VLOOKUP($C95,Go_Flag,Database!S$44,FALSE)=\"\",\"-\",IF(HLOOKUP(Industry_Segment,Industry_Golive,Database!$B56,FALSE)=1,1,\"-\")))","v":"-"},{"$f":"IF($C95=\"\",\"\",IF(VLOOKUP($C95,Go_Flag,Database!T$44,FALSE)=\"\",\"-\",IF(HLOOKUP(Industry_Segment,Industry_Golive,Database!$B56,FALSE)=1,1,\"-\")))","v":"-"},{"$f":"IF($C95=\"\",\"\",IF(VLOOKUP($C95,Go_Flag,Database!U$44,FALSE)=\"\",\"-\",IF(HLOOKUP(Industry_Segment,Industry_Golive,Database!$B56,FALSE)=1,1,\"-\")))","v":"-"},{"$f":"IF($C95=\"\",\"\",IF(VLOOKUP($C95,Go_Flag,Database!V$44,FALSE)=\"\",\"-\",IF(HLOOKUP(Industry_Segment,Industry_Golive,Database!$B56,FALSE)=1,1,\"-\")))","v":"-"},{"$f":"IF($C95=\"\",\"\",IF(VLOOKUP($C95,Go_Flag,Database!W$44,FALSE)=\"\",\"-\",IF(HLOOKUP(Industry_Segment,Industry_Golive,Database!$B56,FALSE)=1,1,\"-\")))","v":"-"},{"$f":"IF($C95=\"\",\"\",IF(VLOOKUP($C95,Go_Flag,Database!X$44,FALSE)=\"\",\"-\",IF(HLOOKUP(Industry_Segment,Industry_Golive,Database!$B56,FALSE)=1,1,\"-\")))","v":"-"},{"$f":"IF($C95=\"\",\"\",IF(VLOOKUP($C95,Go_Flag,Database!Y$44,FALSE)=\"\",\"-\",IF(HLOOKUP(Industry_Segment,Industry_Golive,Database!$B56,FALSE)=1,1,\"-\")))","v":"-"},{"$f":"IF($C95=\"\",\"\",IF(VLOOKUP($C95,Go_Flag,Database!Z$44,FALSE)=\"\",\"-\",IF(HLOOKUP(Industry_Segment,Industry_Golive,Database!$B56,FALSE)=1,1,\"-\")))","v":"-"},null,{"$f":"IF($C95=\"\",\"\",IF(VLOOKUP($C95,Go_Flag,Database!AA$44,FALSE)=\"\",\"-\",IF(HLOOKUP(Industry_Segment,Industry_Golive,Database!$B56,FALSE)=1,1,\"-\")))","v":"-"},null,{"$f":"IF($C95=\"\",\"\",IF(VLOOKUP($C95,Go_Flag,Database!AB$44,FALSE)=\"\",\"-\",IF(HLOOKUP(Industry_Segment,Industry_Golive,Database!$B56,FALSE)=1,1,\"-\")))","v":"-"},null,{"$f":"IF($C95=\"\",\"\",IF(VLOOKUP($C95,Go_Flag,Database!AC$44,FALSE)=\"\",\"-\",IF(HLOOKUP(Industry_Segment,Industry_Golive,Database!$B56,FALSE)=1,1,\"-\")))","v":"-"}]
[null,null,{"$f":"IF(Database!C58=\"\",\"\",Database!C58)","v":"I - IDAM (Foundation)"},{"$f":"IF($C96=\"\",\"\",IF(VLOOKUP($C96,Go_Flag,Database!R$44,FALSE)=\"\",\"-\",IF(HLOOKUP(Industry_Segment,Industry_Golive,Database!$B57,FALSE)=1,1,\"-\")))","v":"-"},{"$f":"IF($C96=\"\",\"\",IF(VLOOKUP($C96,Go_Flag,Database!S$44,FALSE)=\"\",\"-\",IF(HLOOKUP(Industry_Segment,Industry_Golive,Database!$B57,FALSE)=1,1,\"-\")))","v":"-"},{"$f":"IF($C96=\"\",\"\",IF(VLOOKUP($C96,Go_Flag,Database!T$44,FALSE)=\"\",\"-\",IF(HLOOKUP(Industry_Segment,Industry_Golive,Database!$B57,FALSE)=1,1,\"-\")))","v":"-"},{"$f":"IF($C96=\"\",\"\",IF(VLOOKUP($C96,Go_Flag,Database!U$44,FALSE)=\"\",\"-\",IF(HLOOKUP(Industry_Segment,Industry_Golive,Database!$B57,FALSE)=1,1,\"-\")))","v":"-"},{"$f":"IF($C96=\"\",\"\",IF(VLOOKUP($C96,Go_Flag,Database!V$44,FALSE)=\"\",\"-\",IF(HLOOKUP(Industry_Segment,Industry_Golive,Database!$B57,FALSE)=1,1,\"-\")))","v":"-"},{"$f":"IF($C96=\"\",\"\",IF(VLOOKUP($C96,Go_Flag,Database!W$44,FALSE)=\"\",\"-\",IF(HLOOKUP(Industry_Segment,Industry_Golive,Database!$B57,FALSE)=1,1,\"-\")))","v":"-"},{"$f":"IF($C96=\"\",\"\",IF(VLOOKUP($C96,Go_Flag,Database!X$44,FALSE)=\"\",\"-\",IF(HLOOKUP(Industry_Segment,Industry_Golive,Database!$B57,FALSE)=1,1,\"-\")))","v":"-"},{"$f":"IF($C96=\"\",\"\",IF(VLOOKUP($C96,Go_Flag,Database!Y$44,FALSE)=\"\",\"-\",IF(HLOOKUP(Industry_Segment,Industry_Golive,Database!$B57,FALSE)=1,1,\"-\")))","v":1},{"$f":"IF($C96=\"\",\"\",IF(VLOOKUP($C96,Go_Flag,Database!Z$44,FALSE)=\"\",\"-\",IF(HLOOKUP(Industry_Segment,Industry_Golive,Database!$B57,FALSE)=1,1,\"-\")))","v":"-"},null,{"$f":"IF($C96=\"\",\"\",IF(VLOOKUP($C96,Go_Flag,Database!AA$44,FALSE)=\"\",\"-\",IF(HLOOKUP(Industry_Segment,Industry_Golive,Database!$B57,FALSE)=1,1,\"-\")))","v":"-"},null,{"$f":"IF($C96=\"\",\"\",IF(VLOOKUP($C96,Go_Flag,Database!AB$44,FALSE)=\"\",\"-\",IF(HLOOKUP(Industry_Segment,Industry_Golive,Database!$B57,FALSE)=1,1,\"-\")))","v":"-"},null,{"$f":"IF($C96=\"\",\"\",IF(VLOOKUP($C96,Go_Flag,Database!AC$44,FALSE)=\"\",\"-\",IF(HLOOKUP(Industry_Segment,Industry_Golive,Database!$B57,FALSE)=1,1,\"-\")))","v":"-"}]
[null,null,{"$f":"IF(Database!C59=\"\",\"\",Database!C59)","v":"I - MSR (Accelerating Smart Meter Deployment - Package 3)"},{"$f":"IF($C97=\"\",\"\",IF(VLOOKUP($C97,Go_Flag,Database!R$44,FALSE)=\"\",\"-\",IF(HLOOKUP(Industry_Segment,Industry_Golive,Database!$B58,FALSE)=1,1,\"-\")))","v":"-"},{"$f":"IF($C97=\"\",\"\",IF(VLOOKUP($C97,Go_Flag,Database!S$44,FALSE)=\"\",\"-\",IF(HLOOKUP(Industry_Segment,Industry_Golive,Database!$B58,FALSE)=1,1,\"-\")))","v":"-"},{"$f":"IF($C97=\"\",\"\",IF(VLOOKUP($C97,Go_Flag,Database!T$44,FALSE)=\"\",\"-\",IF(HLOOKUP(Industry_Segment,Industry_Golive,Database!$B58,FALSE)=1,1,\"-\")))","v":"-"},{"$f":"IF($C97=\"\",\"\",IF(VLOOKUP($C97,Go_Flag,Database!U$44,FALSE)=\"\",\"-\",IF(HLOOKUP(Industry_Segment,Industry_Golive,Database!$B58,FALSE)=1,1,\"-\")))","v":"-"},{"$f":"IF($C97=\"\",\"\",IF(VLOOKUP($C97,Go_Flag,Database!V$44,FALSE)=\"\",\"-\",IF(HLOOKUP(Industry_Segment,Industry_Golive,Database!$B58,FALSE)=1,1,\"-\")))","v":"-"},{"$f":"IF($C97=\"\",\"\",IF(VLOOKUP($C97,Go_Flag,Database!W$44,FALSE)=\"\",\"-\",IF(HLOOKUP(Industry_Segment,Industry_Golive,Database!$B58,FALSE)=1,1,\"-\")))","v":"-"},{"$f":"IF($C97=\"\",\"\",IF(VLOOKUP($C97,Go_Flag,Database!X$44,FALSE)=\"\",\"-\",IF(HLOOKUP(Industry_Segment,Industry_Golive,Database!$B58,FALSE)=1,1,\"-\")))","v":1},{"$f":"IF($C97=\"\",\"\",IF(VLOOKUP($C97,Go_Flag,Database!Y$44,FALSE)=\"\",\"-\",IF(HLOOKUP(Industry_Segment,Industry_Golive,Database!$B58,FALSE)=1,1,\"-\")))","v":"-"},{"$f":"IF($C97=\"\",\"\",IF(VLOOKUP($C97,Go_Flag,Database!Z$44,FALSE)=\"\",\"-\",IF(HLOOKUP(Industry_Segment,Industry_Golive,Database!$B58,FALSE)=1,1,\"-\")))","v":"-"},null,{"$f":"IF($C97=\"\",\"\",IF(VLOOKUP($C97,Go_Flag,Database!AA$44,FALSE)=\"\",\"-\",IF(HLOOKUP(Industry_Segment,Industry_Golive,Database!$B58,FALSE)=1,1,\"-\")))","v":"-"},null,{"$f":"IF($C97=\"\",\"\",IF(VLOOKUP($C97,Go_Flag,Database!AB$44,FALSE)=\"\",\"-\",IF(HLOOKUP(Industry_Segment,Industry_Golive,Database!$B58,FALSE)=1,1,\"-\")))","v":"-"},null,{"$f":"IF($C97=\"\",\"\",IF(VLOOKUP($C97,Go_Flag,Database!AC$44,FALSE)=\"\",\"-\",IF(HLOOKUP(Industry_Segment,Industry_Golive,Database!$B58,FALSE)=1,1,\"-\")))","v":"-"}]
[null,null,{"$f":"IF(Database!C60=\"\",\"\",Database!C60)","v":"A - Inter-regional SRAs for transmission loops (PEC-MI)"},{"$f":"IF($C98=\"\",\"\",IF(VLOOKUP($C98,Go_Flag,Database!R$44,FALSE)=\"\",\"-\",IF(HLOOKUP(Industry_Segment,Industry_Golive,Database!$B59,FALSE)=1,1,\"-\")))","v":"-"},{"$f":"IF($C98=\"\",\"\",IF(VLOOKUP($C98,Go_Flag,Database!S$44,FALSE)=\"\",\"-\",IF(HLOOKUP(Industry_Segment,Industry_Golive,Database!$B59,FALSE)=1,1,\"-\")))","v":"-"},{"$f":"IF($C98=\"\",\"\",IF(VLOOKUP($C98,Go_Flag,Database!T$44,FALSE)=\"\",\"-\",IF(HLOOKUP(Industry_Segment,Industry_Golive,Database!$B59,FALSE)=1,1,\"-\")))","v":"-"},{"$f":"IF($C98=\"\",\"\",IF(VLOOKUP($C98,Go_Flag,Database!U$44,FALSE)=\"\",\"-\",IF(HLOOKUP(Industry_Segment,Industry_Golive,Database!$B59,FALSE)=1,1,\"-\")))","v":"-"},{"$f":"IF($C98=\"\",\"\",IF(VLOOKUP($C98,Go_Flag,Database!V$44,FALSE)=\"\",\"-\",IF(HLOOKUP(Industry_Segment,Industry_Golive,Database!$B59,FALSE)=1,1,\"-\")))","v":"-"},{"$f":"IF($C98=\"\",\"\",IF(VLOOKUP($C98,Go_Flag,Database!W$44,FALSE)=\"\",\"-\",IF(HLOOKUP(Industry_Segment,Industry_Golive,Database!$B59,FALSE)=1,1,\"-\")))","v":"-"},{"$f":"IF($C98=\"\",\"\",IF(VLOOKUP($C98,Go_Flag,Database!X$44,FALSE)=\"\",\"-\",IF(HLOOKUP(Industry_Segment,Industry_Golive,Database!$B59,FALSE)=1,1,\"-\")))","v":"-"},{"$f":"IF($C98=\"\",\"\",IF(VLOOKUP($C98,Go_Flag,Database!Y$44,FALSE)=\"\",\"-\",IF(HLOOKUP(Industry_Segment,Industry_Golive,Database!$B59,FALSE)=1,1,\"-\")))","v":1},{"$f":"IF($C98=\"\",\"\",IF(VLOOKUP($C98,Go_Flag,Database!Z$44,FALSE)=\"\",\"-\",IF(HLOOKUP(Industry_Segment,Industry_Golive,Database!$B59,FALSE)=1,1,\"-\")))","v":"-"},null,{"$f":"IF($C98=\"\",\"\",IF(VLOOKUP($C98,Go_Flag,Database!AA$44,FALSE)=\"\",\"-\",IF(HLOOKUP(Industry_Segment,Industry_Golive,Database!$B59,FALSE)=1,1,\"-\")))","v":"-"},null,{"$f":"IF($C98=\"\",\"\",IF(VLOOKUP($C98,Go_Flag,Database!AB$44,FALSE)=\"\",\"-\",IF(HLOOKUP(Industry_Segment,Industry_Golive,Database!$B59,FALSE)=1,1,\"-\")))","v":"-"},null,{"$f":"IF($C98=\"\",\"\",IF(VLOOKUP($C98,Go_Flag,Database!AC$44,FALSE)=\"\",\"-\",IF(HLOOKUP(Industry_Segment,Industry_Golive,Database!$B59,FALSE)=1,1,\"-\")))","v":"-"}]
[null,null,{"$f":"IF(Database!C61=\"\",\"\",Database!C61)","v":""},{"$f":"IF($C99=\"\",\"\",IF(VLOOKUP($C99,Go_Flag,Database!R$44,FALSE)=\"\",\"-\",IF(HLOOKUP(Industry_Segment,Industry_Golive,Database!$B60,FALSE)=1,1,\"-\")))","v":""},{"$f":"IF($C99=\"\",\"\",IF(VLOOKUP($C99,Go_Flag,Database!S$44,FALSE)=\"\",\"-\",IF(HLOOKUP(Industry_Segment,Industry_Golive,Database!$B60,FALSE)=1,1,\"-\")))","v":""},{"$f":"IF($C99=\"\",\"\",IF(VLOOKUP($C99,Go_Flag,Database!T$44,FALSE)=\"\",\"-\",IF(HLOOKUP(Industry_Segment,Industry_Golive,Database!$B60,FALSE)=1,1,\"-\")))","v":""},{"$f":"IF($C99=\"\",\"\",IF(VLOOKUP($C99,Go_Flag,Database!U$44,FALSE)=\"\",\"-\",IF(HLOOKUP(Industry_Segment,Industry_Golive,Database!$B60,FALSE)=1,1,\"-\")))","v":""},{"$f":"IF($C99=\"\",\"\",IF(VLOOKUP($C99,Go_Flag,Database!V$44,FALSE)=\"\",\"-\",IF(HLOOKUP(Industry_Segment,Industry_Golive,Database!$B60,FALSE)=1,1,\"-\")))","v":""},{"$f":"IF($C99=\"\",\"\",IF(VLOOKUP($C99,Go_Flag,Database!W$44,FALSE)=\"\",\"-\",IF(HLOOKUP(Industry_Segment,Industry_Golive,Database!$B60,FALSE)=1,1,\"-\")))","v":""},{"$f":"IF($C99=\"\",\"\",IF(VLOOKUP($C99,Go_Flag,Database!X$44,FALSE)=\"\",\"-\",IF(HLOOKUP(Industry_Segment,Industry_Golive,Database!$B60,FALSE)=1,1,\"-\")))","v":""},{"$f":"IF($C99=\"\",\"\",IF(VLOOKUP($C99,Go_Flag,Database!Y$44,FALSE)=\"\",\"-\",IF(HLOOKUP(Industry_Segment,Industry_Golive,Database!$B60,FALSE)=1,1,\"-\")))","v":""},{"$f":"IF($C99=\"\",\"\",IF(VLOOKUP($C99,Go_Flag,Database!Z$44,FALSE)=\"\",\"-\",IF(HLOOKUP(Industry_Segment,Industry_Golive,Database!$B60,FALSE)=1,1,\"-\")))","v":""},null,{"$f":"IF($C99=\"\",\"\",IF(VLOOKUP($C99,Go_Flag,Database!AA$44,FALSE)=\"\",\"-\",IF(HLOOKUP(Industry_Segment,Industry_Golive,Database!$B60,FALSE)=1,1,\"-\")))","v":""},null,{"$f":"IF($C99=\"\",\"\",IF(VLOOKUP($C99,Go_Flag,Database!AB$44,FALSE)=\"\",\"-\",IF(HLOOKUP(Industry_Segment,Industry_Golive,Database!$B60,FALSE)=1,1,\"-\")))","v":""},null,{"$f":"IF($C99=\"\",\"\",IF(VLOOKUP($C99,Go_Flag,Database!AC$44,FALSE)=\"\",\"-\",IF(HLOOKUP(Industry_Segment,Industry_Golive,Database!$B60,FALSE)=1,1,\"-\")))","v":""}]
[null,null,{"$f":"IF(Database!C62=\"\",\"\",Database!C62)","v":""},{"$f":"IF($C100=\"\",\"\",IF(VLOOKUP($C100,Go_Flag,Database!R$44,FALSE)=\"\",\"-\",IF(HLOOKUP(Industry_Segment,Industry_Golive,Database!$B61,FALSE)=1,1,\"-\")))","v":""},{"$f":"IF($C100=\"\",\"\",IF(VLOOKUP($C100,Go_Flag,Database!S$44,FALSE)=\"\",\"-\",IF(HLOOKUP(Industry_Segment,Industry_Golive,Database!$B61,FALSE)=1,1,\"-\")))","v":""},{"$f":"IF($C100=\"\",\"\",IF(VLOOKUP($C100,Go_Flag,Database!T$44,FALSE)=\"\",\"-\",IF(HLOOKUP(Industry_Segment,Industry_Golive,Database!$B61,FALSE)=1,1,\"-\")))","v":""},{"$f":"IF($C100=\"\",\"\",IF(VLOOKUP($C100,Go_Flag,Database!U$44,FALSE)=\"\",\"-\",IF(HLOOKUP(Industry_Segment,Industry_Golive,Database!$B61,FALSE)=1,1,\"-\")))","v":""},{"$f":"IF($C100=\"\",\"\",IF(VLOOKUP($C100,Go_Flag,Database!V$44,FALSE)=\"\",\"-\",IF(HLOOKUP(Industry_Segment,Industry_Golive,Database!$B61,FALSE)=1,1,\"-\")))","v":""},{"$f":"IF($C100=\"\",\"\",IF(VLOOKUP($C100,Go_Flag,Database!W$44,FALSE)=\"\",\"-\",IF(HLOOKUP(Industry_Segment,Industry_Golive,Database!$B61,FALSE)=1,1,\"-\")))","v":""},{"$f":"IF($C100=\"\",\"\",IF(VLOOKUP($C100,Go_Flag,Database!X$44,FALSE)=\"\",\"-\",IF(HLOOKUP(Industry_Segment,Industry_Golive,Database!$B61,FALSE)=1,1,\"-\")))","v":""},{"$f":"IF($C100=\"\",\"\",IF(VLOOKUP($C100,Go_Flag,Database!Y$44,FALSE)=\"\",\"-\",IF(HLOOKUP(Industry_Segment,Industry_Golive,Database!$B61,FALSE)=1,1,\"-\")))","v":""},{"$f":"IF($C100=\"\",\"\",IF(VLOOKUP($C100,Go_Flag,Database!Z$44,FALSE)=\"\",\"-\",IF(HLOOKUP(Industry_Segment,Industry_Golive,Database!$B61,FALSE)=1,1,\"-\")))","v":""},null,{"$f":"IF($C100=\"\",\"\",IF(VLOOKUP($C100,Go_Flag,Database!AA$44,FALSE)=\"\",\"-\",IF(HLOOKUP(Industry_Segment,Industry_Golive,Database!$B61,FALSE)=1,1,\"-\")))","v":""},null,{"$f":"IF($C100=\"\",\"\",IF(VLOOKUP($C100,Go_Flag,Database!AB$44,FALSE)=\"\",\"-\",IF(HLOOKUP(Industry_Segment,Industry_Golive,Database!$B61,FALSE)=1,1,\"-\")))","v":""},null,{"$f":"IF($C100=\"\",\"\",IF(VLOOKUP($C100,Go_Flag,Database!AC$44,FALSE)=\"\",\"-\",IF(HLOOKUP(Industry_Segment,Industry_Golive,Database!$B61,FALSE)=1,1,\"-\")))","v":""}]
[null,null,{"$f":"IF(Database!C63=\"\",\"\",Database!C63)","v":""},{"$f":"IF($C101=\"\",\"\",IF(VLOOKUP($C101,Go_Flag,Database!R$44,FALSE)=\"\",\"-\",IF(HLOOKUP(Industry_Segment,Industry_Golive,Database!$B62,FALSE)=1,1,\"-\")))","v":""},{"$f":"IF($C101=\"\",\"\",IF(VLOOKUP($C101,Go_Flag,Database!S$44,FALSE)=\"\",\"-\",IF(HLOOKUP(Industry_Segment,Industry_Golive,Database!$B62,FALSE)=1,1,\"-\")))","v":""},{"$f":"IF($C101=\"\",\"\",IF(VLOOKUP($C101,Go_Flag,Database!T$44,FALSE)=\"\",\"-\",IF(HLOOKUP(Industry_Segment,Industry_Golive,Database!$B62,FALSE)=1,1,\"-\")))","v":""},{"$f":"IF($C101=\"\",\"\",IF(VLOOKUP($C101,Go_Flag,Database!U$44,FALSE)=\"\",\"-\",IF(HLOOKUP(Industry_Segment,Industry_Golive,Database!$B62,FALSE)=1,1,\"-\")))","v":""},{"$f":"IF($C101=\"\",\"\",IF(VLOOKUP($C101,Go_Flag,Database!V$44,FALSE)=\"\",\"-\",IF(HLOOKUP(Industry_Segment,Industry_Golive,Database!$B62,FALSE)=1,1,\"-\")))","v":""},{"$f":"IF($C101=\"\",\"\",IF(VLOOKUP($C101,Go_Flag,Database!W$44,FALSE)=\"\",\"-\",IF(HLOOKUP(Industry_Segment,Industry_Golive,Database!$B62,FALSE)=1,1,\"-\")))","v":""},{"$f":"IF($C101=\"\",\"\",IF(VLOOKUP($C101,Go_Flag,Database!X$44,FALSE)=\"\",\"-\",IF(HLOOKUP(Industry_Segment,Industry_Golive,Database!$B62,FALSE)=1,1,\"-\")))","v":""},{"$f":"IF($C101=\"\",\"\",IF(VLOOKUP($C101,Go_Flag,Database!Y$44,FALSE)=\"\",\"-\",IF(HLOOKUP(Industry_Segment,Industry_Golive,Database!$B62,FALSE)=1,1,\"-\")))","v":""},{"$f":"IF($C101=\"\",\"\",IF(VLOOKUP($C101,Go_Flag,Database!Z$44,FALSE)=\"\",\"-\",IF(HLOOKUP(Industry_Segment,Industry_Golive,Database!$B62,FALSE)=1,1,\"-\")))","v":""},null,{"$f":"IF($C101=\"\",\"\",IF(VLOOKUP($C101,Go_Flag,Database!AA$44,FALSE)=\"\",\"-\",IF(HLOOKUP(Industry_Segment,Industry_Golive,Database!$B62,FALSE)=1,1,\"-\")))","v":""},null,{"$f":"IF($C101=\"\",\"\",IF(VLOOKUP($C101,Go_Flag,Database!AB$44,FALSE)=\"\",\"-\",IF(HLOOKUP(Industry_Segment,Industry_Golive,Database!$B62,FALSE)=1,1,\"-\")))","v":""},null,{"$f":"IF($C101=\"\",\"\",IF(VLOOKUP($C101,Go_Flag,Database!AC$44,FALSE)=\"\",\"-\",IF(HLOOKUP(Industry_Segment,Industry_Golive,Database!$B62,FALSE)=1,1,\"-\")))","v":""}]
[null,null,{"$f":"IF(Database!C64=\"\",\"\",Database!C64)","v":""},{"$f":"IF($C102=\"\",\"\",IF(VLOOKUP($C102,Go_Flag,Database!R$44,FALSE)=\"\",\"-\",IF(HLOOKUP(Industry_Segment,Industry_Golive,Database!$B63,FALSE)=1,1,\"-\")))","v":""},{"$f":"IF($C102=\"\",\"\",IF(VLOOKUP($C102,Go_Flag,Database!S$44,FALSE)=\"\",\"-\",IF(HLOOKUP(Industry_Segment,Industry_Golive,Database!$B63,FALSE)=1,1,\"-\")))","v":""},{"$f":"IF($C102=\"\",\"\",IF(VLOOKUP($C102,Go_Flag,Database!T$44,FALSE)=\"\",\"-\",IF(HLOOKUP(Industry_Segment,Industry_Golive,Database!$B63,FALSE)=1,1,\"-\")))","v":""},{"$f":"IF($C102=\"\",\"\",IF(VLOOKUP($C102,Go_Flag,Database!U$44,FALSE)=\"\",\"-\",IF(HLOOKUP(Industry_Segment,Industry_Golive,Database!$B63,FALSE)=1,1,\"-\")))","v":""},{"$f":"IF($C102=\"\",\"\",IF(VLOOKUP($C102,Go_Flag,Database!V$44,FALSE)=\"\",\"-\",IF(HLOOKUP(Industry_Segment,Industry_Golive,Database!$B63,FALSE)=1,1,\"-\")))","v":""},{"$f":"IF($C102=\"\",\"\",IF(VLOOKUP($C102,Go_Flag,Database!W$44,FALSE)=\"\",\"-\",IF(HLOOKUP(Industry_Segment,Industry_Golive,Database!$B63,FALSE)=1,1,\"-\")))","v":""},{"$f":"IF($C102=\"\",\"\",IF(VLOOKUP($C102,Go_Flag,Database!X$44,FALSE)=\"\",\"-\",IF(HLOOKUP(Industry_Segment,Industry_Golive,Database!$B63,FALSE)=1,1,\"-\")))","v":""},{"$f":"IF($C102=\"\",\"\",IF(VLOOKUP($C102,Go_Flag,Database!Y$44,FALSE)=\"\",\"-\",IF(HLOOKUP(Industry_Segment,Industry_Golive,Database!$B63,FALSE)=1,1,\"-\")))","v":""},{"$f":"IF($C102=\"\",\"\",IF(VLOOKUP($C102,Go_Flag,Database!Z$44,FALSE)=\"\",\"-\",IF(HLOOKUP(Industry_Segment,Industry_Golive,Database!$B63,FALSE)=1,1,\"-\")))","v":""},null,{"$f":"IF($C102=\"\",\"\",IF(VLOOKUP($C102,Go_Flag,Database!AA$44,FALSE)=\"\",\"-\",IF(HLOOKUP(Industry_Segment,Industry_Golive,Database!$B63,FALSE)=1,1,\"-\")))","v":""},null,{"$f":"IF($C102=\"\",\"\",IF(VLOOKUP($C102,Go_Flag,Database!AB$44,FALSE)=\"\",\"-\",IF(HLOOKUP(Industry_Segment,Industry_Golive,Database!$B63,FALSE)=1,1,\"-\")))","v":""},null,{"$f":"IF($C102=\"\",\"\",IF(VLOOKUP($C102,Go_Flag,Database!AC$44,FALSE)=\"\",\"-\",IF(HLOOKUP(Industry_Segment,Industry_Golive,Database!$B63,FALSE)=1,1,\"-\")))","v":""}]
[null,null,{"$f":"IF(Database!C65=\"\",\"\",Database!C65)","v":""},{"$f":"IF($C103=\"\",\"\",IF(VLOOKUP($C103,Go_Flag,Database!R$44,FALSE)=\"\",\"-\",IF(HLOOKUP(Industry_Segment,Industry_Golive,Database!$B64,FALSE)=1,1,\"-\")))","v":""},{"$f":"IF($C103=\"\",\"\",IF(VLOOKUP($C103,Go_Flag,Database!S$44,FALSE)=\"\",\"-\",IF(HLOOKUP(Industry_Segment,Industry_Golive,Database!$B64,FALSE)=1,1,\"-\")))","v":""},{"$f":"IF($C103=\"\",\"\",IF(VLOOKUP($C103,Go_Flag,Database!T$44,FALSE)=\"\",\"-\",IF(HLOOKUP(Industry_Segment,Industry_Golive,Database!$B64,FALSE)=1,1,\"-\")))","v":""},{"$f":"IF($C103=\"\",\"\",IF(VLOOKUP($C103,Go_Flag,Database!U$44,FALSE)=\"\",\"-\",IF(HLOOKUP(Industry_Segment,Industry_Golive,Database!$B64,FALSE)=1,1,\"-\")))","v":""},{"$f":"IF($C103=\"\",\"\",IF(VLOOKUP($C103,Go_Flag,Database!V$44,FALSE)=\"\",\"-\",IF(HLOOKUP(Industry_Segment,Industry_Golive,Database!$B64,FALSE)=1,1,\"-\")))","v":""},{"$f":"IF($C103=\"\",\"\",IF(VLOOKUP($C103,Go_Flag,Database!W$44,FALSE)=\"\",\"-\",IF(HLOOKUP(Industry_Segment,Industry_Golive,Database!$B64,FALSE)=1,1,\"-\")))","v":""},{"$f":"IF($C103=\"\",\"\",IF(VLOOKUP($C103,Go_Flag,Database!X$44,FALSE)=\"\",\"-\",IF(HLOOKUP(Industry_Segment,Industry_Golive,Database!$B64,FALSE)=1,1,\"-\")))","v":""},{"$f":"IF($C103=\"\",\"\",IF(VLOOKUP($C103,Go_Flag,Database!Y$44,FALSE)=\"\",\"-\",IF(HLOOKUP(Industry_Segment,Industry_Golive,Database!$B64,FALSE)=1,1,\"-\")))","v":""},{"$f":"IF($C103=\"\",\"\",IF(VLOOKUP($C103,Go_Flag,Database!Z$44,FALSE)=\"\",\"-\",IF(HLOOKUP(Industry_Segment,Industry_Golive,Database!$B64,FALSE)=1,1,\"-\")))","v":""},null,{"$f":"IF($C103=\"\",\"\",IF(VLOOKUP($C103,Go_Flag,Database!AA$44,FALSE)=\"\",\"-\",IF(HLOOKUP(Industry_Segment,Industry_Golive,Database!$B64,FALSE)=1,1,\"-\")))","v":""},null,{"$f":"IF($C103=\"\",\"\",IF(VLOOKUP($C103,Go_Flag,Database!AB$44,FALSE)=\"\",\"-\",IF(HLOOKUP(Industry_Segment,Industry_Golive,Database!$B64,FALSE)=1,1,\"-\")))","v":""},null,{"$f":"IF($C103=\"\",\"\",IF(VLOOKUP($C103,Go_Flag,Database!AC$44,FALSE)=\"\",\"-\",IF(HLOOKUP(Industry_Segment,Industry_Golive,Database!$B64,FALSE)=1,1,\"-\")))","v":""}]
[null,null,{"$f":"IF(Database!C66=\"\",\"\",Database!C66)","v":""},{"$f":"IF($C104=\"\",\"\",IF(VLOOKUP($C104,Go_Flag,Database!R$44,FALSE)=\"\",\"-\",IF(HLOOKUP(Industry_Segment,Industry_Golive,Database!$B65,FALSE)=1,1,\"-\")))","v":""},{"$f":"IF($C104=\"\",\"\",IF(VLOOKUP($C104,Go_Flag,Database!S$44,FALSE)=\"\",\"-\",IF(HLOOKUP(Industry_Segment,Industry_Golive,Database!$B65,FALSE)=1,1,\"-\")))","v":""},{"$f":"IF($C104=\"\",\"\",IF(VLOOKUP($C104,Go_Flag,Database!T$44,FALSE)=\"\",\"-\",IF(HLOOKUP(Industry_Segment,Industry_Golive,Database!$B65,FALSE)=1,1,\"-\")))","v":""},{"$f":"IF($C104=\"\",\"\",IF(VLOOKUP($C104,Go_Flag,Database!U$44,FALSE)=\"\",\"-\",IF(HLOOKUP(Industry_Segment,Industry_Golive,Database!$B65,FALSE)=1,1,\"-\")))","v":""},{"$f":"IF($C104=\"\",\"\",IF(VLOOKUP($C104,Go_Flag,Database!V$44,FALSE)=\"\",\"-\",IF(HLOOKUP(Industry_Segment,Industry_Golive,Database!$B65,FALSE)=1,1,\"-\")))","v":""},{"$f":"IF($C104=\"\",\"\",IF(VLOOKUP($C104,Go_Flag,Database!W$44,FALSE)=\"\",\"-\",IF(HLOOKUP(Industry_Segment,Industry_Golive,Database!$B65,FALSE)=1,1,\"-\")))","v":""},{"$f":"IF($C104=\"\",\"\",IF(VLOOKUP($C104,Go_Flag,Database!X$44,FALSE)=\"\",\"-\",IF(HLOOKUP(Industry_Segment,Industry_Golive,Database!$B65,FALSE)=1,1,\"-\")))","v":""},{"$f":"IF($C104=\"\",\"\",IF(VLOOKUP($C104,Go_Flag,Database!Y$44,FALSE)=\"\",\"-\",IF(HLOOKUP(Industry_Segment,Industry_Golive,Database!$B65,FALSE)=1,1,\"-\")))","v":""},{"$f":"IF($C104=\"\",\"\",IF(VLOOKUP($C104,Go_Flag,Database!Z$44,FALSE)=\"\",\"-\",IF(HLOOKUP(Industry_Segment,Industry_Golive,Database!$B65,FALSE)=1,1,\"-\")))","v":""},null,{"$f":"IF($C104=\"\",\"\",IF(VLOOKUP($C104,Go_Flag,Database!AA$44,FALSE)=\"\",\"-\",IF(HLOOKUP(Industry_Segment,Industry_Golive,Database!$B65,FALSE)=1,1,\"-\")))","v":""},null,{"$f":"IF($C104=\"\",\"\",IF(VLOOKUP($C104,Go_Flag,Database!AB$44,FALSE)=\"\",\"-\",IF(HLOOKUP(Industry_Segment,Industry_Golive,Database!$B65,FALSE)=1,1,\"-\")))","v":""},null,{"$f":"IF($C104=\"\",\"\",IF(VLOOKUP($C104,Go_Flag,Database!AC$44,FALSE)=\"\",\"-\",IF(HLOOKUP(Industry_Segment,Industry_Golive,Database!$B65,FALSE)=1,1,\"-\")))","v":""}]
[null,null,{"$f":"IF(Database!C67=\"\",\"\",Database!C67)","v":""},{"$f":"IF($C105=\"\",\"\",IF(VLOOKUP($C105,Go_Flag,Database!R$44,FALSE)=\"\",\"-\",IF(HLOOKUP(Industry_Segment,Industry_Golive,Database!$B66,FALSE)=1,1,\"-\")))","v":""},{"$f":"IF($C105=\"\",\"\",IF(VLOOKUP($C105,Go_Flag,Database!S$44,FALSE)=\"\",\"-\",IF(HLOOKUP(Industry_Segment,Industry_Golive,Database!$B66,FALSE)=1,1,\"-\")))","v":""},{"$f":"IF($C105=\"\",\"\",IF(VLOOKUP($C105,Go_Flag,Database!T$44,FALSE)=\"\",\"-\",IF(HLOOKUP(Industry_Segment,Industry_Golive,Database!$B66,FALSE)=1,1,\"-\")))","v":""},{"$f":"IF($C105=\"\",\"\",IF(VLOOKUP($C105,Go_Flag,Database!U$44,FALSE)=\"\",\"-\",IF(HLOOKUP(Industry_Segment,Industry_Golive,Database!$B66,FALSE)=1,1,\"-\")))","v":""},{"$f":"IF($C105=\"\",\"\",IF(VLOOKUP($C105,Go_Flag,Database!V$44,FALSE)=\"\",\"-\",IF(HLOOKUP(Industry_Segment,Industry_Golive,Database!$B66,FALSE)=1,1,\"-\")))","v":""},{"$f":"IF($C105=\"\",\"\",IF(VLOOKUP($C105,Go_Flag,Database!W$44,FALSE)=\"\",\"-\",IF(HLOOKUP(Industry_Segment,Industry_Golive,Database!$B66,FALSE)=1,1,\"-\")))","v":""},{"$f":"IF($C105=\"\",\"\",IF(VLOOKUP($C105,Go_Flag,Database!X$44,FALSE)=\"\",\"-\",IF(HLOOKUP(Industry_Segment,Industry_Golive,Database!$B66,FALSE)=1,1,\"-\")))","v":""},{"$f":"IF($C105=\"\",\"\",IF(VLOOKUP($C105,Go_Flag,Database!Y$44,FALSE)=\"\",\"-\",IF(HLOOKUP(Industry_Segment,Industry_Golive,Database!$B66,FALSE)=1,1,\"-\")))","v":""},{"$f":"IF($C105=\"\",\"\",IF(VLOOKUP($C105,Go_Flag,Database!Z$44,FALSE)=\"\",\"-\",IF(HLOOKUP(Industry_Segment,Industry_Golive,Database!$B66,FALSE)=1,1,\"-\")))","v":""},null,{"$f":"IF($C105=\"\",\"\",IF(VLOOKUP($C105,Go_Flag,Database!AA$44,FALSE)=\"\",\"-\",IF(HLOOKUP(Industry_Segment,Industry_Golive,Database!$B66,FALSE)=1,1,\"-\")))","v":""},null,{"$f":"IF($C105=\"\",\"\",IF(VLOOKUP($C105,Go_Flag,Database!AB$44,FALSE)=\"\",\"-\",IF(HLOOKUP(Industry_Segment,Industry_Golive,Database!$B66,FALSE)=1,1,\"-\")))","v":""},null,{"$f":"IF($C105=\"\",\"\",IF(VLOOKUP($C105,Go_Flag,Database!AC$44,FALSE)=\"\",\"-\",IF(HLOOKUP(Industry_Segment,Industry_Golive,Database!$B66,FALSE)=1,1,\"-\")))","v":""}]
[]
[null,null,"Policy / Rules Development - Anticipated Initiatives",{"$f":"Start_Yr","v":2025},null,null,null,{"$f":"D107+1","v":2026},null,null,null,{"$f":"H107+1","v":2027}]
[null,null,null,{"$f":"Start_Qtr","v":"Q1"},{"$f":"IF(D108=\"Q4\",\"Q1\",\"Q\"&(RIGHT(D108,1)+1))","v":"Q2"},{"$f":"IF(E108=\"Q4\",\"Q1\",\"Q\"&(RIGHT(E108,1)+1))","v":"Q3"},"Q4","Q1","Q2","Q3","Q4",{"$f":"IF(K108=\"Q4\",\"Q1\",\"Q\"&(RIGHT(K108,1)+1))","v":"Q1"},null,{"$f":"IF(L108=\"Q4\",\"Q1\",\"Q\"&(RIGHT(L108,1)+1))","v":"Q2"},null,{"$f":"IF(N108=\"Q4\",\"Q1\",\"Q\"&(RIGHT(N108,1)+1))","v":"Q3"},null,{"$f":"IF(P108=\"Q4\",\"Q1\",\"Q\"&(RIGHT(P108,1)+1))","v":"Q4"}]
[null,null,"Rule Change / Policy Development - Final Determination Count",{"$f":"SUM(Database!R298:R317)","v":0},{"$f":"SUM(Database!S298:S317)","v":0},{"$f":"SUM(Database!T298:T317)","v":1},{"$f":"SUM(Database!U298:U317)","v":0},{"$f":"SUM(Database!V298:V317)","v":0},{"$f":"SUM(Database!W298:W317)","v":0},{"$f":"SUM(Database!X298:X317)","v":0},{"$f":"SUM(Database!Y298:Y317)","v":0},{"$f":"SUM(Database!Z298:Z317)","v":0},null,{"$f":"SUM(Database!AA298:AA317)","v":0},null,{"$f":"SUM(Database!AB298:AB317)","v":0},null,{"$f":"SUM(Database!AC298:AC317)","v":0}]
[]
[null,null,"Participant Impact Assessment"]
[]
[null,null,"The Participant Impact Assessment dashboard allows Participants and wider stakeholders to understand the level of impact across their business at any point in time throughout the Program, and across delivery phases."]
[]
[null,null,"User selections è","Select participant type è",null,"AEMO",null,"Assess procedures by count or impact è",null,"Impact",null,"Assess mandatory initiatives only è",null,null,null,"No"]
[]
[]
[null,null,"Implementations Step - Inflight (I) & Anticipated (A) Initiatives",{"$f":"Start_Yr","v":2025},null,null,null,{"$f":"D118+1","v":2026},null,null,null,{"$f":"H118+1","v":2027}]
[null,null,null,{"$f":"Start_Qtr","v":"Q1"},{"$f":"IF(D119=\"Q4\",\"Q1\",\"Q\"&(RIGHT(D119,1)+1))","v":"Q2"},{"$f":"IF(E119=\"Q4\",\"Q1\",\"Q\"&(RIGHT(E119,1)+1))","v":"Q3"},"Q4","Q1","Q2","Q3","Q4",{"$f":"IF(K119=\"Q4\",\"Q1\",\"Q\"&(RIGHT(K119,1)+1))","v":"Q1"},null,{"$f":"IF(L119=\"Q4\",\"Q1\",\"Q\"&(RIGHT(L119,1)+1))","v":"Q2"},null,{"$f":"IF(N119=\"Q4\",\"Q1\",\"Q\"&(RIGHT(N119,1)+1))","v":"Q3"},null,{"$f":"IF(P119=\"Q4\",\"Q1\",\"Q\"&(RIGHT(P119,1)+1))","v":"Q4"}]
[null,null,"Procedure / Guideline Consultation",{"$f":"IF(AND(PG_Assessment=\"Count\",OR(COUNTIF(D121:D140,\"H\")>=Database!$D$27,COUNTIF(D121:D140,\"M\")>=Database!$D$28)),\"R\",IF(AND(PG_Assessment=\"Count\",OR(AND(COUNTIF(D121:D140,\"H\")>=Database!$E$27,COUNTIF(D121:D140,\"H\")<Database!$D$27),COUNTIF(D121:D140,\"M\")>=Database!$E$28,COUNTIF(D121:D140,\"L\")>=Database!$E$29)),\"A\",IF(AND(PG_Assessment=\"Impact\",OR(COUNTIF(D121:D140,\"H\")>=Database!$D$27,COUNTIF(D121:D140,\"M\")>=Database!$D$28)),\"R\",IF(AND(PG_Assessment=\"Impact\",OR(AND(COUNTIF(D121:D140,\"H\")>=Database!$E$27,COUNTIF(D121:D140,\"H\")<Database!$D$27),COUNTIF(D121:D140,\"M\")>=Database!$E$28,COUNTIF(D121:D140,\"L\")>=Database!$E$29)),\"A\",\"G\"))))","v":"A"},{"$f":"IF(AND(PG_Assessment=\"Count\",OR(COUNTIF(E121:E140,\"H\")>=Database!$D$27,COUNTIF(E121:E140,\"M\")>=Database!$D$28)),\"R\",IF(AND(PG_Assessment=\"Count\",OR(AND(COUNTIF(E121:E140,\"H\")>=Database!$E$27,COUNTIF(E121:E140,\"H\")<Database!$D$27),COUNTIF(E121:E140,\"M\")>=Database!$E$28,COUNTIF(E121:E140,\"L\")>=Database!$E$29)),\"A\",IF(AND(PG_Assessment=\"Impact\",OR(COUNTIF(E121:E140,\"H\")>=Database!$D$27,COUNTIF(E121:E140,\"M\")>=Database!$D$28)),\"R\",IF(AND(PG_Assessment=\"Impact\",OR(AND(COUNTIF(E121:E140,\"H\")>=Database!$E$27,COUNTIF(E121:E140,\"H\")<Database!$D$27),COUNTIF(E121:E140,\"M\")>=Database!$E$28,COUNTIF(E121:E140,\"L\")>=Database!$E$29)),\"A\",\"G\"))))","v":"A"},{"$f":"IF(AND(PG_Assessment=\"Count\",OR(COUNTIF(F121:F140,\"H\")>=Database!$D$27,COUNTIF(F121:F140,\"M\")>=Database!$D$28)),\"R\",IF(AND(PG_Assessment=\"Count\",OR(AND(COUNTIF(F121:F140,\"H\")>=Database!$E$27,COUNTIF(F121:F140,\"H\")<Database!$D$27),COUNTIF(F121:F140,\"M\")>=Database!$E$28,COUNTIF(F121:F140,\"L\")>=Database!$E$29)),\"A\",IF(AND(PG_Assessment=\"Impact\",OR(COUNTIF(F121:F140,\"H\")>=Database!$D$27,COUNTIF(F121:F140,\"M\")>=Database!$D$28)),\"R\",IF(AND(PG_Assessment=\"Impact\",OR(AND(COUNTIF(F121:F140,\"H\")>=Database!$E$27,COUNTIF(F121:F140,\"H\")<Database!$D$27),COUNTIF(F121:F140,\"M\")>=Database!$E$28,COUNTIF(F121:F140,\"L\")>=Database!$E$29)),\"A\",\"G\"))))","v":"A"},{"$f":"IF(AND(PG_Assessment=\"Count\",OR(COUNTIF(G121:G140,\"H\")>=Database!$D$27,COUNTIF(G121:G140,\"M\")>=Database!$D$28)),\"R\",IF(AND(PG_Assessment=\"Count\",OR(AND(COUNTIF(G121:G140,\"H\")>=Database!$E$27,COUNTIF(G121:G140,\"H\")<Database!$D$27),COUNTIF(G121:G140,\"M\")>=Database!$E$28,COUNTIF(G121:G140,\"L\")>=Database!$E$29)),\"A\",IF(AND(PG_Assessment=\"Impact\",OR(COUNTIF(G121:G140,\"H\")>=Database!$D$27,COUNTIF(G121:G140,\"M\")>=Database!$D$28)),\"R\",IF(AND(PG_Assessment=\"Impact\",OR(AND(COUNTIF(G121:G140,\"H\")>=Database!$E$27,COUNTIF(G121:G140,\"H\")<Database!$D$27),COUNTIF(G121:G140,\"M\")>=Database!$E$28,COUNTIF(G121:G140,\"L\")>=Database!$E$29)),\"A\",\"G\"))))","v":"A"},{"$f":"IF(AND(PG_Assessment=\"Count\",OR(COUNTIF(H121:H140,\"H\")>=Database!$D$27,COUNTIF(H121:H140,\"M\")>=Database!$D$28)),\"R\",IF(AND(PG_Assessment=\"Count\",OR(AND(COUNTIF(H121:H140,\"H\")>=Database!$E$27,COUNTIF(H121:H140,\"H\")<Database!$D$27),COUNTIF(H121:H140,\"M\")>=Database!$E$28,COUNTIF(H121:H140,\"L\")>=Database!$E$29)),\"A\",IF(AND(PG_Assessment=\"Impact\",OR(COUNTIF(H121:H140,\"H\")>=Database!$D$27,COUNTIF(H121:H140,\"M\")>=Database!$D$28)),\"R\",IF(AND(PG_Assessment=\"Impact\",OR(AND(COUNTIF(H121:H140,\"H\")>=Database!$E$27,COUNTIF(H121:H140,\"H\")<Database!$D$27),COUNTIF(H121:H140,\"M\")>=Database!$E$28,COUNTIF(H121:H140,\"L\")>=Database!$E$29)),\"A\",\"G\"))))","v":"G"},{"$f":"IF(AND(PG_Assessment=\"Count\",OR(COUNTIF(I121:I140,\"H\")>=Database!$D$27,COUNTIF(I121:I140,\"M\")>=Database!$D$28)),\"R\",IF(AND(PG_Assessment=\"Count\",OR(AND(COUNTIF(I121:I140,\"H\")>=Database!$E$27,COUNTIF(I121:I140,\"H\")<Database!$D$27),COUNTIF(I121:I140,\"M\")>=Database!$E$28,COUNTIF(I121:I140,\"L\")>=Database!$E$29)),\"A\",IF(AND(PG_Assessment=\"Impact\",OR(COUNTIF(I121:I140,\"H\")>=Database!$D$27,COUNTIF(I121:I140,\"M\")>=Database!$D$28)),\"R\",IF(AND(PG_Assessment=\"Impact\",OR(AND(COUNTIF(I121:I140,\"H\")>=Database!$E$27,COUNTIF(I121:I140,\"H\")<Database!$D$27),COUNTIF(I121:I140,\"M\")>=Database!$E$28,COUNTIF(I121:I140,\"L\")>=Database!$E$29)),\"A\",\"G\"))))","v":"G"},{"$f":"IF(AND(PG_Assessment=\"Count\",OR(COUNTIF(J121:J140,\"H\")>=Database!$D$27,COUNTIF(J121:J140,\"M\")>=Database!$D$28)),\"R\",IF(AND(PG_Assessment=\"Count\",OR(AND(COUNTIF(J121:J140,\"H\")>=Database!$E$27,COUNTIF(J121:J140,\"H\")<Database!$D$27),COUNTIF(J121:J140,\"M\")>=Database!$E$28,COUNTIF(J121:J140,\"L\")>=Database!$E$29)),\"A\",IF(AND(PG_Assessment=\"Impact\",OR(COUNTIF(J121:J140,\"H\")>=Database!$D$27,COUNTIF(J121:J140,\"M\")>=Database!$D$28)),\"R\",IF(AND(PG_Assessment=\"Impact\",OR(AND(COUNTIF(J121:J140,\"H\")>=Database!$E$27,COUNTIF(J121:J140,\"H\")<Database!$D$27),COUNTIF(J121:J140,\"M\")>=Database!$E$28,COUNTIF(J121:J140,\"L\")>=Database!$E$29)),\"A\",\"G\"))))","v":"G"},{"$f":"IF(AND(PG_Assessment=\"Count\",OR(COUNTIF(K121:K140,\"H\")>=Database!$D$27,COUNTIF(K121:K140,\"M\")>=Database!$D$28)),\"R\",IF(AND(PG_Assessment=\"Count\",OR(AND(COUNTIF(K121:K140,\"H\")>=Database!$E$27,COUNTIF(K121:K140,\"H\")<Database!$D$27),COUNTIF(K121:K140,\"M\")>=Database!$E$28,COUNTIF(K121:K140,\"L\")>=Database!$E$29)),\"A\",IF(AND(PG_Assessment=\"Impact\",OR(COUNTIF(K121:K140,\"H\")>=Database!$D$27,COUNTIF(K121:K140,\"M\")>=Database!$D$28)),\"R\",IF(AND(PG_Assessment=\"Impact\",OR(AND(COUNTIF(K121:K140,\"H\")>=Database!$E$27,COUNTIF(K121:K140,\"H\")<Database!$D$27),COUNTIF(K121:K140,\"M\")>=Database!$E$28,COUNTIF(K121:K140,\"L\")>=Database!$E$29)),\"A\",\"G\"))))","v":"G"},{"$f":"IF(AND(PG_Assessment=\"Count\",OR(COUNTIF(L121:M140,\"H\")>=Database!$D$27,COUNTIF(L121:M140,\"M\")>=Database!$D$28)),\"R\",IF(AND(PG_Assessment=\"Count\",OR(AND(COUNTIF(L121:M140,\"H\")>=Database!$E$27,COUNTIF(L121:M140,\"H\")<Database!$D$27),COUNTIF(L121:M140,\"M\")>=Database!$E$28,COUNTIF(L121:M140,\"L\")>=Database!$E$29)),\"A\",IF(AND(PG_Assessment=\"Impact\",OR(COUNTIF(L121:M140,\"H\")>=Database!$D$27,COUNTIF(L121:M140,\"M\")>=Database!$D$28)),\"R\",IF(AND(PG_Assessment=\"Impact\",OR(AND(COUNTIF(L121:M140,\"H\")>=Database!$E$27,COUNTIF(L121:M140,\"H\")<Database!$D$27),COUNTIF(L121:M140,\"M\")>=Database!$E$28,COUNTIF(L121:M140,\"L\")>=Database!$E$29)),\"A\",\"G\"))))","v":"G"},null,{"$f":"IF(AND(PG_Assessment=\"Count\",OR(COUNTIF(N121:O140,\"H\")>=Database!$D$27,COUNTIF(N121:O140,\"M\")>=Database!$D$28)),\"R\",IF(AND(PG_Assessment=\"Count\",OR(AND(COUNTIF(N121:O140,\"H\")>=Database!$E$27,COUNTIF(N121:O140,\"H\")<Database!$D$27),COUNTIF(N121:O140,\"M\")>=Database!$E$28,COUNTIF(N121:O140,\"L\")>=Database!$E$29)),\"A\",IF(AND(PG_Assessment=\"Impact\",OR(COUNTIF(N121:O140,\"H\")>=Database!$D$27,COUNTIF(N121:O140,\"M\")>=Database!$D$28)),\"R\",IF(AND(PG_Assessment=\"Impact\",OR(AND(COUNTIF(N121:O140,\"H\")>=Database!$E$27,COUNTIF(N121:O140,\"H\")<Database!$D$27),COUNTIF(N121:O140,\"M\")>=Database!$E$28,COUNTIF(N121:O140,\"L\")>=Database!$E$29)),\"A\",\"G\"))))","v":"G"},null,{"$f":"IF(AND(PG_Assessment=\"Count\",OR(COUNTIF(P121:Q140,\"H\")>=Database!$D$27,COUNTIF(P121:Q140,\"M\")>=Database!$D$28)),\"R\",IF(AND(PG_Assessment=\"Count\",OR(AND(COUNTIF(P121:Q140,\"H\")>=Database!$E$27,COUNTIF(P121:Q140,\"H\")<Database!$D$27),COUNTIF(P121:Q140,\"M\")>=Database!$E$28,COUNTIF(P121:Q140,\"L\")>=Database!$E$29)),\"A\",IF(AND(PG_Assessment=\"Impact\",OR(COUNTIF(P121:Q140,\"H\")>=Database!$D$27,COUNTIF(P121:Q140,\"M\")>=Database!$D$28)),\"R\",IF(AND(PG_Assessment=\"Impact\",OR(AND(COUNTIF(P121:Q140,\"H\")>=Database!$E$27,COUNTIF(P121:Q140,\"H\")<Database!$D$27),COUNTIF(P121:Q140,\"M\")>=Database!$E$28,COUNTIF(P121:Q140,\"L\")>=Database!$E$29)),\"A\",\"G\"))))","v":"G"},null,{"$f":"IF(AND(PG_Assessment=\"Count\",OR(COUNTIF(R121:S140,\"H\")>=Database!$D$27,COUNTIF(R121:S140,\"M\")>=Database!$D$28)),\"R\",IF(AND(PG_Assessment=\"Count\",OR(AND(COUNTIF(R121:S140,\"H\")>=Database!$E$27,COUNTIF(R121:S140,\"H\")<Database!$D$27),COUNTIF(R121:S140,\"M\")>=Database!$E$28,COUNTIF(R121:S140,\"L\")>=Database!$E$29)),\"A\",IF(AND(PG_Assessment=\"Impact\",OR(COUNTIF(R121:S140,\"H\")>=Database!$D$27,COUNTIF(R121:S140,\"M\")>=Database!$D$28)),\"R\",IF(AND(PG_Assessment=\"Impact\",OR(AND(COUNTIF(R121:S140,\"H\")>=Database!$E$27,COUNTIF(R121:S140,\"H\")<Database!$D$27),COUNTIF(R121:S140,\"M\")>=Database!$E$28,COUNTIF(R121:S140,\"L\")>=Database!$E$29)),\"A\",\"G\"))))","v":"G"}]
[null,null,{"$f":"IF(Database!C48=\"\",\"\",Database!C48)","v":"I - SCADA Lite"},{"$f":"IF($C121=\"\",\"\",IF(AND(VLOOKUP($C121,PG_Flag,Database!E$44,FALSE)=1,PG_Assessment=\"Count\"),HLOOKUP(Participant_Type,PG_Count,Database!$B47,FALSE),IF(AND(VLOOKUP($C121,PG_Flag,Database!E$44,FALSE)=1,PG_Assessment=\"Impact\"),HLOOKUP(Participant_Type,PG_Impact,Database!$B47,FALSE),\"-\")))","v":"L"},{"$f":"IF($C121=\"\",\"\",IF(AND(VLOOKUP($C121,PG_Flag,Database!F$44,FALSE)=1,PG_Assessment=\"Count\"),HLOOKUP(Participant_Type,PG_Count,Database!$B47,FALSE),IF(AND(VLOOKUP($C121,PG_Flag,Database!F$44,FALSE)=1,PG_Assessment=\"Impact\"),HLOOKUP(Participant_Type,PG_Impact,Database!$B47,FALSE),\"-\")))","v":"L"},{"$f":"IF($C121=\"\",\"\",IF(AND(VLOOKUP($C121,PG_Flag,Database!G$44,FALSE)=1,PG_Assessment=\"Count\"),HLOOKUP(Participant_Type,PG_Count,Database!$B47,FALSE),IF(AND(VLOOKUP($C121,PG_Flag,Database!G$44,FALSE)=1,PG_Assessment=\"Impact\"),HLOOKUP(Participant_Type,PG_Impact,Database!$B47,FALSE),\"-\")))","v":"-"},{"$f":"IF($C121=\"\",\"\",IF(AND(VLOOKUP($C121,PG_Flag,Database!H$44,FALSE)=1,PG_Assessment=\"Count\"),HLOOKUP(Participant_Type,PG_Count,Database!$B47,FALSE),IF(AND(VLOOKUP($C121,PG_Flag,Database!H$44,FALSE)=1,PG_Assessment=\"Impact\"),HLOOKUP(Participant_Type,PG_Impact,Database!$B47,FALSE),\"-\")))","v":"-"},{"$f":"IF($C121=\"\",\"\",IF(AND(VLOOKUP($C121,PG_Flag,Database!I$44,FALSE)=1,PG_Assessment=\"Count\"),HLOOKUP(Participant_Type,PG_Count,Database!$B47,FALSE),IF(AND(VLOOKUP($C121,PG_Flag,Database!I$44,FALSE)=1,PG_Assessment=\"Impact\"),HLOOKUP(Participant_Type,PG_Impact,Database!$B47,FALSE),\"-\")))","v":"-"},{"$f":"IF($C121=\"\",\"\",IF(AND(VLOOKUP($C121,PG_Flag,Database!J$44,FALSE)=1,PG_Assessment=\"Count\"),HLOOKUP(Participant_Type,PG_Count,Database!$B47,FALSE),IF(AND(VLOOKUP($C121,PG_Flag,Database!J$44,FALSE)=1,PG_Assessment=\"Impact\"),HLOOKUP(Participant_Type,PG_Impact,Database!$B47,FALSE),\"-\")))","v":"-"},{"$f":"IF($C121=\"\",\"\",IF(AND(VLOOKUP($C121,PG_Flag,Database!K$44,FALSE)=1,PG_Assessment=\"Count\"),HLOOKUP(Participant_Type,PG_Count,Database!$B47,FALSE),IF(AND(VLOOKUP($C121,PG_Flag,Database!K$44,FALSE)=1,PG_Assessment=\"Impact\"),HLOOKUP(Participant_Type,PG_Impact,Database!$B47,FALSE),\"-\")))","v":"-"},{"$f":"IF($C121=\"\",\"\",IF(AND(VLOOKUP($C121,PG_Flag,Database!L$44,FALSE)=1,PG_Assessment=\"Count\"),HLOOKUP(Participant_Type,PG_Count,Database!$B47,FALSE),IF(AND(VLOOKUP($C121,PG_Flag,Database!L$44,FALSE)=1,PG_Assessment=\"Impact\"),HLOOKUP(Participant_Type,PG_Impact,Database!$B47,FALSE),\"-\")))","v":"-"},{"$f":"IF($C121=\"\",\"\",IF(AND(VLOOKUP($C121,PG_Flag,Database!M$44,FALSE)=1,PG_Assessment=\"Count\"),HLOOKUP(Participant_Type,PG_Count,Database!$B47,FALSE),IF(AND(VLOOKUP($C121,PG_Flag,Database!L$44,FALSE)=1,PG_Assessment=\"Impact\"),HLOOKUP(Participant_Type,PG_Impact,Database!$B47,FALSE),\"-\")))","v":"-"},null,{"$f":"IF($C121=\"\",\"\",IF(AND(VLOOKUP($C121,PG_Flag,Database!N$44,FALSE)=1,PG_Assessment=\"Count\"),HLOOKUP(Participant_Type,PG_Count,Database!$B47,FALSE),IF(AND(VLOOKUP($C121,PG_Flag,Database!L$44,FALSE)=1,PG_Assessment=\"Impact\"),HLOOKUP(Participant_Type,PG_Impact,Database!$B47,FALSE),\"-\")))","v":"-"},null,{"$f":"IF($C121=\"\",\"\",IF(AND(VLOOKUP($C121,PG_Flag,Database!O$44,FALSE)=1,PG_Assessment=\"Count\"),HLOOKUP(Participant_Type,PG_Count,Database!$B47,FALSE),IF(AND(VLOOKUP($C121,PG_Flag,Database!L$44,FALSE)=1,PG_Assessment=\"Impact\"),HLOOKUP(Participant_Type,PG_Impact,Database!$B47,FALSE),\"-\")))","v":"-"},null,{"$f":"IF($C121=\"\",\"\",IF(AND(VLOOKUP($C121,PG_Flag,Database!P$44,FALSE)=1,PG_Assessment=\"Count\"),HLOOKUP(Participant_Type,PG_Count,Database!$B47,FALSE),IF(AND(VLOOKUP($C121,PG_Flag,Database!L$44,FALSE)=1,PG_Assessment=\"Impact\"),HLOOKUP(Participant_Type,PG_Impact,Database!$B47,FALSE),\"-\")))","v":"-"}]
[null,null,{"$f":"IF(Database!C49=\"\",\"\",Database!C49)","v":"I - Frequency Performance Payments"},{"$f":"IF($C122=\"\",\"\",IF(AND(VLOOKUP($C122,PG_Flag,Database!E$44,FALSE)=1,PG_Assessment=\"Count\"),HLOOKUP(Participant_Type,PG_Count,Database!$B48,FALSE),IF(AND(VLOOKUP($C122,PG_Flag,Database!E$44,FALSE)=1,PG_Assessment=\"Impact\"),HLOOKUP(Participant_Type,PG_Impact,Database!$B48,FALSE),\"-\")))","v":"-"},{"$f":"IF($C122=\"\",\"\",IF(AND(VLOOKUP($C122,PG_Flag,Database!F$44,FALSE)=1,PG_Assessment=\"Count\"),HLOOKUP(Participant_Type,PG_Count,Database!$B48,FALSE),IF(AND(VLOOKUP($C122,PG_Flag,Database!F$44,FALSE)=1,PG_Assessment=\"Impact\"),HLOOKUP(Participant_Type,PG_Impact,Database!$B48,FALSE),\"-\")))","v":"-"},{"$f":"IF($C122=\"\",\"\",IF(AND(VLOOKUP($C122,PG_Flag,Database!G$44,FALSE)=1,PG_Assessment=\"Count\"),HLOOKUP(Participant_Type,PG_Count,Database!$B48,FALSE),IF(AND(VLOOKUP($C122,PG_Flag,Database!G$44,FALSE)=1,PG_Assessment=\"Impact\"),HLOOKUP(Participant_Type,PG_Impact,Database!$B48,FALSE),\"-\")))","v":"-"},{"$f":"IF($C122=\"\",\"\",IF(AND(VLOOKUP($C122,PG_Flag,Database!H$44,FALSE)=1,PG_Assessment=\"Count\"),HLOOKUP(Participant_Type,PG_Count,Database!$B48,FALSE),IF(AND(VLOOKUP($C122,PG_Flag,Database!H$44,FALSE)=1,PG_Assessment=\"Impact\"),HLOOKUP(Participant_Type,PG_Impact,Database!$B48,FALSE),\"-\")))","v":"-"},{"$f":"IF($C122=\"\",\"\",IF(AND(VLOOKUP($C122,PG_Flag,Database!I$44,FALSE)=1,PG_Assessment=\"Count\"),HLOOKUP(Participant_Type,PG_Count,Database!$B48,FALSE),IF(AND(VLOOKUP($C122,PG_Flag,Database!I$44,FALSE)=1,PG_Assessment=\"Impact\"),HLOOKUP(Participant_Type,PG_Impact,Database!$B48,FALSE),\"-\")))","v":"-"},{"$f":"IF($C122=\"\",\"\",IF(AND(VLOOKUP($C122,PG_Flag,Database!J$44,FALSE)=1,PG_Assessment=\"Count\"),HLOOKUP(Participant_Type,PG_Count,Database!$B48,FALSE),IF(AND(VLOOKUP($C122,PG_Flag,Database!J$44,FALSE)=1,PG_Assessment=\"Impact\"),HLOOKUP(Participant_Type,PG_Impact,Database!$B48,FALSE),\"-\")))","v":"-"},{"$f":"IF($C122=\"\",\"\",IF(AND(VLOOKUP($C122,PG_Flag,Database!K$44,FALSE)=1,PG_Assessment=\"Count\"),HLOOKUP(Participant_Type,PG_Count,Database!$B48,FALSE),IF(AND(VLOOKUP($C122,PG_Flag,Database!K$44,FALSE)=1,PG_Assessment=\"Impact\"),HLOOKUP(Participant_Type,PG_Impact,Database!$B48,FALSE),\"-\")))","v":"-"},{"$f":"IF($C122=\"\",\"\",IF(AND(VLOOKUP($C122,PG_Flag,Database!L$44,FALSE)=1,PG_Assessment=\"Count\"),HLOOKUP(Participant_Type,PG_Count,Database!$B48,FALSE),IF(AND(VLOOKUP($C122,PG_Flag,Database!L$44,FALSE)=1,PG_Assessment=\"Impact\"),HLOOKUP(Participant_Type,PG_Impact,Database!$B48,FALSE),\"-\")))","v":"-"},{"$f":"IF($C122=\"\",\"\",IF(AND(VLOOKUP($C122,PG_Flag,Database!M$44,FALSE)=1,PG_Assessment=\"Count\"),HLOOKUP(Participant_Type,PG_Count,Database!$B48,FALSE),IF(AND(VLOOKUP($C122,PG_Flag,Database!L$44,FALSE)=1,PG_Assessment=\"Impact\"),HLOOKUP(Participant_Type,PG_Impact,Database!$B48,FALSE),\"-\")))","v":"-"},null,{"$f":"IF($C122=\"\",\"\",IF(AND(VLOOKUP($C122,PG_Flag,Database!N$44,FALSE)=1,PG_Assessment=\"Count\"),HLOOKUP(Participant_Type,PG_Count,Database!$B48,FALSE),IF(AND(VLOOKUP($C122,PG_Flag,Database!L$44,FALSE)=1,PG_Assessment=\"Impact\"),HLOOKUP(Participant_Type,PG_Impact,Database!$B48,FALSE),\"-\")))","v":"-"},null,{"$f":"IF($C122=\"\",\"\",IF(AND(VLOOKUP($C122,PG_Flag,Database!O$44,FALSE)=1,PG_Assessment=\"Count\"),HLOOKUP(Participant_Type,PG_Count,Database!$B48,FALSE),IF(AND(VLOOKUP($C122,PG_Flag,Database!L$44,FALSE)=1,PG_Assessment=\"Impact\"),HLOOKUP(Participant_Type,PG_Impact,Database!$B48,FALSE),\"-\")))","v":"-"},null,{"$f":"IF($C122=\"\",\"\",IF(AND(VLOOKUP($C122,PG_Flag,Database!P$44,FALSE)=1,PG_Assessment=\"Count\"),HLOOKUP(Participant_Type,PG_Count,Database!$B48,FALSE),IF(AND(VLOOKUP($C122,PG_Flag,Database!L$44,FALSE)=1,PG_Assessment=\"Impact\"),HLOOKUP(Participant_Type,PG_Impact,Database!$B48,FALSE),\"-\")))","v":"-"}]
[null,null,{"$f":"IF(Database!C50=\"\",\"\",Database!C50)","v":"I - Enhancing Reserve Information"},{"$f":"IF($C123=\"\",\"\",IF(AND(VLOOKUP($C123,PG_Flag,Database!E$44,FALSE)=1,PG_Assessment=\"Count\"),HLOOKUP(Participant_Type,PG_Count,Database!$B49,FALSE),IF(AND(VLOOKUP($C123,PG_Flag,Database!E$44,FALSE)=1,PG_Assessment=\"Impact\"),HLOOKUP(Participant_Type,PG_Impact,Database!$B49,FALSE),\"-\")))","v":"L"},{"$f":"IF($C123=\"\",\"\",IF(AND(VLOOKUP($C123,PG_Flag,Database!F$44,FALSE)=1,PG_Assessment=\"Count\"),HLOOKUP(Participant_Type,PG_Count,Database!$B49,FALSE),IF(AND(VLOOKUP($C123,PG_Flag,Database!F$44,FALSE)=1,PG_Assessment=\"Impact\"),HLOOKUP(Participant_Type,PG_Impact,Database!$B49,FALSE),\"-\")))","v":"L"},{"$f":"IF($C123=\"\",\"\",IF(AND(VLOOKUP($C123,PG_Flag,Database!G$44,FALSE)=1,PG_Assessment=\"Count\"),HLOOKUP(Participant_Type,PG_Count,Database!$B49,FALSE),IF(AND(VLOOKUP($C123,PG_Flag,Database!G$44,FALSE)=1,PG_Assessment=\"Impact\"),HLOOKUP(Participant_Type,PG_Impact,Database!$B49,FALSE),\"-\")))","v":"L"},{"$f":"IF($C123=\"\",\"\",IF(AND(VLOOKUP($C123,PG_Flag,Database!H$44,FALSE)=1,PG_Assessment=\"Count\"),HLOOKUP(Participant_Type,PG_Count,Database!$B49,FALSE),IF(AND(VLOOKUP($C123,PG_Flag,Database!H$44,FALSE)=1,PG_Assessment=\"Impact\"),HLOOKUP(Participant_Type,PG_Impact,Database!$B49,FALSE),\"-\")))","v":"-"},{"$f":"IF($C123=\"\",\"\",IF(AND(VLOOKUP($C123,PG_Flag,Database!I$44,FALSE)=1,PG_Assessment=\"Count\"),HLOOKUP(Participant_Type,PG_Count,Database!$B49,FALSE),IF(AND(VLOOKUP($C123,PG_Flag,Database!I$44,FALSE)=1,PG_Assessment=\"Impact\"),HLOOKUP(Participant_Type,PG_Impact,Database!$B49,FALSE),\"-\")))","v":"-"},{"$f":"IF($C123=\"\",\"\",IF(AND(VLOOKUP($C123,PG_Flag,Database!J$44,FALSE)=1,PG_Assessment=\"Count\"),HLOOKUP(Participant_Type,PG_Count,Database!$B49,FALSE),IF(AND(VLOOKUP($C123,PG_Flag,Database!J$44,FALSE)=1,PG_Assessment=\"Impact\"),HLOOKUP(Participant_Type,PG_Impact,Database!$B49,FALSE),\"-\")))","v":"-"},{"$f":"IF($C123=\"\",\"\",IF(AND(VLOOKUP($C123,PG_Flag,Database!K$44,FALSE)=1,PG_Assessment=\"Count\"),HLOOKUP(Participant_Type,PG_Count,Database!$B49,FALSE),IF(AND(VLOOKUP($C123,PG_Flag,Database!K$44,FALSE)=1,PG_Assessment=\"Impact\"),HLOOKUP(Participant_Type,PG_Impact,Database!$B49,FALSE),\"-\")))","v":"-"},{"$f":"IF($C123=\"\",\"\",IF(AND(VLOOKUP($C123,PG_Flag,Database!L$44,FALSE)=1,PG_Assessment=\"Count\"),HLOOKUP(Participant_Type,PG_Count,Database!$B49,FALSE),IF(AND(VLOOKUP($C123,PG_Flag,Database!L$44,FALSE)=1,PG_Assessment=\"Impact\"),HLOOKUP(Participant_Type,PG_Impact,Database!$B49,FALSE),\"-\")))","v":"-"},{"$f":"IF($C123=\"\",\"\",IF(AND(VLOOKUP($C123,PG_Flag,Database!M$44,FALSE)=1,PG_Assessment=\"Count\"),HLOOKUP(Participant_Type,PG_Count,Database!$B49,FALSE),IF(AND(VLOOKUP($C123,PG_Flag,Database!L$44,FALSE)=1,PG_Assessment=\"Impact\"),HLOOKUP(Participant_Type,PG_Impact,Database!$B49,FALSE),\"-\")))","v":"-"},null,{"$f":"IF($C123=\"\",\"\",IF(AND(VLOOKUP($C123,PG_Flag,Database!N$44,FALSE)=1,PG_Assessment=\"Count\"),HLOOKUP(Participant_Type,PG_Count,Database!$B49,FALSE),IF(AND(VLOOKUP($C123,PG_Flag,Database!L$44,FALSE)=1,PG_Assessment=\"Impact\"),HLOOKUP(Participant_Type,PG_Impact,Database!$B49,FALSE),\"-\")))","v":"-"},null,{"$f":"IF($C123=\"\",\"\",IF(AND(VLOOKUP($C123,PG_Flag,Database!O$44,FALSE)=1,PG_Assessment=\"Count\"),HLOOKUP(Participant_Type,PG_Count,Database!$B49,FALSE),IF(AND(VLOOKUP($C123,PG_Flag,Database!L$44,FALSE)=1,PG_Assessment=\"Impact\"),HLOOKUP(Participant_Type,PG_Impact,Database!$B49,FALSE),\"-\")))","v":"-"},null,{"$f":"IF($C123=\"\",\"\",IF(AND(VLOOKUP($C123,PG_Flag,Database!P$44,FALSE)=1,PG_Assessment=\"Count\"),HLOOKUP(Participant_Type,PG_Count,Database!$B49,FALSE),IF(AND(VLOOKUP($C123,PG_Flag,Database!L$44,FALSE)=1,PG_Assessment=\"Impact\"),HLOOKUP(Participant_Type,PG_Impact,Database!$B49,FALSE),\"-\")))","v":"-"}]
[null,null,{"$f":"IF(Database!C51=\"\",\"\",Database!C51)","v":"I - ST PASA Procedure & Recall Period"},{"$f":"IF($C124=\"\",\"\",IF(AND(VLOOKUP($C124,PG_Flag,Database!E$44,FALSE)=1,PG_Assessment=\"Count\"),HLOOKUP(Participant_Type,PG_Count,Database!$B50,FALSE),IF(AND(VLOOKUP($C124,PG_Flag,Database!E$44,FALSE)=1,PG_Assessment=\"Impact\"),HLOOKUP(Participant_Type,PG_Impact,Database!$B50,FALSE),\"-\")))","v":"L"},{"$f":"IF($C124=\"\",\"\",IF(AND(VLOOKUP($C124,PG_Flag,Database!F$44,FALSE)=1,PG_Assessment=\"Count\"),HLOOKUP(Participant_Type,PG_Count,Database!$B50,FALSE),IF(AND(VLOOKUP($C124,PG_Flag,Database!F$44,FALSE)=1,PG_Assessment=\"Impact\"),HLOOKUP(Participant_Type,PG_Impact,Database!$B50,FALSE),\"-\")))","v":"L"},{"$f":"IF($C124=\"\",\"\",IF(AND(VLOOKUP($C124,PG_Flag,Database!G$44,FALSE)=1,PG_Assessment=\"Count\"),HLOOKUP(Participant_Type,PG_Count,Database!$B50,FALSE),IF(AND(VLOOKUP($C124,PG_Flag,Database!G$44,FALSE)=1,PG_Assessment=\"Impact\"),HLOOKUP(Participant_Type,PG_Impact,Database!$B50,FALSE),\"-\")))","v":"L"},{"$f":"IF($C124=\"\",\"\",IF(AND(VLOOKUP($C124,PG_Flag,Database!H$44,FALSE)=1,PG_Assessment=\"Count\"),HLOOKUP(Participant_Type,PG_Count,Database!$B50,FALSE),IF(AND(VLOOKUP($C124,PG_Flag,Database!H$44,FALSE)=1,PG_Assessment=\"Impact\"),HLOOKUP(Participant_Type,PG_Impact,Database!$B50,FALSE),\"-\")))","v":"-"},{"$f":"IF($C124=\"\",\"\",IF(AND(VLOOKUP($C124,PG_Flag,Database!I$44,FALSE)=1,PG_Assessment=\"Count\"),HLOOKUP(Participant_Type,PG_Count,Database!$B50,FALSE),IF(AND(VLOOKUP($C124,PG_Flag,Database!I$44,FALSE)=1,PG_Assessment=\"Impact\"),HLOOKUP(Participant_Type,PG_Impact,Database!$B50,FALSE),\"-\")))","v":"-"},{"$f":"IF($C124=\"\",\"\",IF(AND(VLOOKUP($C124,PG_Flag,Database!J$44,FALSE)=1,PG_Assessment=\"Count\"),HLOOKUP(Participant_Type,PG_Count,Database!$B50,FALSE),IF(AND(VLOOKUP($C124,PG_Flag,Database!J$44,FALSE)=1,PG_Assessment=\"Impact\"),HLOOKUP(Participant_Type,PG_Impact,Database!$B50,FALSE),\"-\")))","v":"-"},{"$f":"IF($C124=\"\",\"\",IF(AND(VLOOKUP($C124,PG_Flag,Database!K$44,FALSE)=1,PG_Assessment=\"Count\"),HLOOKUP(Participant_Type,PG_Count,Database!$B50,FALSE),IF(AND(VLOOKUP($C124,PG_Flag,Database!K$44,FALSE)=1,PG_Assessment=\"Impact\"),HLOOKUP(Participant_Type,PG_Impact,Database!$B50,FALSE),\"-\")))","v":"-"},{"$f":"IF($C124=\"\",\"\",IF(AND(VLOOKUP($C124,PG_Flag,Database!L$44,FALSE)=1,PG_Assessment=\"Count\"),HLOOKUP(Participant_Type,PG_Count,Database!$B50,FALSE),IF(AND(VLOOKUP($C124,PG_Flag,Database!L$44,FALSE)=1,PG_Assessment=\"Impact\"),HLOOKUP(Participant_Type,PG_Impact,Database!$B50,FALSE),\"-\")))","v":"-"},{"$f":"IF($C124=\"\",\"\",IF(AND(VLOOKUP($C124,PG_Flag,Database!M$44,FALSE)=1,PG_Assessment=\"Count\"),HLOOKUP(Participant_Type,PG_Count,Database!$B50,FALSE),IF(AND(VLOOKUP($C124,PG_Flag,Database!L$44,FALSE)=1,PG_Assessment=\"Impact\"),HLOOKUP(Participant_Type,PG_Impact,Database!$B50,FALSE),\"-\")))","v":"-"},null,{"$f":"IF($C124=\"\",\"\",IF(AND(VLOOKUP($C124,PG_Flag,Database!N$44,FALSE)=1,PG_Assessment=\"Count\"),HLOOKUP(Participant_Type,PG_Count,Database!$B50,FALSE),IF(AND(VLOOKUP($C124,PG_Flag,Database!L$44,FALSE)=1,PG_Assessment=\"Impact\"),HLOOKUP(Participant_Type,PG_Impact,Database!$B50,FALSE),\"-\")))","v":"-"},null,{"$f":"IF($C124=\"\",\"\",IF(AND(VLOOKUP($C124,PG_Flag,Database!O$44,FALSE)=1,PG_Assessment=\"Count\"),HLOOKUP(Participant_Type,PG_Count,Database!$B50,FALSE),IF(AND(VLOOKUP($C124,PG_Flag,Database!L$44,FALSE)=1,PG_Assessment=\"Impact\"),HLOOKUP(Participant_Type,PG_Impact,Database!$B50,FALSE),\"-\")))","v":"-"},null,{"$f":"IF($C124=\"\",\"\",IF(AND(VLOOKUP($C124,PG_Flag,Database!P$44,FALSE)=1,PG_Assessment=\"Count\"),HLOOKUP(Participant_Type,PG_Count,Database!$B50,FALSE),IF(AND(VLOOKUP($C124,PG_Flag,Database!L$44,FALSE)=1,PG_Assessment=\"Impact\"),HLOOKUP(Participant_Type,PG_Impact,Database!$B50,FALSE),\"-\")))","v":"-"}]
[null,null,{"$f":"IF(Database!C52=\"\",\"\",Database!C52)","v":"I - Improving Security Frameworks"},{"$f":"IF($C125=\"\",\"\",IF(AND(VLOOKUP($C125,PG_Flag,Database!E$44,FALSE)=1,PG_Assessment=\"Count\"),HLOOKUP(Participant_Type,PG_Count,Database!$B51,FALSE),IF(AND(VLOOKUP($C125,PG_Flag,Database!E$44,FALSE)=1,PG_Assessment=\"Impact\"),HLOOKUP(Participant_Type,PG_Impact,Database!$B51,FALSE),\"-\")))","v":"H"},{"$f":"IF($C125=\"\",\"\",IF(AND(VLOOKUP($C125,PG_Flag,Database!F$44,FALSE)=1,PG_Assessment=\"Count\"),HLOOKUP(Participant_Type,PG_Count,Database!$B51,FALSE),IF(AND(VLOOKUP($C125,PG_Flag,Database!F$44,FALSE)=1,PG_Assessment=\"Impact\"),HLOOKUP(Participant_Type,PG_Impact,Database!$B51,FALSE),\"-\")))","v":"H"},{"$f":"IF($C125=\"\",\"\",IF(AND(VLOOKUP($C125,PG_Flag,Database!G$44,FALSE)=1,PG_Assessment=\"Count\"),HLOOKUP(Participant_Type,PG_Count,Database!$B51,FALSE),IF(AND(VLOOKUP($C125,PG_Flag,Database!G$44,FALSE)=1,PG_Assessment=\"Impact\"),HLOOKUP(Participant_Type,PG_Impact,Database!$B51,FALSE),\"-\")))","v":"H"},{"$f":"IF($C125=\"\",\"\",IF(AND(VLOOKUP($C125,PG_Flag,Database!H$44,FALSE)=1,PG_Assessment=\"Count\"),HLOOKUP(Participant_Type,PG_Count,Database!$B51,FALSE),IF(AND(VLOOKUP($C125,PG_Flag,Database!H$44,FALSE)=1,PG_Assessment=\"Impact\"),HLOOKUP(Participant_Type,PG_Impact,Database!$B51,FALSE),\"-\")))","v":"H"},{"$f":"IF($C125=\"\",\"\",IF(AND(VLOOKUP($C125,PG_Flag,Database!I$44,FALSE)=1,PG_Assessment=\"Count\"),HLOOKUP(Participant_Type,PG_Count,Database!$B51,FALSE),IF(AND(VLOOKUP($C125,PG_Flag,Database!I$44,FALSE)=1,PG_Assessment=\"Impact\"),HLOOKUP(Participant_Type,PG_Impact,Database!$B51,FALSE),\"-\")))","v":"-"},{"$f":"IF($C125=\"\",\"\",IF(AND(VLOOKUP($C125,PG_Flag,Database!J$44,FALSE)=1,PG_Assessment=\"Count\"),HLOOKUP(Participant_Type,PG_Count,Database!$B51,FALSE),IF(AND(VLOOKUP($C125,PG_Flag,Database!J$44,FALSE)=1,PG_Assessment=\"Impact\"),HLOOKUP(Participant_Type,PG_Impact,Database!$B51,FALSE),\"-\")))","v":"-"},{"$f":"IF($C125=\"\",\"\",IF(AND(VLOOKUP($C125,PG_Flag,Database!K$44,FALSE)=1,PG_Assessment=\"Count\"),HLOOKUP(Participant_Type,PG_Count,Database!$B51,FALSE),IF(AND(VLOOKUP($C125,PG_Flag,Database!K$44,FALSE)=1,PG_Assessment=\"Impact\"),HLOOKUP(Participant_Type,PG_Impact,Database!$B51,FALSE),\"-\")))","v":"-"},{"$f":"IF($C125=\"\",\"\",IF(AND(VLOOKUP($C125,PG_Flag,Database!L$44,FALSE)=1,PG_Assessment=\"Count\"),HLOOKUP(Participant_Type,PG_Count,Database!$B51,FALSE),IF(AND(VLOOKUP($C125,PG_Flag,Database!L$44,FALSE)=1,PG_Assessment=\"Impact\"),HLOOKUP(Participant_Type,PG_Impact,Database!$B51,FALSE),\"-\")))","v":"-"},{"$f":"IF($C125=\"\",\"\",IF(AND(VLOOKUP($C125,PG_Flag,Database!M$44,FALSE)=1,PG_Assessment=\"Count\"),HLOOKUP(Participant_Type,PG_Count,Database!$B51,FALSE),IF(AND(VLOOKUP($C125,PG_Flag,Database!L$44,FALSE)=1,PG_Assessment=\"Impact\"),HLOOKUP(Participant_Type,PG_Impact,Database!$B51,FALSE),\"-\")))","v":"-"},null,{"$f":"IF($C125=\"\",\"\",IF(AND(VLOOKUP($C125,PG_Flag,Database!N$44,FALSE)=1,PG_Assessment=\"Count\"),HLOOKUP(Participant_Type,PG_Count,Database!$B51,FALSE),IF(AND(VLOOKUP($C125,PG_Flag,Database!L$44,FALSE)=1,PG_Assessment=\"Impact\"),HLOOKUP(Participant_Type,PG_Impact,Database!$B51,FALSE),\"-\")))","v":"-"},null,{"$f":"IF($C125=\"\",\"\",IF(AND(VLOOKUP($C125,PG_Flag,Database!O$44,FALSE)=1,PG_Assessment=\"Count\"),HLOOKUP(Participant_Type,PG_Count,Database!$B51,FALSE),IF(AND(VLOOKUP($C125,PG_Flag,Database!L$44,FALSE)=1,PG_Assessment=\"Impact\"),HLOOKUP(Participant_Type,PG_Impact,Database!$B51,FALSE),\"-\")))","v":"-"},null,{"$f":"IF($C125=\"\",\"\",IF(AND(VLOOKUP($C125,PG_Flag,Database!P$44,FALSE)=1,PG_Assessment=\"Count\"),HLOOKUP(Participant_Type,PG_Count,Database!$B51,FALSE),IF(AND(VLOOKUP($C125,PG_Flag,Database!L$44,FALSE)=1,PG_Assessment=\"Impact\"),HLOOKUP(Participant_Type,PG_Impact,Database!$B51,FALSE),\"-\")))","v":"-"}]
[null,null,{"$f":"IF(Database!C53=\"\",\"\",Database!C53)","v":"I - Unlocking CER Benefits Through Flexible Trading"},{"$f":"IF($C126=\"\",\"\",IF(AND(VLOOKUP($C126,PG_Flag,Database!E$44,FALSE)=1,PG_Assessment=\"Count\"),HLOOKUP(Participant_Type,PG_Count,Database!$B52,FALSE),IF(AND(VLOOKUP($C126,PG_Flag,Database!E$44,FALSE)=1,PG_Assessment=\"Impact\"),HLOOKUP(Participant_Type,PG_Impact,Database!$B52,FALSE),\"-\")))","v":"-"},{"$f":"IF($C126=\"\",\"\",IF(AND(VLOOKUP($C126,PG_Flag,Database!F$44,FALSE)=1,PG_Assessment=\"Count\"),HLOOKUP(Participant_Type,PG_Count,Database!$B52,FALSE),IF(AND(VLOOKUP($C126,PG_Flag,Database!F$44,FALSE)=1,PG_Assessment=\"Impact\"),HLOOKUP(Participant_Type,PG_Impact,Database!$B52,FALSE),\"-\")))","v":"H"},{"$f":"IF($C126=\"\",\"\",IF(AND(VLOOKUP($C126,PG_Flag,Database!G$44,FALSE)=1,PG_Assessment=\"Count\"),HLOOKUP(Participant_Type,PG_Count,Database!$B52,FALSE),IF(AND(VLOOKUP($C126,PG_Flag,Database!G$44,FALSE)=1,PG_Assessment=\"Impact\"),HLOOKUP(Participant_Type,PG_Impact,Database!$B52,FALSE),\"-\")))","v":"H"},{"$f":"IF($C126=\"\",\"\",IF(AND(VLOOKUP($C126,PG_Flag,Database!H$44,FALSE)=1,PG_Assessment=\"Count\"),HLOOKUP(Participant_Type,PG_Count,Database!$B52,FALSE),IF(AND(VLOOKUP($C126,PG_Flag,Database!H$44,FALSE)=1,PG_Assessment=\"Impact\"),HLOOKUP(Participant_Type,PG_Impact,Database!$B52,FALSE),\"-\")))","v":"H"},{"$f":"IF($C126=\"\",\"\",IF(AND(VLOOKUP($C126,PG_Flag,Database!I$44,FALSE)=1,PG_Assessment=\"Count\"),HLOOKUP(Participant_Type,PG_Count,Database!$B52,FALSE),IF(AND(VLOOKUP($C126,PG_Flag,Database!I$44,FALSE)=1,PG_Assessment=\"Impact\"),HLOOKUP(Participant_Type,PG_Impact,Database!$B52,FALSE),\"-\")))","v":"-"},{"$f":"IF($C126=\"\",\"\",IF(AND(VLOOKUP($C126,PG_Flag,Database!J$44,FALSE)=1,PG_Assessment=\"Count\"),HLOOKUP(Participant_Type,PG_Count,Database!$B52,FALSE),IF(AND(VLOOKUP($C126,PG_Flag,Database!J$44,FALSE)=1,PG_Assessment=\"Impact\"),HLOOKUP(Participant_Type,PG_Impact,Database!$B52,FALSE),\"-\")))","v":"-"},{"$f":"IF($C126=\"\",\"\",IF(AND(VLOOKUP($C126,PG_Flag,Database!K$44,FALSE)=1,PG_Assessment=\"Count\"),HLOOKUP(Participant_Type,PG_Count,Database!$B52,FALSE),IF(AND(VLOOKUP($C126,PG_Flag,Database!K$44,FALSE)=1,PG_Assessment=\"Impact\"),HLOOKUP(Participant_Type,PG_Impact,Database!$B52,FALSE),\"-\")))","v":"-"},{"$f":"IF($C126=\"\",\"\",IF(AND(VLOOKUP($C126,PG_Flag,Database!L$44,FALSE)=1,PG_Assessment=\"Count\"),HLOOKUP(Participant_Type,PG_Count,Database!$B52,FALSE),IF(AND(VLOOKUP($C126,PG_Flag,Database!L$44,FALSE)=1,PG_Assessment=\"Impact\"),HLOOKUP(Participant_Type,PG_Impact,Database!$B52,FALSE),\"-\")))","v":"-"},{"$f":"IF($C126=\"\",\"\",IF(AND(VLOOKUP($C126,PG_Flag,Database!M$44,FALSE)=1,PG_Assessment=\"Count\"),HLOOKUP(Participant_Type,PG_Count,Database!$B52,FALSE),IF(AND(VLOOKUP($C126,PG_Flag,Database!L$44,FALSE)=1,PG_Assessment=\"Impact\"),HLOOKUP(Participant_Type,PG_Impact,Database!$B52,FALSE),\"-\")))","v":"-"},null,{"$f":"IF($C126=\"\",\"\",IF(AND(VLOOKUP($C126,PG_Flag,Database!N$44,FALSE)=1,PG_Assessment=\"Count\"),HLOOKUP(Participant_Type,PG_Count,Database!$B52,FALSE),IF(AND(VLOOKUP($C126,PG_Flag,Database!L$44,FALSE)=1,PG_Assessment=\"Impact\"),HLOOKUP(Participant_Type,PG_Impact,Database!$B52,FALSE),\"-\")))","v":"-"},null,{"$f":"IF($C126=\"\",\"\",IF(AND(VLOOKUP($C126,PG_Flag,Database!O$44,FALSE)=1,PG_Assessment=\"Count\"),HLOOKUP(Participant_Type,PG_Count,Database!$B52,FALSE),IF(AND(VLOOKUP($C126,PG_Flag,Database!L$44,FALSE)=1,PG_Assessment=\"Impact\"),HLOOKUP(Participant_Type,PG_Impact,Database!$B52,FALSE),\"-\")))","v":"-"},null,{"$f":"IF($C126=\"\",\"\",IF(AND(VLOOKUP($C126,PG_Flag,Database!P$44,FALSE)=1,PG_Assessment=\"Count\"),HLOOKUP(Participant_Type,PG_Count,Database!$B52,FALSE),IF(AND(VLOOKUP($C126,PG_Flag,Database!L$44,FALSE)=1,PG_Assessment=\"Impact\"),HLOOKUP(Participant_Type,PG_Impact,Database!$B52,FALSE),\"-\")))","v":"-"}]
[null,null,{"$f":"IF(Database!C54=\"\",\"\",Database!C54)","v":"I - MSR (Accelerating Smart Meter Deployment - Package 1 & 2)"},{"$f":"IF($C127=\"\",\"\",IF(AND(VLOOKUP($C127,PG_Flag,Database!E$44,FALSE)=1,PG_Assessment=\"Count\"),HLOOKUP(Participant_Type,PG_Count,Database!$B53,FALSE),IF(AND(VLOOKUP($C127,PG_Flag,Database!E$44,FALSE)=1,PG_Assessment=\"Impact\"),HLOOKUP(Participant_Type,PG_Impact,Database!$B53,FALSE),\"-\")))","v":"H"},{"$f":"IF($C127=\"\",\"\",IF(AND(VLOOKUP($C127,PG_Flag,Database!F$44,FALSE)=1,PG_Assessment=\"Count\"),HLOOKUP(Participant_Type,PG_Count,Database!$B53,FALSE),IF(AND(VLOOKUP($C127,PG_Flag,Database!F$44,FALSE)=1,PG_Assessment=\"Impact\"),HLOOKUP(Participant_Type,PG_Impact,Database!$B53,FALSE),\"-\")))","v":"H"},{"$f":"IF($C127=\"\",\"\",IF(AND(VLOOKUP($C127,PG_Flag,Database!G$44,FALSE)=1,PG_Assessment=\"Count\"),HLOOKUP(Participant_Type,PG_Count,Database!$B53,FALSE),IF(AND(VLOOKUP($C127,PG_Flag,Database!G$44,FALSE)=1,PG_Assessment=\"Impact\"),HLOOKUP(Participant_Type,PG_Impact,Database!$B53,FALSE),\"-\")))","v":"-"},{"$f":"IF($C127=\"\",\"\",IF(AND(VLOOKUP($C127,PG_Flag,Database!H$44,FALSE)=1,PG_Assessment=\"Count\"),HLOOKUP(Participant_Type,PG_Count,Database!$B53,FALSE),IF(AND(VLOOKUP($C127,PG_Flag,Database!H$44,FALSE)=1,PG_Assessment=\"Impact\"),HLOOKUP(Participant_Type,PG_Impact,Database!$B53,FALSE),\"-\")))","v":"-"},{"$f":"IF($C127=\"\",\"\",IF(AND(VLOOKUP($C127,PG_Flag,Database!I$44,FALSE)=1,PG_Assessment=\"Count\"),HLOOKUP(Participant_Type,PG_Count,Database!$B53,FALSE),IF(AND(VLOOKUP($C127,PG_Flag,Database!I$44,FALSE)=1,PG_Assessment=\"Impact\"),HLOOKUP(Participant_Type,PG_Impact,Database!$B53,FALSE),\"-\")))","v":"-"},{"$f":"IF($C127=\"\",\"\",IF(AND(VLOOKUP($C127,PG_Flag,Database!J$44,FALSE)=1,PG_Assessment=\"Count\"),HLOOKUP(Participant_Type,PG_Count,Database!$B53,FALSE),IF(AND(VLOOKUP($C127,PG_Flag,Database!J$44,FALSE)=1,PG_Assessment=\"Impact\"),HLOOKUP(Participant_Type,PG_Impact,Database!$B53,FALSE),\"-\")))","v":"-"},{"$f":"IF($C127=\"\",\"\",IF(AND(VLOOKUP($C127,PG_Flag,Database!K$44,FALSE)=1,PG_Assessment=\"Count\"),HLOOKUP(Participant_Type,PG_Count,Database!$B53,FALSE),IF(AND(VLOOKUP($C127,PG_Flag,Database!K$44,FALSE)=1,PG_Assessment=\"Impact\"),HLOOKUP(Participant_Type,PG_Impact,Database!$B53,FALSE),\"-\")))","v":"-"},{"$f":"IF($C127=\"\",\"\",IF(AND(VLOOKUP($C127,PG_Flag,Database!L$44,FALSE)=1,PG_Assessment=\"Count\"),HLOOKUP(Participant_Type,PG_Count,Database!$B53,FALSE),IF(AND(VLOOKUP($C127,PG_Flag,Database!L$44,FALSE)=1,PG_Assessment=\"Impact\"),HLOOKUP(Participant_Type,PG_Impact,Database!$B53,FALSE),\"-\")))","v":"-"},{"$f":"IF($C127=\"\",\"\",IF(AND(VLOOKUP($C127,PG_Flag,Database!M$44,FALSE)=1,PG_Assessment=\"Count\"),HLOOKUP(Participant_Type,PG_Count,Database!$B53,FALSE),IF(AND(VLOOKUP($C127,PG_Flag,Database!L$44,FALSE)=1,PG_Assessment=\"Impact\"),HLOOKUP(Participant_Type,PG_Impact,Database!$B53,FALSE),\"-\")))","v":"-"},null,{"$f":"IF($C127=\"\",\"\",IF(AND(VLOOKUP($C127,PG_Flag,Database!N$44,FALSE)=1,PG_Assessment=\"Count\"),HLOOKUP(Participant_Type,PG_Count,Database!$B53,FALSE),IF(AND(VLOOKUP($C127,PG_Flag,Database!L$44,FALSE)=1,PG_Assessment=\"Impact\"),HLOOKUP(Participant_Type,PG_Impact,Database!$B53,FALSE),\"-\")))","v":"-"},null,{"$f":"IF($C127=\"\",\"\",IF(AND(VLOOKUP($C127,PG_Flag,Database!O$44,FALSE)=1,PG_Assessment=\"Count\"),HLOOKUP(Participant_Type,PG_Count,Database!$B53,FALSE),IF(AND(VLOOKUP($C127,PG_Flag,Database!L$44,FALSE)=1,PG_Assessment=\"Impact\"),HLOOKUP(Participant_Type,PG_Impact,Database!$B53,FALSE),\"-\")))","v":"-"},null,{"$f":"IF($C127=\"\",\"\",IF(AND(VLOOKUP($C127,PG_Flag,Database!P$44,FALSE)=1,PG_Assessment=\"Count\"),HLOOKUP(Participant_Type,PG_Count,Database!$B53,FALSE),IF(AND(VLOOKUP($C127,PG_Flag,Database!L$44,FALSE)=1,PG_Assessment=\"Impact\"),HLOOKUP(Participant_Type,PG_Impact,Database!$B53,FALSE),\"-\")))","v":"-"}]
[null,null,{"$f":"IF(Database!C55=\"\",\"\",Database!C55)","v":"I - Shortening the Settlement Cycle"},{"$f":"IF($C128=\"\",\"\",IF(AND(VLOOKUP($C128,PG_Flag,Database!E$44,FALSE)=1,PG_Assessment=\"Count\"),HLOOKUP(Participant_Type,PG_Count,Database!$B54,FALSE),IF(AND(VLOOKUP($C128,PG_Flag,Database!E$44,FALSE)=1,PG_Assessment=\"Impact\"),HLOOKUP(Participant_Type,PG_Impact,Database!$B54,FALSE),\"-\")))","v":"-"},{"$f":"IF($C128=\"\",\"\",IF(AND(VLOOKUP($C128,PG_Flag,Database!F$44,FALSE)=1,PG_Assessment=\"Count\"),HLOOKUP(Participant_Type,PG_Count,Database!$B54,FALSE),IF(AND(VLOOKUP($C128,PG_Flag,Database!F$44,FALSE)=1,PG_Assessment=\"Impact\"),HLOOKUP(Participant_Type,PG_Impact,Database!$B54,FALSE),\"-\")))","v":"L"},{"$f":"IF($C128=\"\",\"\",IF(AND(VLOOKUP($C128,PG_Flag,Database!G$44,FALSE)=1,PG_Assessment=\"Count\"),HLOOKUP(Participant_Type,PG_Count,Database!$B54,FALSE),IF(AND(VLOOKUP($C128,PG_Flag,Database!G$44,FALSE)=1,PG_Assessment=\"Impact\"),HLOOKUP(Participant_Type,PG_Impact,Database!$B54,FALSE),\"-\")))","v":"L"},{"$f":"IF($C128=\"\",\"\",IF(AND(VLOOKUP($C128,PG_Flag,Database!H$44,FALSE)=1,PG_Assessment=\"Count\"),HLOOKUP(Participant_Type,PG_Count,Database!$B54,FALSE),IF(AND(VLOOKUP($C128,PG_Flag,Database!H$44,FALSE)=1,PG_Assessment=\"Impact\"),HLOOKUP(Participant_Type,PG_Impact,Database!$B54,FALSE),\"-\")))","v":"L"},{"$f":"IF($C128=\"\",\"\",IF(AND(VLOOKUP($C128,PG_Flag,Database!I$44,FALSE)=1,PG_Assessment=\"Count\"),HLOOKUP(Participant_Type,PG_Count,Database!$B54,FALSE),IF(AND(VLOOKUP($C128,PG_Flag,Database!I$44,FALSE)=1,PG_Assessment=\"Impact\"),HLOOKUP(Participant_Type,PG_Impact,Database!$B54,FALSE),\"-\")))","v":"L"},{"$f":"IF($C128=\"\",\"\",IF(AND(VLOOKUP($C128,PG_Flag,Database!J$44,FALSE)=1,PG_Assessment=\"Count\"),HLOOKUP(Participant_Type,PG_Count,Database!$B54,FALSE),IF(AND(VLOOKUP($C128,PG_Flag,Database!J$44,FALSE)=1,PG_Assessment=\"Impact\"),HLOOKUP(Participant_Type,PG_Impact,Database!$B54,FALSE),\"-\")))","v":"L"},{"$f":"IF($C128=\"\",\"\",IF(AND(VLOOKUP($C128,PG_Flag,Database!K$44,FALSE)=1,PG_Assessment=\"Count\"),HLOOKUP(Participant_Type,PG_Count,Database!$B54,FALSE),IF(AND(VLOOKUP($C128,PG_Flag,Database!K$44,FALSE)=1,PG_Assessment=\"Impact\"),HLOOKUP(Participant_Type,PG_Impact,Database!$B54,FALSE),\"-\")))","v":"-"},{"$f":"IF($C128=\"\",\"\",IF(AND(VLOOKUP($C128,PG_Flag,Database!L$44,FALSE)=1,PG_Assessment=\"Count\"),HLOOKUP(Participant_Type,PG_Count,Database!$B54,FALSE),IF(AND(VLOOKUP($C128,PG_Flag,Database!L$44,FALSE)=1,PG_Assessment=\"Impact\"),HLOOKUP(Participant_Type,PG_Impact,Database!$B54,FALSE),\"-\")))","v":"-"},{"$f":"IF($C128=\"\",\"\",IF(AND(VLOOKUP($C128,PG_Flag,Database!M$44,FALSE)=1,PG_Assessment=\"Count\"),HLOOKUP(Participant_Type,PG_Count,Database!$B54,FALSE),IF(AND(VLOOKUP($C128,PG_Flag,Database!L$44,FALSE)=1,PG_Assessment=\"Impact\"),HLOOKUP(Participant_Type,PG_Impact,Database!$B54,FALSE),\"-\")))","v":"-"},null,{"$f":"IF($C128=\"\",\"\",IF(AND(VLOOKUP($C128,PG_Flag,Database!N$44,FALSE)=1,PG_Assessment=\"Count\"),HLOOKUP(Participant_Type,PG_Count,Database!$B54,FALSE),IF(AND(VLOOKUP($C128,PG_Flag,Database!L$44,FALSE)=1,PG_Assessment=\"Impact\"),HLOOKUP(Participant_Type,PG_Impact,Database!$B54,FALSE),\"-\")))","v":"-"},null,{"$f":"IF($C128=\"\",\"\",IF(AND(VLOOKUP($C128,PG_Flag,Database!O$44,FALSE)=1,PG_Assessment=\"Count\"),HLOOKUP(Participant_Type,PG_Count,Database!$B54,FALSE),IF(AND(VLOOKUP($C128,PG_Flag,Database!L$44,FALSE)=1,PG_Assessment=\"Impact\"),HLOOKUP(Participant_Type,PG_Impact,Database!$B54,FALSE),\"-\")))","v":"-"},null,{"$f":"IF($C128=\"\",\"\",IF(AND(VLOOKUP($C128,PG_Flag,Database!P$44,FALSE)=1,PG_Assessment=\"Count\"),HLOOKUP(Participant_Type,PG_Count,Database!$B54,FALSE),IF(AND(VLOOKUP($C128,PG_Flag,Database!L$44,FALSE)=1,PG_Assessment=\"Impact\"),HLOOKUP(Participant_Type,PG_Impact,Database!$B54,FALSE),\"-\")))","v":"-"}]
[null,null,{"$f":"IF(Database!C56=\"\",\"\",Database!C56)","v":"I - Integrating Price Responsive Resources into the NEM"},{"$f":"IF($C129=\"\",\"\",IF(AND(VLOOKUP($C129,PG_Flag,Database!E$44,FALSE)=1,PG_Assessment=\"Count\"),HLOOKUP(Participant_Type,PG_Count,Database!$B55,FALSE),IF(AND(VLOOKUP($C129,PG_Flag,Database!E$44,FALSE)=1,PG_Assessment=\"Impact\"),HLOOKUP(Participant_Type,PG_Impact,Database!$B55,FALSE),\"-\")))","v":"-"},{"$f":"IF($C129=\"\",\"\",IF(AND(VLOOKUP($C129,PG_Flag,Database!F$44,FALSE)=1,PG_Assessment=\"Count\"),HLOOKUP(Participant_Type,PG_Count,Database!$B55,FALSE),IF(AND(VLOOKUP($C129,PG_Flag,Database!F$44,FALSE)=1,PG_Assessment=\"Impact\"),HLOOKUP(Participant_Type,PG_Impact,Database!$B55,FALSE),\"-\")))","v":"H"},{"$f":"IF($C129=\"\",\"\",IF(AND(VLOOKUP($C129,PG_Flag,Database!G$44,FALSE)=1,PG_Assessment=\"Count\"),HLOOKUP(Participant_Type,PG_Count,Database!$B55,FALSE),IF(AND(VLOOKUP($C129,PG_Flag,Database!G$44,FALSE)=1,PG_Assessment=\"Impact\"),HLOOKUP(Participant_Type,PG_Impact,Database!$B55,FALSE),\"-\")))","v":"H"},{"$f":"IF($C129=\"\",\"\",IF(AND(VLOOKUP($C129,PG_Flag,Database!H$44,FALSE)=1,PG_Assessment=\"Count\"),HLOOKUP(Participant_Type,PG_Count,Database!$B55,FALSE),IF(AND(VLOOKUP($C129,PG_Flag,Database!H$44,FALSE)=1,PG_Assessment=\"Impact\"),HLOOKUP(Participant_Type,PG_Impact,Database!$B55,FALSE),\"-\")))","v":"H"},{"$f":"IF($C129=\"\",\"\",IF(AND(VLOOKUP($C129,PG_Flag,Database!I$44,FALSE)=1,PG_Assessment=\"Count\"),HLOOKUP(Participant_Type,PG_Count,Database!$B55,FALSE),IF(AND(VLOOKUP($C129,PG_Flag,Database!I$44,FALSE)=1,PG_Assessment=\"Impact\"),HLOOKUP(Participant_Type,PG_Impact,Database!$B55,FALSE),\"-\")))","v":"H"},{"$f":"IF($C129=\"\",\"\",IF(AND(VLOOKUP($C129,PG_Flag,Database!J$44,FALSE)=1,PG_Assessment=\"Count\"),HLOOKUP(Participant_Type,PG_Count,Database!$B55,FALSE),IF(AND(VLOOKUP($C129,PG_Flag,Database!J$44,FALSE)=1,PG_Assessment=\"Impact\"),HLOOKUP(Participant_Type,PG_Impact,Database!$B55,FALSE),\"-\")))","v":"H"},{"$f":"IF($C129=\"\",\"\",IF(AND(VLOOKUP($C129,PG_Flag,Database!K$44,FALSE)=1,PG_Assessment=\"Count\"),HLOOKUP(Participant_Type,PG_Count,Database!$B55,FALSE),IF(AND(VLOOKUP($C129,PG_Flag,Database!K$44,FALSE)=1,PG_Assessment=\"Impact\"),HLOOKUP(Participant_Type,PG_Impact,Database!$B55,FALSE),\"-\")))","v":"-"},{"$f":"IF($C129=\"\",\"\",IF(AND(VLOOKUP($C129,PG_Flag,Database!L$44,FALSE)=1,PG_Assessment=\"Count\"),HLOOKUP(Participant_Type,PG_Count,Database!$B55,FALSE),IF(AND(VLOOKUP($C129,PG_Flag,Database!L$44,FALSE)=1,PG_Assessment=\"Impact\"),HLOOKUP(Participant_Type,PG_Impact,Database!$B55,FALSE),\"-\")))","v":"-"},{"$f":"IF($C129=\"\",\"\",IF(AND(VLOOKUP($C129,PG_Flag,Database!M$44,FALSE)=1,PG_Assessment=\"Count\"),HLOOKUP(Participant_Type,PG_Count,Database!$B55,FALSE),IF(AND(VLOOKUP($C129,PG_Flag,Database!L$44,FALSE)=1,PG_Assessment=\"Impact\"),HLOOKUP(Participant_Type,PG_Impact,Database!$B55,FALSE),\"-\")))","v":"-"},null,{"$f":"IF($C129=\"\",\"\",IF(AND(VLOOKUP($C129,PG_Flag,Database!N$44,FALSE)=1,PG_Assessment=\"Count\"),HLOOKUP(Participant_Type,PG_Count,Database!$B55,FALSE),IF(AND(VLOOKUP($C129,PG_Flag,Database!L$44,FALSE)=1,PG_Assessment=\"Impact\"),HLOOKUP(Participant_Type,PG_Impact,Database!$B55,FALSE),\"-\")))","v":"-"},null,{"$f":"IF($C129=\"\",\"\",IF(AND(VLOOKUP($C129,PG_Flag,Database!O$44,FALSE)=1,PG_Assessment=\"Count\"),HLOOKUP(Participant_Type,PG_Count,Database!$B55,FALSE),IF(AND(VLOOKUP($C129,PG_Flag,Database!L$44,FALSE)=1,PG_Assessment=\"Impact\"),HLOOKUP(Participant_Type,PG_Impact,Database!$B55,FALSE),\"-\")))","v":"-"},null,{"$f":"IF($C129=\"\",\"\",IF(AND(VLOOKUP($C129,PG_Flag,Database!P$44,FALSE)=1,PG_Assessment=\"Count\"),HLOOKUP(Participant_Type,PG_Count,Database!$B55,FALSE),IF(AND(VLOOKUP($C129,PG_Flag,Database!L$44,FALSE)=1,PG_Assessment=\"Impact\"),HLOOKUP(Participant_Type,PG_Impact,Database!$B55,FALSE),\"-\")))","v":"-"}]
[null,null,{"$f":"IF(Database!C57=\"\",\"\",Database!C57)","v":"I - IDX (Foundation)"},{"$f":"IF($C130=\"\",\"\",IF(AND(VLOOKUP($C130,PG_Flag,Database!E$44,FALSE)=1,PG_Assessment=\"Count\"),HLOOKUP(Participant_Type,PG_Count,Database!$B56,FALSE),IF(AND(VLOOKUP($C130,PG_Flag,Database!E$44,FALSE)=1,PG_Assessment=\"Impact\"),HLOOKUP(Participant_Type,PG_Impact,Database!$B56,FALSE),\"-\")))","v":"L"},{"$f":"IF($C130=\"\",\"\",IF(AND(VLOOKUP($C130,PG_Flag,Database!F$44,FALSE)=1,PG_Assessment=\"Count\"),HLOOKUP(Participant_Type,PG_Count,Database!$B56,FALSE),IF(AND(VLOOKUP($C130,PG_Flag,Database!F$44,FALSE)=1,PG_Assessment=\"Impact\"),HLOOKUP(Participant_Type,PG_Impact,Database!$B56,FALSE),\"-\")))","v":"L"},{"$f":"IF($C130=\"\",\"\",IF(AND(VLOOKUP($C130,PG_Flag,Database!G$44,FALSE)=1,PG_Assessment=\"Count\"),HLOOKUP(Participant_Type,PG_Count,Database!$B56,FALSE),IF(AND(VLOOKUP($C130,PG_Flag,Database!G$44,FALSE)=1,PG_Assessment=\"Impact\"),HLOOKUP(Participant_Type,PG_Impact,Database!$B56,FALSE),\"-\")))","v":"L"},{"$f":"IF($C130=\"\",\"\",IF(AND(VLOOKUP($C130,PG_Flag,Database!H$44,FALSE)=1,PG_Assessment=\"Count\"),HLOOKUP(Participant_Type,PG_Count,Database!$B56,FALSE),IF(AND(VLOOKUP($C130,PG_Flag,Database!H$44,FALSE)=1,PG_Assessment=\"Impact\"),HLOOKUP(Participant_Type,PG_Impact,Database!$B56,FALSE),\"-\")))","v":"L"},{"$f":"IF($C130=\"\",\"\",IF(AND(VLOOKUP($C130,PG_Flag,Database!I$44,FALSE)=1,PG_Assessment=\"Count\"),HLOOKUP(Participant_Type,PG_Count,Database!$B56,FALSE),IF(AND(VLOOKUP($C130,PG_Flag,Database!I$44,FALSE)=1,PG_Assessment=\"Impact\"),HLOOKUP(Participant_Type,PG_Impact,Database!$B56,FALSE),\"-\")))","v":"L"},{"$f":"IF($C130=\"\",\"\",IF(AND(VLOOKUP($C130,PG_Flag,Database!J$44,FALSE)=1,PG_Assessment=\"Count\"),HLOOKUP(Participant_Type,PG_Count,Database!$B56,FALSE),IF(AND(VLOOKUP($C130,PG_Flag,Database!J$44,FALSE)=1,PG_Assessment=\"Impact\"),HLOOKUP(Participant_Type,PG_Impact,Database!$B56,FALSE),\"-\")))","v":"L"},{"$f":"IF($C130=\"\",\"\",IF(AND(VLOOKUP($C130,PG_Flag,Database!K$44,FALSE)=1,PG_Assessment=\"Count\"),HLOOKUP(Participant_Type,PG_Count,Database!$B56,FALSE),IF(AND(VLOOKUP($C130,PG_Flag,Database!K$44,FALSE)=1,PG_Assessment=\"Impact\"),HLOOKUP(Participant_Type,PG_Impact,Database!$B56,FALSE),\"-\")))","v":"-"},{"$f":"IF($C130=\"\",\"\",IF(AND(VLOOKUP($C130,PG_Flag,Database!L$44,FALSE)=1,PG_Assessment=\"Count\"),HLOOKUP(Participant_Type,PG_Count,Database!$B56,FALSE),IF(AND(VLOOKUP($C130,PG_Flag,Database!L$44,FALSE)=1,PG_Assessment=\"Impact\"),HLOOKUP(Participant_Type,PG_Impact,Database!$B56,FALSE),\"-\")))","v":"-"},{"$f":"IF($C130=\"\",\"\",IF(AND(VLOOKUP($C130,PG_Flag,Database!M$44,FALSE)=1,PG_Assessment=\"Count\"),HLOOKUP(Participant_Type,PG_Count,Database!$B56,FALSE),IF(AND(VLOOKUP($C130,PG_Flag,Database!L$44,FALSE)=1,PG_Assessment=\"Impact\"),HLOOKUP(Participant_Type,PG_Impact,Database!$B56,FALSE),\"-\")))","v":"-"},null,{"$f":"IF($C130=\"\",\"\",IF(AND(VLOOKUP($C130,PG_Flag,Database!N$44,FALSE)=1,PG_Assessment=\"Count\"),HLOOKUP(Participant_Type,PG_Count,Database!$B56,FALSE),IF(AND(VLOOKUP($C130,PG_Flag,Database!L$44,FALSE)=1,PG_Assessment=\"Impact\"),HLOOKUP(Participant_Type,PG_Impact,Database!$B56,FALSE),\"-\")))","v":"-"},null,{"$f":"IF($C130=\"\",\"\",IF(AND(VLOOKUP($C130,PG_Flag,Database!O$44,FALSE)=1,PG_Assessment=\"Count\"),HLOOKUP(Participant_Type,PG_Count,Database!$B56,FALSE),IF(AND(VLOOKUP($C130,PG_Flag,Database!L$44,FALSE)=1,PG_Assessment=\"Impact\"),HLOOKUP(Participant_Type,PG_Impact,Database!$B56,FALSE),\"-\")))","v":"-"},null,{"$f":"IF($C130=\"\",\"\",IF(AND(VLOOKUP($C130,PG_Flag,Database!P$44,FALSE)=1,PG_Assessment=\"Count\"),HLOOKUP(Participant_Type,PG_Count,Database!$B56,FALSE),IF(AND(VLOOKUP($C130,PG_Flag,Database!L$44,FALSE)=1,PG_Assessment=\"Impact\"),HLOOKUP(Participant_Type,PG_Impact,Database!$B56,FALSE),\"-\")))","v":"-"}]
[null,null,{"$f":"IF(Database!C58=\"\",\"\",Database!C58)","v":"I - IDAM (Foundation)"},{"$f":"IF($C131=\"\",\"\",IF(AND(VLOOKUP($C131,PG_Flag,Database!E$44,FALSE)=1,PG_Assessment=\"Count\"),HLOOKUP(Participant_Type,PG_Count,Database!$B57,FALSE),IF(AND(VLOOKUP($C131,PG_Flag,Database!E$44,FALSE)=1,PG_Assessment=\"Impact\"),HLOOKUP(Participant_Type,PG_Impact,Database!$B57,FALSE),\"-\")))","v":"L"},{"$f":"IF($C131=\"\",\"\",IF(AND(VLOOKUP($C131,PG_Flag,Database!F$44,FALSE)=1,PG_Assessment=\"Count\"),HLOOKUP(Participant_Type,PG_Count,Database!$B57,FALSE),IF(AND(VLOOKUP($C131,PG_Flag,Database!F$44,FALSE)=1,PG_Assessment=\"Impact\"),HLOOKUP(Participant_Type,PG_Impact,Database!$B57,FALSE),\"-\")))","v":"L"},{"$f":"IF($C131=\"\",\"\",IF(AND(VLOOKUP($C131,PG_Flag,Database!G$44,FALSE)=1,PG_Assessment=\"Count\"),HLOOKUP(Participant_Type,PG_Count,Database!$B57,FALSE),IF(AND(VLOOKUP($C131,PG_Flag,Database!G$44,FALSE)=1,PG_Assessment=\"Impact\"),HLOOKUP(Participant_Type,PG_Impact,Database!$B57,FALSE),\"-\")))","v":"-"},{"$f":"IF($C131=\"\",\"\",IF(AND(VLOOKUP($C131,PG_Flag,Database!H$44,FALSE)=1,PG_Assessment=\"Count\"),HLOOKUP(Participant_Type,PG_Count,Database!$B57,FALSE),IF(AND(VLOOKUP($C131,PG_Flag,Database!H$44,FALSE)=1,PG_Assessment=\"Impact\"),HLOOKUP(Participant_Type,PG_Impact,Database!$B57,FALSE),\"-\")))","v":"-"},{"$f":"IF($C131=\"\",\"\",IF(AND(VLOOKUP($C131,PG_Flag,Database!I$44,FALSE)=1,PG_Assessment=\"Count\"),HLOOKUP(Participant_Type,PG_Count,Database!$B57,FALSE),IF(AND(VLOOKUP($C131,PG_Flag,Database!I$44,FALSE)=1,PG_Assessment=\"Impact\"),HLOOKUP(Participant_Type,PG_Impact,Database!$B57,FALSE),\"-\")))","v":"-"},{"$f":"IF($C131=\"\",\"\",IF(AND(VLOOKUP($C131,PG_Flag,Database!J$44,FALSE)=1,PG_Assessment=\"Count\"),HLOOKUP(Participant_Type,PG_Count,Database!$B57,FALSE),IF(AND(VLOOKUP($C131,PG_Flag,Database!J$44,FALSE)=1,PG_Assessment=\"Impact\"),HLOOKUP(Participant_Type,PG_Impact,Database!$B57,FALSE),\"-\")))","v":"-"},{"$f":"IF($C131=\"\",\"\",IF(AND(VLOOKUP($C131,PG_Flag,Database!K$44,FALSE)=1,PG_Assessment=\"Count\"),HLOOKUP(Participant_Type,PG_Count,Database!$B57,FALSE),IF(AND(VLOOKUP($C131,PG_Flag,Database!K$44,FALSE)=1,PG_Assessment=\"Impact\"),HLOOKUP(Participant_Type,PG_Impact,Database!$B57,FALSE),\"-\")))","v":"-"},{"$f":"IF($C131=\"\",\"\",IF(AND(VLOOKUP($C131,PG_Flag,Database!L$44,FALSE)=1,PG_Assessment=\"Count\"),HLOOKUP(Participant_Type,PG_Count,Database!$B57,FALSE),IF(AND(VLOOKUP($C131,PG_Flag,Database!L$44,FALSE)=1,PG_Assessment=\"Impact\"),HLOOKUP(Participant_Type,PG_Impact,Database!$B57,FALSE),\"-\")))","v":"-"},{"$f":"IF($C131=\"\",\"\",IF(AND(VLOOKUP($C131,PG_Flag,Database!M$44,FALSE)=1,PG_Assessment=\"Count\"),HLOOKUP(Participant_Type,PG_Count,Database!$B57,FALSE),IF(AND(VLOOKUP($C131,PG_Flag,Database!L$44,FALSE)=1,PG_Assessment=\"Impact\"),HLOOKUP(Participant_Type,PG_Impact,Database!$B57,FALSE),\"-\")))","v":"-"},null,{"$f":"IF($C131=\"\",\"\",IF(AND(VLOOKUP($C131,PG_Flag,Database!N$44,FALSE)=1,PG_Assessment=\"Count\"),HLOOKUP(Participant_Type,PG_Count,Database!$B57,FALSE),IF(AND(VLOOKUP($C131,PG_Flag,Database!L$44,FALSE)=1,PG_Assessment=\"Impact\"),HLOOKUP(Participant_Type,PG_Impact,Database!$B57,FALSE),\"-\")))","v":"-"},null,{"$f":"IF($C131=\"\",\"\",IF(AND(VLOOKUP($C131,PG_Flag,Database!O$44,FALSE)=1,PG_Assessment=\"Count\"),HLOOKUP(Participant_Type,PG_Count,Database!$B57,FALSE),IF(AND(VLOOKUP($C131,PG_Flag,Database!L$44,FALSE)=1,PG_Assessment=\"Impact\"),HLOOKUP(Participant_Type,PG_Impact,Database!$B57,FALSE),\"-\")))","v":"-"},null,{"$f":"IF($C131=\"\",\"\",IF(AND(VLOOKUP($C131,PG_Flag,Database!P$44,FALSE)=1,PG_Assessment=\"Count\"),HLOOKUP(Participant_Type,PG_Count,Database!$B57,FALSE),IF(AND(VLOOKUP($C131,PG_Flag,Database!L$44,FALSE)=1,PG_Assessment=\"Impact\"),HLOOKUP(Participant_Type,PG_Impact,Database!$B57,FALSE),\"-\")))","v":"-"}]
[null,null,{"$f":"IF(Database!C59=\"\",\"\",Database!C59)","v":"I - MSR (Accelerating Smart Meter Deployment - Package 3)"},{"$f":"IF($C132=\"\",\"\",IF(AND(VLOOKUP($C132,PG_Flag,Database!E$44,FALSE)=1,PG_Assessment=\"Count\"),HLOOKUP(Participant_Type,PG_Count,Database!$B58,FALSE),IF(AND(VLOOKUP($C132,PG_Flag,Database!E$44,FALSE)=1,PG_Assessment=\"Impact\"),HLOOKUP(Participant_Type,PG_Impact,Database!$B58,FALSE),\"-\")))","v":"-"},{"$f":"IF($C132=\"\",\"\",IF(AND(VLOOKUP($C132,PG_Flag,Database!F$44,FALSE)=1,PG_Assessment=\"Count\"),HLOOKUP(Participant_Type,PG_Count,Database!$B58,FALSE),IF(AND(VLOOKUP($C132,PG_Flag,Database!F$44,FALSE)=1,PG_Assessment=\"Impact\"),HLOOKUP(Participant_Type,PG_Impact,Database!$B58,FALSE),\"-\")))","v":"L"},{"$f":"IF($C132=\"\",\"\",IF(AND(VLOOKUP($C132,PG_Flag,Database!G$44,FALSE)=1,PG_Assessment=\"Count\"),HLOOKUP(Participant_Type,PG_Count,Database!$B58,FALSE),IF(AND(VLOOKUP($C132,PG_Flag,Database!G$44,FALSE)=1,PG_Assessment=\"Impact\"),HLOOKUP(Participant_Type,PG_Impact,Database!$B58,FALSE),\"-\")))","v":"L"},{"$f":"IF($C132=\"\",\"\",IF(AND(VLOOKUP($C132,PG_Flag,Database!H$44,FALSE)=1,PG_Assessment=\"Count\"),HLOOKUP(Participant_Type,PG_Count,Database!$B58,FALSE),IF(AND(VLOOKUP($C132,PG_Flag,Database!H$44,FALSE)=1,PG_Assessment=\"Impact\"),HLOOKUP(Participant_Type,PG_Impact,Database!$B58,FALSE),\"-\")))","v":"-"},{"$f":"IF($C132=\"\",\"\",IF(AND(VLOOKUP($C132,PG_Flag,Database!I$44,FALSE)=1,PG_Assessment=\"Count\"),HLOOKUP(Participant_Type,PG_Count,Database!$B58,FALSE),IF(AND(VLOOKUP($C132,PG_Flag,Database!I$44,FALSE)=1,PG_Assessment=\"Impact\"),HLOOKUP(Participant_Type,PG_Impact,Database!$B58,FALSE),\"-\")))","v":"-"},{"$f":"IF($C132=\"\",\"\",IF(AND(VLOOKUP($C132,PG_Flag,Database!J$44,FALSE)=1,PG_Assessment=\"Count\"),HLOOKUP(Participant_Type,PG_Count,Database!$B58,FALSE),IF(AND(VLOOKUP($C132,PG_Flag,Database!J$44,FALSE)=1,PG_Assessment=\"Impact\"),HLOOKUP(Participant_Type,PG_Impact,Database!$B58,FALSE),\"-\")))","v":"-"},{"$f":"IF($C132=\"\",\"\",IF(AND(VLOOKUP($C132,PG_Flag,Database!K$44,FALSE)=1,PG_Assessment=\"Count\"),HLOOKUP(Participant_Type,PG_Count,Database!$B58,FALSE),IF(AND(VLOOKUP($C132,PG_Flag,Database!K$44,FALSE)=1,PG_Assessment=\"Impact\"),HLOOKUP(Participant_Type,PG_Impact,Database!$B58,FALSE),\"-\")))","v":"-"},{"$f":"IF($C132=\"\",\"\",IF(AND(VLOOKUP($C132,PG_Flag,Database!L$44,FALSE)=1,PG_Assessment=\"Count\"),HLOOKUP(Participant_Type,PG_Count,Database!$B58,FALSE),IF(AND(VLOOKUP($C132,PG_Flag,Database!L$44,FALSE)=1,PG_Assessment=\"Impact\"),HLOOKUP(Participant_Type,PG_Impact,Database!$B58,FALSE),\"-\")))","v":"-"},{"$f":"IF($C132=\"\",\"\",IF(AND(VLOOKUP($C132,PG_Flag,Database!M$44,FALSE)=1,PG_Assessment=\"Count\"),HLOOKUP(Participant_Type,PG_Count,Database!$B58,FALSE),IF(AND(VLOOKUP($C132,PG_Flag,Database!L$44,FALSE)=1,PG_Assessment=\"Impact\"),HLOOKUP(Participant_Type,PG_Impact,Database!$B58,FALSE),\"-\")))","v":"-"},null,{"$f":"IF($C132=\"\",\"\",IF(AND(VLOOKUP($C132,PG_Flag,Database!N$44,FALSE)=1,PG_Assessment=\"Count\"),HLOOKUP(Participant_Type,PG_Count,Database!$B58,FALSE),IF(AND(VLOOKUP($C132,PG_Flag,Database!L$44,FALSE)=1,PG_Assessment=\"Impact\"),HLOOKUP(Participant_Type,PG_Impact,Database!$B58,FALSE),\"-\")))","v":"-"},null,{"$f":"IF($C132=\"\",\"\",IF(AND(VLOOKUP($C132,PG_Flag,Database!O$44,FALSE)=1,PG_Assessment=\"Count\"),HLOOKUP(Participant_Type,PG_Count,Database!$B58,FALSE),IF(AND(VLOOKUP($C132,PG_Flag,Database!L$44,FALSE)=1,PG_Assessment=\"Impact\"),HLOOKUP(Participant_Type,PG_Impact,Database!$B58,FALSE),\"-\")))","v":"-"},null,{"$f":"IF($C132=\"\",\"\",IF(AND(VLOOKUP($C132,PG_Flag,Database!P$44,FALSE)=1,PG_Assessment=\"Count\"),HLOOKUP(Participant_Type,PG_Count,Database!$B58,FALSE),IF(AND(VLOOKUP($C132,PG_Flag,Database!L$44,FALSE)=1,PG_Assessment=\"Impact\"),HLOOKUP(Participant_Type,PG_Impact,Database!$B58,FALSE),\"-\")))","v":"-"}]
[null,null,{"$f":"IF(Database!C60=\"\",\"\",Database!C60)","v":"A - Inter-regional SRAs for transmission loops (PEC-MI)"},{"$f":"IF($C133=\"\",\"\",IF(AND(VLOOKUP($C133,PG_Flag,Database!E$44,FALSE)=1,PG_Assessment=\"Count\"),HLOOKUP(Participant_Type,PG_Count,Database!$B59,FALSE),IF(AND(VLOOKUP($C133,PG_Flag,Database!E$44,FALSE)=1,PG_Assessment=\"Impact\"),HLOOKUP(Participant_Type,PG_Impact,Database!$B59,FALSE),\"-\")))","v":"-"},{"$f":"IF($C133=\"\",\"\",IF(AND(VLOOKUP($C133,PG_Flag,Database!F$44,FALSE)=1,PG_Assessment=\"Count\"),HLOOKUP(Participant_Type,PG_Count,Database!$B59,FALSE),IF(AND(VLOOKUP($C133,PG_Flag,Database!F$44,FALSE)=1,PG_Assessment=\"Impact\"),HLOOKUP(Participant_Type,PG_Impact,Database!$B59,FALSE),\"-\")))","v":"L"},{"$f":"IF($C133=\"\",\"\",IF(AND(VLOOKUP($C133,PG_Flag,Database!G$44,FALSE)=1,PG_Assessment=\"Count\"),HLOOKUP(Participant_Type,PG_Count,Database!$B59,FALSE),IF(AND(VLOOKUP($C133,PG_Flag,Database!G$44,FALSE)=1,PG_Assessment=\"Impact\"),HLOOKUP(Participant_Type,PG_Impact,Database!$B59,FALSE),\"-\")))","v":"L"},{"$f":"IF($C133=\"\",\"\",IF(AND(VLOOKUP($C133,PG_Flag,Database!H$44,FALSE)=1,PG_Assessment=\"Count\"),HLOOKUP(Participant_Type,PG_Count,Database!$B59,FALSE),IF(AND(VLOOKUP($C133,PG_Flag,Database!H$44,FALSE)=1,PG_Assessment=\"Impact\"),HLOOKUP(Participant_Type,PG_Impact,Database!$B59,FALSE),\"-\")))","v":"L"},{"$f":"IF($C133=\"\",\"\",IF(AND(VLOOKUP($C133,PG_Flag,Database!I$44,FALSE)=1,PG_Assessment=\"Count\"),HLOOKUP(Participant_Type,PG_Count,Database!$B59,FALSE),IF(AND(VLOOKUP($C133,PG_Flag,Database!I$44,FALSE)=1,PG_Assessment=\"Impact\"),HLOOKUP(Participant_Type,PG_Impact,Database!$B59,FALSE),\"-\")))","v":"L"},{"$f":"IF($C133=\"\",\"\",IF(AND(VLOOKUP($C133,PG_Flag,Database!J$44,FALSE)=1,PG_Assessment=\"Count\"),HLOOKUP(Participant_Type,PG_Count,Database!$B59,FALSE),IF(AND(VLOOKUP($C133,PG_Flag,Database!J$44,FALSE)=1,PG_Assessment=\"Impact\"),HLOOKUP(Participant_Type,PG_Impact,Database!$B59,FALSE),\"-\")))","v":"-"},{"$f":"IF($C133=\"\",\"\",IF(AND(VLOOKUP($C133,PG_Flag,Database!K$44,FALSE)=1,PG_Assessment=\"Count\"),HLOOKUP(Participant_Type,PG_Count,Database!$B59,FALSE),IF(AND(VLOOKUP($C133,PG_Flag,Database!K$44,FALSE)=1,PG_Assessment=\"Impact\"),HLOOKUP(Participant_Type,PG_Impact,Database!$B59,FALSE),\"-\")))","v":"-"},{"$f":"IF($C133=\"\",\"\",IF(AND(VLOOKUP($C133,PG_Flag,Database!L$44,FALSE)=1,PG_Assessment=\"Count\"),HLOOKUP(Participant_Type,PG_Count,Database!$B59,FALSE),IF(AND(VLOOKUP($C133,PG_Flag,Database!L$44,FALSE)=1,PG_Assessment=\"Impact\"),HLOOKUP(Participant_Type,PG_Impact,Database!$B59,FALSE),\"-\")))","v":"-"},{"$f":"IF($C133=\"\",\"\",IF(AND(VLOOKUP($C133,PG_Flag,Database!M$44,FALSE)=1,PG_Assessment=\"Count\"),HLOOKUP(Participant_Type,PG_Count,Database!$B59,FALSE),IF(AND(VLOOKUP($C133,PG_Flag,Database!L$44,FALSE)=1,PG_Assessment=\"Impact\"),HLOOKUP(Participant_Type,PG_Impact,Database!$B59,FALSE),\"-\")))","v":"-"},null,{"$f":"IF($C133=\"\",\"\",IF(AND(VLOOKUP($C133,PG_Flag,Database!N$44,FALSE)=1,PG_Assessment=\"Count\"),HLOOKUP(Participant_Type,PG_Count,Database!$B59,FALSE),IF(AND(VLOOKUP($C133,PG_Flag,Database!L$44,FALSE)=1,PG_Assessment=\"Impact\"),HLOOKUP(Participant_Type,PG_Impact,Database!$B59,FALSE),\"-\")))","v":"-"},null,{"$f":"IF($C133=\"\",\"\",IF(AND(VLOOKUP($C133,PG_Flag,Database!O$44,FALSE)=1,PG_Assessment=\"Count\"),HLOOKUP(Participant_Type,PG_Count,Database!$B59,FALSE),IF(AND(VLOOKUP($C133,PG_Flag,Database!L$44,FALSE)=1,PG_Assessment=\"Impact\"),HLOOKUP(Participant_Type,PG_Impact,Database!$B59,FALSE),\"-\")))","v":"-"},null,{"$f":"IF($C133=\"\",\"\",IF(AND(VLOOKUP($C133,PG_Flag,Database!P$44,FALSE)=1,PG_Assessment=\"Count\"),HLOOKUP(Participant_Type,PG_Count,Database!$B59,FALSE),IF(AND(VLOOKUP($C133,PG_Flag,Database!L$44,FALSE)=1,PG_Assessment=\"Impact\"),HLOOKUP(Participant_Type,PG_Impact,Database!$B59,FALSE),\"-\")))","v":"-"}]
[null,null,{"$f":"IF(Database!C61=\"\",\"\",Database!C61)","v":""},{"$f":"IF($C134=\"\",\"\",IF(AND(VLOOKUP($C134,PG_Flag,Database!E$44,FALSE)=1,PG_Assessment=\"Count\"),HLOOKUP(Participant_Type,PG_Count,Database!$B60,FALSE),IF(AND(VLOOKUP($C134,PG_Flag,Database!E$44,FALSE)=1,PG_Assessment=\"Impact\"),HLOOKUP(Participant_Type,PG_Impact,Database!$B60,FALSE),\"-\")))","v":""},{"$f":"IF($C134=\"\",\"\",IF(AND(VLOOKUP($C134,PG_Flag,Database!F$44,FALSE)=1,PG_Assessment=\"Count\"),HLOOKUP(Participant_Type,PG_Count,Database!$B60,FALSE),IF(AND(VLOOKUP($C134,PG_Flag,Database!F$44,FALSE)=1,PG_Assessment=\"Impact\"),HLOOKUP(Participant_Type,PG_Impact,Database!$B60,FALSE),\"-\")))","v":""},{"$f":"IF($C134=\"\",\"\",IF(AND(VLOOKUP($C134,PG_Flag,Database!G$44,FALSE)=1,PG_Assessment=\"Count\"),HLOOKUP(Participant_Type,PG_Count,Database!$B60,FALSE),IF(AND(VLOOKUP($C134,PG_Flag,Database!G$44,FALSE)=1,PG_Assessment=\"Impact\"),HLOOKUP(Participant_Type,PG_Impact,Database!$B60,FALSE),\"-\")))","v":""},{"$f":"IF($C134=\"\",\"\",IF(AND(VLOOKUP($C134,PG_Flag,Database!H$44,FALSE)=1,PG_Assessment=\"Count\"),HLOOKUP(Participant_Type,PG_Count,Database!$B60,FALSE),IF(AND(VLOOKUP($C134,PG_Flag,Database!H$44,FALSE)=1,PG_Assessment=\"Impact\"),HLOOKUP(Participant_Type,PG_Impact,Database!$B60,FALSE),\"-\")))","v":""},{"$f":"IF($C134=\"\",\"\",IF(AND(VLOOKUP($C134,PG_Flag,Database!I$44,FALSE)=1,PG_Assessment=\"Count\"),HLOOKUP(Participant_Type,PG_Count,Database!$B60,FALSE),IF(AND(VLOOKUP($C134,PG_Flag,Database!I$44,FALSE)=1,PG_Assessment=\"Impact\"),HLOOKUP(Participant_Type,PG_Impact,Database!$B60,FALSE),\"-\")))","v":""},{"$f":"IF($C134=\"\",\"\",IF(AND(VLOOKUP($C134,PG_Flag,Database!J$44,FALSE)=1,PG_Assessment=\"Count\"),HLOOKUP(Participant_Type,PG_Count,Database!$B60,FALSE),IF(AND(VLOOKUP($C134,PG_Flag,Database!J$44,FALSE)=1,PG_Assessment=\"Impact\"),HLOOKUP(Participant_Type,PG_Impact,Database!$B60,FALSE),\"-\")))","v":""},{"$f":"IF($C134=\"\",\"\",IF(AND(VLOOKUP($C134,PG_Flag,Database!K$44,FALSE)=1,PG_Assessment=\"Count\"),HLOOKUP(Participant_Type,PG_Count,Database!$B60,FALSE),IF(AND(VLOOKUP($C134,PG_Flag,Database!K$44,FALSE)=1,PG_Assessment=\"Impact\"),HLOOKUP(Participant_Type,PG_Impact,Database!$B60,FALSE),\"-\")))","v":""},{"$f":"IF($C134=\"\",\"\",IF(AND(VLOOKUP($C134,PG_Flag,Database!L$44,FALSE)=1,PG_Assessment=\"Count\"),HLOOKUP(Participant_Type,PG_Count,Database!$B60,FALSE),IF(AND(VLOOKUP($C134,PG_Flag,Database!L$44,FALSE)=1,PG_Assessment=\"Impact\"),HLOOKUP(Participant_Type,PG_Impact,Database!$B60,FALSE),\"-\")))","v":""},{"$f":"IF($C134=\"\",\"\",IF(AND(VLOOKUP($C134,PG_Flag,Database!M$44,FALSE)=1,PG_Assessment=\"Count\"),HLOOKUP(Participant_Type,PG_Count,Database!$B60,FALSE),IF(AND(VLOOKUP($C134,PG_Flag,Database!L$44,FALSE)=1,PG_Assessment=\"Impact\"),HLOOKUP(Participant_Type,PG_Impact,Database!$B60,FALSE),\"-\")))","v":""},null,{"$f":"IF($C134=\"\",\"\",IF(AND(VLOOKUP($C134,PG_Flag,Database!N$44,FALSE)=1,PG_Assessment=\"Count\"),HLOOKUP(Participant_Type,PG_Count,Database!$B60,FALSE),IF(AND(VLOOKUP($C134,PG_Flag,Database!L$44,FALSE)=1,PG_Assessment=\"Impact\"),HLOOKUP(Participant_Type,PG_Impact,Database!$B60,FALSE),\"-\")))","v":""},null,{"$f":"IF($C134=\"\",\"\",IF(AND(VLOOKUP($C134,PG_Flag,Database!O$44,FALSE)=1,PG_Assessment=\"Count\"),HLOOKUP(Participant_Type,PG_Count,Database!$B60,FALSE),IF(AND(VLOOKUP($C134,PG_Flag,Database!L$44,FALSE)=1,PG_Assessment=\"Impact\"),HLOOKUP(Participant_Type,PG_Impact,Database!$B60,FALSE),\"-\")))","v":""},null,{"$f":"IF($C134=\"\",\"\",IF(AND(VLOOKUP($C134,PG_Flag,Database!P$44,FALSE)=1,PG_Assessment=\"Count\"),HLOOKUP(Participant_Type,PG_Count,Database!$B60,FALSE),IF(AND(VLOOKUP($C134,PG_Flag,Database!L$44,FALSE)=1,PG_Assessment=\"Impact\"),HLOOKUP(Participant_Type,PG_Impact,Database!$B60,FALSE),\"-\")))","v":""}]
[null,null,{"$f":"IF(Database!C62=\"\",\"\",Database!C62)","v":""},{"$f":"IF($C135=\"\",\"\",IF(AND(VLOOKUP($C135,PG_Flag,Database!E$44,FALSE)=1,PG_Assessment=\"Count\"),HLOOKUP(Participant_Type,PG_Count,Database!$B61,FALSE),IF(AND(VLOOKUP($C135,PG_Flag,Database!E$44,FALSE)=1,PG_Assessment=\"Impact\"),HLOOKUP(Participant_Type,PG_Impact,Database!$B61,FALSE),\"-\")))","v":""},{"$f":"IF($C135=\"\",\"\",IF(AND(VLOOKUP($C135,PG_Flag,Database!F$44,FALSE)=1,PG_Assessment=\"Count\"),HLOOKUP(Participant_Type,PG_Count,Database!$B61,FALSE),IF(AND(VLOOKUP($C135,PG_Flag,Database!F$44,FALSE)=1,PG_Assessment=\"Impact\"),HLOOKUP(Participant_Type,PG_Impact,Database!$B61,FALSE),\"-\")))","v":""},{"$f":"IF($C135=\"\",\"\",IF(AND(VLOOKUP($C135,PG_Flag,Database!G$44,FALSE)=1,PG_Assessment=\"Count\"),HLOOKUP(Participant_Type,PG_Count,Database!$B61,FALSE),IF(AND(VLOOKUP($C135,PG_Flag,Database!G$44,FALSE)=1,PG_Assessment=\"Impact\"),HLOOKUP(Participant_Type,PG_Impact,Database!$B61,FALSE),\"-\")))","v":""},{"$f":"IF($C135=\"\",\"\",IF(AND(VLOOKUP($C135,PG_Flag,Database!H$44,FALSE)=1,PG_Assessment=\"Count\"),HLOOKUP(Participant_Type,PG_Count,Database!$B61,FALSE),IF(AND(VLOOKUP($C135,PG_Flag,Database!H$44,FALSE)=1,PG_Assessment=\"Impact\"),HLOOKUP(Participant_Type,PG_Impact,Database!$B61,FALSE),\"-\")))","v":""},{"$f":"IF($C135=\"\",\"\",IF(AND(VLOOKUP($C135,PG_Flag,Database!I$44,FALSE)=1,PG_Assessment=\"Count\"),HLOOKUP(Participant_Type,PG_Count,Database!$B61,FALSE),IF(AND(VLOOKUP($C135,PG_Flag,Database!I$44,FALSE)=1,PG_Assessment=\"Impact\"),HLOOKUP(Participant_Type,PG_Impact,Database!$B61,FALSE),\"-\")))","v":""},{"$f":"IF($C135=\"\",\"\",IF(AND(VLOOKUP($C135,PG_Flag,Database!J$44,FALSE)=1,PG_Assessment=\"Count\"),HLOOKUP(Participant_Type,PG_Count,Database!$B61,FALSE),IF(AND(VLOOKUP($C135,PG_Flag,Database!J$44,FALSE)=1,PG_Assessment=\"Impact\"),HLOOKUP(Participant_Type,PG_Impact,Database!$B61,FALSE),\"-\")))","v":""},{"$f":"IF($C135=\"\",\"\",IF(AND(VLOOKUP($C135,PG_Flag,Database!K$44,FALSE)=1,PG_Assessment=\"Count\"),HLOOKUP(Participant_Type,PG_Count,Database!$B61,FALSE),IF(AND(VLOOKUP($C135,PG_Flag,Database!K$44,FALSE)=1,PG_Assessment=\"Impact\"),HLOOKUP(Participant_Type,PG_Impact,Database!$B61,FALSE),\"-\")))","v":""},{"$f":"IF($C135=\"\",\"\",IF(AND(VLOOKUP($C135,PG_Flag,Database!L$44,FALSE)=1,PG_Assessment=\"Count\"),HLOOKUP(Participant_Type,PG_Count,Database!$B61,FALSE),IF(AND(VLOOKUP($C135,PG_Flag,Database!L$44,FALSE)=1,PG_Assessment=\"Impact\"),HLOOKUP(Participant_Type,PG_Impact,Database!$B61,FALSE),\"-\")))","v":""},{"$f":"IF($C135=\"\",\"\",IF(AND(VLOOKUP($C135,PG_Flag,Database!M$44,FALSE)=1,PG_Assessment=\"Count\"),HLOOKUP(Participant_Type,PG_Count,Database!$B61,FALSE),IF(AND(VLOOKUP($C135,PG_Flag,Database!L$44,FALSE)=1,PG_Assessment=\"Impact\"),HLOOKUP(Participant_Type,PG_Impact,Database!$B61,FALSE),\"-\")))","v":""},null,{"$f":"IF($C135=\"\",\"\",IF(AND(VLOOKUP($C135,PG_Flag,Database!N$44,FALSE)=1,PG_Assessment=\"Count\"),HLOOKUP(Participant_Type,PG_Count,Database!$B61,FALSE),IF(AND(VLOOKUP($C135,PG_Flag,Database!L$44,FALSE)=1,PG_Assessment=\"Impact\"),HLOOKUP(Participant_Type,PG_Impact,Database!$B61,FALSE),\"-\")))","v":""},null,{"$f":"IF($C135=\"\",\"\",IF(AND(VLOOKUP($C135,PG_Flag,Database!O$44,FALSE)=1,PG_Assessment=\"Count\"),HLOOKUP(Participant_Type,PG_Count,Database!$B61,FALSE),IF(AND(VLOOKUP($C135,PG_Flag,Database!L$44,FALSE)=1,PG_Assessment=\"Impact\"),HLOOKUP(Participant_Type,PG_Impact,Database!$B61,FALSE),\"-\")))","v":""},null,{"$f":"IF($C135=\"\",\"\",IF(AND(VLOOKUP($C135,PG_Flag,Database!P$44,FALSE)=1,PG_Assessment=\"Count\"),HLOOKUP(Participant_Type,PG_Count,Database!$B61,FALSE),IF(AND(VLOOKUP($C135,PG_Flag,Database!L$44,FALSE)=1,PG_Assessment=\"Impact\"),HLOOKUP(Participant_Type,PG_Impact,Database!$B61,FALSE),\"-\")))","v":""}]
[null,null,{"$f":"IF(Database!C63=\"\",\"\",Database!C63)","v":""},{"$f":"IF($C136=\"\",\"\",IF(AND(VLOOKUP($C136,PG_Flag,Database!E$44,FALSE)=1,PG_Assessment=\"Count\"),HLOOKUP(Participant_Type,PG_Count,Database!$B62,FALSE),IF(AND(VLOOKUP($C136,PG_Flag,Database!E$44,FALSE)=1,PG_Assessment=\"Impact\"),HLOOKUP(Participant_Type,PG_Impact,Database!$B62,FALSE),\"-\")))","v":""},{"$f":"IF($C136=\"\",\"\",IF(AND(VLOOKUP($C136,PG_Flag,Database!F$44,FALSE)=1,PG_Assessment=\"Count\"),HLOOKUP(Participant_Type,PG_Count,Database!$B62,FALSE),IF(AND(VLOOKUP($C136,PG_Flag,Database!F$44,FALSE)=1,PG_Assessment=\"Impact\"),HLOOKUP(Participant_Type,PG_Impact,Database!$B62,FALSE),\"-\")))","v":""},{"$f":"IF($C136=\"\",\"\",IF(AND(VLOOKUP($C136,PG_Flag,Database!G$44,FALSE)=1,PG_Assessment=\"Count\"),HLOOKUP(Participant_Type,PG_Count,Database!$B62,FALSE),IF(AND(VLOOKUP($C136,PG_Flag,Database!G$44,FALSE)=1,PG_Assessment=\"Impact\"),HLOOKUP(Participant_Type,PG_Impact,Database!$B62,FALSE),\"-\")))","v":""},{"$f":"IF($C136=\"\",\"\",IF(AND(VLOOKUP($C136,PG_Flag,Database!H$44,FALSE)=1,PG_Assessment=\"Count\"),HLOOKUP(Participant_Type,PG_Count,Database!$B62,FALSE),IF(AND(VLOOKUP($C136,PG_Flag,Database!H$44,FALSE)=1,PG_Assessment=\"Impact\"),HLOOKUP(Participant_Type,PG_Impact,Database!$B62,FALSE),\"-\")))","v":""},{"$f":"IF($C136=\"\",\"\",IF(AND(VLOOKUP($C136,PG_Flag,Database!I$44,FALSE)=1,PG_Assessment=\"Count\"),HLOOKUP(Participant_Type,PG_Count,Database!$B62,FALSE),IF(AND(VLOOKUP($C136,PG_Flag,Database!I$44,FALSE)=1,PG_Assessment=\"Impact\"),HLOOKUP(Participant_Type,PG_Impact,Database!$B62,FALSE),\"-\")))","v":""},{"$f":"IF($C136=\"\",\"\",IF(AND(VLOOKUP($C136,PG_Flag,Database!J$44,FALSE)=1,PG_Assessment=\"Count\"),HLOOKUP(Participant_Type,PG_Count,Database!$B62,FALSE),IF(AND(VLOOKUP($C136,PG_Flag,Database!J$44,FALSE)=1,PG_Assessment=\"Impact\"),HLOOKUP(Participant_Type,PG_Impact,Database!$B62,FALSE),\"-\")))","v":""},{"$f":"IF($C136=\"\",\"\",IF(AND(VLOOKUP($C136,PG_Flag,Database!K$44,FALSE)=1,PG_Assessment=\"Count\"),HLOOKUP(Participant_Type,PG_Count,Database!$B62,FALSE),IF(AND(VLOOKUP($C136,PG_Flag,Database!K$44,FALSE)=1,PG_Assessment=\"Impact\"),HLOOKUP(Participant_Type,PG_Impact,Database!$B62,FALSE),\"-\")))","v":""},{"$f":"IF($C136=\"\",\"\",IF(AND(VLOOKUP($C136,PG_Flag,Database!L$44,FALSE)=1,PG_Assessment=\"Count\"),HLOOKUP(Participant_Type,PG_Count,Database!$B62,FALSE),IF(AND(VLOOKUP($C136,PG_Flag,Database!L$44,FALSE)=1,PG_Assessment=\"Impact\"),HLOOKUP(Participant_Type,PG_Impact,Database!$B62,FALSE),\"-\")))","v":""},{"$f":"IF($C136=\"\",\"\",IF(AND(VLOOKUP($C136,PG_Flag,Database!M$44,FALSE)=1,PG_Assessment=\"Count\"),HLOOKUP(Participant_Type,PG_Count,Database!$B62,FALSE),IF(AND(VLOOKUP($C136,PG_Flag,Database!L$44,FALSE)=1,PG_Assessment=\"Impact\"),HLOOKUP(Participant_Type,PG_Impact,Database!$B62,FALSE),\"-\")))","v":""},null,{"$f":"IF($C136=\"\",\"\",IF(AND(VLOOKUP($C136,PG_Flag,Database!N$44,FALSE)=1,PG_Assessment=\"Count\"),HLOOKUP(Participant_Type,PG_Count,Database!$B62,FALSE),IF(AND(VLOOKUP($C136,PG_Flag,Database!L$44,FALSE)=1,PG_Assessment=\"Impact\"),HLOOKUP(Participant_Type,PG_Impact,Database!$B62,FALSE),\"-\")))","v":""},null,{"$f":"IF($C136=\"\",\"\",IF(AND(VLOOKUP($C136,PG_Flag,Database!O$44,FALSE)=1,PG_Assessment=\"Count\"),HLOOKUP(Participant_Type,PG_Count,Database!$B62,FALSE),IF(AND(VLOOKUP($C136,PG_Flag,Database!L$44,FALSE)=1,PG_Assessment=\"Impact\"),HLOOKUP(Participant_Type,PG_Impact,Database!$B62,FALSE),\"-\")))","v":""},null,{"$f":"IF($C136=\"\",\"\",IF(AND(VLOOKUP($C136,PG_Flag,Database!P$44,FALSE)=1,PG_Assessment=\"Count\"),HLOOKUP(Participant_Type,PG_Count,Database!$B62,FALSE),IF(AND(VLOOKUP($C136,PG_Flag,Database!L$44,FALSE)=1,PG_Assessment=\"Impact\"),HLOOKUP(Participant_Type,PG_Impact,Database!$B62,FALSE),\"-\")))","v":""}]
[null,null,{"$f":"IF(Database!C64=\"\",\"\",Database!C64)","v":""},{"$f":"IF($C137=\"\",\"\",IF(AND(VLOOKUP($C137,PG_Flag,Database!E$44,FALSE)=1,PG_Assessment=\"Count\"),HLOOKUP(Participant_Type,PG_Count,Database!$B63,FALSE),IF(AND(VLOOKUP($C137,PG_Flag,Database!E$44,FALSE)=1,PG_Assessment=\"Impact\"),HLOOKUP(Participant_Type,PG_Impact,Database!$B63,FALSE),\"-\")))","v":""},{"$f":"IF($C137=\"\",\"\",IF(AND(VLOOKUP($C137,PG_Flag,Database!F$44,FALSE)=1,PG_Assessment=\"Count\"),HLOOKUP(Participant_Type,PG_Count,Database!$B63,FALSE),IF(AND(VLOOKUP($C137,PG_Flag,Database!F$44,FALSE)=1,PG_Assessment=\"Impact\"),HLOOKUP(Participant_Type,PG_Impact,Database!$B63,FALSE),\"-\")))","v":""},{"$f":"IF($C137=\"\",\"\",IF(AND(VLOOKUP($C137,PG_Flag,Database!G$44,FALSE)=1,PG_Assessment=\"Count\"),HLOOKUP(Participant_Type,PG_Count,Database!$B63,FALSE),IF(AND(VLOOKUP($C137,PG_Flag,Database!G$44,FALSE)=1,PG_Assessment=\"Impact\"),HLOOKUP(Participant_Type,PG_Impact,Database!$B63,FALSE),\"-\")))","v":""},{"$f":"IF($C137=\"\",\"\",IF(AND(VLOOKUP($C137,PG_Flag,Database!H$44,FALSE)=1,PG_Assessment=\"Count\"),HLOOKUP(Participant_Type,PG_Count,Database!$B63,FALSE),IF(AND(VLOOKUP($C137,PG_Flag,Database!H$44,FALSE)=1,PG_Assessment=\"Impact\"),HLOOKUP(Participant_Type,PG_Impact,Database!$B63,FALSE),\"-\")))","v":""},{"$f":"IF($C137=\"\",\"\",IF(AND(VLOOKUP($C137,PG_Flag,Database!I$44,FALSE)=1,PG_Assessment=\"Count\"),HLOOKUP(Participant_Type,PG_Count,Database!$B63,FALSE),IF(AND(VLOOKUP($C137,PG_Flag,Database!I$44,FALSE)=1,PG_Assessment=\"Impact\"),HLOOKUP(Participant_Type,PG_Impact,Database!$B63,FALSE),\"-\")))","v":""},{"$f":"IF($C137=\"\",\"\",IF(AND(VLOOKUP($C137,PG_Flag,Database!J$44,FALSE)=1,PG_Assessment=\"Count\"),HLOOKUP(Participant_Type,PG_Count,Database!$B63,FALSE),IF(AND(VLOOKUP($C137,PG_Flag,Database!J$44,FALSE)=1,PG_Assessment=\"Impact\"),HLOOKUP(Participant_Type,PG_Impact,Database!$B63,FALSE),\"-\")))","v":""},{"$f":"IF($C137=\"\",\"\",IF(AND(VLOOKUP($C137,PG_Flag,Database!K$44,FALSE)=1,PG_Assessment=\"Count\"),HLOOKUP(Participant_Type,PG_Count,Database!$B63,FALSE),IF(AND(VLOOKUP($C137,PG_Flag,Database!K$44,FALSE)=1,PG_Assessment=\"Impact\"),HLOOKUP(Participant_Type,PG_Impact,Database!$B63,FALSE),\"-\")))","v":""},{"$f":"IF($C137=\"\",\"\",IF(AND(VLOOKUP($C137,PG_Flag,Database!L$44,FALSE)=1,PG_Assessment=\"Count\"),HLOOKUP(Participant_Type,PG_Count,Database!$B63,FALSE),IF(AND(VLOOKUP($C137,PG_Flag,Database!L$44,FALSE)=1,PG_Assessment=\"Impact\"),HLOOKUP(Participant_Type,PG_Impact,Database!$B63,FALSE),\"-\")))","v":""},{"$f":"IF($C137=\"\",\"\",IF(AND(VLOOKUP($C137,PG_Flag,Database!M$44,FALSE)=1,PG_Assessment=\"Count\"),HLOOKUP(Participant_Type,PG_Count,Database!$B63,FALSE),IF(AND(VLOOKUP($C137,PG_Flag,Database!L$44,FALSE)=1,PG_Assessment=\"Impact\"),HLOOKUP(Participant_Type,PG_Impact,Database!$B63,FALSE),\"-\")))","v":""},null,{"$f":"IF($C137=\"\",\"\",IF(AND(VLOOKUP($C137,PG_Flag,Database!N$44,FALSE)=1,PG_Assessment=\"Count\"),HLOOKUP(Participant_Type,PG_Count,Database!$B63,FALSE),IF(AND(VLOOKUP($C137,PG_Flag,Database!L$44,FALSE)=1,PG_Assessment=\"Impact\"),HLOOKUP(Participant_Type,PG_Impact,Database!$B63,FALSE),\"-\")))","v":""},null,{"$f":"IF($C137=\"\",\"\",IF(AND(VLOOKUP($C137,PG_Flag,Database!O$44,FALSE)=1,PG_Assessment=\"Count\"),HLOOKUP(Participant_Type,PG_Count,Database!$B63,FALSE),IF(AND(VLOOKUP($C137,PG_Flag,Database!L$44,FALSE)=1,PG_Assessment=\"Impact\"),HLOOKUP(Participant_Type,PG_Impact,Database!$B63,FALSE),\"-\")))","v":""},null,{"$f":"IF($C137=\"\",\"\",IF(AND(VLOOKUP($C137,PG_Flag,Database!P$44,FALSE)=1,PG_Assessment=\"Count\"),HLOOKUP(Participant_Type,PG_Count,Database!$B63,FALSE),IF(AND(VLOOKUP($C137,PG_Flag,Database!L$44,FALSE)=1,PG_Assessment=\"Impact\"),HLOOKUP(Participant_Type,PG_Impact,Database!$B63,FALSE),\"-\")))","v":""}]
[null,null,{"$f":"IF(Database!C65=\"\",\"\",Database!C65)","v":""},{"$f":"IF($C138=\"\",\"\",IF(AND(VLOOKUP($C138,PG_Flag,Database!E$44,FALSE)=1,PG_Assessment=\"Count\"),HLOOKUP(Participant_Type,PG_Count,Database!$B64,FALSE),IF(AND(VLOOKUP($C138,PG_Flag,Database!E$44,FALSE)=1,PG_Assessment=\"Impact\"),HLOOKUP(Participant_Type,PG_Impact,Database!$B64,FALSE),\"-\")))","v":""},{"$f":"IF($C138=\"\",\"\",IF(AND(VLOOKUP($C138,PG_Flag,Database!F$44,FALSE)=1,PG_Assessment=\"Count\"),HLOOKUP(Participant_Type,PG_Count,Database!$B64,FALSE),IF(AND(VLOOKUP($C138,PG_Flag,Database!F$44,FALSE)=1,PG_Assessment=\"Impact\"),HLOOKUP(Participant_Type,PG_Impact,Database!$B64,FALSE),\"-\")))","v":""},{"$f":"IF($C138=\"\",\"\",IF(AND(VLOOKUP($C138,PG_Flag,Database!G$44,FALSE)=1,PG_Assessment=\"Count\"),HLOOKUP(Participant_Type,PG_Count,Database!$B64,FALSE),IF(AND(VLOOKUP($C138,PG_Flag,Database!G$44,FALSE)=1,PG_Assessment=\"Impact\"),HLOOKUP(Participant_Type,PG_Impact,Database!$B64,FALSE),\"-\")))","v":""},{"$f":"IF($C138=\"\",\"\",IF(AND(VLOOKUP($C138,PG_Flag,Database!H$44,FALSE)=1,PG_Assessment=\"Count\"),HLOOKUP(Participant_Type,PG_Count,Database!$B64,FALSE),IF(AND(VLOOKUP($C138,PG_Flag,Database!H$44,FALSE)=1,PG_Assessment=\"Impact\"),HLOOKUP(Participant_Type,PG_Impact,Database!$B64,FALSE),\"-\")))","v":""},{"$f":"IF($C138=\"\",\"\",IF(AND(VLOOKUP($C138,PG_Flag,Database!I$44,FALSE)=1,PG_Assessment=\"Count\"),HLOOKUP(Participant_Type,PG_Count,Database!$B64,FALSE),IF(AND(VLOOKUP($C138,PG_Flag,Database!I$44,FALSE)=1,PG_Assessment=\"Impact\"),HLOOKUP(Participant_Type,PG_Impact,Database!$B64,FALSE),\"-\")))","v":""},{"$f":"IF($C138=\"\",\"\",IF(AND(VLOOKUP($C138,PG_Flag,Database!J$44,FALSE)=1,PG_Assessment=\"Count\"),HLOOKUP(Participant_Type,PG_Count,Database!$B64,FALSE),IF(AND(VLOOKUP($C138,PG_Flag,Database!J$44,FALSE)=1,PG_Assessment=\"Impact\"),HLOOKUP(Participant_Type,PG_Impact,Database!$B64,FALSE),\"-\")))","v":""},{"$f":"IF($C138=\"\",\"\",IF(AND(VLOOKUP($C138,PG_Flag,Database!K$44,FALSE)=1,PG_Assessment=\"Count\"),HLOOKUP(Participant_Type,PG_Count,Database!$B64,FALSE),IF(AND(VLOOKUP($C138,PG_Flag,Database!K$44,FALSE)=1,PG_Assessment=\"Impact\"),HLOOKUP(Participant_Type,PG_Impact,Database!$B64,FALSE),\"-\")))","v":""},{"$f":"IF($C138=\"\",\"\",IF(AND(VLOOKUP($C138,PG_Flag,Database!L$44,FALSE)=1,PG_Assessment=\"Count\"),HLOOKUP(Participant_Type,PG_Count,Database!$B64,FALSE),IF(AND(VLOOKUP($C138,PG_Flag,Database!L$44,FALSE)=1,PG_Assessment=\"Impact\"),HLOOKUP(Participant_Type,PG_Impact,Database!$B64,FALSE),\"-\")))","v":""},{"$f":"IF($C138=\"\",\"\",IF(AND(VLOOKUP($C138,PG_Flag,Database!M$44,FALSE)=1,PG_Assessment=\"Count\"),HLOOKUP(Participant_Type,PG_Count,Database!$B64,FALSE),IF(AND(VLOOKUP($C138,PG_Flag,Database!L$44,FALSE)=1,PG_Assessment=\"Impact\"),HLOOKUP(Participant_Type,PG_Impact,Database!$B64,FALSE),\"-\")))","v":""},null,{"$f":"IF($C138=\"\",\"\",IF(AND(VLOOKUP($C138,PG_Flag,Database!N$44,FALSE)=1,PG_Assessment=\"Count\"),HLOOKUP(Participant_Type,PG_Count,Database!$B64,FALSE),IF(AND(VLOOKUP($C138,PG_Flag,Database!L$44,FALSE)=1,PG_Assessment=\"Impact\"),HLOOKUP(Participant_Type,PG_Impact,Database!$B64,FALSE),\"-\")))","v":""},null,{"$f":"IF($C138=\"\",\"\",IF(AND(VLOOKUP($C138,PG_Flag,Database!O$44,FALSE)=1,PG_Assessment=\"Count\"),HLOOKUP(Participant_Type,PG_Count,Database!$B64,FALSE),IF(AND(VLOOKUP($C138,PG_Flag,Database!L$44,FALSE)=1,PG_Assessment=\"Impact\"),HLOOKUP(Participant_Type,PG_Impact,Database!$B64,FALSE),\"-\")))","v":""},null,{"$f":"IF($C138=\"\",\"\",IF(AND(VLOOKUP($C138,PG_Flag,Database!P$44,FALSE)=1,PG_Assessment=\"Count\"),HLOOKUP(Participant_Type,PG_Count,Database!$B64,FALSE),IF(AND(VLOOKUP($C138,PG_Flag,Database!L$44,FALSE)=1,PG_Assessment=\"Impact\"),HLOOKUP(Participant_Type,PG_Impact,Database!$B64,FALSE),\"-\")))","v":""}]
[null,null,{"$f":"IF(Database!C66=\"\",\"\",Database!C66)","v":""},{"$f":"IF($C139=\"\",\"\",IF(AND(VLOOKUP($C139,PG_Flag,Database!E$44,FALSE)=1,PG_Assessment=\"Count\"),HLOOKUP(Participant_Type,PG_Count,Database!$B65,FALSE),IF(AND(VLOOKUP($C139,PG_Flag,Database!E$44,FALSE)=1,PG_Assessment=\"Impact\"),HLOOKUP(Participant_Type,PG_Impact,Database!$B65,FALSE),\"-\")))","v":""},{"$f":"IF($C139=\"\",\"\",IF(AND(VLOOKUP($C139,PG_Flag,Database!F$44,FALSE)=1,PG_Assessment=\"Count\"),HLOOKUP(Participant_Type,PG_Count,Database!$B65,FALSE),IF(AND(VLOOKUP($C139,PG_Flag,Database!F$44,FALSE)=1,PG_Assessment=\"Impact\"),HLOOKUP(Participant_Type,PG_Impact,Database!$B65,FALSE),\"-\")))","v":""},{"$f":"IF($C139=\"\",\"\",IF(AND(VLOOKUP($C139,PG_Flag,Database!G$44,FALSE)=1,PG_Assessment=\"Count\"),HLOOKUP(Participant_Type,PG_Count,Database!$B65,FALSE),IF(AND(VLOOKUP($C139,PG_Flag,Database!G$44,FALSE)=1,PG_Assessment=\"Impact\"),HLOOKUP(Participant_Type,PG_Impact,Database!$B65,FALSE),\"-\")))","v":""},{"$f":"IF($C139=\"\",\"\",IF(AND(VLOOKUP($C139,PG_Flag,Database!H$44,FALSE)=1,PG_Assessment=\"Count\"),HLOOKUP(Participant_Type,PG_Count,Database!$B65,FALSE),IF(AND(VLOOKUP($C139,PG_Flag,Database!H$44,FALSE)=1,PG_Assessment=\"Impact\"),HLOOKUP(Participant_Type,PG_Impact,Database!$B65,FALSE),\"-\")))","v":""},{"$f":"IF($C139=\"\",\"\",IF(AND(VLOOKUP($C139,PG_Flag,Database!I$44,FALSE)=1,PG_Assessment=\"Count\"),HLOOKUP(Participant_Type,PG_Count,Database!$B65,FALSE),IF(AND(VLOOKUP($C139,PG_Flag,Database!I$44,FALSE)=1,PG_Assessment=\"Impact\"),HLOOKUP(Participant_Type,PG_Impact,Database!$B65,FALSE),\"-\")))","v":""},{"$f":"IF($C139=\"\",\"\",IF(AND(VLOOKUP($C139,PG_Flag,Database!J$44,FALSE)=1,PG_Assessment=\"Count\"),HLOOKUP(Participant_Type,PG_Count,Database!$B65,FALSE),IF(AND(VLOOKUP($C139,PG_Flag,Database!J$44,FALSE)=1,PG_Assessment=\"Impact\"),HLOOKUP(Participant_Type,PG_Impact,Database!$B65,FALSE),\"-\")))","v":""},{"$f":"IF($C139=\"\",\"\",IF(AND(VLOOKUP($C139,PG_Flag,Database!K$44,FALSE)=1,PG_Assessment=\"Count\"),HLOOKUP(Participant_Type,PG_Count,Database!$B65,FALSE),IF(AND(VLOOKUP($C139,PG_Flag,Database!K$44,FALSE)=1,PG_Assessment=\"Impact\"),HLOOKUP(Participant_Type,PG_Impact,Database!$B65,FALSE),\"-\")))","v":""},{"$f":"IF($C139=\"\",\"\",IF(AND(VLOOKUP($C139,PG_Flag,Database!L$44,FALSE)=1,PG_Assessment=\"Count\"),HLOOKUP(Participant_Type,PG_Count,Database!$B65,FALSE),IF(AND(VLOOKUP($C139,PG_Flag,Database!L$44,FALSE)=1,PG_Assessment=\"Impact\"),HLOOKUP(Participant_Type,PG_Impact,Database!$B65,FALSE),\"-\")))","v":""},{"$f":"IF($C139=\"\",\"\",IF(AND(VLOOKUP($C139,PG_Flag,Database!M$44,FALSE)=1,PG_Assessment=\"Count\"),HLOOKUP(Participant_Type,PG_Count,Database!$B65,FALSE),IF(AND(VLOOKUP($C139,PG_Flag,Database!L$44,FALSE)=1,PG_Assessment=\"Impact\"),HLOOKUP(Participant_Type,PG_Impact,Database!$B65,FALSE),\"-\")))","v":""},null,{"$f":"IF($C139=\"\",\"\",IF(AND(VLOOKUP($C139,PG_Flag,Database!N$44,FALSE)=1,PG_Assessment=\"Count\"),HLOOKUP(Participant_Type,PG_Count,Database!$B65,FALSE),IF(AND(VLOOKUP($C139,PG_Flag,Database!L$44,FALSE)=1,PG_Assessment=\"Impact\"),HLOOKUP(Participant_Type,PG_Impact,Database!$B65,FALSE),\"-\")))","v":""},null,{"$f":"IF($C139=\"\",\"\",IF(AND(VLOOKUP($C139,PG_Flag,Database!O$44,FALSE)=1,PG_Assessment=\"Count\"),HLOOKUP(Participant_Type,PG_Count,Database!$B65,FALSE),IF(AND(VLOOKUP($C139,PG_Flag,Database!L$44,FALSE)=1,PG_Assessment=\"Impact\"),HLOOKUP(Participant_Type,PG_Impact,Database!$B65,FALSE),\"-\")))","v":""},null,{"$f":"IF($C139=\"\",\"\",IF(AND(VLOOKUP($C139,PG_Flag,Database!P$44,FALSE)=1,PG_Assessment=\"Count\"),HLOOKUP(Participant_Type,PG_Count,Database!$B65,FALSE),IF(AND(VLOOKUP($C139,PG_Flag,Database!L$44,FALSE)=1,PG_Assessment=\"Impact\"),HLOOKUP(Participant_Type,PG_Impact,Database!$B65,FALSE),\"-\")))","v":""}]
[null,null,{"$f":"IF(Database!C67=\"\",\"\",Database!C67)","v":""},{"$f":"IF($C140=\"\",\"\",IF(AND(VLOOKUP($C140,PG_Flag,Database!E$44,FALSE)=1,PG_Assessment=\"Count\"),HLOOKUP(Participant_Type,PG_Count,Database!$B66,FALSE),IF(AND(VLOOKUP($C140,PG_Flag,Database!E$44,FALSE)=1,PG_Assessment=\"Impact\"),HLOOKUP(Participant_Type,PG_Impact,Database!$B66,FALSE),\"-\")))","v":""},{"$f":"IF($C140=\"\",\"\",IF(AND(VLOOKUP($C140,PG_Flag,Database!F$44,FALSE)=1,PG_Assessment=\"Count\"),HLOOKUP(Participant_Type,PG_Count,Database!$B66,FALSE),IF(AND(VLOOKUP($C140,PG_Flag,Database!F$44,FALSE)=1,PG_Assessment=\"Impact\"),HLOOKUP(Participant_Type,PG_Impact,Database!$B66,FALSE),\"-\")))","v":""},{"$f":"IF($C140=\"\",\"\",IF(AND(VLOOKUP($C140,PG_Flag,Database!G$44,FALSE)=1,PG_Assessment=\"Count\"),HLOOKUP(Participant_Type,PG_Count,Database!$B66,FALSE),IF(AND(VLOOKUP($C140,PG_Flag,Database!G$44,FALSE)=1,PG_Assessment=\"Impact\"),HLOOKUP(Participant_Type,PG_Impact,Database!$B66,FALSE),\"-\")))","v":""},{"$f":"IF($C140=\"\",\"\",IF(AND(VLOOKUP($C140,PG_Flag,Database!H$44,FALSE)=1,PG_Assessment=\"Count\"),HLOOKUP(Participant_Type,PG_Count,Database!$B66,FALSE),IF(AND(VLOOKUP($C140,PG_Flag,Database!H$44,FALSE)=1,PG_Assessment=\"Impact\"),HLOOKUP(Participant_Type,PG_Impact,Database!$B66,FALSE),\"-\")))","v":""},{"$f":"IF($C140=\"\",\"\",IF(AND(VLOOKUP($C140,PG_Flag,Database!I$44,FALSE)=1,PG_Assessment=\"Count\"),HLOOKUP(Participant_Type,PG_Count,Database!$B66,FALSE),IF(AND(VLOOKUP($C140,PG_Flag,Database!I$44,FALSE)=1,PG_Assessment=\"Impact\"),HLOOKUP(Participant_Type,PG_Impact,Database!$B66,FALSE),\"-\")))","v":""},{"$f":"IF($C140=\"\",\"\",IF(AND(VLOOKUP($C140,PG_Flag,Database!J$44,FALSE)=1,PG_Assessment=\"Count\"),HLOOKUP(Participant_Type,PG_Count,Database!$B66,FALSE),IF(AND(VLOOKUP($C140,PG_Flag,Database!J$44,FALSE)=1,PG_Assessment=\"Impact\"),HLOOKUP(Participant_Type,PG_Impact,Database!$B66,FALSE),\"-\")))","v":""},{"$f":"IF($C140=\"\",\"\",IF(AND(VLOOKUP($C140,PG_Flag,Database!K$44,FALSE)=1,PG_Assessment=\"Count\"),HLOOKUP(Participant_Type,PG_Count,Database!$B66,FALSE),IF(AND(VLOOKUP($C140,PG_Flag,Database!K$44,FALSE)=1,PG_Assessment=\"Impact\"),HLOOKUP(Participant_Type,PG_Impact,Database!$B66,FALSE),\"-\")))","v":""},{"$f":"IF($C140=\"\",\"\",IF(AND(VLOOKUP($C140,PG_Flag,Database!L$44,FALSE)=1,PG_Assessment=\"Count\"),HLOOKUP(Participant_Type,PG_Count,Database!$B66,FALSE),IF(AND(VLOOKUP($C140,PG_Flag,Database!L$44,FALSE)=1,PG_Assessment=\"Impact\"),HLOOKUP(Participant_Type,PG_Impact,Database!$B66,FALSE),\"-\")))","v":""},{"$f":"IF($C140=\"\",\"\",IF(AND(VLOOKUP($C140,PG_Flag,Database!M$44,FALSE)=1,PG_Assessment=\"Count\"),HLOOKUP(Participant_Type,PG_Count,Database!$B66,FALSE),IF(AND(VLOOKUP($C140,PG_Flag,Database!L$44,FALSE)=1,PG_Assessment=\"Impact\"),HLOOKUP(Participant_Type,PG_Impact,Database!$B66,FALSE),\"-\")))","v":""},null,{"$f":"IF($C140=\"\",\"\",IF(AND(VLOOKUP($C140,PG_Flag,Database!N$44,FALSE)=1,PG_Assessment=\"Count\"),HLOOKUP(Participant_Type,PG_Count,Database!$B66,FALSE),IF(AND(VLOOKUP($C140,PG_Flag,Database!L$44,FALSE)=1,PG_Assessment=\"Impact\"),HLOOKUP(Participant_Type,PG_Impact,Database!$B66,FALSE),\"-\")))","v":""},null,{"$f":"IF($C140=\"\",\"\",IF(AND(VLOOKUP($C140,PG_Flag,Database!O$44,FALSE)=1,PG_Assessment=\"Count\"),HLOOKUP(Participant_Type,PG_Count,Database!$B66,FALSE),IF(AND(VLOOKUP($C140,PG_Flag,Database!L$44,FALSE)=1,PG_Assessment=\"Impact\"),HLOOKUP(Participant_Type,PG_Impact,Database!$B66,FALSE),\"-\")))","v":""},null,{"$f":"IF($C140=\"\",\"\",IF(AND(VLOOKUP($C140,PG_Flag,Database!P$44,FALSE)=1,PG_Assessment=\"Count\"),HLOOKUP(Participant_Type,PG_Count,Database!$B66,FALSE),IF(AND(VLOOKUP($C140,PG_Flag,Database!L$44,FALSE)=1,PG_Assessment=\"Impact\"),HLOOKUP(Participant_Type,PG_Impact,Database!$B66,FALSE),\"-\")))","v":""}]
[null,null,"IT Solution Delivery",{"$f":"IF(OR(COUNTIF(D142:D161,\"H\")>=Database!$D$31,COUNTIF(D142:D161,\"M\")>=Database!$D$32),\"R\",IF(OR(COUNTIF(D142:D161,\"M\")>=Database!$E$32,COUNTIF(D142:D161,\"L\")>=Database!$E$33),\"A\",\"G\"))","v":"R"},{"$f":"IF(OR(COUNTIF(E142:E161,\"H\")>=Database!$D$31,COUNTIF(E142:E161,\"M\")>=Database!$D$32),\"R\",IF(OR(COUNTIF(E142:E161,\"M\")>=Database!$E$32,COUNTIF(E142:E161,\"L\")>=Database!$E$33),\"A\",\"G\"))","v":"R"},{"$f":"IF(OR(COUNTIF(F142:F161,\"H\")>=Database!$D$31,COUNTIF(F142:F161,\"M\")>=Database!$D$32),\"R\",IF(OR(COUNTIF(F142:F161,\"M\")>=Database!$E$32,COUNTIF(F142:F161,\"L\")>=Database!$E$33),\"A\",\"G\"))","v":"R"},{"$f":"IF(OR(COUNTIF(G142:G161,\"H\")>=Database!$D$31,COUNTIF(G142:G161,\"M\")>=Database!$D$32),\"R\",IF(OR(COUNTIF(G142:G161,\"M\")>=Database!$E$32,COUNTIF(G142:G161,\"L\")>=Database!$E$33),\"A\",\"G\"))","v":"R"},{"$f":"IF(OR(COUNTIF(H142:H161,\"H\")>=Database!$D$31,COUNTIF(H142:H161,\"M\")>=Database!$D$32),\"R\",IF(OR(COUNTIF(H142:H161,\"M\")>=Database!$E$32,COUNTIF(H142:H161,\"L\")>=Database!$E$33),\"A\",\"G\"))","v":"R"},{"$f":"IF(OR(COUNTIF(I142:I161,\"H\")>=Database!$D$31,COUNTIF(I142:I161,\"M\")>=Database!$D$32),\"R\",IF(OR(COUNTIF(I142:I161,\"M\")>=Database!$E$32,COUNTIF(I142:I161,\"L\")>=Database!$E$33),\"A\",\"G\"))","v":"R"},{"$f":"IF(OR(COUNTIF(J142:J161,\"H\")>=Database!$D$31,COUNTIF(J142:J161,\"M\")>=Database!$D$32),\"R\",IF(OR(COUNTIF(J142:J161,\"M\")>=Database!$E$32,COUNTIF(J142:J161,\"L\")>=Database!$E$33),\"A\",\"G\"))","v":"R"},{"$f":"IF(OR(COUNTIF(K142:K161,\"H\")>=Database!$D$31,COUNTIF(K142:K161,\"M\")>=Database!$D$32),\"R\",IF(OR(COUNTIF(K142:K161,\"M\")>=Database!$E$32,COUNTIF(K142:K161,\"L\")>=Database!$E$33),\"A\",\"G\"))","v":"R"},{"$f":"IF(OR(COUNTIF(L142:M161,\"H\")>=Database!$D$31,COUNTIF(L142:M161,\"M\")>=Database!$D$32),\"R\",IF(OR(COUNTIF(L142:M161,\"M\")>=Database!$E$32,COUNTIF(L142:M161,\"L\")>=Database!$E$33),\"A\",\"G\"))","v":"R"},null,{"$f":"IF(OR(COUNTIF(N142:O161,\"H\")>=Database!$D$31,COUNTIF(N142:O161,\"M\")>=Database!$D$32),\"R\",IF(OR(COUNTIF(N142:O161,\"M\")>=Database!$E$32,COUNTIF(N142:O161,\"L\")>=Database!$E$33),\"A\",\"G\"))","v":"R"},null,{"$f":"IF(OR(COUNTIF(P142:Q161,\"H\")>=Database!$D$31,COUNTIF(P142:Q161,\"M\")>=Database!$D$32),\"R\",IF(OR(COUNTIF(P142:Q161,\"M\")>=Database!$E$32,COUNTIF(P142:Q161,\"L\")>=Database!$E$33),\"A\",\"G\"))","v":"G"},null,{"$f":"IF(OR(COUNTIF(R142:S161,\"H\")>=Database!$D$31,COUNTIF(R142:S161,\"M\")>=Database!$D$32),\"R\",IF(OR(COUNTIF(R142:S161,\"M\")>=Database!$E$32,COUNTIF(R142:S161,\"L\")>=Database!$E$33),\"A\",\"G\"))","v":"G"}]
[null,null,{"$f":"IF(Database!C48=\"\",\"\",Database!C48)","v":"I - SCADA Lite"},{"$f":"IF($C142=\"\",\"\",IF(VLOOKUP($C142,IT_Flag,Database!E$44,FALSE)=1,HLOOKUP(Participant_Type,IT_Sol,Database!$B48,FALSE),\"-\"))","v":"L"},{"$f":"IF($C142=\"\",\"\",IF(VLOOKUP($C142,IT_Flag,Database!F$44,FALSE)=1,HLOOKUP(Participant_Type,IT_Sol,Database!$B48,FALSE),\"-\"))","v":"L"},{"$f":"IF($C142=\"\",\"\",IF(VLOOKUP($C142,IT_Flag,Database!G$44,FALSE)=1,HLOOKUP(Participant_Type,IT_Sol,Database!$B48,FALSE),\"-\"))","v":"-"},{"$f":"IF($C142=\"\",\"\",IF(VLOOKUP($C142,IT_Flag,Database!H$44,FALSE)=1,HLOOKUP(Participant_Type,IT_Sol,Database!$B48,FALSE),\"-\"))","v":"-"},{"$f":"IF($C142=\"\",\"\",IF(VLOOKUP($C142,IT_Flag,Database!I$44,FALSE)=1,HLOOKUP(Participant_Type,IT_Sol,Database!$B48,FALSE),\"-\"))","v":"-"},{"$f":"IF($C142=\"\",\"\",IF(VLOOKUP($C142,IT_Flag,Database!J$44,FALSE)=1,HLOOKUP(Participant_Type,IT_Sol,Database!$B48,FALSE),\"-\"))","v":"-"},{"$f":"IF($C142=\"\",\"\",IF(VLOOKUP($C142,IT_Flag,Database!K$44,FALSE)=1,HLOOKUP(Participant_Type,IT_Sol,Database!$B48,FALSE),\"-\"))","v":"-"},{"$f":"IF($C142=\"\",\"\",IF(VLOOKUP($C142,IT_Flag,Database!L$44,FALSE)=1,HLOOKUP(Participant_Type,IT_Sol,Database!$B48,FALSE),\"-\"))","v":"-"},{"$f":"IF($C142=\"\",\"\",IF(VLOOKUP($C142,IT_Flag,Database!M$44,FALSE)=1,HLOOKUP(Participant_Type,IT_Sol,Database!$B48,FALSE),\"-\"))","v":"-"},null,{"$f":"IF($C142=\"\",\"\",IF(VLOOKUP($C142,IT_Flag,Database!N$44,FALSE)=1,HLOOKUP(Participant_Type,IT_Sol,Database!$B48,FALSE),\"-\"))","v":"-"},null,{"$f":"IF($C142=\"\",\"\",IF(VLOOKUP($C142,IT_Flag,Database!O$44,FALSE)=1,HLOOKUP(Participant_Type,IT_Sol,Database!$B48,FALSE),\"-\"))","v":"-"},null,{"$f":"IF($C142=\"\",\"\",IF(VLOOKUP($C142,IT_Flag,Database!P$44,FALSE)=1,HLOOKUP(Participant_Type,IT_Sol,Database!$B48,FALSE),\"-\"))","v":"-"}]
[null,null,{"$f":"IF(Database!C49=\"\",\"\",Database!C49)","v":"I - Frequency Performance Payments"},{"$f":"IF($C143=\"\",\"\",IF(VLOOKUP($C143,IT_Flag,Database!E$44,FALSE)=1,HLOOKUP(Participant_Type,IT_Sol,Database!$B49,FALSE),\"-\"))","v":"M"},{"$f":"IF($C143=\"\",\"\",IF(VLOOKUP($C143,IT_Flag,Database!F$44,FALSE)=1,HLOOKUP(Participant_Type,IT_Sol,Database!$B49,FALSE),\"-\"))","v":"-"},{"$f":"IF($C143=\"\",\"\",IF(VLOOKUP($C143,IT_Flag,Database!G$44,FALSE)=1,HLOOKUP(Participant_Type,IT_Sol,Database!$B49,FALSE),\"-\"))","v":"-"},{"$f":"IF($C143=\"\",\"\",IF(VLOOKUP($C143,IT_Flag,Database!H$44,FALSE)=1,HLOOKUP(Participant_Type,IT_Sol,Database!$B49,FALSE),\"-\"))","v":"-"},{"$f":"IF($C143=\"\",\"\",IF(VLOOKUP($C143,IT_Flag,Database!I$44,FALSE)=1,HLOOKUP(Participant_Type,IT_Sol,Database!$B49,FALSE),\"-\"))","v":"-"},{"$f":"IF($C143=\"\",\"\",IF(VLOOKUP($C143,IT_Flag,Database!J$44,FALSE)=1,HLOOKUP(Participant_Type,IT_Sol,Database!$B49,FALSE),\"-\"))","v":"-"},{"$f":"IF($C143=\"\",\"\",IF(VLOOKUP($C143,IT_Flag,Database!K$44,FALSE)=1,HLOOKUP(Participant_Type,IT_Sol,Database!$B49,FALSE),\"-\"))","v":"-"},{"$f":"IF($C143=\"\",\"\",IF(VLOOKUP($C143,IT_Flag,Database!L$44,FALSE)=1,HLOOKUP(Participant_Type,IT_Sol,Database!$B49,FALSE),\"-\"))","v":"-"},{"$f":"IF($C143=\"\",\"\",IF(VLOOKUP($C143,IT_Flag,Database!M$44,FALSE)=1,HLOOKUP(Participant_Type,IT_Sol,Database!$B49,FALSE),\"-\"))","v":"-"},null,{"$f":"IF($C143=\"\",\"\",IF(VLOOKUP($C143,IT_Flag,Database!N$44,FALSE)=1,HLOOKUP(Participant_Type,IT_Sol,Database!$B49,FALSE),\"-\"))","v":"-"},null,{"$f":"IF($C143=\"\",\"\",IF(VLOOKUP($C143,IT_Flag,Database!O$44,FALSE)=1,HLOOKUP(Participant_Type,IT_Sol,Database!$B49,FALSE),\"-\"))","v":"-"},null,{"$f":"IF($C143=\"\",\"\",IF(VLOOKUP($C143,IT_Flag,Database!P$44,FALSE)=1,HLOOKUP(Participant_Type,IT_Sol,Database!$B49,FALSE),\"-\"))","v":"-"}]
[null,null,{"$f":"IF(Database!C50=\"\",\"\",Database!C50)","v":"I - Enhancing Reserve Information"},{"$f":"IF($C144=\"\",\"\",IF(VLOOKUP($C144,IT_Flag,Database!E$44,FALSE)=1,HLOOKUP(Participant_Type,IT_Sol,Database!$B50,FALSE),\"-\"))","v":"L"},{"$f":"IF($C144=\"\",\"\",IF(VLOOKUP($C144,IT_Flag,Database!F$44,FALSE)=1,HLOOKUP(Participant_Type,IT_Sol,Database!$B50,FALSE),\"-\"))","v":"L"},{"$f":"IF($C144=\"\",\"\",IF(VLOOKUP($C144,IT_Flag,Database!G$44,FALSE)=1,HLOOKUP(Participant_Type,IT_Sol,Database!$B50,FALSE),\"-\"))","v":"-"},{"$f":"IF($C144=\"\",\"\",IF(VLOOKUP($C144,IT_Flag,Database!H$44,FALSE)=1,HLOOKUP(Participant_Type,IT_Sol,Database!$B50,FALSE),\"-\"))","v":"-"},{"$f":"IF($C144=\"\",\"\",IF(VLOOKUP($C144,IT_Flag,Database!I$44,FALSE)=1,HLOOKUP(Participant_Type,IT_Sol,Database!$B50,FALSE),\"-\"))","v":"-"},{"$f":"IF($C144=\"\",\"\",IF(VLOOKUP($C144,IT_Flag,Database!J$44,FALSE)=1,HLOOKUP(Participant_Type,IT_Sol,Database!$B50,FALSE),\"-\"))","v":"-"},{"$f":"IF($C144=\"\",\"\",IF(VLOOKUP($C144,IT_Flag,Database!K$44,FALSE)=1,HLOOKUP(Participant_Type,IT_Sol,Database!$B50,FALSE),\"-\"))","v":"-"},{"$f":"IF($C144=\"\",\"\",IF(VLOOKUP($C144,IT_Flag,Database!L$44,FALSE)=1,HLOOKUP(Participant_Type,IT_Sol,Database!$B50,FALSE),\"-\"))","v":"-"},{"$f":"IF($C144=\"\",\"\",IF(VLOOKUP($C144,IT_Flag,Database!M$44,FALSE)=1,HLOOKUP(Participant_Type,IT_Sol,Database!$B50,FALSE),\"-\"))","v":"-"},null,{"$f":"IF($C144=\"\",\"\",IF(VLOOKUP($C144,IT_Flag,Database!N$44,FALSE)=1,HLOOKUP(Participant_Type,IT_Sol,Database!$B50,FALSE),\"-\"))","v":"-"},null,{"$f":"IF($C144=\"\",\"\",IF(VLOOKUP($C144,IT_Flag,Database!O$44,FALSE)=1,HLOOKUP(Participant_Type,IT_Sol,Database!$B50,FALSE),\"-\"))","v":"-"},null,{"$f":"IF($C144=\"\",\"\",IF(VLOOKUP($C144,IT_Flag,Database!P$44,FALSE)=1,HLOOKUP(Participant_Type,IT_Sol,Database!$B50,FALSE),\"-\"))","v":"-"}]
[null,null,{"$f":"IF(Database!C51=\"\",\"\",Database!C51)","v":"I - ST PASA Procedure & Recall Period"},{"$f":"IF($C145=\"\",\"\",IF(VLOOKUP($C145,IT_Flag,Database!E$44,FALSE)=1,HLOOKUP(Participant_Type,IT_Sol,Database!$B51,FALSE),\"-\"))","v":"L"},{"$f":"IF($C145=\"\",\"\",IF(VLOOKUP($C145,IT_Flag,Database!F$44,FALSE)=1,HLOOKUP(Participant_Type,IT_Sol,Database!$B51,FALSE),\"-\"))","v":"-"},{"$f":"IF($C145=\"\",\"\",IF(VLOOKUP($C145,IT_Flag,Database!G$44,FALSE)=1,HLOOKUP(Participant_Type,IT_Sol,Database!$B51,FALSE),\"-\"))","v":"-"},{"$f":"IF($C145=\"\",\"\",IF(VLOOKUP($C145,IT_Flag,Database!H$44,FALSE)=1,HLOOKUP(Participant_Type,IT_Sol,Database!$B51,FALSE),\"-\"))","v":"-"},{"$f":"IF($C145=\"\",\"\",IF(VLOOKUP($C145,IT_Flag,Database!I$44,FALSE)=1,HLOOKUP(Participant_Type,IT_Sol,Database!$B51,FALSE),\"-\"))","v":"-"},{"$f":"IF($C145=\"\",\"\",IF(VLOOKUP($C145,IT_Flag,Database!J$44,FALSE)=1,HLOOKUP(Participant_Type,IT_Sol,Database!$B51,FALSE),\"-\"))","v":"-"},{"$f":"IF($C145=\"\",\"\",IF(VLOOKUP($C145,IT_Flag,Database!K$44,FALSE)=1,HLOOKUP(Participant_Type,IT_Sol,Database!$B51,FALSE),\"-\"))","v":"-"},{"$f":"IF($C145=\"\",\"\",IF(VLOOKUP($C145,IT_Flag,Database!L$44,FALSE)=1,HLOOKUP(Participant_Type,IT_Sol,Database!$B51,FALSE),\"-\"))","v":"-"},{"$f":"IF($C145=\"\",\"\",IF(VLOOKUP($C145,IT_Flag,Database!M$44,FALSE)=1,HLOOKUP(Participant_Type,IT_Sol,Database!$B51,FALSE),\"-\"))","v":"-"},null,{"$f":"IF($C145=\"\",\"\",IF(VLOOKUP($C145,IT_Flag,Database!N$44,FALSE)=1,HLOOKUP(Participant_Type,IT_Sol,Database!$B51,FALSE),\"-\"))","v":"-"},null,{"$f":"IF($C145=\"\",\"\",IF(VLOOKUP($C145,IT_Flag,Database!O$44,FALSE)=1,HLOOKUP(Participant_Type,IT_Sol,Database!$B51,FALSE),\"-\"))","v":"-"},null,{"$f":"IF($C145=\"\",\"\",IF(VLOOKUP($C145,IT_Flag,Database!P$44,FALSE)=1,HLOOKUP(Participant_Type,IT_Sol,Database!$B51,FALSE),\"-\"))","v":"-"}]
[null,null,{"$f":"IF(Database!C52=\"\",\"\",Database!C52)","v":"I - Improving Security Frameworks"},{"$f":"IF($C146=\"\",\"\",IF(VLOOKUP($C146,IT_Flag,Database!E$44,FALSE)=1,HLOOKUP(Participant_Type,IT_Sol,Database!$B52,FALSE),\"-\"))","v":"H"},{"$f":"IF($C146=\"\",\"\",IF(VLOOKUP($C146,IT_Flag,Database!F$44,FALSE)=1,HLOOKUP(Participant_Type,IT_Sol,Database!$B52,FALSE),\"-\"))","v":"H"},{"$f":"IF($C146=\"\",\"\",IF(VLOOKUP($C146,IT_Flag,Database!G$44,FALSE)=1,HLOOKUP(Participant_Type,IT_Sol,Database!$B52,FALSE),\"-\"))","v":"H"},{"$f":"IF($C146=\"\",\"\",IF(VLOOKUP($C146,IT_Flag,Database!H$44,FALSE)=1,HLOOKUP(Participant_Type,IT_Sol,Database!$B52,FALSE),\"-\"))","v":"H"},{"$f":"IF($C146=\"\",\"\",IF(VLOOKUP($C146,IT_Flag,Database!I$44,FALSE)=1,HLOOKUP(Participant_Type,IT_Sol,Database!$B52,FALSE),\"-\"))","v":"-"},{"$f":"IF($C146=\"\",\"\",IF(VLOOKUP($C146,IT_Flag,Database!J$44,FALSE)=1,HLOOKUP(Participant_Type,IT_Sol,Database!$B52,FALSE),\"-\"))","v":"-"},{"$f":"IF($C146=\"\",\"\",IF(VLOOKUP($C146,IT_Flag,Database!K$44,FALSE)=1,HLOOKUP(Participant_Type,IT_Sol,Database!$B52,FALSE),\"-\"))","v":"-"},{"$f":"IF($C146=\"\",\"\",IF(VLOOKUP($C146,IT_Flag,Database!L$44,FALSE)=1,HLOOKUP(Participant_Type,IT_Sol,Database!$B52,FALSE),\"-\"))","v":"-"},{"$f":"IF($C146=\"\",\"\",IF(VLOOKUP($C146,IT_Flag,Database!M$44,FALSE)=1,HLOOKUP(Participant_Type,IT_Sol,Database!$B52,FALSE),\"-\"))","v":"-"},null,{"$f":"IF($C146=\"\",\"\",IF(VLOOKUP($C146,IT_Flag,Database!N$44,FALSE)=1,HLOOKUP(Participant_Type,IT_Sol,Database!$B52,FALSE),\"-\"))","v":"-"},null,{"$f":"IF($C146=\"\",\"\",IF(VLOOKUP($C146,IT_Flag,Database!O$44,FALSE)=1,HLOOKUP(Participant_Type,IT_Sol,Database!$B52,FALSE),\"-\"))","v":"-"},null,{"$f":"IF($C146=\"\",\"\",IF(VLOOKUP($C146,IT_Flag,Database!P$44,FALSE)=1,HLOOKUP(Participant_Type,IT_Sol,Database!$B52,FALSE),\"-\"))","v":"-"}]
[null,null,{"$f":"IF(Database!C53=\"\",\"\",Database!C53)","v":"I - Unlocking CER Benefits Through Flexible Trading"},{"$f":"IF($C147=\"\",\"\",IF(VLOOKUP($C147,IT_Flag,Database!E$44,FALSE)=1,HLOOKUP(Participant_Type,IT_Sol,Database!$B53,FALSE),\"-\"))","v":"-"},{"$f":"IF($C147=\"\",\"\",IF(VLOOKUP($C147,IT_Flag,Database!F$44,FALSE)=1,HLOOKUP(Participant_Type,IT_Sol,Database!$B53,FALSE),\"-\"))","v":"-"},{"$f":"IF($C147=\"\",\"\",IF(VLOOKUP($C147,IT_Flag,Database!G$44,FALSE)=1,HLOOKUP(Participant_Type,IT_Sol,Database!$B53,FALSE),\"-\"))","v":"M"},{"$f":"IF($C147=\"\",\"\",IF(VLOOKUP($C147,IT_Flag,Database!H$44,FALSE)=1,HLOOKUP(Participant_Type,IT_Sol,Database!$B53,FALSE),\"-\"))","v":"M"},{"$f":"IF($C147=\"\",\"\",IF(VLOOKUP($C147,IT_Flag,Database!I$44,FALSE)=1,HLOOKUP(Participant_Type,IT_Sol,Database!$B53,FALSE),\"-\"))","v":"M"},{"$f":"IF($C147=\"\",\"\",IF(VLOOKUP($C147,IT_Flag,Database!J$44,FALSE)=1,HLOOKUP(Participant_Type,IT_Sol,Database!$B53,FALSE),\"-\"))","v":"M"},{"$f":"IF($C147=\"\",\"\",IF(VLOOKUP($C147,IT_Flag,Database!K$44,FALSE)=1,HLOOKUP(Participant_Type,IT_Sol,Database!$B53,FALSE),\"-\"))","v":"M"},{"$f":"IF($C147=\"\",\"\",IF(VLOOKUP($C147,IT_Flag,Database!L$44,FALSE)=1,HLOOKUP(Participant_Type,IT_Sol,Database!$B53,FALSE),\"-\"))","v":"-"},{"$f":"IF($C147=\"\",\"\",IF(VLOOKUP($C147,IT_Flag,Database!M$44,FALSE)=1,HLOOKUP(Participant_Type,IT_Sol,Database!$B53,FALSE),\"-\"))","v":"-"},null,{"$f":"IF($C147=\"\",\"\",IF(VLOOKUP($C147,IT_Flag,Database!N$44,FALSE)=1,HLOOKUP(Participant_Type,IT_Sol,Database!$B53,FALSE),\"-\"))","v":"-"},null,{"$f":"IF($C147=\"\",\"\",IF(VLOOKUP($C147,IT_Flag,Database!O$44,FALSE)=1,HLOOKUP(Participant_Type,IT_Sol,Database!$B53,FALSE),\"-\"))","v":"-"},null,{"$f":"IF($C147=\"\",\"\",IF(VLOOKUP($C147,IT_Flag,Database!P$44,FALSE)=1,HLOOKUP(Participant_Type,IT_Sol,Database!$B53,FALSE),\"-\"))","v":"-"}]
[null,null,{"$f":"IF(Database!C54=\"\",\"\",Database!C54)","v":"I - MSR (Accelerating Smart Meter Deployment - Package 1 & 2)"},{"$f":"IF($C148=\"\",\"\",IF(VLOOKUP($C148,IT_Flag,Database!E$44,FALSE)=1,HLOOKUP(Participant_Type,IT_Sol,Database!$B54,FALSE),\"-\"))","v":"M"},{"$f":"IF($C148=\"\",\"\",IF(VLOOKUP($C148,IT_Flag,Database!F$44,FALSE)=1,HLOOKUP(Participant_Type,IT_Sol,Database!$B54,FALSE),\"-\"))","v":"M"},{"$f":"IF($C148=\"\",\"\",IF(VLOOKUP($C148,IT_Flag,Database!G$44,FALSE)=1,HLOOKUP(Participant_Type,IT_Sol,Database!$B54,FALSE),\"-\"))","v":"M"},{"$f":"IF($C148=\"\",\"\",IF(VLOOKUP($C148,IT_Flag,Database!H$44,FALSE)=1,HLOOKUP(Participant_Type,IT_Sol,Database!$B54,FALSE),\"-\"))","v":"-"},{"$f":"IF($C148=\"\",\"\",IF(VLOOKUP($C148,IT_Flag,Database!I$44,FALSE)=1,HLOOKUP(Participant_Type,IT_Sol,Database!$B54,FALSE),\"-\"))","v":"-"},{"$f":"IF($C148=\"\",\"\",IF(VLOOKUP($C148,IT_Flag,Database!J$44,FALSE)=1,HLOOKUP(Participant_Type,IT_Sol,Database!$B54,FALSE),\"-\"))","v":"-"},{"$f":"IF($C148=\"\",\"\",IF(VLOOKUP($C148,IT_Flag,Database!K$44,FALSE)=1,HLOOKUP(Participant_Type,IT_Sol,Database!$B54,FALSE),\"-\"))","v":"-"},{"$f":"IF($C148=\"\",\"\",IF(VLOOKUP($C148,IT_Flag,Database!L$44,FALSE)=1,HLOOKUP(Participant_Type,IT_Sol,Database!$B54,FALSE),\"-\"))","v":"-"},{"$f":"IF($C148=\"\",\"\",IF(VLOOKUP($C148,IT_Flag,Database!M$44,FALSE)=1,HLOOKUP(Participant_Type,IT_Sol,Database!$B54,FALSE),\"-\"))","v":"-"},null,{"$f":"IF($C148=\"\",\"\",IF(VLOOKUP($C148,IT_Flag,Database!N$44,FALSE)=1,HLOOKUP(Participant_Type,IT_Sol,Database!$B54,FALSE),\"-\"))","v":"-"},null,{"$f":"IF($C148=\"\",\"\",IF(VLOOKUP($C148,IT_Flag,Database!O$44,FALSE)=1,HLOOKUP(Participant_Type,IT_Sol,Database!$B54,FALSE),\"-\"))","v":"-"},null,{"$f":"IF($C148=\"\",\"\",IF(VLOOKUP($C148,IT_Flag,Database!P$44,FALSE)=1,HLOOKUP(Participant_Type,IT_Sol,Database!$B54,FALSE),\"-\"))","v":"-"}]
[null,null,{"$f":"IF(Database!C55=\"\",\"\",Database!C55)","v":"I - Shortening the Settlement Cycle"},{"$f":"IF($C149=\"\",\"\",IF(VLOOKUP($C149,IT_Flag,Database!E$44,FALSE)=1,HLOOKUP(Participant_Type,IT_Sol,Database!$B55,FALSE),\"-\"))","v":"-"},{"$f":"IF($C149=\"\",\"\",IF(VLOOKUP($C149,IT_Flag,Database!F$44,FALSE)=1,HLOOKUP(Participant_Type,IT_Sol,Database!$B55,FALSE),\"-\"))","v":"M"},{"$f":"IF($C149=\"\",\"\",IF(VLOOKUP($C149,IT_Flag,Database!G$44,FALSE)=1,HLOOKUP(Participant_Type,IT_Sol,Database!$B55,FALSE),\"-\"))","v":"M"},{"$f":"IF($C149=\"\",\"\",IF(VLOOKUP($C149,IT_Flag,Database!H$44,FALSE)=1,HLOOKUP(Participant_Type,IT_Sol,Database!$B55,FALSE),\"-\"))","v":"M"},{"$f":"IF($C149=\"\",\"\",IF(VLOOKUP($C149,IT_Flag,Database!I$44,FALSE)=1,HLOOKUP(Participant_Type,IT_Sol,Database!$B55,FALSE),\"-\"))","v":"M"},{"$f":"IF($C149=\"\",\"\",IF(VLOOKUP($C149,IT_Flag,Database!J$44,FALSE)=1,HLOOKUP(Participant_Type,IT_Sol,Database!$B55,FALSE),\"-\"))","v":"M"},{"$f":"IF($C149=\"\",\"\",IF(VLOOKUP($C149,IT_Flag,Database!K$44,FALSE)=1,HLOOKUP(Participant_Type,IT_Sol,Database!$B55,FALSE),\"-\"))","v":"-"},{"$f":"IF($C149=\"\",\"\",IF(VLOOKUP($C149,IT_Flag,Database!L$44,FALSE)=1,HLOOKUP(Participant_Type,IT_Sol,Database!$B55,FALSE),\"-\"))","v":"-"},{"$f":"IF($C149=\"\",\"\",IF(VLOOKUP($C149,IT_Flag,Database!M$44,FALSE)=1,HLOOKUP(Participant_Type,IT_Sol,Database!$B55,FALSE),\"-\"))","v":"-"},null,{"$f":"IF($C149=\"\",\"\",IF(VLOOKUP($C149,IT_Flag,Database!N$44,FALSE)=1,HLOOKUP(Participant_Type,IT_Sol,Database!$B55,FALSE),\"-\"))","v":"-"},null,{"$f":"IF($C149=\"\",\"\",IF(VLOOKUP($C149,IT_Flag,Database!O$44,FALSE)=1,HLOOKUP(Participant_Type,IT_Sol,Database!$B55,FALSE),\"-\"))","v":"-"},null,{"$f":"IF($C149=\"\",\"\",IF(VLOOKUP($C149,IT_Flag,Database!P$44,FALSE)=1,HLOOKUP(Participant_Type,IT_Sol,Database!$B55,FALSE),\"-\"))","v":"-"}]
[null,null,{"$f":"IF(Database!C56=\"\",\"\",Database!C56)","v":"I - Integrating Price Responsive Resources into the NEM"},{"$f":"IF($C150=\"\",\"\",IF(VLOOKUP($C150,IT_Flag,Database!E$44,FALSE)=1,HLOOKUP(Participant_Type,IT_Sol,Database!$B56,FALSE),\"-\"))","v":"-"},{"$f":"IF($C150=\"\",\"\",IF(VLOOKUP($C150,IT_Flag,Database!F$44,FALSE)=1,HLOOKUP(Participant_Type,IT_Sol,Database!$B56,FALSE),\"-\"))","v":"H"},{"$f":"IF($C150=\"\",\"\",IF(VLOOKUP($C150,IT_Flag,Database!G$44,FALSE)=1,HLOOKUP(Participant_Type,IT_Sol,Database!$B56,FALSE),\"-\"))","v":"H"},{"$f":"IF($C150=\"\",\"\",IF(VLOOKUP($C150,IT_Flag,Database!H$44,FALSE)=1,HLOOKUP(Participant_Type,IT_Sol,Database!$B56,FALSE),\"-\"))","v":"H"},{"$f":"IF($C150=\"\",\"\",IF(VLOOKUP($C150,IT_Flag,Database!I$44,FALSE)=1,HLOOKUP(Participant_Type,IT_Sol,Database!$B56,FALSE),\"-\"))","v":"H"},{"$f":"IF($C150=\"\",\"\",IF(VLOOKUP($C150,IT_Flag,Database!J$44,FALSE)=1,HLOOKUP(Participant_Type,IT_Sol,Database!$B56,FALSE),\"-\"))","v":"H"},{"$f":"IF($C150=\"\",\"\",IF(VLOOKUP($C150,IT_Flag,Database!K$44,FALSE)=1,HLOOKUP(Participant_Type,IT_Sol,Database!$B56,FALSE),\"-\"))","v":"H"},{"$f":"IF($C150=\"\",\"\",IF(VLOOKUP($C150,IT_Flag,Database!L$44,FALSE)=1,HLOOKUP(Participant_Type,IT_Sol,Database!$B56,FALSE),\"-\"))","v":"H"},{"$f":"IF($C150=\"\",\"\",IF(VLOOKUP($C150,IT_Flag,Database!M$44,FALSE)=1,HLOOKUP(Participant_Type,IT_Sol,Database!$B56,FALSE),\"-\"))","v":"H"},null,{"$f":"IF($C150=\"\",\"\",IF(VLOOKUP($C150,IT_Flag,Database!N$44,FALSE)=1,HLOOKUP(Participant_Type,IT_Sol,Database!$B56,FALSE),\"-\"))","v":"H"},null,{"$f":"IF($C150=\"\",\"\",IF(VLOOKUP($C150,IT_Flag,Database!O$44,FALSE)=1,HLOOKUP(Participant_Type,IT_Sol,Database!$B56,FALSE),\"-\"))","v":"-"},null,{"$f":"IF($C150=\"\",\"\",IF(VLOOKUP($C150,IT_Flag,Database!P$44,FALSE)=1,HLOOKUP(Participant_Type,IT_Sol,Database!$B56,FALSE),\"-\"))","v":"-"}]
[null,null,{"$f":"IF(Database!C57=\"\",\"\",Database!C57)","v":"I - IDX (Foundation)"},{"$f":"IF($C151=\"\",\"\",IF(VLOOKUP($C151,IT_Flag,Database!E$44,FALSE)=1,HLOOKUP(Participant_Type,IT_Sol,Database!$B57,FALSE),\"-\"))","v":"-"},{"$f":"IF($C151=\"\",\"\",IF(VLOOKUP($C151,IT_Flag,Database!F$44,FALSE)=1,HLOOKUP(Participant_Type,IT_Sol,Database!$B57,FALSE),\"-\"))","v":"H"},{"$f":"IF($C151=\"\",\"\",IF(VLOOKUP($C151,IT_Flag,Database!G$44,FALSE)=1,HLOOKUP(Participant_Type,IT_Sol,Database!$B57,FALSE),\"-\"))","v":"H"},{"$f":"IF($C151=\"\",\"\",IF(VLOOKUP($C151,IT_Flag,Database!H$44,FALSE)=1,HLOOKUP(Participant_Type,IT_Sol,Database!$B57,FALSE),\"-\"))","v":"H"},{"$f":"IF($C151=\"\",\"\",IF(VLOOKUP($C151,IT_Flag,Database!I$44,FALSE)=1,HLOOKUP(Participant_Type,IT_Sol,Database!$B57,FALSE),\"-\"))","v":"H"},{"$f":"IF($C151=\"\",\"\",IF(VLOOKUP($C151,IT_Flag,Database!J$44,FALSE)=1,HLOOKUP(Participant_Type,IT_Sol,Database!$B57,FALSE),\"-\"))","v":"H"},{"$f":"IF($C151=\"\",\"\",IF(VLOOKUP($C151,IT_Flag,Database!K$44,FALSE)=1,HLOOKUP(Participant_Type,IT_Sol,Database!$B57,FALSE),\"-\"))","v":"-"},{"$f":"IF($C151=\"\",\"\",IF(VLOOKUP($C151,IT_Flag,Database!L$44,FALSE)=1,HLOOKUP(Participant_Type,IT_Sol,Database!$B57,FALSE),\"-\"))","v":"-"},{"$f":"IF($C151=\"\",\"\",IF(VLOOKUP($C151,IT_Flag,Database!M$44,FALSE)=1,HLOOKUP(Participant_Type,IT_Sol,Database!$B57,FALSE),\"-\"))","v":"-"},null,{"$f":"IF($C151=\"\",\"\",IF(VLOOKUP($C151,IT_Flag,Database!N$44,FALSE)=1,HLOOKUP(Participant_Type,IT_Sol,Database!$B57,FALSE),\"-\"))","v":"-"},null,{"$f":"IF($C151=\"\",\"\",IF(VLOOKUP($C151,IT_Flag,Database!O$44,FALSE)=1,HLOOKUP(Participant_Type,IT_Sol,Database!$B57,FALSE),\"-\"))","v":"-"},null,{"$f":"IF($C151=\"\",\"\",IF(VLOOKUP($C151,IT_Flag,Database!P$44,FALSE)=1,HLOOKUP(Participant_Type,IT_Sol,Database!$B57,FALSE),\"-\"))","v":"-"}]
[null,null,{"$f":"IF(Database!C58=\"\",\"\",Database!C58)","v":"I - IDAM (Foundation)"},{"$f":"IF($C152=\"\",\"\",IF(VLOOKUP($C152,IT_Flag,Database!E$44,FALSE)=1,HLOOKUP(Participant_Type,IT_Sol,Database!$B58,FALSE),\"-\"))","v":"-"},{"$f":"IF($C152=\"\",\"\",IF(VLOOKUP($C152,IT_Flag,Database!F$44,FALSE)=1,HLOOKUP(Participant_Type,IT_Sol,Database!$B58,FALSE),\"-\"))","v":"-"},{"$f":"IF($C152=\"\",\"\",IF(VLOOKUP($C152,IT_Flag,Database!G$44,FALSE)=1,HLOOKUP(Participant_Type,IT_Sol,Database!$B58,FALSE),\"-\"))","v":"H"},{"$f":"IF($C152=\"\",\"\",IF(VLOOKUP($C152,IT_Flag,Database!H$44,FALSE)=1,HLOOKUP(Participant_Type,IT_Sol,Database!$B58,FALSE),\"-\"))","v":"H"},{"$f":"IF($C152=\"\",\"\",IF(VLOOKUP($C152,IT_Flag,Database!I$44,FALSE)=1,HLOOKUP(Participant_Type,IT_Sol,Database!$B58,FALSE),\"-\"))","v":"H"},{"$f":"IF($C152=\"\",\"\",IF(VLOOKUP($C152,IT_Flag,Database!J$44,FALSE)=1,HLOOKUP(Participant_Type,IT_Sol,Database!$B58,FALSE),\"-\"))","v":"H"},{"$f":"IF($C152=\"\",\"\",IF(VLOOKUP($C152,IT_Flag,Database!K$44,FALSE)=1,HLOOKUP(Participant_Type,IT_Sol,Database!$B58,FALSE),\"-\"))","v":"H"},{"$f":"IF($C152=\"\",\"\",IF(VLOOKUP($C152,IT_Flag,Database!L$44,FALSE)=1,HLOOKUP(Participant_Type,IT_Sol,Database!$B58,FALSE),\"-\"))","v":"-"},{"$f":"IF($C152=\"\",\"\",IF(VLOOKUP($C152,IT_Flag,Database!M$44,FALSE)=1,HLOOKUP(Participant_Type,IT_Sol,Database!$B58,FALSE),\"-\"))","v":"-"},null,{"$f":"IF($C152=\"\",\"\",IF(VLOOKUP($C152,IT_Flag,Database!N$44,FALSE)=1,HLOOKUP(Participant_Type,IT_Sol,Database!$B58,FALSE),\"-\"))","v":"-"},null,{"$f":"IF($C152=\"\",\"\",IF(VLOOKUP($C152,IT_Flag,Database!O$44,FALSE)=1,HLOOKUP(Participant_Type,IT_Sol,Database!$B58,FALSE),\"-\"))","v":"-"},null,{"$f":"IF($C152=\"\",\"\",IF(VLOOKUP($C152,IT_Flag,Database!P$44,FALSE)=1,HLOOKUP(Participant_Type,IT_Sol,Database!$B58,FALSE),\"-\"))","v":"-"}]
[null,null,{"$f":"IF(Database!C59=\"\",\"\",Database!C59)","v":"I - MSR (Accelerating Smart Meter Deployment - Package 3)"},{"$f":"IF($C153=\"\",\"\",IF(VLOOKUP($C153,IT_Flag,Database!E$44,FALSE)=1,HLOOKUP(Participant_Type,IT_Sol,Database!$B59,FALSE),\"-\"))","v":"-"},{"$f":"IF($C153=\"\",\"\",IF(VLOOKUP($C153,IT_Flag,Database!F$44,FALSE)=1,HLOOKUP(Participant_Type,IT_Sol,Database!$B59,FALSE),\"-\"))","v":"-"},{"$f":"IF($C153=\"\",\"\",IF(VLOOKUP($C153,IT_Flag,Database!G$44,FALSE)=1,HLOOKUP(Participant_Type,IT_Sol,Database!$B59,FALSE),\"-\"))","v":"L"},{"$f":"IF($C153=\"\",\"\",IF(VLOOKUP($C153,IT_Flag,Database!H$44,FALSE)=1,HLOOKUP(Participant_Type,IT_Sol,Database!$B59,FALSE),\"-\"))","v":"L"},{"$f":"IF($C153=\"\",\"\",IF(VLOOKUP($C153,IT_Flag,Database!I$44,FALSE)=1,HLOOKUP(Participant_Type,IT_Sol,Database!$B59,FALSE),\"-\"))","v":"L"},{"$f":"IF($C153=\"\",\"\",IF(VLOOKUP($C153,IT_Flag,Database!J$44,FALSE)=1,HLOOKUP(Participant_Type,IT_Sol,Database!$B59,FALSE),\"-\"))","v":"L"},{"$f":"IF($C153=\"\",\"\",IF(VLOOKUP($C153,IT_Flag,Database!K$44,FALSE)=1,HLOOKUP(Participant_Type,IT_Sol,Database!$B59,FALSE),\"-\"))","v":"-"},{"$f":"IF($C153=\"\",\"\",IF(VLOOKUP($C153,IT_Flag,Database!L$44,FALSE)=1,HLOOKUP(Participant_Type,IT_Sol,Database!$B59,FALSE),\"-\"))","v":"-"},{"$f":"IF($C153=\"\",\"\",IF(VLOOKUP($C153,IT_Flag,Database!M$44,FALSE)=1,HLOOKUP(Participant_Type,IT_Sol,Database!$B59,FALSE),\"-\"))","v":"-"},null,{"$f":"IF($C153=\"\",\"\",IF(VLOOKUP($C153,IT_Flag,Database!N$44,FALSE)=1,HLOOKUP(Participant_Type,IT_Sol,Database!$B59,FALSE),\"-\"))","v":"-"},null,{"$f":"IF($C153=\"\",\"\",IF(VLOOKUP($C153,IT_Flag,Database!O$44,FALSE)=1,HLOOKUP(Participant_Type,IT_Sol,Database!$B59,FALSE),\"-\"))","v":"-"},null,{"$f":"IF($C153=\"\",\"\",IF(VLOOKUP($C153,IT_Flag,Database!P$44,FALSE)=1,HLOOKUP(Participant_Type,IT_Sol,Database!$B59,FALSE),\"-\"))","v":"-"}]
[null,null,{"$f":"IF(Database!C60=\"\",\"\",Database!C60)","v":"A - Inter-regional SRAs for transmission loops (PEC-MI)"},{"$f":"IF($C154=\"\",\"\",IF(VLOOKUP($C154,IT_Flag,Database!E$44,FALSE)=1,HLOOKUP(Participant_Type,IT_Sol,Database!$B60,FALSE),\"-\"))","v":"-"},{"$f":"IF($C154=\"\",\"\",IF(VLOOKUP($C154,IT_Flag,Database!F$44,FALSE)=1,HLOOKUP(Participant_Type,IT_Sol,Database!$B60,FALSE),\"-\"))","v":"-"},{"$f":"IF($C154=\"\",\"\",IF(VLOOKUP($C154,IT_Flag,Database!G$44,FALSE)=1,HLOOKUP(Participant_Type,IT_Sol,Database!$B60,FALSE),\"-\"))","v":"-"},{"$f":"IF($C154=\"\",\"\",IF(VLOOKUP($C154,IT_Flag,Database!H$44,FALSE)=1,HLOOKUP(Participant_Type,IT_Sol,Database!$B60,FALSE),\"-\"))","v":"M"},{"$f":"IF($C154=\"\",\"\",IF(VLOOKUP($C154,IT_Flag,Database!I$44,FALSE)=1,HLOOKUP(Participant_Type,IT_Sol,Database!$B60,FALSE),\"-\"))","v":"-"},{"$f":"IF($C154=\"\",\"\",IF(VLOOKUP($C154,IT_Flag,Database!J$44,FALSE)=1,HLOOKUP(Participant_Type,IT_Sol,Database!$B60,FALSE),\"-\"))","v":"-"},{"$f":"IF($C154=\"\",\"\",IF(VLOOKUP($C154,IT_Flag,Database!K$44,FALSE)=1,HLOOKUP(Participant_Type,IT_Sol,Database!$B60,FALSE),\"-\"))","v":"-"},{"$f":"IF($C154=\"\",\"\",IF(VLOOKUP($C154,IT_Flag,Database!L$44,FALSE)=1,HLOOKUP(Participant_Type,IT_Sol,Database!$B60,FALSE),\"-\"))","v":"-"},{"$f":"IF($C154=\"\",\"\",IF(VLOOKUP($C154,IT_Flag,Database!M$44,FALSE)=1,HLOOKUP(Participant_Type,IT_Sol,Database!$B60,FALSE),\"-\"))","v":"-"},null,{"$f":"IF($C154=\"\",\"\",IF(VLOOKUP($C154,IT_Flag,Database!N$44,FALSE)=1,HLOOKUP(Participant_Type,IT_Sol,Database!$B60,FALSE),\"-\"))","v":"-"},null,{"$f":"IF($C154=\"\",\"\",IF(VLOOKUP($C154,IT_Flag,Database!O$44,FALSE)=1,HLOOKUP(Participant_Type,IT_Sol,Database!$B60,FALSE),\"-\"))","v":"-"},null,{"$f":"IF($C154=\"\",\"\",IF(VLOOKUP($C154,IT_Flag,Database!P$44,FALSE)=1,HLOOKUP(Participant_Type,IT_Sol,Database!$B60,FALSE),\"-\"))","v":"-"}]
[null,null,{"$f":"IF(Database!C61=\"\",\"\",Database!C61)","v":""},{"$f":"IF($C155=\"\",\"\",IF(VLOOKUP($C155,IT_Flag,Database!E$44,FALSE)=1,HLOOKUP(Participant_Type,IT_Sol,Database!$B61,FALSE),\"-\"))","v":""},{"$f":"IF($C155=\"\",\"\",IF(VLOOKUP($C155,IT_Flag,Database!F$44,FALSE)=1,HLOOKUP(Participant_Type,IT_Sol,Database!$B61,FALSE),\"-\"))","v":""},{"$f":"IF($C155=\"\",\"\",IF(VLOOKUP($C155,IT_Flag,Database!G$44,FALSE)=1,HLOOKUP(Participant_Type,IT_Sol,Database!$B61,FALSE),\"-\"))","v":""},{"$f":"IF($C155=\"\",\"\",IF(VLOOKUP($C155,IT_Flag,Database!H$44,FALSE)=1,HLOOKUP(Participant_Type,IT_Sol,Database!$B61,FALSE),\"-\"))","v":""},{"$f":"IF($C155=\"\",\"\",IF(VLOOKUP($C155,IT_Flag,Database!I$44,FALSE)=1,HLOOKUP(Participant_Type,IT_Sol,Database!$B61,FALSE),\"-\"))","v":""},{"$f":"IF($C155=\"\",\"\",IF(VLOOKUP($C155,IT_Flag,Database!J$44,FALSE)=1,HLOOKUP(Participant_Type,IT_Sol,Database!$B61,FALSE),\"-\"))","v":""},{"$f":"IF($C155=\"\",\"\",IF(VLOOKUP($C155,IT_Flag,Database!K$44,FALSE)=1,HLOOKUP(Participant_Type,IT_Sol,Database!$B61,FALSE),\"-\"))","v":""},{"$f":"IF($C155=\"\",\"\",IF(VLOOKUP($C155,IT_Flag,Database!L$44,FALSE)=1,HLOOKUP(Participant_Type,IT_Sol,Database!$B61,FALSE),\"-\"))","v":""},{"$f":"IF($C155=\"\",\"\",IF(VLOOKUP($C155,IT_Flag,Database!M$44,FALSE)=1,HLOOKUP(Participant_Type,IT_Sol,Database!$B61,FALSE),\"-\"))","v":""},null,{"$f":"IF($C155=\"\",\"\",IF(VLOOKUP($C155,IT_Flag,Database!N$44,FALSE)=1,HLOOKUP(Participant_Type,IT_Sol,Database!$B61,FALSE),\"-\"))","v":""},null,{"$f":"IF($C155=\"\",\"\",IF(VLOOKUP($C155,IT_Flag,Database!O$44,FALSE)=1,HLOOKUP(Participant_Type,IT_Sol,Database!$B61,FALSE),\"-\"))","v":""},null,{"$f":"IF($C155=\"\",\"\",IF(VLOOKUP($C155,IT_Flag,Database!P$44,FALSE)=1,HLOOKUP(Participant_Type,IT_Sol,Database!$B61,FALSE),\"-\"))","v":""}]
[null,null,{"$f":"IF(Database!C62=\"\",\"\",Database!C62)","v":""},{"$f":"IF($C156=\"\",\"\",IF(VLOOKUP($C156,IT_Flag,Database!E$44,FALSE)=1,HLOOKUP(Participant_Type,IT_Sol,Database!$B62,FALSE),\"-\"))","v":""},{"$f":"IF($C156=\"\",\"\",IF(VLOOKUP($C156,IT_Flag,Database!F$44,FALSE)=1,HLOOKUP(Participant_Type,IT_Sol,Database!$B62,FALSE),\"-\"))","v":""},{"$f":"IF($C156=\"\",\"\",IF(VLOOKUP($C156,IT_Flag,Database!G$44,FALSE)=1,HLOOKUP(Participant_Type,IT_Sol,Database!$B62,FALSE),\"-\"))","v":""},{"$f":"IF($C156=\"\",\"\",IF(VLOOKUP($C156,IT_Flag,Database!H$44,FALSE)=1,HLOOKUP(Participant_Type,IT_Sol,Database!$B62,FALSE),\"-\"))","v":""},{"$f":"IF($C156=\"\",\"\",IF(VLOOKUP($C156,IT_Flag,Database!I$44,FALSE)=1,HLOOKUP(Participant_Type,IT_Sol,Database!$B62,FALSE),\"-\"))","v":""},{"$f":"IF($C156=\"\",\"\",IF(VLOOKUP($C156,IT_Flag,Database!J$44,FALSE)=1,HLOOKUP(Participant_Type,IT_Sol,Database!$B62,FALSE),\"-\"))","v":""},{"$f":"IF($C156=\"\",\"\",IF(VLOOKUP($C156,IT_Flag,Database!K$44,FALSE)=1,HLOOKUP(Participant_Type,IT_Sol,Database!$B62,FALSE),\"-\"))","v":""},{"$f":"IF($C156=\"\",\"\",IF(VLOOKUP($C156,IT_Flag,Database!L$44,FALSE)=1,HLOOKUP(Participant_Type,IT_Sol,Database!$B62,FALSE),\"-\"))","v":""},{"$f":"IF($C156=\"\",\"\",IF(VLOOKUP($C156,IT_Flag,Database!M$44,FALSE)=1,HLOOKUP(Participant_Type,IT_Sol,Database!$B62,FALSE),\"-\"))","v":""},null,{"$f":"IF($C156=\"\",\"\",IF(VLOOKUP($C156,IT_Flag,Database!N$44,FALSE)=1,HLOOKUP(Participant_Type,IT_Sol,Database!$B62,FALSE),\"-\"))","v":""},null,{"$f":"IF($C156=\"\",\"\",IF(VLOOKUP($C156,IT_Flag,Database!O$44,FALSE)=1,HLOOKUP(Participant_Type,IT_Sol,Database!$B62,FALSE),\"-\"))","v":""},null,{"$f":"IF($C156=\"\",\"\",IF(VLOOKUP($C156,IT_Flag,Database!P$44,FALSE)=1,HLOOKUP(Participant_Type,IT_Sol,Database!$B62,FALSE),\"-\"))","v":""}]
[null,null,{"$f":"IF(Database!C63=\"\",\"\",Database!C63)","v":""},{"$f":"IF($C157=\"\",\"\",IF(VLOOKUP($C157,IT_Flag,Database!E$44,FALSE)=1,HLOOKUP(Participant_Type,IT_Sol,Database!$B63,FALSE),\"-\"))","v":""},{"$f":"IF($C157=\"\",\"\",IF(VLOOKUP($C157,IT_Flag,Database!F$44,FALSE)=1,HLOOKUP(Participant_Type,IT_Sol,Database!$B63,FALSE),\"-\"))","v":""},{"$f":"IF($C157=\"\",\"\",IF(VLOOKUP($C157,IT_Flag,Database!G$44,FALSE)=1,HLOOKUP(Participant_Type,IT_Sol,Database!$B63,FALSE),\"-\"))","v":""},{"$f":"IF($C157=\"\",\"\",IF(VLOOKUP($C157,IT_Flag,Database!H$44,FALSE)=1,HLOOKUP(Participant_Type,IT_Sol,Database!$B63,FALSE),\"-\"))","v":""},{"$f":"IF($C157=\"\",\"\",IF(VLOOKUP($C157,IT_Flag,Database!I$44,FALSE)=1,HLOOKUP(Participant_Type,IT_Sol,Database!$B63,FALSE),\"-\"))","v":""},{"$f":"IF($C157=\"\",\"\",IF(VLOOKUP($C157,IT_Flag,Database!J$44,FALSE)=1,HLOOKUP(Participant_Type,IT_Sol,Database!$B63,FALSE),\"-\"))","v":""},{"$f":"IF($C157=\"\",\"\",IF(VLOOKUP($C157,IT_Flag,Database!K$44,FALSE)=1,HLOOKUP(Participant_Type,IT_Sol,Database!$B63,FALSE),\"-\"))","v":""},{"$f":"IF($C157=\"\",\"\",IF(VLOOKUP($C157,IT_Flag,Database!L$44,FALSE)=1,HLOOKUP(Participant_Type,IT_Sol,Database!$B63,FALSE),\"-\"))","v":""},{"$f":"IF($C157=\"\",\"\",IF(VLOOKUP($C157,IT_Flag,Database!M$44,FALSE)=1,HLOOKUP(Participant_Type,IT_Sol,Database!$B63,FALSE),\"-\"))","v":""},null,{"$f":"IF($C157=\"\",\"\",IF(VLOOKUP($C157,IT_Flag,Database!N$44,FALSE)=1,HLOOKUP(Participant_Type,IT_Sol,Database!$B63,FALSE),\"-\"))","v":""},null,{"$f":"IF($C157=\"\",\"\",IF(VLOOKUP($C157,IT_Flag,Database!O$44,FALSE)=1,HLOOKUP(Participant_Type,IT_Sol,Database!$B63,FALSE),\"-\"))","v":""},null,{"$f":"IF($C157=\"\",\"\",IF(VLOOKUP($C157,IT_Flag,Database!P$44,FALSE)=1,HLOOKUP(Participant_Type,IT_Sol,Database!$B63,FALSE),\"-\"))","v":""}]
[null,null,{"$f":"IF(Database!C64=\"\",\"\",Database!C64)","v":""},{"$f":"IF($C158=\"\",\"\",IF(VLOOKUP($C158,IT_Flag,Database!E$44,FALSE)=1,HLOOKUP(Participant_Type,IT_Sol,Database!$B64,FALSE),\"-\"))","v":""},{"$f":"IF($C158=\"\",\"\",IF(VLOOKUP($C158,IT_Flag,Database!F$44,FALSE)=1,HLOOKUP(Participant_Type,IT_Sol,Database!$B64,FALSE),\"-\"))","v":""},{"$f":"IF($C158=\"\",\"\",IF(VLOOKUP($C158,IT_Flag,Database!G$44,FALSE)=1,HLOOKUP(Participant_Type,IT_Sol,Database!$B64,FALSE),\"-\"))","v":""},{"$f":"IF($C158=\"\",\"\",IF(VLOOKUP($C158,IT_Flag,Database!H$44,FALSE)=1,HLOOKUP(Participant_Type,IT_Sol,Database!$B64,FALSE),\"-\"))","v":""},{"$f":"IF($C158=\"\",\"\",IF(VLOOKUP($C158,IT_Flag,Database!I$44,FALSE)=1,HLOOKUP(Participant_Type,IT_Sol,Database!$B64,FALSE),\"-\"))","v":""},{"$f":"IF($C158=\"\",\"\",IF(VLOOKUP($C158,IT_Flag,Database!J$44,FALSE)=1,HLOOKUP(Participant_Type,IT_Sol,Database!$B64,FALSE),\"-\"))","v":""},{"$f":"IF($C158=\"\",\"\",IF(VLOOKUP($C158,IT_Flag,Database!K$44,FALSE)=1,HLOOKUP(Participant_Type,IT_Sol,Database!$B64,FALSE),\"-\"))","v":""},{"$f":"IF($C158=\"\",\"\",IF(VLOOKUP($C158,IT_Flag,Database!L$44,FALSE)=1,HLOOKUP(Participant_Type,IT_Sol,Database!$B64,FALSE),\"-\"))","v":""},{"$f":"IF($C158=\"\",\"\",IF(VLOOKUP($C158,IT_Flag,Database!M$44,FALSE)=1,HLOOKUP(Participant_Type,IT_Sol,Database!$B64,FALSE),\"-\"))","v":""},null,{"$f":"IF($C158=\"\",\"\",IF(VLOOKUP($C158,IT_Flag,Database!N$44,FALSE)=1,HLOOKUP(Participant_Type,IT_Sol,Database!$B64,FALSE),\"-\"))","v":""},null,{"$f":"IF($C158=\"\",\"\",IF(VLOOKUP($C158,IT_Flag,Database!O$44,FALSE)=1,HLOOKUP(Participant_Type,IT_Sol,Database!$B64,FALSE),\"-\"))","v":""},null,{"$f":"IF($C158=\"\",\"\",IF(VLOOKUP($C158,IT_Flag,Database!P$44,FALSE)=1,HLOOKUP(Participant_Type,IT_Sol,Database!$B64,FALSE),\"-\"))","v":""}]
[null,null,{"$f":"IF(Database!C65=\"\",\"\",Database!C65)","v":""},{"$f":"IF($C159=\"\",\"\",IF(VLOOKUP($C159,IT_Flag,Database!E$44,FALSE)=1,HLOOKUP(Participant_Type,IT_Sol,Database!$B65,FALSE),\"-\"))","v":""},{"$f":"IF($C159=\"\",\"\",IF(VLOOKUP($C159,IT_Flag,Database!F$44,FALSE)=1,HLOOKUP(Participant_Type,IT_Sol,Database!$B65,FALSE),\"-\"))","v":""},{"$f":"IF($C159=\"\",\"\",IF(VLOOKUP($C159,IT_Flag,Database!G$44,FALSE)=1,HLOOKUP(Participant_Type,IT_Sol,Database!$B65,FALSE),\"-\"))","v":""},{"$f":"IF($C159=\"\",\"\",IF(VLOOKUP($C159,IT_Flag,Database!H$44,FALSE)=1,HLOOKUP(Participant_Type,IT_Sol,Database!$B65,FALSE),\"-\"))","v":""},{"$f":"IF($C159=\"\",\"\",IF(VLOOKUP($C159,IT_Flag,Database!I$44,FALSE)=1,HLOOKUP(Participant_Type,IT_Sol,Database!$B65,FALSE),\"-\"))","v":""},{"$f":"IF($C159=\"\",\"\",IF(VLOOKUP($C159,IT_Flag,Database!J$44,FALSE)=1,HLOOKUP(Participant_Type,IT_Sol,Database!$B65,FALSE),\"-\"))","v":""},{"$f":"IF($C159=\"\",\"\",IF(VLOOKUP($C159,IT_Flag,Database!K$44,FALSE)=1,HLOOKUP(Participant_Type,IT_Sol,Database!$B65,FALSE),\"-\"))","v":""},{"$f":"IF($C159=\"\",\"\",IF(VLOOKUP($C159,IT_Flag,Database!L$44,FALSE)=1,HLOOKUP(Participant_Type,IT_Sol,Database!$B65,FALSE),\"-\"))","v":""},{"$f":"IF($C159=\"\",\"\",IF(VLOOKUP($C159,IT_Flag,Database!M$44,FALSE)=1,HLOOKUP(Participant_Type,IT_Sol,Database!$B65,FALSE),\"-\"))","v":""},null,{"$f":"IF($C159=\"\",\"\",IF(VLOOKUP($C159,IT_Flag,Database!N$44,FALSE)=1,HLOOKUP(Participant_Type,IT_Sol,Database!$B65,FALSE),\"-\"))","v":""},null,{"$f":"IF($C159=\"\",\"\",IF(VLOOKUP($C159,IT_Flag,Database!O$44,FALSE)=1,HLOOKUP(Participant_Type,IT_Sol,Database!$B65,FALSE),\"-\"))","v":""},null,{"$f":"IF($C159=\"\",\"\",IF(VLOOKUP($C159,IT_Flag,Database!P$44,FALSE)=1,HLOOKUP(Participant_Type,IT_Sol,Database!$B65,FALSE),\"-\"))","v":""}]
[null,null,{"$f":"IF(Database!C66=\"\",\"\",Database!C66)","v":""},{"$f":"IF($C160=\"\",\"\",IF(VLOOKUP($C160,IT_Flag,Database!E$44,FALSE)=1,HLOOKUP(Participant_Type,IT_Sol,Database!$B66,FALSE),\"-\"))","v":""},{"$f":"IF($C160=\"\",\"\",IF(VLOOKUP($C160,IT_Flag,Database!F$44,FALSE)=1,HLOOKUP(Participant_Type,IT_Sol,Database!$B66,FALSE),\"-\"))","v":""},{"$f":"IF($C160=\"\",\"\",IF(VLOOKUP($C160,IT_Flag,Database!G$44,FALSE)=1,HLOOKUP(Participant_Type,IT_Sol,Database!$B66,FALSE),\"-\"))","v":""},{"$f":"IF($C160=\"\",\"\",IF(VLOOKUP($C160,IT_Flag,Database!H$44,FALSE)=1,HLOOKUP(Participant_Type,IT_Sol,Database!$B66,FALSE),\"-\"))","v":""},{"$f":"IF($C160=\"\",\"\",IF(VLOOKUP($C160,IT_Flag,Database!I$44,FALSE)=1,HLOOKUP(Participant_Type,IT_Sol,Database!$B66,FALSE),\"-\"))","v":""},{"$f":"IF($C160=\"\",\"\",IF(VLOOKUP($C160,IT_Flag,Database!J$44,FALSE)=1,HLOOKUP(Participant_Type,IT_Sol,Database!$B66,FALSE),\"-\"))","v":""},{"$f":"IF($C160=\"\",\"\",IF(VLOOKUP($C160,IT_Flag,Database!K$44,FALSE)=1,HLOOKUP(Participant_Type,IT_Sol,Database!$B66,FALSE),\"-\"))","v":""},{"$f":"IF($C160=\"\",\"\",IF(VLOOKUP($C160,IT_Flag,Database!L$44,FALSE)=1,HLOOKUP(Participant_Type,IT_Sol,Database!$B66,FALSE),\"-\"))","v":""},{"$f":"IF($C160=\"\",\"\",IF(VLOOKUP($C160,IT_Flag,Database!M$44,FALSE)=1,HLOOKUP(Participant_Type,IT_Sol,Database!$B66,FALSE),\"-\"))","v":""},null,{"$f":"IF($C160=\"\",\"\",IF(VLOOKUP($C160,IT_Flag,Database!N$44,FALSE)=1,HLOOKUP(Participant_Type,IT_Sol,Database!$B66,FALSE),\"-\"))","v":""},null,{"$f":"IF($C160=\"\",\"\",IF(VLOOKUP($C160,IT_Flag,Database!O$44,FALSE)=1,HLOOKUP(Participant_Type,IT_Sol,Database!$B66,FALSE),\"-\"))","v":""},null,{"$f":"IF($C160=\"\",\"\",IF(VLOOKUP($C160,IT_Flag,Database!P$44,FALSE)=1,HLOOKUP(Participant_Type,IT_Sol,Database!$B66,FALSE),\"-\"))","v":""}]
[null,null,{"$f":"IF(Database!C67=\"\",\"\",Database!C67)","v":""},{"$f":"IF($C161=\"\",\"\",IF(VLOOKUP($C161,IT_Flag,Database!E$44,FALSE)=1,HLOOKUP(Participant_Type,IT_Sol,Database!$B67,FALSE),\"-\"))","v":""},{"$f":"IF($C161=\"\",\"\",IF(VLOOKUP($C161,IT_Flag,Database!F$44,FALSE)=1,HLOOKUP(Participant_Type,IT_Sol,Database!$B67,FALSE),\"-\"))","v":""},{"$f":"IF($C161=\"\",\"\",IF(VLOOKUP($C161,IT_Flag,Database!G$44,FALSE)=1,HLOOKUP(Participant_Type,IT_Sol,Database!$B67,FALSE),\"-\"))","v":""},{"$f":"IF($C161=\"\",\"\",IF(VLOOKUP($C161,IT_Flag,Database!H$44,FALSE)=1,HLOOKUP(Participant_Type,IT_Sol,Database!$B67,FALSE),\"-\"))","v":""},{"$f":"IF($C161=\"\",\"\",IF(VLOOKUP($C161,IT_Flag,Database!I$44,FALSE)=1,HLOOKUP(Participant_Type,IT_Sol,Database!$B67,FALSE),\"-\"))","v":""},{"$f":"IF($C161=\"\",\"\",IF(VLOOKUP($C161,IT_Flag,Database!J$44,FALSE)=1,HLOOKUP(Participant_Type,IT_Sol,Database!$B67,FALSE),\"-\"))","v":""},{"$f":"IF($C161=\"\",\"\",IF(VLOOKUP($C161,IT_Flag,Database!K$44,FALSE)=1,HLOOKUP(Participant_Type,IT_Sol,Database!$B67,FALSE),\"-\"))","v":""},{"$f":"IF($C161=\"\",\"\",IF(VLOOKUP($C161,IT_Flag,Database!L$44,FALSE)=1,HLOOKUP(Participant_Type,IT_Sol,Database!$B67,FALSE),\"-\"))","v":""},{"$f":"IF($C161=\"\",\"\",IF(VLOOKUP($C161,IT_Flag,Database!M$44,FALSE)=1,HLOOKUP(Participant_Type,IT_Sol,Database!$B67,FALSE),\"-\"))","v":""},null,{"$f":"IF($C161=\"\",\"\",IF(VLOOKUP($C161,IT_Flag,Database!N$44,FALSE)=1,HLOOKUP(Participant_Type,IT_Sol,Database!$B67,FALSE),\"-\"))","v":""},null,{"$f":"IF($C161=\"\",\"\",IF(VLOOKUP($C161,IT_Flag,Database!O$44,FALSE)=1,HLOOKUP(Participant_Type,IT_Sol,Database!$B67,FALSE),\"-\"))","v":""},null,{"$f":"IF($C161=\"\",\"\",IF(VLOOKUP($C161,IT_Flag,Database!P$44,FALSE)=1,HLOOKUP(Participant_Type,IT_Sol,Database!$B67,FALSE),\"-\"))","v":""}]
[null,null,"Testing & Readiness",{"$f":"IF(SUM(D163:D182)>=Database!$D$35,\"R\",IF(SUM(D163:D182)<Database!$E$35,\"G\",\"A\"))","v":"R"},{"$f":"IF(SUM(E163:E182)>=Database!$D$35,\"R\",IF(SUM(E163:E182)<Database!$E$35,\"G\",\"A\"))","v":"R"},{"$f":"IF(SUM(F163:F182)>=Database!$D$35,\"R\",IF(SUM(F163:F182)<Database!$E$35,\"G\",\"A\"))","v":"R"},{"$f":"IF(SUM(G163:G182)>=Database!$D$35,\"R\",IF(SUM(G163:G182)<Database!$E$35,\"G\",\"A\"))","v":"R"},{"$f":"IF(SUM(H163:H182)>=Database!$D$35,\"R\",IF(SUM(H163:H182)<Database!$E$35,\"G\",\"A\"))","v":"R"},{"$f":"IF(SUM(I163:I182)>=Database!$D$35,\"R\",IF(SUM(I163:I182)<Database!$E$35,\"G\",\"A\"))","v":"R"},{"$f":"IF(SUM(J163:J182)>=Database!$D$35,\"R\",IF(SUM(J163:J182)<Database!$E$35,\"G\",\"A\"))","v":"R"},{"$f":"IF(SUM(K163:K182)>=Database!$D$35,\"R\",IF(SUM(K163:K182)<Database!$E$35,\"G\",\"A\"))","v":"A"},{"$f":"IF(SUM(L163:M182)>=Database!$D$35,\"R\",IF(SUM(L163:M182)<Database!$E$35,\"G\",\"A\"))","v":"G"},null,{"$f":"IF(SUM(N163:O182)>=Database!$D$35,\"R\",IF(SUM(N163:O182)<Database!$E$35,\"G\",\"A\"))","v":"G"},null,{"$f":"IF(SUM(P163:Q182)>=Database!$D$35,\"R\",IF(SUM(P163:Q182)<Database!$E$35,\"G\",\"A\"))","v":"G"},null,{"$f":"IF(SUM(R163:S182)>=Database!$D$35,\"R\",IF(SUM(R163:S182)<Database!$E$35,\"G\",\"A\"))","v":"G"}]
[null,null,{"$f":"IF(Database!C48=\"\",\"\",Database!C48)","v":"I - SCADA Lite"},{"$f":"IF($C163=\"\",\"\",IF(OR(HLOOKUP(Participant_Type,Overall_PI,Database!$B47,FALSE)=\"\",HLOOKUP(Participant_Type,Mandatory_PI,Database!$B47,FALSE)=\"N\"),\"-\",IF(VLOOKUP($C163,TR_Flag,Database!E$44,FALSE)=1,1,\"-\")))","v":1},{"$f":"IF($C163=\"\",\"\",IF(OR(HLOOKUP(Participant_Type,Overall_PI,Database!$B47,FALSE)=\"\",HLOOKUP(Participant_Type,Mandatory_PI,Database!$B47,FALSE)=\"N\"),\"-\",IF(VLOOKUP($C163,TR_Flag,Database!F$44,FALSE)=1,1,\"-\")))","v":1},{"$f":"IF($C163=\"\",\"\",IF(OR(HLOOKUP(Participant_Type,Overall_PI,Database!$B47,FALSE)=\"\",HLOOKUP(Participant_Type,Mandatory_PI,Database!$B47,FALSE)=\"N\"),\"-\",IF(VLOOKUP($C163,TR_Flag,Database!G$44,FALSE)=1,1,\"-\")))","v":"-"},{"$f":"IF($C163=\"\",\"\",IF(OR(HLOOKUP(Participant_Type,Overall_PI,Database!$B47,FALSE)=\"\",HLOOKUP(Participant_Type,Mandatory_PI,Database!$B47,FALSE)=\"N\"),\"-\",IF(VLOOKUP($C163,TR_Flag,Database!H$44,FALSE)=1,1,\"-\")))","v":"-"},{"$f":"IF($C163=\"\",\"\",IF(OR(HLOOKUP(Participant_Type,Overall_PI,Database!$B47,FALSE)=\"\",HLOOKUP(Participant_Type,Mandatory_PI,Database!$B47,FALSE)=\"N\"),\"-\",IF(VLOOKUP($C163,TR_Flag,Database!I$44,FALSE)=1,1,\"-\")))","v":"-"},{"$f":"IF($C163=\"\",\"\",IF(OR(HLOOKUP(Participant_Type,Overall_PI,Database!$B47,FALSE)=\"\",HLOOKUP(Participant_Type,Mandatory_PI,Database!$B47,FALSE)=\"N\"),\"-\",IF(VLOOKUP($C163,TR_Flag,Database!J$44,FALSE)=1,1,\"-\")))","v":"-"},{"$f":"IF($C163=\"\",\"\",IF(OR(HLOOKUP(Participant_Type,Overall_PI,Database!$B47,FALSE)=\"\",HLOOKUP(Participant_Type,Mandatory_PI,Database!$B47,FALSE)=\"N\"),\"-\",IF(VLOOKUP($C163,TR_Flag,Database!K$44,FALSE)=1,1,\"-\")))","v":"-"},{"$f":"IF($C163=\"\",\"\",IF(OR(HLOOKUP(Participant_Type,Overall_PI,Database!$B47,FALSE)=\"\",HLOOKUP(Participant_Type,Mandatory_PI,Database!$B47,FALSE)=\"N\"),\"-\",IF(VLOOKUP($C163,TR_Flag,Database!L$44,FALSE)=1,1,\"-\")))","v":"-"},{"$f":"IF($C163=\"\",\"\",IF(OR(HLOOKUP(Participant_Type,Overall_PI,Database!$B47,FALSE)=\"\",HLOOKUP(Participant_Type,Mandatory_PI,Database!$B47,FALSE)=\"N\"),\"-\",IF(VLOOKUP($C163,TR_Flag,Database!M$44,FALSE)=1,1,\"-\")))","v":"-"},null,{"$f":"IF($C163=\"\",\"\",IF(OR(HLOOKUP(Participant_Type,Overall_PI,Database!$B47,FALSE)=\"\",HLOOKUP(Participant_Type,Mandatory_PI,Database!$B47,FALSE)=\"N\"),\"-\",IF(VLOOKUP($C163,TR_Flag,Database!N$44,FALSE)=1,1,\"-\")))","v":"-"},null,{"$f":"IF($C163=\"\",\"\",IF(OR(HLOOKUP(Participant_Type,Overall_PI,Database!$B47,FALSE)=\"\",HLOOKUP(Participant_Type,Mandatory_PI,Database!$B47,FALSE)=\"N\"),\"-\",IF(VLOOKUP($C163,TR_Flag,Database!O$44,FALSE)=1,1,\"-\")))","v":"-"},null,{"$f":"IF($C163=\"\",\"\",IF(OR(HLOOKUP(Participant_Type,Overall_PI,Database!$B47,FALSE)=\"\",HLOOKUP(Participant_Type,Mandatory_PI,Database!$B47,FALSE)=\"N\"),\"-\",IF(VLOOKUP($C163,TR_Flag,Database!P$44,FALSE)=1,1,\"-\")))","v":"-"}]
[null,null,{"$f":"IF(Database!C49=\"\",\"\",Database!C49)","v":"I - Frequency Performance Payments"},{"$f":"IF($C164=\"\",\"\",IF(OR(HLOOKUP(Participant_Type,Overall_PI,Database!$B48,FALSE)=\"\",HLOOKUP(Participant_Type,Mandatory_PI,Database!$B48,FALSE)=\"N\"),\"-\",IF(VLOOKUP($C164,TR_Flag,Database!E$44,FALSE)=1,1,\"-\")))","v":1},{"$f":"IF($C164=\"\",\"\",IF(OR(HLOOKUP(Participant_Type,Overall_PI,Database!$B48,FALSE)=\"\",HLOOKUP(Participant_Type,Mandatory_PI,Database!$B48,FALSE)=\"N\"),\"-\",IF(VLOOKUP($C164,TR_Flag,Database!F$44,FALSE)=1,1,\"-\")))","v":1},{"$f":"IF($C164=\"\",\"\",IF(OR(HLOOKUP(Participant_Type,Overall_PI,Database!$B48,FALSE)=\"\",HLOOKUP(Participant_Type,Mandatory_PI,Database!$B48,FALSE)=\"N\"),\"-\",IF(VLOOKUP($C164,TR_Flag,Database!G$44,FALSE)=1,1,\"-\")))","v":"-"},{"$f":"IF($C164=\"\",\"\",IF(OR(HLOOKUP(Participant_Type,Overall_PI,Database!$B48,FALSE)=\"\",HLOOKUP(Participant_Type,Mandatory_PI,Database!$B48,FALSE)=\"N\"),\"-\",IF(VLOOKUP($C164,TR_Flag,Database!H$44,FALSE)=1,1,\"-\")))","v":"-"},{"$f":"IF($C164=\"\",\"\",IF(OR(HLOOKUP(Participant_Type,Overall_PI,Database!$B48,FALSE)=\"\",HLOOKUP(Participant_Type,Mandatory_PI,Database!$B48,FALSE)=\"N\"),\"-\",IF(VLOOKUP($C164,TR_Flag,Database!I$44,FALSE)=1,1,\"-\")))","v":"-"},{"$f":"IF($C164=\"\",\"\",IF(OR(HLOOKUP(Participant_Type,Overall_PI,Database!$B48,FALSE)=\"\",HLOOKUP(Participant_Type,Mandatory_PI,Database!$B48,FALSE)=\"N\"),\"-\",IF(VLOOKUP($C164,TR_Flag,Database!J$44,FALSE)=1,1,\"-\")))","v":"-"},{"$f":"IF($C164=\"\",\"\",IF(OR(HLOOKUP(Participant_Type,Overall_PI,Database!$B48,FALSE)=\"\",HLOOKUP(Participant_Type,Mandatory_PI,Database!$B48,FALSE)=\"N\"),\"-\",IF(VLOOKUP($C164,TR_Flag,Database!K$44,FALSE)=1,1,\"-\")))","v":"-"},{"$f":"IF($C164=\"\",\"\",IF(OR(HLOOKUP(Participant_Type,Overall_PI,Database!$B48,FALSE)=\"\",HLOOKUP(Participant_Type,Mandatory_PI,Database!$B48,FALSE)=\"N\"),\"-\",IF(VLOOKUP($C164,TR_Flag,Database!L$44,FALSE)=1,1,\"-\")))","v":"-"},{"$f":"IF($C164=\"\",\"\",IF(OR(HLOOKUP(Participant_Type,Overall_PI,Database!$B48,FALSE)=\"\",HLOOKUP(Participant_Type,Mandatory_PI,Database!$B48,FALSE)=\"N\"),\"-\",IF(VLOOKUP($C164,TR_Flag,Database!M$44,FALSE)=1,1,\"-\")))","v":"-"},null,{"$f":"IF($C164=\"\",\"\",IF(OR(HLOOKUP(Participant_Type,Overall_PI,Database!$B48,FALSE)=\"\",HLOOKUP(Participant_Type,Mandatory_PI,Database!$B48,FALSE)=\"N\"),\"-\",IF(VLOOKUP($C164,TR_Flag,Database!N$44,FALSE)=1,1,\"-\")))","v":"-"},null,{"$f":"IF($C164=\"\",\"\",IF(OR(HLOOKUP(Participant_Type,Overall_PI,Database!$B48,FALSE)=\"\",HLOOKUP(Participant_Type,Mandatory_PI,Database!$B48,FALSE)=\"N\"),\"-\",IF(VLOOKUP($C164,TR_Flag,Database!O$44,FALSE)=1,1,\"-\")))","v":"-"},null,{"$f":"IF($C164=\"\",\"\",IF(OR(HLOOKUP(Participant_Type,Overall_PI,Database!$B48,FALSE)=\"\",HLOOKUP(Participant_Type,Mandatory_PI,Database!$B48,FALSE)=\"N\"),\"-\",IF(VLOOKUP($C164,TR_Flag,Database!P$44,FALSE)=1,1,\"-\")))","v":"-"}]
[null,null,{"$f":"IF(Database!C50=\"\",\"\",Database!C50)","v":"I - Enhancing Reserve Information"},{"$f":"IF($C165=\"\",\"\",IF(OR(HLOOKUP(Participant_Type,Overall_PI,Database!$B49,FALSE)=\"\",HLOOKUP(Participant_Type,Mandatory_PI,Database!$B49,FALSE)=\"N\"),\"-\",IF(VLOOKUP($C165,TR_Flag,Database!E$44,FALSE)=1,1,\"-\")))","v":"-"},{"$f":"IF($C165=\"\",\"\",IF(OR(HLOOKUP(Participant_Type,Overall_PI,Database!$B49,FALSE)=\"\",HLOOKUP(Participant_Type,Mandatory_PI,Database!$B49,FALSE)=\"N\"),\"-\",IF(VLOOKUP($C165,TR_Flag,Database!F$44,FALSE)=1,1,\"-\")))","v":1},{"$f":"IF($C165=\"\",\"\",IF(OR(HLOOKUP(Participant_Type,Overall_PI,Database!$B49,FALSE)=\"\",HLOOKUP(Participant_Type,Mandatory_PI,Database!$B49,FALSE)=\"N\"),\"-\",IF(VLOOKUP($C165,TR_Flag,Database!G$44,FALSE)=1,1,\"-\")))","v":"-"},{"$f":"IF($C165=\"\",\"\",IF(OR(HLOOKUP(Participant_Type,Overall_PI,Database!$B49,FALSE)=\"\",HLOOKUP(Participant_Type,Mandatory_PI,Database!$B49,FALSE)=\"N\"),\"-\",IF(VLOOKUP($C165,TR_Flag,Database!H$44,FALSE)=1,1,\"-\")))","v":"-"},{"$f":"IF($C165=\"\",\"\",IF(OR(HLOOKUP(Participant_Type,Overall_PI,Database!$B49,FALSE)=\"\",HLOOKUP(Participant_Type,Mandatory_PI,Database!$B49,FALSE)=\"N\"),\"-\",IF(VLOOKUP($C165,TR_Flag,Database!I$44,FALSE)=1,1,\"-\")))","v":"-"},{"$f":"IF($C165=\"\",\"\",IF(OR(HLOOKUP(Participant_Type,Overall_PI,Database!$B49,FALSE)=\"\",HLOOKUP(Participant_Type,Mandatory_PI,Database!$B49,FALSE)=\"N\"),\"-\",IF(VLOOKUP($C165,TR_Flag,Database!J$44,FALSE)=1,1,\"-\")))","v":"-"},{"$f":"IF($C165=\"\",\"\",IF(OR(HLOOKUP(Participant_Type,Overall_PI,Database!$B49,FALSE)=\"\",HLOOKUP(Participant_Type,Mandatory_PI,Database!$B49,FALSE)=\"N\"),\"-\",IF(VLOOKUP($C165,TR_Flag,Database!K$44,FALSE)=1,1,\"-\")))","v":"-"},{"$f":"IF($C165=\"\",\"\",IF(OR(HLOOKUP(Participant_Type,Overall_PI,Database!$B49,FALSE)=\"\",HLOOKUP(Participant_Type,Mandatory_PI,Database!$B49,FALSE)=\"N\"),\"-\",IF(VLOOKUP($C165,TR_Flag,Database!L$44,FALSE)=1,1,\"-\")))","v":"-"},{"$f":"IF($C165=\"\",\"\",IF(OR(HLOOKUP(Participant_Type,Overall_PI,Database!$B49,FALSE)=\"\",HLOOKUP(Participant_Type,Mandatory_PI,Database!$B49,FALSE)=\"N\"),\"-\",IF(VLOOKUP($C165,TR_Flag,Database!M$44,FALSE)=1,1,\"-\")))","v":"-"},null,{"$f":"IF($C165=\"\",\"\",IF(OR(HLOOKUP(Participant_Type,Overall_PI,Database!$B49,FALSE)=\"\",HLOOKUP(Participant_Type,Mandatory_PI,Database!$B49,FALSE)=\"N\"),\"-\",IF(VLOOKUP($C165,TR_Flag,Database!N$44,FALSE)=1,1,\"-\")))","v":"-"},null,{"$f":"IF($C165=\"\",\"\",IF(OR(HLOOKUP(Participant_Type,Overall_PI,Database!$B49,FALSE)=\"\",HLOOKUP(Participant_Type,Mandatory_PI,Database!$B49,FALSE)=\"N\"),\"-\",IF(VLOOKUP($C165,TR_Flag,Database!O$44,FALSE)=1,1,\"-\")))","v":"-"},null,{"$f":"IF($C165=\"\",\"\",IF(OR(HLOOKUP(Participant_Type,Overall_PI,Database!$B49,FALSE)=\"\",HLOOKUP(Participant_Type,Mandatory_PI,Database!$B49,FALSE)=\"N\"),\"-\",IF(VLOOKUP($C165,TR_Flag,Database!P$44,FALSE)=1,1,\"-\")))","v":"-"}]
[null,null,{"$f":"IF(Database!C51=\"\",\"\",Database!C51)","v":"I - ST PASA Procedure & Recall Period"},{"$f":"IF($C166=\"\",\"\",IF(OR(HLOOKUP(Participant_Type,Overall_PI,Database!$B50,FALSE)=\"\",HLOOKUP(Participant_Type,Mandatory_PI,Database!$B50,FALSE)=\"N\"),\"-\",IF(VLOOKUP($C166,TR_Flag,Database!E$44,FALSE)=1,1,\"-\")))","v":1},{"$f":"IF($C166=\"\",\"\",IF(OR(HLOOKUP(Participant_Type,Overall_PI,Database!$B50,FALSE)=\"\",HLOOKUP(Participant_Type,Mandatory_PI,Database!$B50,FALSE)=\"N\"),\"-\",IF(VLOOKUP($C166,TR_Flag,Database!F$44,FALSE)=1,1,\"-\")))","v":1},{"$f":"IF($C166=\"\",\"\",IF(OR(HLOOKUP(Participant_Type,Overall_PI,Database!$B50,FALSE)=\"\",HLOOKUP(Participant_Type,Mandatory_PI,Database!$B50,FALSE)=\"N\"),\"-\",IF(VLOOKUP($C166,TR_Flag,Database!G$44,FALSE)=1,1,\"-\")))","v":"-"},{"$f":"IF($C166=\"\",\"\",IF(OR(HLOOKUP(Participant_Type,Overall_PI,Database!$B50,FALSE)=\"\",HLOOKUP(Participant_Type,Mandatory_PI,Database!$B50,FALSE)=\"N\"),\"-\",IF(VLOOKUP($C166,TR_Flag,Database!H$44,FALSE)=1,1,\"-\")))","v":"-"},{"$f":"IF($C166=\"\",\"\",IF(OR(HLOOKUP(Participant_Type,Overall_PI,Database!$B50,FALSE)=\"\",HLOOKUP(Participant_Type,Mandatory_PI,Database!$B50,FALSE)=\"N\"),\"-\",IF(VLOOKUP($C166,TR_Flag,Database!I$44,FALSE)=1,1,\"-\")))","v":"-"},{"$f":"IF($C166=\"\",\"\",IF(OR(HLOOKUP(Participant_Type,Overall_PI,Database!$B50,FALSE)=\"\",HLOOKUP(Participant_Type,Mandatory_PI,Database!$B50,FALSE)=\"N\"),\"-\",IF(VLOOKUP($C166,TR_Flag,Database!J$44,FALSE)=1,1,\"-\")))","v":"-"},{"$f":"IF($C166=\"\",\"\",IF(OR(HLOOKUP(Participant_Type,Overall_PI,Database!$B50,FALSE)=\"\",HLOOKUP(Participant_Type,Mandatory_PI,Database!$B50,FALSE)=\"N\"),\"-\",IF(VLOOKUP($C166,TR_Flag,Database!K$44,FALSE)=1,1,\"-\")))","v":"-"},{"$f":"IF($C166=\"\",\"\",IF(OR(HLOOKUP(Participant_Type,Overall_PI,Database!$B50,FALSE)=\"\",HLOOKUP(Participant_Type,Mandatory_PI,Database!$B50,FALSE)=\"N\"),\"-\",IF(VLOOKUP($C166,TR_Flag,Database!L$44,FALSE)=1,1,\"-\")))","v":"-"},{"$f":"IF($C166=\"\",\"\",IF(OR(HLOOKUP(Participant_Type,Overall_PI,Database!$B50,FALSE)=\"\",HLOOKUP(Participant_Type,Mandatory_PI,Database!$B50,FALSE)=\"N\"),\"-\",IF(VLOOKUP($C166,TR_Flag,Database!M$44,FALSE)=1,1,\"-\")))","v":"-"},null,{"$f":"IF($C166=\"\",\"\",IF(OR(HLOOKUP(Participant_Type,Overall_PI,Database!$B50,FALSE)=\"\",HLOOKUP(Participant_Type,Mandatory_PI,Database!$B50,FALSE)=\"N\"),\"-\",IF(VLOOKUP($C166,TR_Flag,Database!N$44,FALSE)=1,1,\"-\")))","v":"-"},null,{"$f":"IF($C166=\"\",\"\",IF(OR(HLOOKUP(Participant_Type,Overall_PI,Database!$B50,FALSE)=\"\",HLOOKUP(Participant_Type,Mandatory_PI,Database!$B50,FALSE)=\"N\"),\"-\",IF(VLOOKUP($C166,TR_Flag,Database!O$44,FALSE)=1,1,\"-\")))","v":"-"},null,{"$f":"IF($C166=\"\",\"\",IF(OR(HLOOKUP(Participant_Type,Overall_PI,Database!$B50,FALSE)=\"\",HLOOKUP(Participant_Type,Mandatory_PI,Database!$B50,FALSE)=\"N\"),\"-\",IF(VLOOKUP($C166,TR_Flag,Database!P$44,FALSE)=1,1,\"-\")))","v":"-"}]
[null,null,{"$f":"IF(Database!C52=\"\",\"\",Database!C52)","v":"I - Improving Security Frameworks"},{"$f":"IF($C167=\"\",\"\",IF(OR(HLOOKUP(Participant_Type,Overall_PI,Database!$B51,FALSE)=\"\",HLOOKUP(Participant_Type,Mandatory_PI,Database!$B51,FALSE)=\"N\"),\"-\",IF(VLOOKUP($C167,TR_Flag,Database!E$44,FALSE)=1,1,\"-\")))","v":"-"},{"$f":"IF($C167=\"\",\"\",IF(OR(HLOOKUP(Participant_Type,Overall_PI,Database!$B51,FALSE)=\"\",HLOOKUP(Participant_Type,Mandatory_PI,Database!$B51,FALSE)=\"N\"),\"-\",IF(VLOOKUP($C167,TR_Flag,Database!F$44,FALSE)=1,1,\"-\")))","v":"-"},{"$f":"IF($C167=\"\",\"\",IF(OR(HLOOKUP(Participant_Type,Overall_PI,Database!$B51,FALSE)=\"\",HLOOKUP(Participant_Type,Mandatory_PI,Database!$B51,FALSE)=\"N\"),\"-\",IF(VLOOKUP($C167,TR_Flag,Database!G$44,FALSE)=1,1,\"-\")))","v":1},{"$f":"IF($C167=\"\",\"\",IF(OR(HLOOKUP(Participant_Type,Overall_PI,Database!$B51,FALSE)=\"\",HLOOKUP(Participant_Type,Mandatory_PI,Database!$B51,FALSE)=\"N\"),\"-\",IF(VLOOKUP($C167,TR_Flag,Database!H$44,FALSE)=1,1,\"-\")))","v":1},{"$f":"IF($C167=\"\",\"\",IF(OR(HLOOKUP(Participant_Type,Overall_PI,Database!$B51,FALSE)=\"\",HLOOKUP(Participant_Type,Mandatory_PI,Database!$B51,FALSE)=\"N\"),\"-\",IF(VLOOKUP($C167,TR_Flag,Database!I$44,FALSE)=1,1,\"-\")))","v":"-"},{"$f":"IF($C167=\"\",\"\",IF(OR(HLOOKUP(Participant_Type,Overall_PI,Database!$B51,FALSE)=\"\",HLOOKUP(Participant_Type,Mandatory_PI,Database!$B51,FALSE)=\"N\"),\"-\",IF(VLOOKUP($C167,TR_Flag,Database!J$44,FALSE)=1,1,\"-\")))","v":"-"},{"$f":"IF($C167=\"\",\"\",IF(OR(HLOOKUP(Participant_Type,Overall_PI,Database!$B51,FALSE)=\"\",HLOOKUP(Participant_Type,Mandatory_PI,Database!$B51,FALSE)=\"N\"),\"-\",IF(VLOOKUP($C167,TR_Flag,Database!K$44,FALSE)=1,1,\"-\")))","v":"-"},{"$f":"IF($C167=\"\",\"\",IF(OR(HLOOKUP(Participant_Type,Overall_PI,Database!$B51,FALSE)=\"\",HLOOKUP(Participant_Type,Mandatory_PI,Database!$B51,FALSE)=\"N\"),\"-\",IF(VLOOKUP($C167,TR_Flag,Database!L$44,FALSE)=1,1,\"-\")))","v":"-"},{"$f":"IF($C167=\"\",\"\",IF(OR(HLOOKUP(Participant_Type,Overall_PI,Database!$B51,FALSE)=\"\",HLOOKUP(Participant_Type,Mandatory_PI,Database!$B51,FALSE)=\"N\"),\"-\",IF(VLOOKUP($C167,TR_Flag,Database!M$44,FALSE)=1,1,\"-\")))","v":"-"},null,{"$f":"IF($C167=\"\",\"\",IF(OR(HLOOKUP(Participant_Type,Overall_PI,Database!$B51,FALSE)=\"\",HLOOKUP(Participant_Type,Mandatory_PI,Database!$B51,FALSE)=\"N\"),\"-\",IF(VLOOKUP($C167,TR_Flag,Database!N$44,FALSE)=1,1,\"-\")))","v":"-"},null,{"$f":"IF($C167=\"\",\"\",IF(OR(HLOOKUP(Participant_Type,Overall_PI,Database!$B51,FALSE)=\"\",HLOOKUP(Participant_Type,Mandatory_PI,Database!$B51,FALSE)=\"N\"),\"-\",IF(VLOOKUP($C167,TR_Flag,Database!O$44,FALSE)=1,1,\"-\")))","v":"-"},null,{"$f":"IF($C167=\"\",\"\",IF(OR(HLOOKUP(Participant_Type,Overall_PI,Database!$B51,FALSE)=\"\",HLOOKUP(Participant_Type,Mandatory_PI,Database!$B51,FALSE)=\"N\"),\"-\",IF(VLOOKUP($C167,TR_Flag,Database!P$44,FALSE)=1,1,\"-\")))","v":"-"}]
[null,null,{"$f":"IF(Database!C53=\"\",\"\",Database!C53)","v":"I - Unlocking CER Benefits Through Flexible Trading"},{"$f":"IF($C168=\"\",\"\",IF(OR(HLOOKUP(Participant_Type,Overall_PI,Database!$B52,FALSE)=\"\",HLOOKUP(Participant_Type,Mandatory_PI,Database!$B52,FALSE)=\"N\"),\"-\",IF(VLOOKUP($C168,TR_Flag,Database!E$44,FALSE)=1,1,\"-\")))","v":"-"},{"$f":"IF($C168=\"\",\"\",IF(OR(HLOOKUP(Participant_Type,Overall_PI,Database!$B52,FALSE)=\"\",HLOOKUP(Participant_Type,Mandatory_PI,Database!$B52,FALSE)=\"N\"),\"-\",IF(VLOOKUP($C168,TR_Flag,Database!F$44,FALSE)=1,1,\"-\")))","v":"-"},{"$f":"IF($C168=\"\",\"\",IF(OR(HLOOKUP(Participant_Type,Overall_PI,Database!$B52,FALSE)=\"\",HLOOKUP(Participant_Type,Mandatory_PI,Database!$B52,FALSE)=\"N\"),\"-\",IF(VLOOKUP($C168,TR_Flag,Database!G$44,FALSE)=1,1,\"-\")))","v":"-"},{"$f":"IF($C168=\"\",\"\",IF(OR(HLOOKUP(Participant_Type,Overall_PI,Database!$B52,FALSE)=\"\",HLOOKUP(Participant_Type,Mandatory_PI,Database!$B52,FALSE)=\"N\"),\"-\",IF(VLOOKUP($C168,TR_Flag,Database!H$44,FALSE)=1,1,\"-\")))","v":1},{"$f":"IF($C168=\"\",\"\",IF(OR(HLOOKUP(Participant_Type,Overall_PI,Database!$B52,FALSE)=\"\",HLOOKUP(Participant_Type,Mandatory_PI,Database!$B52,FALSE)=\"N\"),\"-\",IF(VLOOKUP($C168,TR_Flag,Database!I$44,FALSE)=1,1,\"-\")))","v":1},{"$f":"IF($C168=\"\",\"\",IF(OR(HLOOKUP(Participant_Type,Overall_PI,Database!$B52,FALSE)=\"\",HLOOKUP(Participant_Type,Mandatory_PI,Database!$B52,FALSE)=\"N\"),\"-\",IF(VLOOKUP($C168,TR_Flag,Database!J$44,FALSE)=1,1,\"-\")))","v":1},{"$f":"IF($C168=\"\",\"\",IF(OR(HLOOKUP(Participant_Type,Overall_PI,Database!$B52,FALSE)=\"\",HLOOKUP(Participant_Type,Mandatory_PI,Database!$B52,FALSE)=\"N\"),\"-\",IF(VLOOKUP($C168,TR_Flag,Database!K$44,FALSE)=1,1,\"-\")))","v":1},{"$f":"IF($C168=\"\",\"\",IF(OR(HLOOKUP(Participant_Type,Overall_PI,Database!$B52,FALSE)=\"\",HLOOKUP(Participant_Type,Mandatory_PI,Database!$B52,FALSE)=\"N\"),\"-\",IF(VLOOKUP($C168,TR_Flag,Database!L$44,FALSE)=1,1,\"-\")))","v":1},{"$f":"IF($C168=\"\",\"\",IF(OR(HLOOKUP(Participant_Type,Overall_PI,Database!$B52,FALSE)=\"\",HLOOKUP(Participant_Type,Mandatory_PI,Database!$B52,FALSE)=\"N\"),\"-\",IF(VLOOKUP($C168,TR_Flag,Database!M$44,FALSE)=1,1,\"-\")))","v":"-"},null,{"$f":"IF($C168=\"\",\"\",IF(OR(HLOOKUP(Participant_Type,Overall_PI,Database!$B52,FALSE)=\"\",HLOOKUP(Participant_Type,Mandatory_PI,Database!$B52,FALSE)=\"N\"),\"-\",IF(VLOOKUP($C168,TR_Flag,Database!N$44,FALSE)=1,1,\"-\")))","v":"-"},null,{"$f":"IF($C168=\"\",\"\",IF(OR(HLOOKUP(Participant_Type,Overall_PI,Database!$B52,FALSE)=\"\",HLOOKUP(Participant_Type,Mandatory_PI,Database!$B52,FALSE)=\"N\"),\"-\",IF(VLOOKUP($C168,TR_Flag,Database!O$44,FALSE)=1,1,\"-\")))","v":"-"},null,{"$f":"IF($C168=\"\",\"\",IF(OR(HLOOKUP(Participant_Type,Overall_PI,Database!$B52,FALSE)=\"\",HLOOKUP(Participant_Type,Mandatory_PI,Database!$B52,FALSE)=\"N\"),\"-\",IF(VLOOKUP($C168,TR_Flag,Database!P$44,FALSE)=1,1,\"-\")))","v":"-"}]
[null,null,{"$f":"IF(Database!C54=\"\",\"\",Database!C54)","v":"I - MSR (Accelerating Smart Meter Deployment - Package 1 & 2)"},{"$f":"IF($C169=\"\",\"\",IF(OR(HLOOKUP(Participant_Type,Overall_PI,Database!$B53,FALSE)=\"\",HLOOKUP(Participant_Type,Mandatory_PI,Database!$B53,FALSE)=\"N\"),\"-\",IF(VLOOKUP($C169,TR_Flag,Database!E$44,FALSE)=1,1,\"-\")))","v":1},{"$f":"IF($C169=\"\",\"\",IF(OR(HLOOKUP(Participant_Type,Overall_PI,Database!$B53,FALSE)=\"\",HLOOKUP(Participant_Type,Mandatory_PI,Database!$B53,FALSE)=\"N\"),\"-\",IF(VLOOKUP($C169,TR_Flag,Database!F$44,FALSE)=1,1,\"-\")))","v":1},{"$f":"IF($C169=\"\",\"\",IF(OR(HLOOKUP(Participant_Type,Overall_PI,Database!$B53,FALSE)=\"\",HLOOKUP(Participant_Type,Mandatory_PI,Database!$B53,FALSE)=\"N\"),\"-\",IF(VLOOKUP($C169,TR_Flag,Database!G$44,FALSE)=1,1,\"-\")))","v":1},{"$f":"IF($C169=\"\",\"\",IF(OR(HLOOKUP(Participant_Type,Overall_PI,Database!$B53,FALSE)=\"\",HLOOKUP(Participant_Type,Mandatory_PI,Database!$B53,FALSE)=\"N\"),\"-\",IF(VLOOKUP($C169,TR_Flag,Database!H$44,FALSE)=1,1,\"-\")))","v":1},{"$f":"IF($C169=\"\",\"\",IF(OR(HLOOKUP(Participant_Type,Overall_PI,Database!$B53,FALSE)=\"\",HLOOKUP(Participant_Type,Mandatory_PI,Database!$B53,FALSE)=\"N\"),\"-\",IF(VLOOKUP($C169,TR_Flag,Database!I$44,FALSE)=1,1,\"-\")))","v":"-"},{"$f":"IF($C169=\"\",\"\",IF(OR(HLOOKUP(Participant_Type,Overall_PI,Database!$B53,FALSE)=\"\",HLOOKUP(Participant_Type,Mandatory_PI,Database!$B53,FALSE)=\"N\"),\"-\",IF(VLOOKUP($C169,TR_Flag,Database!J$44,FALSE)=1,1,\"-\")))","v":"-"},{"$f":"IF($C169=\"\",\"\",IF(OR(HLOOKUP(Participant_Type,Overall_PI,Database!$B53,FALSE)=\"\",HLOOKUP(Participant_Type,Mandatory_PI,Database!$B53,FALSE)=\"N\"),\"-\",IF(VLOOKUP($C169,TR_Flag,Database!K$44,FALSE)=1,1,\"-\")))","v":"-"},{"$f":"IF($C169=\"\",\"\",IF(OR(HLOOKUP(Participant_Type,Overall_PI,Database!$B53,FALSE)=\"\",HLOOKUP(Participant_Type,Mandatory_PI,Database!$B53,FALSE)=\"N\"),\"-\",IF(VLOOKUP($C169,TR_Flag,Database!L$44,FALSE)=1,1,\"-\")))","v":"-"},{"$f":"IF($C169=\"\",\"\",IF(OR(HLOOKUP(Participant_Type,Overall_PI,Database!$B53,FALSE)=\"\",HLOOKUP(Participant_Type,Mandatory_PI,Database!$B53,FALSE)=\"N\"),\"-\",IF(VLOOKUP($C169,TR_Flag,Database!M$44,FALSE)=1,1,\"-\")))","v":"-"},null,{"$f":"IF($C169=\"\",\"\",IF(OR(HLOOKUP(Participant_Type,Overall_PI,Database!$B53,FALSE)=\"\",HLOOKUP(Participant_Type,Mandatory_PI,Database!$B53,FALSE)=\"N\"),\"-\",IF(VLOOKUP($C169,TR_Flag,Database!N$44,FALSE)=1,1,\"-\")))","v":"-"},null,{"$f":"IF($C169=\"\",\"\",IF(OR(HLOOKUP(Participant_Type,Overall_PI,Database!$B53,FALSE)=\"\",HLOOKUP(Participant_Type,Mandatory_PI,Database!$B53,FALSE)=\"N\"),\"-\",IF(VLOOKUP($C169,TR_Flag,Database!O$44,FALSE)=1,1,\"-\")))","v":"-"},null,{"$f":"IF($C169=\"\",\"\",IF(OR(HLOOKUP(Participant_Type,Overall_PI,Database!$B53,FALSE)=\"\",HLOOKUP(Participant_Type,Mandatory_PI,Database!$B53,FALSE)=\"N\"),\"-\",IF(VLOOKUP($C169,TR_Flag,Database!P$44,FALSE)=1,1,\"-\")))","v":"-"}]
[null,null,{"$f":"IF(Database!C55=\"\",\"\",Database!C55)","v":"I - Shortening the Settlement Cycle"},{"$f":"IF($C170=\"\",\"\",IF(OR(HLOOKUP(Participant_Type,Overall_PI,Database!$B54,FALSE)=\"\",HLOOKUP(Participant_Type,Mandatory_PI,Database!$B54,FALSE)=\"N\"),\"-\",IF(VLOOKUP($C170,TR_Flag,Database!E$44,FALSE)=1,1,\"-\")))","v":"-"},{"$f":"IF($C170=\"\",\"\",IF(OR(HLOOKUP(Participant_Type,Overall_PI,Database!$B54,FALSE)=\"\",HLOOKUP(Participant_Type,Mandatory_PI,Database!$B54,FALSE)=\"N\"),\"-\",IF(VLOOKUP($C170,TR_Flag,Database!F$44,FALSE)=1,1,\"-\")))","v":"-"},{"$f":"IF($C170=\"\",\"\",IF(OR(HLOOKUP(Participant_Type,Overall_PI,Database!$B54,FALSE)=\"\",HLOOKUP(Participant_Type,Mandatory_PI,Database!$B54,FALSE)=\"N\"),\"-\",IF(VLOOKUP($C170,TR_Flag,Database!G$44,FALSE)=1,1,\"-\")))","v":"-"},{"$f":"IF($C170=\"\",\"\",IF(OR(HLOOKUP(Participant_Type,Overall_PI,Database!$B54,FALSE)=\"\",HLOOKUP(Participant_Type,Mandatory_PI,Database!$B54,FALSE)=\"N\"),\"-\",IF(VLOOKUP($C170,TR_Flag,Database!H$44,FALSE)=1,1,\"-\")))","v":"-"},{"$f":"IF($C170=\"\",\"\",IF(OR(HLOOKUP(Participant_Type,Overall_PI,Database!$B54,FALSE)=\"\",HLOOKUP(Participant_Type,Mandatory_PI,Database!$B54,FALSE)=\"N\"),\"-\",IF(VLOOKUP($C170,TR_Flag,Database!I$44,FALSE)=1,1,\"-\")))","v":1},{"$f":"IF($C170=\"\",\"\",IF(OR(HLOOKUP(Participant_Type,Overall_PI,Database!$B54,FALSE)=\"\",HLOOKUP(Participant_Type,Mandatory_PI,Database!$B54,FALSE)=\"N\"),\"-\",IF(VLOOKUP($C170,TR_Flag,Database!J$44,FALSE)=1,1,\"-\")))","v":1},{"$f":"IF($C170=\"\",\"\",IF(OR(HLOOKUP(Participant_Type,Overall_PI,Database!$B54,FALSE)=\"\",HLOOKUP(Participant_Type,Mandatory_PI,Database!$B54,FALSE)=\"N\"),\"-\",IF(VLOOKUP($C170,TR_Flag,Database!K$44,FALSE)=1,1,\"-\")))","v":"-"},{"$f":"IF($C170=\"\",\"\",IF(OR(HLOOKUP(Participant_Type,Overall_PI,Database!$B54,FALSE)=\"\",HLOOKUP(Participant_Type,Mandatory_PI,Database!$B54,FALSE)=\"N\"),\"-\",IF(VLOOKUP($C170,TR_Flag,Database!L$44,FALSE)=1,1,\"-\")))","v":"-"},{"$f":"IF($C170=\"\",\"\",IF(OR(HLOOKUP(Participant_Type,Overall_PI,Database!$B54,FALSE)=\"\",HLOOKUP(Participant_Type,Mandatory_PI,Database!$B54,FALSE)=\"N\"),\"-\",IF(VLOOKUP($C170,TR_Flag,Database!M$44,FALSE)=1,1,\"-\")))","v":"-"},null,{"$f":"IF($C170=\"\",\"\",IF(OR(HLOOKUP(Participant_Type,Overall_PI,Database!$B54,FALSE)=\"\",HLOOKUP(Participant_Type,Mandatory_PI,Database!$B54,FALSE)=\"N\"),\"-\",IF(VLOOKUP($C170,TR_Flag,Database!N$44,FALSE)=1,1,\"-\")))","v":"-"},null,{"$f":"IF($C170=\"\",\"\",IF(OR(HLOOKUP(Participant_Type,Overall_PI,Database!$B54,FALSE)=\"\",HLOOKUP(Participant_Type,Mandatory_PI,Database!$B54,FALSE)=\"N\"),\"-\",IF(VLOOKUP($C170,TR_Flag,Database!O$44,FALSE)=1,1,\"-\")))","v":"-"},null,{"$f":"IF($C170=\"\",\"\",IF(OR(HLOOKUP(Participant_Type,Overall_PI,Database!$B54,FALSE)=\"\",HLOOKUP(Participant_Type,Mandatory_PI,Database!$B54,FALSE)=\"N\"),\"-\",IF(VLOOKUP($C170,TR_Flag,Database!P$44,FALSE)=1,1,\"-\")))","v":"-"}]
[null,null,{"$f":"IF(Database!C56=\"\",\"\",Database!C56)","v":"I - Integrating Price Responsive Resources into the NEM"},{"$f":"IF($C171=\"\",\"\",IF(OR(HLOOKUP(Participant_Type,Overall_PI,Database!$B55,FALSE)=\"\",HLOOKUP(Participant_Type,Mandatory_PI,Database!$B55,FALSE)=\"N\"),\"-\",IF(VLOOKUP($C171,TR_Flag,Database!E$44,FALSE)=1,1,\"-\")))","v":"-"},{"$f":"IF($C171=\"\",\"\",IF(OR(HLOOKUP(Participant_Type,Overall_PI,Database!$B55,FALSE)=\"\",HLOOKUP(Participant_Type,Mandatory_PI,Database!$B55,FALSE)=\"N\"),\"-\",IF(VLOOKUP($C171,TR_Flag,Database!F$44,FALSE)=1,1,\"-\")))","v":"-"},{"$f":"IF($C171=\"\",\"\",IF(OR(HLOOKUP(Participant_Type,Overall_PI,Database!$B55,FALSE)=\"\",HLOOKUP(Participant_Type,Mandatory_PI,Database!$B55,FALSE)=\"N\"),\"-\",IF(VLOOKUP($C171,TR_Flag,Database!G$44,FALSE)=1,1,\"-\")))","v":"-"},{"$f":"IF($C171=\"\",\"\",IF(OR(HLOOKUP(Participant_Type,Overall_PI,Database!$B55,FALSE)=\"\",HLOOKUP(Participant_Type,Mandatory_PI,Database!$B55,FALSE)=\"N\"),\"-\",IF(VLOOKUP($C171,TR_Flag,Database!H$44,FALSE)=1,1,\"-\")))","v":"-"},{"$f":"IF($C171=\"\",\"\",IF(OR(HLOOKUP(Participant_Type,Overall_PI,Database!$B55,FALSE)=\"\",HLOOKUP(Participant_Type,Mandatory_PI,Database!$B55,FALSE)=\"N\"),\"-\",IF(VLOOKUP($C171,TR_Flag,Database!I$44,FALSE)=1,1,\"-\")))","v":"-"},{"$f":"IF($C171=\"\",\"\",IF(OR(HLOOKUP(Participant_Type,Overall_PI,Database!$B55,FALSE)=\"\",HLOOKUP(Participant_Type,Mandatory_PI,Database!$B55,FALSE)=\"N\"),\"-\",IF(VLOOKUP($C171,TR_Flag,Database!J$44,FALSE)=1,1,\"-\")))","v":"-"},{"$f":"IF($C171=\"\",\"\",IF(OR(HLOOKUP(Participant_Type,Overall_PI,Database!$B55,FALSE)=\"\",HLOOKUP(Participant_Type,Mandatory_PI,Database!$B55,FALSE)=\"N\"),\"-\",IF(VLOOKUP($C171,TR_Flag,Database!K$44,FALSE)=1,1,\"-\")))","v":1},{"$f":"IF($C171=\"\",\"\",IF(OR(HLOOKUP(Participant_Type,Overall_PI,Database!$B55,FALSE)=\"\",HLOOKUP(Participant_Type,Mandatory_PI,Database!$B55,FALSE)=\"N\"),\"-\",IF(VLOOKUP($C171,TR_Flag,Database!L$44,FALSE)=1,1,\"-\")))","v":1},{"$f":"IF($C171=\"\",\"\",IF(OR(HLOOKUP(Participant_Type,Overall_PI,Database!$B55,FALSE)=\"\",HLOOKUP(Participant_Type,Mandatory_PI,Database!$B55,FALSE)=\"N\"),\"-\",IF(VLOOKUP($C171,TR_Flag,Database!M$44,FALSE)=1,1,\"-\")))","v":1},null,{"$f":"IF($C171=\"\",\"\",IF(OR(HLOOKUP(Participant_Type,Overall_PI,Database!$B55,FALSE)=\"\",HLOOKUP(Participant_Type,Mandatory_PI,Database!$B55,FALSE)=\"N\"),\"-\",IF(VLOOKUP($C171,TR_Flag,Database!N$44,FALSE)=1,1,\"-\")))","v":1},null,{"$f":"IF($C171=\"\",\"\",IF(OR(HLOOKUP(Participant_Type,Overall_PI,Database!$B55,FALSE)=\"\",HLOOKUP(Participant_Type,Mandatory_PI,Database!$B55,FALSE)=\"N\"),\"-\",IF(VLOOKUP($C171,TR_Flag,Database!O$44,FALSE)=1,1,\"-\")))","v":"-"},null,{"$f":"IF($C171=\"\",\"\",IF(OR(HLOOKUP(Participant_Type,Overall_PI,Database!$B55,FALSE)=\"\",HLOOKUP(Participant_Type,Mandatory_PI,Database!$B55,FALSE)=\"N\"),\"-\",IF(VLOOKUP($C171,TR_Flag,Database!P$44,FALSE)=1,1,\"-\")))","v":"-"}]
[null,null,{"$f":"IF(Database!C57=\"\",\"\",Database!C57)","v":"I - IDX (Foundation)"},{"$f":"IF($C172=\"\",\"\",IF(OR(HLOOKUP(Participant_Type,Overall_PI,Database!$B56,FALSE)=\"\",HLOOKUP(Participant_Type,Mandatory_PI,Database!$B56,FALSE)=\"N\"),\"-\",IF(VLOOKUP($C172,TR_Flag,Database!E$44,FALSE)=1,1,\"-\")))","v":"-"},{"$f":"IF($C172=\"\",\"\",IF(OR(HLOOKUP(Participant_Type,Overall_PI,Database!$B56,FALSE)=\"\",HLOOKUP(Participant_Type,Mandatory_PI,Database!$B56,FALSE)=\"N\"),\"-\",IF(VLOOKUP($C172,TR_Flag,Database!F$44,FALSE)=1,1,\"-\")))","v":"-"},{"$f":"IF($C172=\"\",\"\",IF(OR(HLOOKUP(Participant_Type,Overall_PI,Database!$B56,FALSE)=\"\",HLOOKUP(Participant_Type,Mandatory_PI,Database!$B56,FALSE)=\"N\"),\"-\",IF(VLOOKUP($C172,TR_Flag,Database!G$44,FALSE)=1,1,\"-\")))","v":1},{"$f":"IF($C172=\"\",\"\",IF(OR(HLOOKUP(Participant_Type,Overall_PI,Database!$B56,FALSE)=\"\",HLOOKUP(Participant_Type,Mandatory_PI,Database!$B56,FALSE)=\"N\"),\"-\",IF(VLOOKUP($C172,TR_Flag,Database!H$44,FALSE)=1,1,\"-\")))","v":1},{"$f":"IF($C172=\"\",\"\",IF(OR(HLOOKUP(Participant_Type,Overall_PI,Database!$B56,FALSE)=\"\",HLOOKUP(Participant_Type,Mandatory_PI,Database!$B56,FALSE)=\"N\"),\"-\",IF(VLOOKUP($C172,TR_Flag,Database!I$44,FALSE)=1,1,\"-\")))","v":1},{"$f":"IF($C172=\"\",\"\",IF(OR(HLOOKUP(Participant_Type,Overall_PI,Database!$B56,FALSE)=\"\",HLOOKUP(Participant_Type,Mandatory_PI,Database!$B56,FALSE)=\"N\"),\"-\",IF(VLOOKUP($C172,TR_Flag,Database!J$44,FALSE)=1,1,\"-\")))","v":1},{"$f":"IF($C172=\"\",\"\",IF(OR(HLOOKUP(Participant_Type,Overall_PI,Database!$B56,FALSE)=\"\",HLOOKUP(Participant_Type,Mandatory_PI,Database!$B56,FALSE)=\"N\"),\"-\",IF(VLOOKUP($C172,TR_Flag,Database!K$44,FALSE)=1,1,\"-\")))","v":1},{"$f":"IF($C172=\"\",\"\",IF(OR(HLOOKUP(Participant_Type,Overall_PI,Database!$B56,FALSE)=\"\",HLOOKUP(Participant_Type,Mandatory_PI,Database!$B56,FALSE)=\"N\"),\"-\",IF(VLOOKUP($C172,TR_Flag,Database!L$44,FALSE)=1,1,\"-\")))","v":"-"},{"$f":"IF($C172=\"\",\"\",IF(OR(HLOOKUP(Participant_Type,Overall_PI,Database!$B56,FALSE)=\"\",HLOOKUP(Participant_Type,Mandatory_PI,Database!$B56,FALSE)=\"N\"),\"-\",IF(VLOOKUP($C172,TR_Flag,Database!M$44,FALSE)=1,1,\"-\")))","v":"-"},null,{"$f":"IF($C172=\"\",\"\",IF(OR(HLOOKUP(Participant_Type,Overall_PI,Database!$B56,FALSE)=\"\",HLOOKUP(Participant_Type,Mandatory_PI,Database!$B56,FALSE)=\"N\"),\"-\",IF(VLOOKUP($C172,TR_Flag,Database!N$44,FALSE)=1,1,\"-\")))","v":"-"},null,{"$f":"IF($C172=\"\",\"\",IF(OR(HLOOKUP(Participant_Type,Overall_PI,Database!$B56,FALSE)=\"\",HLOOKUP(Participant_Type,Mandatory_PI,Database!$B56,FALSE)=\"N\"),\"-\",IF(VLOOKUP($C172,TR_Flag,Database!O$44,FALSE)=1,1,\"-\")))","v":"-"},null,{"$f":"IF($C172=\"\",\"\",IF(OR(HLOOKUP(Participant_Type,Overall_PI,Database!$B56,FALSE)=\"\",HLOOKUP(Participant_Type,Mandatory_PI,Database!$B56,FALSE)=\"N\"),\"-\",IF(VLOOKUP($C172,TR_Flag,Database!P$44,FALSE)=1,1,\"-\")))","v":"-"}]
[null,null,{"$f":"IF(Database!C58=\"\",\"\",Database!C58)","v":"I - IDAM (Foundation)"},{"$f":"IF($C173=\"\",\"\",IF(OR(HLOOKUP(Participant_Type,Overall_PI,Database!$B57,FALSE)=\"\",HLOOKUP(Participant_Type,Mandatory_PI,Database!$B57,FALSE)=\"N\"),\"-\",IF(VLOOKUP($C173,TR_Flag,Database!E$44,FALSE)=1,1,\"-\")))","v":"-"},{"$f":"IF($C173=\"\",\"\",IF(OR(HLOOKUP(Participant_Type,Overall_PI,Database!$B57,FALSE)=\"\",HLOOKUP(Participant_Type,Mandatory_PI,Database!$B57,FALSE)=\"N\"),\"-\",IF(VLOOKUP($C173,TR_Flag,Database!F$44,FALSE)=1,1,\"-\")))","v":"-"},{"$f":"IF($C173=\"\",\"\",IF(OR(HLOOKUP(Participant_Type,Overall_PI,Database!$B57,FALSE)=\"\",HLOOKUP(Participant_Type,Mandatory_PI,Database!$B57,FALSE)=\"N\"),\"-\",IF(VLOOKUP($C173,TR_Flag,Database!G$44,FALSE)=1,1,\"-\")))","v":"-"},{"$f":"IF($C173=\"\",\"\",IF(OR(HLOOKUP(Participant_Type,Overall_PI,Database!$B57,FALSE)=\"\",HLOOKUP(Participant_Type,Mandatory_PI,Database!$B57,FALSE)=\"N\"),\"-\",IF(VLOOKUP($C173,TR_Flag,Database!H$44,FALSE)=1,1,\"-\")))","v":1},{"$f":"IF($C173=\"\",\"\",IF(OR(HLOOKUP(Participant_Type,Overall_PI,Database!$B57,FALSE)=\"\",HLOOKUP(Participant_Type,Mandatory_PI,Database!$B57,FALSE)=\"N\"),\"-\",IF(VLOOKUP($C173,TR_Flag,Database!I$44,FALSE)=1,1,\"-\")))","v":1},{"$f":"IF($C173=\"\",\"\",IF(OR(HLOOKUP(Participant_Type,Overall_PI,Database!$B57,FALSE)=\"\",HLOOKUP(Participant_Type,Mandatory_PI,Database!$B57,FALSE)=\"N\"),\"-\",IF(VLOOKUP($C173,TR_Flag,Database!J$44,FALSE)=1,1,\"-\")))","v":1},{"$f":"IF($C173=\"\",\"\",IF(OR(HLOOKUP(Participant_Type,Overall_PI,Database!$B57,FALSE)=\"\",HLOOKUP(Participant_Type,Mandatory_PI,Database!$B57,FALSE)=\"N\"),\"-\",IF(VLOOKUP($C173,TR_Flag,Database!K$44,FALSE)=1,1,\"-\")))","v":1},{"$f":"IF($C173=\"\",\"\",IF(OR(HLOOKUP(Participant_Type,Overall_PI,Database!$B57,FALSE)=\"\",HLOOKUP(Participant_Type,Mandatory_PI,Database!$B57,FALSE)=\"N\"),\"-\",IF(VLOOKUP($C173,TR_Flag,Database!L$44,FALSE)=1,1,\"-\")))","v":"-"},{"$f":"IF($C173=\"\",\"\",IF(OR(HLOOKUP(Participant_Type,Overall_PI,Database!$B57,FALSE)=\"\",HLOOKUP(Participant_Type,Mandatory_PI,Database!$B57,FALSE)=\"N\"),\"-\",IF(VLOOKUP($C173,TR_Flag,Database!M$44,FALSE)=1,1,\"-\")))","v":"-"},null,{"$f":"IF($C173=\"\",\"\",IF(OR(HLOOKUP(Participant_Type,Overall_PI,Database!$B57,FALSE)=\"\",HLOOKUP(Participant_Type,Mandatory_PI,Database!$B57,FALSE)=\"N\"),\"-\",IF(VLOOKUP($C173,TR_Flag,Database!N$44,FALSE)=1,1,\"-\")))","v":"-"},null,{"$f":"IF($C173=\"\",\"\",IF(OR(HLOOKUP(Participant_Type,Overall_PI,Database!$B57,FALSE)=\"\",HLOOKUP(Participant_Type,Mandatory_PI,Database!$B57,FALSE)=\"N\"),\"-\",IF(VLOOKUP($C173,TR_Flag,Database!O$44,FALSE)=1,1,\"-\")))","v":"-"},null,{"$f":"IF($C173=\"\",\"\",IF(OR(HLOOKUP(Participant_Type,Overall_PI,Database!$B57,FALSE)=\"\",HLOOKUP(Participant_Type,Mandatory_PI,Database!$B57,FALSE)=\"N\"),\"-\",IF(VLOOKUP($C173,TR_Flag,Database!P$44,FALSE)=1,1,\"-\")))","v":"-"}]
[null,null,{"$f":"IF(Database!C59=\"\",\"\",Database!C59)","v":"I - MSR (Accelerating Smart Meter Deployment - Package 3)"},{"$f":"IF($C174=\"\",\"\",IF(OR(HLOOKUP(Participant_Type,Overall_PI,Database!$B58,FALSE)=\"\",HLOOKUP(Participant_Type,Mandatory_PI,Database!$B58,FALSE)=\"N\"),\"-\",IF(VLOOKUP($C174,TR_Flag,Database!E$44,FALSE)=1,1,\"-\")))","v":"-"},{"$f":"IF($C174=\"\",\"\",IF(OR(HLOOKUP(Participant_Type,Overall_PI,Database!$B58,FALSE)=\"\",HLOOKUP(Participant_Type,Mandatory_PI,Database!$B58,FALSE)=\"N\"),\"-\",IF(VLOOKUP($C174,TR_Flag,Database!F$44,FALSE)=1,1,\"-\")))","v":"-"},{"$f":"IF($C174=\"\",\"\",IF(OR(HLOOKUP(Participant_Type,Overall_PI,Database!$B58,FALSE)=\"\",HLOOKUP(Participant_Type,Mandatory_PI,Database!$B58,FALSE)=\"N\"),\"-\",IF(VLOOKUP($C174,TR_Flag,Database!G$44,FALSE)=1,1,\"-\")))","v":"-"},{"$f":"IF($C174=\"\",\"\",IF(OR(HLOOKUP(Participant_Type,Overall_PI,Database!$B58,FALSE)=\"\",HLOOKUP(Participant_Type,Mandatory_PI,Database!$B58,FALSE)=\"N\"),\"-\",IF(VLOOKUP($C174,TR_Flag,Database!H$44,FALSE)=1,1,\"-\")))","v":"-"},{"$f":"IF($C174=\"\",\"\",IF(OR(HLOOKUP(Participant_Type,Overall_PI,Database!$B58,FALSE)=\"\",HLOOKUP(Participant_Type,Mandatory_PI,Database!$B58,FALSE)=\"N\"),\"-\",IF(VLOOKUP($C174,TR_Flag,Database!I$44,FALSE)=1,1,\"-\")))","v":"-"},{"$f":"IF($C174=\"\",\"\",IF(OR(HLOOKUP(Participant_Type,Overall_PI,Database!$B58,FALSE)=\"\",HLOOKUP(Participant_Type,Mandatory_PI,Database!$B58,FALSE)=\"N\"),\"-\",IF(VLOOKUP($C174,TR_Flag,Database!J$44,FALSE)=1,1,\"-\")))","v":1},{"$f":"IF($C174=\"\",\"\",IF(OR(HLOOKUP(Participant_Type,Overall_PI,Database!$B58,FALSE)=\"\",HLOOKUP(Participant_Type,Mandatory_PI,Database!$B58,FALSE)=\"N\"),\"-\",IF(VLOOKUP($C174,TR_Flag,Database!K$44,FALSE)=1,1,\"-\")))","v":"-"},{"$f":"IF($C174=\"\",\"\",IF(OR(HLOOKUP(Participant_Type,Overall_PI,Database!$B58,FALSE)=\"\",HLOOKUP(Participant_Type,Mandatory_PI,Database!$B58,FALSE)=\"N\"),\"-\",IF(VLOOKUP($C174,TR_Flag,Database!L$44,FALSE)=1,1,\"-\")))","v":"-"},{"$f":"IF($C174=\"\",\"\",IF(OR(HLOOKUP(Participant_Type,Overall_PI,Database!$B58,FALSE)=\"\",HLOOKUP(Participant_Type,Mandatory_PI,Database!$B58,FALSE)=\"N\"),\"-\",IF(VLOOKUP($C174,TR_Flag,Database!M$44,FALSE)=1,1,\"-\")))","v":"-"},null,{"$f":"IF($C174=\"\",\"\",IF(OR(HLOOKUP(Participant_Type,Overall_PI,Database!$B58,FALSE)=\"\",HLOOKUP(Participant_Type,Mandatory_PI,Database!$B58,FALSE)=\"N\"),\"-\",IF(VLOOKUP($C174,TR_Flag,Database!N$44,FALSE)=1,1,\"-\")))","v":"-"},null,{"$f":"IF($C174=\"\",\"\",IF(OR(HLOOKUP(Participant_Type,Overall_PI,Database!$B58,FALSE)=\"\",HLOOKUP(Participant_Type,Mandatory_PI,Database!$B58,FALSE)=\"N\"),\"-\",IF(VLOOKUP($C174,TR_Flag,Database!O$44,FALSE)=1,1,\"-\")))","v":"-"},null,{"$f":"IF($C174=\"\",\"\",IF(OR(HLOOKUP(Participant_Type,Overall_PI,Database!$B58,FALSE)=\"\",HLOOKUP(Participant_Type,Mandatory_PI,Database!$B58,FALSE)=\"N\"),\"-\",IF(VLOOKUP($C174,TR_Flag,Database!P$44,FALSE)=1,1,\"-\")))","v":"-"}]
[null,null,{"$f":"IF(Database!C60=\"\",\"\",Database!C60)","v":"A - Inter-regional SRAs for transmission loops (PEC-MI)"},{"$f":"IF($C175=\"\",\"\",IF(OR(HLOOKUP(Participant_Type,Overall_PI,Database!$B59,FALSE)=\"\",HLOOKUP(Participant_Type,Mandatory_PI,Database!$B59,FALSE)=\"N\"),\"-\",IF(VLOOKUP($C175,TR_Flag,Database!E$44,FALSE)=1,1,\"-\")))","v":"-"},{"$f":"IF($C175=\"\",\"\",IF(OR(HLOOKUP(Participant_Type,Overall_PI,Database!$B59,FALSE)=\"\",HLOOKUP(Participant_Type,Mandatory_PI,Database!$B59,FALSE)=\"N\"),\"-\",IF(VLOOKUP($C175,TR_Flag,Database!F$44,FALSE)=1,1,\"-\")))","v":"-"},{"$f":"IF($C175=\"\",\"\",IF(OR(HLOOKUP(Participant_Type,Overall_PI,Database!$B59,FALSE)=\"\",HLOOKUP(Participant_Type,Mandatory_PI,Database!$B59,FALSE)=\"N\"),\"-\",IF(VLOOKUP($C175,TR_Flag,Database!G$44,FALSE)=1,1,\"-\")))","v":"-"},{"$f":"IF($C175=\"\",\"\",IF(OR(HLOOKUP(Participant_Type,Overall_PI,Database!$B59,FALSE)=\"\",HLOOKUP(Participant_Type,Mandatory_PI,Database!$B59,FALSE)=\"N\"),\"-\",IF(VLOOKUP($C175,TR_Flag,Database!H$44,FALSE)=1,1,\"-\")))","v":"-"},{"$f":"IF($C175=\"\",\"\",IF(OR(HLOOKUP(Participant_Type,Overall_PI,Database!$B59,FALSE)=\"\",HLOOKUP(Participant_Type,Mandatory_PI,Database!$B59,FALSE)=\"N\"),\"-\",IF(VLOOKUP($C175,TR_Flag,Database!I$44,FALSE)=1,1,\"-\")))","v":1},{"$f":"IF($C175=\"\",\"\",IF(OR(HLOOKUP(Participant_Type,Overall_PI,Database!$B59,FALSE)=\"\",HLOOKUP(Participant_Type,Mandatory_PI,Database!$B59,FALSE)=\"N\"),\"-\",IF(VLOOKUP($C175,TR_Flag,Database!J$44,FALSE)=1,1,\"-\")))","v":1},{"$f":"IF($C175=\"\",\"\",IF(OR(HLOOKUP(Participant_Type,Overall_PI,Database!$B59,FALSE)=\"\",HLOOKUP(Participant_Type,Mandatory_PI,Database!$B59,FALSE)=\"N\"),\"-\",IF(VLOOKUP($C175,TR_Flag,Database!K$44,FALSE)=1,1,\"-\")))","v":"-"},{"$f":"IF($C175=\"\",\"\",IF(OR(HLOOKUP(Participant_Type,Overall_PI,Database!$B59,FALSE)=\"\",HLOOKUP(Participant_Type,Mandatory_PI,Database!$B59,FALSE)=\"N\"),\"-\",IF(VLOOKUP($C175,TR_Flag,Database!L$44,FALSE)=1,1,\"-\")))","v":"-"},{"$f":"IF($C175=\"\",\"\",IF(OR(HLOOKUP(Participant_Type,Overall_PI,Database!$B59,FALSE)=\"\",HLOOKUP(Participant_Type,Mandatory_PI,Database!$B59,FALSE)=\"N\"),\"-\",IF(VLOOKUP($C175,TR_Flag,Database!M$44,FALSE)=1,1,\"-\")))","v":"-"},null,{"$f":"IF($C175=\"\",\"\",IF(OR(HLOOKUP(Participant_Type,Overall_PI,Database!$B59,FALSE)=\"\",HLOOKUP(Participant_Type,Mandatory_PI,Database!$B59,FALSE)=\"N\"),\"-\",IF(VLOOKUP($C175,TR_Flag,Database!N$44,FALSE)=1,1,\"-\")))","v":"-"},null,{"$f":"IF($C175=\"\",\"\",IF(OR(HLOOKUP(Participant_Type,Overall_PI,Database!$B59,FALSE)=\"\",HLOOKUP(Participant_Type,Mandatory_PI,Database!$B59,FALSE)=\"N\"),\"-\",IF(VLOOKUP($C175,TR_Flag,Database!O$44,FALSE)=1,1,\"-\")))","v":"-"},null,{"$f":"IF($C175=\"\",\"\",IF(OR(HLOOKUP(Participant_Type,Overall_PI,Database!$B59,FALSE)=\"\",HLOOKUP(Participant_Type,Mandatory_PI,Database!$B59,FALSE)=\"N\"),\"-\",IF(VLOOKUP($C175,TR_Flag,Database!P$44,FALSE)=1,1,\"-\")))","v":"-"}]
[null,null,{"$f":"IF(Database!C61=\"\",\"\",Database!C61)","v":""},{"$f":"IF($C176=\"\",\"\",IF(OR(HLOOKUP(Participant_Type,Overall_PI,Database!$B60,FALSE)=\"\",HLOOKUP(Participant_Type,Mandatory_PI,Database!$B60,FALSE)=\"N\"),\"-\",IF(VLOOKUP($C176,TR_Flag,Database!E$44,FALSE)=1,1,\"-\")))","v":""},{"$f":"IF($C176=\"\",\"\",IF(OR(HLOOKUP(Participant_Type,Overall_PI,Database!$B60,FALSE)=\"\",HLOOKUP(Participant_Type,Mandatory_PI,Database!$B60,FALSE)=\"N\"),\"-\",IF(VLOOKUP($C176,TR_Flag,Database!F$44,FALSE)=1,1,\"-\")))","v":""},{"$f":"IF($C176=\"\",\"\",IF(OR(HLOOKUP(Participant_Type,Overall_PI,Database!$B60,FALSE)=\"\",HLOOKUP(Participant_Type,Mandatory_PI,Database!$B60,FALSE)=\"N\"),\"-\",IF(VLOOKUP($C176,TR_Flag,Database!G$44,FALSE)=1,1,\"-\")))","v":""},{"$f":"IF($C176=\"\",\"\",IF(OR(HLOOKUP(Participant_Type,Overall_PI,Database!$B60,FALSE)=\"\",HLOOKUP(Participant_Type,Mandatory_PI,Database!$B60,FALSE)=\"N\"),\"-\",IF(VLOOKUP($C176,TR_Flag,Database!H$44,FALSE)=1,1,\"-\")))","v":""},{"$f":"IF($C176=\"\",\"\",IF(OR(HLOOKUP(Participant_Type,Overall_PI,Database!$B60,FALSE)=\"\",HLOOKUP(Participant_Type,Mandatory_PI,Database!$B60,FALSE)=\"N\"),\"-\",IF(VLOOKUP($C176,TR_Flag,Database!I$44,FALSE)=1,1,\"-\")))","v":""},{"$f":"IF($C176=\"\",\"\",IF(OR(HLOOKUP(Participant_Type,Overall_PI,Database!$B60,FALSE)=\"\",HLOOKUP(Participant_Type,Mandatory_PI,Database!$B60,FALSE)=\"N\"),\"-\",IF(VLOOKUP($C176,TR_Flag,Database!J$44,FALSE)=1,1,\"-\")))","v":""},{"$f":"IF($C176=\"\",\"\",IF(OR(HLOOKUP(Participant_Type,Overall_PI,Database!$B60,FALSE)=\"\",HLOOKUP(Participant_Type,Mandatory_PI,Database!$B60,FALSE)=\"N\"),\"-\",IF(VLOOKUP($C176,TR_Flag,Database!K$44,FALSE)=1,1,\"-\")))","v":""},{"$f":"IF($C176=\"\",\"\",IF(OR(HLOOKUP(Participant_Type,Overall_PI,Database!$B60,FALSE)=\"\",HLOOKUP(Participant_Type,Mandatory_PI,Database!$B60,FALSE)=\"N\"),\"-\",IF(VLOOKUP($C176,TR_Flag,Database!L$44,FALSE)=1,1,\"-\")))","v":""},{"$f":"IF($C176=\"\",\"\",IF(OR(HLOOKUP(Participant_Type,Overall_PI,Database!$B60,FALSE)=\"\",HLOOKUP(Participant_Type,Mandatory_PI,Database!$B60,FALSE)=\"N\"),\"-\",IF(VLOOKUP($C176,TR_Flag,Database!M$44,FALSE)=1,1,\"-\")))","v":""},null,{"$f":"IF($C176=\"\",\"\",IF(OR(HLOOKUP(Participant_Type,Overall_PI,Database!$B60,FALSE)=\"\",HLOOKUP(Participant_Type,Mandatory_PI,Database!$B60,FALSE)=\"N\"),\"-\",IF(VLOOKUP($C176,TR_Flag,Database!N$44,FALSE)=1,1,\"-\")))","v":""},null,{"$f":"IF($C176=\"\",\"\",IF(OR(HLOOKUP(Participant_Type,Overall_PI,Database!$B60,FALSE)=\"\",HLOOKUP(Participant_Type,Mandatory_PI,Database!$B60,FALSE)=\"N\"),\"-\",IF(VLOOKUP($C176,TR_Flag,Database!O$44,FALSE)=1,1,\"-\")))","v":""},null,{"$f":"IF($C176=\"\",\"\",IF(OR(HLOOKUP(Participant_Type,Overall_PI,Database!$B60,FALSE)=\"\",HLOOKUP(Participant_Type,Mandatory_PI,Database!$B60,FALSE)=\"N\"),\"-\",IF(VLOOKUP($C176,TR_Flag,Database!P$44,FALSE)=1,1,\"-\")))","v":""}]
[null,null,{"$f":"IF(Database!C62=\"\",\"\",Database!C62)","v":""},{"$f":"IF($C177=\"\",\"\",IF(OR(HLOOKUP(Participant_Type,Overall_PI,Database!$B61,FALSE)=\"\",HLOOKUP(Participant_Type,Mandatory_PI,Database!$B61,FALSE)=\"N\"),\"-\",IF(VLOOKUP($C177,TR_Flag,Database!E$44,FALSE)=1,1,\"-\")))","v":""},{"$f":"IF($C177=\"\",\"\",IF(OR(HLOOKUP(Participant_Type,Overall_PI,Database!$B61,FALSE)=\"\",HLOOKUP(Participant_Type,Mandatory_PI,Database!$B61,FALSE)=\"N\"),\"-\",IF(VLOOKUP($C177,TR_Flag,Database!F$44,FALSE)=1,1,\"-\")))","v":""},{"$f":"IF($C177=\"\",\"\",IF(OR(HLOOKUP(Participant_Type,Overall_PI,Database!$B61,FALSE)=\"\",HLOOKUP(Participant_Type,Mandatory_PI,Database!$B61,FALSE)=\"N\"),\"-\",IF(VLOOKUP($C177,TR_Flag,Database!G$44,FALSE)=1,1,\"-\")))","v":""},{"$f":"IF($C177=\"\",\"\",IF(OR(HLOOKUP(Participant_Type,Overall_PI,Database!$B61,FALSE)=\"\",HLOOKUP(Participant_Type,Mandatory_PI,Database!$B61,FALSE)=\"N\"),\"-\",IF(VLOOKUP($C177,TR_Flag,Database!H$44,FALSE)=1,1,\"-\")))","v":""},{"$f":"IF($C177=\"\",\"\",IF(OR(HLOOKUP(Participant_Type,Overall_PI,Database!$B61,FALSE)=\"\",HLOOKUP(Participant_Type,Mandatory_PI,Database!$B61,FALSE)=\"N\"),\"-\",IF(VLOOKUP($C177,TR_Flag,Database!I$44,FALSE)=1,1,\"-\")))","v":""},{"$f":"IF($C177=\"\",\"\",IF(OR(HLOOKUP(Participant_Type,Overall_PI,Database!$B61,FALSE)=\"\",HLOOKUP(Participant_Type,Mandatory_PI,Database!$B61,FALSE)=\"N\"),\"-\",IF(VLOOKUP($C177,TR_Flag,Database!J$44,FALSE)=1,1,\"-\")))","v":""},{"$f":"IF($C177=\"\",\"\",IF(OR(HLOOKUP(Participant_Type,Overall_PI,Database!$B61,FALSE)=\"\",HLOOKUP(Participant_Type,Mandatory_PI,Database!$B61,FALSE)=\"N\"),\"-\",IF(VLOOKUP($C177,TR_Flag,Database!K$44,FALSE)=1,1,\"-\")))","v":""},{"$f":"IF($C177=\"\",\"\",IF(OR(HLOOKUP(Participant_Type,Overall_PI,Database!$B61,FALSE)=\"\",HLOOKUP(Participant_Type,Mandatory_PI,Database!$B61,FALSE)=\"N\"),\"-\",IF(VLOOKUP($C177,TR_Flag,Database!L$44,FALSE)=1,1,\"-\")))","v":""},{"$f":"IF($C177=\"\",\"\",IF(OR(HLOOKUP(Participant_Type,Overall_PI,Database!$B61,FALSE)=\"\",HLOOKUP(Participant_Type,Mandatory_PI,Database!$B61,FALSE)=\"N\"),\"-\",IF(VLOOKUP($C177,TR_Flag,Database!M$44,FALSE)=1,1,\"-\")))","v":""},null,{"$f":"IF($C177=\"\",\"\",IF(OR(HLOOKUP(Participant_Type,Overall_PI,Database!$B61,FALSE)=\"\",HLOOKUP(Participant_Type,Mandatory_PI,Database!$B61,FALSE)=\"N\"),\"-\",IF(VLOOKUP($C177,TR_Flag,Database!N$44,FALSE)=1,1,\"-\")))","v":""},null,{"$f":"IF($C177=\"\",\"\",IF(OR(HLOOKUP(Participant_Type,Overall_PI,Database!$B61,FALSE)=\"\",HLOOKUP(Participant_Type,Mandatory_PI,Database!$B61,FALSE)=\"N\"),\"-\",IF(VLOOKUP($C177,TR_Flag,Database!O$44,FALSE)=1,1,\"-\")))","v":""},null,{"$f":"IF($C177=\"\",\"\",IF(OR(HLOOKUP(Participant_Type,Overall_PI,Database!$B61,FALSE)=\"\",HLOOKUP(Participant_Type,Mandatory_PI,Database!$B61,FALSE)=\"N\"),\"-\",IF(VLOOKUP($C177,TR_Flag,Database!P$44,FALSE)=1,1,\"-\")))","v":""}]
[null,null,{"$f":"IF(Database!C63=\"\",\"\",Database!C63)","v":""},{"$f":"IF($C178=\"\",\"\",IF(OR(HLOOKUP(Participant_Type,Overall_PI,Database!$B62,FALSE)=\"\",HLOOKUP(Participant_Type,Mandatory_PI,Database!$B62,FALSE)=\"N\"),\"-\",IF(VLOOKUP($C178,TR_Flag,Database!E$44,FALSE)=1,1,\"-\")))","v":""},{"$f":"IF($C178=\"\",\"\",IF(OR(HLOOKUP(Participant_Type,Overall_PI,Database!$B62,FALSE)=\"\",HLOOKUP(Participant_Type,Mandatory_PI,Database!$B62,FALSE)=\"N\"),\"-\",IF(VLOOKUP($C178,TR_Flag,Database!F$44,FALSE)=1,1,\"-\")))","v":""},{"$f":"IF($C178=\"\",\"\",IF(OR(HLOOKUP(Participant_Type,Overall_PI,Database!$B62,FALSE)=\"\",HLOOKUP(Participant_Type,Mandatory_PI,Database!$B62,FALSE)=\"N\"),\"-\",IF(VLOOKUP($C178,TR_Flag,Database!G$44,FALSE)=1,1,\"-\")))","v":""},{"$f":"IF($C178=\"\",\"\",IF(OR(HLOOKUP(Participant_Type,Overall_PI,Database!$B62,FALSE)=\"\",HLOOKUP(Participant_Type,Mandatory_PI,Database!$B62,FALSE)=\"N\"),\"-\",IF(VLOOKUP($C178,TR_Flag,Database!H$44,FALSE)=1,1,\"-\")))","v":""},{"$f":"IF($C178=\"\",\"\",IF(OR(HLOOKUP(Participant_Type,Overall_PI,Database!$B62,FALSE)=\"\",HLOOKUP(Participant_Type,Mandatory_PI,Database!$B62,FALSE)=\"N\"),\"-\",IF(VLOOKUP($C178,TR_Flag,Database!I$44,FALSE)=1,1,\"-\")))","v":""},{"$f":"IF($C178=\"\",\"\",IF(OR(HLOOKUP(Participant_Type,Overall_PI,Database!$B62,FALSE)=\"\",HLOOKUP(Participant_Type,Mandatory_PI,Database!$B62,FALSE)=\"N\"),\"-\",IF(VLOOKUP($C178,TR_Flag,Database!J$44,FALSE)=1,1,\"-\")))","v":""},{"$f":"IF($C178=\"\",\"\",IF(OR(HLOOKUP(Participant_Type,Overall_PI,Database!$B62,FALSE)=\"\",HLOOKUP(Participant_Type,Mandatory_PI,Database!$B62,FALSE)=\"N\"),\"-\",IF(VLOOKUP($C178,TR_Flag,Database!K$44,FALSE)=1,1,\"-\")))","v":""},{"$f":"IF($C178=\"\",\"\",IF(OR(HLOOKUP(Participant_Type,Overall_PI,Database!$B62,FALSE)=\"\",HLOOKUP(Participant_Type,Mandatory_PI,Database!$B62,FALSE)=\"N\"),\"-\",IF(VLOOKUP($C178,TR_Flag,Database!L$44,FALSE)=1,1,\"-\")))","v":""},{"$f":"IF($C178=\"\",\"\",IF(OR(HLOOKUP(Participant_Type,Overall_PI,Database!$B62,FALSE)=\"\",HLOOKUP(Participant_Type,Mandatory_PI,Database!$B62,FALSE)=\"N\"),\"-\",IF(VLOOKUP($C178,TR_Flag,Database!M$44,FALSE)=1,1,\"-\")))","v":""},null,{"$f":"IF($C178=\"\",\"\",IF(OR(HLOOKUP(Participant_Type,Overall_PI,Database!$B62,FALSE)=\"\",HLOOKUP(Participant_Type,Mandatory_PI,Database!$B62,FALSE)=\"N\"),\"-\",IF(VLOOKUP($C178,TR_Flag,Database!N$44,FALSE)=1,1,\"-\")))","v":""},null,{"$f":"IF($C178=\"\",\"\",IF(OR(HLOOKUP(Participant_Type,Overall_PI,Database!$B62,FALSE)=\"\",HLOOKUP(Participant_Type,Mandatory_PI,Database!$B62,FALSE)=\"N\"),\"-\",IF(VLOOKUP($C178,TR_Flag,Database!O$44,FALSE)=1,1,\"-\")))","v":""},null,{"$f":"IF($C178=\"\",\"\",IF(OR(HLOOKUP(Participant_Type,Overall_PI,Database!$B62,FALSE)=\"\",HLOOKUP(Participant_Type,Mandatory_PI,Database!$B62,FALSE)=\"N\"),\"-\",IF(VLOOKUP($C178,TR_Flag,Database!P$44,FALSE)=1,1,\"-\")))","v":""}]
[null,null,{"$f":"IF(Database!C64=\"\",\"\",Database!C64)","v":""},{"$f":"IF($C179=\"\",\"\",IF(OR(HLOOKUP(Participant_Type,Overall_PI,Database!$B63,FALSE)=\"\",HLOOKUP(Participant_Type,Mandatory_PI,Database!$B63,FALSE)=\"N\"),\"-\",IF(VLOOKUP($C179,TR_Flag,Database!E$44,FALSE)=1,1,\"-\")))","v":""},{"$f":"IF($C179=\"\",\"\",IF(OR(HLOOKUP(Participant_Type,Overall_PI,Database!$B63,FALSE)=\"\",HLOOKUP(Participant_Type,Mandatory_PI,Database!$B63,FALSE)=\"N\"),\"-\",IF(VLOOKUP($C179,TR_Flag,Database!F$44,FALSE)=1,1,\"-\")))","v":""},{"$f":"IF($C179=\"\",\"\",IF(OR(HLOOKUP(Participant_Type,Overall_PI,Database!$B63,FALSE)=\"\",HLOOKUP(Participant_Type,Mandatory_PI,Database!$B63,FALSE)=\"N\"),\"-\",IF(VLOOKUP($C179,TR_Flag,Database!G$44,FALSE)=1,1,\"-\")))","v":""},{"$f":"IF($C179=\"\",\"\",IF(OR(HLOOKUP(Participant_Type,Overall_PI,Database!$B63,FALSE)=\"\",HLOOKUP(Participant_Type,Mandatory_PI,Database!$B63,FALSE)=\"N\"),\"-\",IF(VLOOKUP($C179,TR_Flag,Database!H$44,FALSE)=1,1,\"-\")))","v":""},{"$f":"IF($C179=\"\",\"\",IF(OR(HLOOKUP(Participant_Type,Overall_PI,Database!$B63,FALSE)=\"\",HLOOKUP(Participant_Type,Mandatory_PI,Database!$B63,FALSE)=\"N\"),\"-\",IF(VLOOKUP($C179,TR_Flag,Database!I$44,FALSE)=1,1,\"-\")))","v":""},{"$f":"IF($C179=\"\",\"\",IF(OR(HLOOKUP(Participant_Type,Overall_PI,Database!$B63,FALSE)=\"\",HLOOKUP(Participant_Type,Mandatory_PI,Database!$B63,FALSE)=\"N\"),\"-\",IF(VLOOKUP($C179,TR_Flag,Database!J$44,FALSE)=1,1,\"-\")))","v":""},{"$f":"IF($C179=\"\",\"\",IF(OR(HLOOKUP(Participant_Type,Overall_PI,Database!$B63,FALSE)=\"\",HLOOKUP(Participant_Type,Mandatory_PI,Database!$B63,FALSE)=\"N\"),\"-\",IF(VLOOKUP($C179,TR_Flag,Database!K$44,FALSE)=1,1,\"-\")))","v":""},{"$f":"IF($C179=\"\",\"\",IF(OR(HLOOKUP(Participant_Type,Overall_PI,Database!$B63,FALSE)=\"\",HLOOKUP(Participant_Type,Mandatory_PI,Database!$B63,FALSE)=\"N\"),\"-\",IF(VLOOKUP($C179,TR_Flag,Database!L$44,FALSE)=1,1,\"-\")))","v":""},{"$f":"IF($C179=\"\",\"\",IF(OR(HLOOKUP(Participant_Type,Overall_PI,Database!$B63,FALSE)=\"\",HLOOKUP(Participant_Type,Mandatory_PI,Database!$B63,FALSE)=\"N\"),\"-\",IF(VLOOKUP($C179,TR_Flag,Database!M$44,FALSE)=1,1,\"-\")))","v":""},null,{"$f":"IF($C179=\"\",\"\",IF(OR(HLOOKUP(Participant_Type,Overall_PI,Database!$B63,FALSE)=\"\",HLOOKUP(Participant_Type,Mandatory_PI,Database!$B63,FALSE)=\"N\"),\"-\",IF(VLOOKUP($C179,TR_Flag,Database!N$44,FALSE)=1,1,\"-\")))","v":""},null,{"$f":"IF($C179=\"\",\"\",IF(OR(HLOOKUP(Participant_Type,Overall_PI,Database!$B63,FALSE)=\"\",HLOOKUP(Participant_Type,Mandatory_PI,Database!$B63,FALSE)=\"N\"),\"-\",IF(VLOOKUP($C179,TR_Flag,Database!O$44,FALSE)=1,1,\"-\")))","v":""},null,{"$f":"IF($C179=\"\",\"\",IF(OR(HLOOKUP(Participant_Type,Overall_PI,Database!$B63,FALSE)=\"\",HLOOKUP(Participant_Type,Mandatory_PI,Database!$B63,FALSE)=\"N\"),\"-\",IF(VLOOKUP($C179,TR_Flag,Database!P$44,FALSE)=1,1,\"-\")))","v":""}]
[null,null,{"$f":"IF(Database!C65=\"\",\"\",Database!C65)","v":""},{"$f":"IF($C180=\"\",\"\",IF(OR(HLOOKUP(Participant_Type,Overall_PI,Database!$B64,FALSE)=\"\",HLOOKUP(Participant_Type,Mandatory_PI,Database!$B64,FALSE)=\"N\"),\"-\",IF(VLOOKUP($C180,TR_Flag,Database!E$44,FALSE)=1,1,\"-\")))","v":""},{"$f":"IF($C180=\"\",\"\",IF(OR(HLOOKUP(Participant_Type,Overall_PI,Database!$B64,FALSE)=\"\",HLOOKUP(Participant_Type,Mandatory_PI,Database!$B64,FALSE)=\"N\"),\"-\",IF(VLOOKUP($C180,TR_Flag,Database!F$44,FALSE)=1,1,\"-\")))","v":""},{"$f":"IF($C180=\"\",\"\",IF(OR(HLOOKUP(Participant_Type,Overall_PI,Database!$B64,FALSE)=\"\",HLOOKUP(Participant_Type,Mandatory_PI,Database!$B64,FALSE)=\"N\"),\"-\",IF(VLOOKUP($C180,TR_Flag,Database!G$44,FALSE)=1,1,\"-\")))","v":""},{"$f":"IF($C180=\"\",\"\",IF(OR(HLOOKUP(Participant_Type,Overall_PI,Database!$B64,FALSE)=\"\",HLOOKUP(Participant_Type,Mandatory_PI,Database!$B64,FALSE)=\"N\"),\"-\",IF(VLOOKUP($C180,TR_Flag,Database!H$44,FALSE)=1,1,\"-\")))","v":""},{"$f":"IF($C180=\"\",\"\",IF(OR(HLOOKUP(Participant_Type,Overall_PI,Database!$B64,FALSE)=\"\",HLOOKUP(Participant_Type,Mandatory_PI,Database!$B64,FALSE)=\"N\"),\"-\",IF(VLOOKUP($C180,TR_Flag,Database!I$44,FALSE)=1,1,\"-\")))","v":""},{"$f":"IF($C180=\"\",\"\",IF(OR(HLOOKUP(Participant_Type,Overall_PI,Database!$B64,FALSE)=\"\",HLOOKUP(Participant_Type,Mandatory_PI,Database!$B64,FALSE)=\"N\"),\"-\",IF(VLOOKUP($C180,TR_Flag,Database!J$44,FALSE)=1,1,\"-\")))","v":""},{"$f":"IF($C180=\"\",\"\",IF(OR(HLOOKUP(Participant_Type,Overall_PI,Database!$B64,FALSE)=\"\",HLOOKUP(Participant_Type,Mandatory_PI,Database!$B64,FALSE)=\"N\"),\"-\",IF(VLOOKUP($C180,TR_Flag,Database!K$44,FALSE)=1,1,\"-\")))","v":""},{"$f":"IF($C180=\"\",\"\",IF(OR(HLOOKUP(Participant_Type,Overall_PI,Database!$B64,FALSE)=\"\",HLOOKUP(Participant_Type,Mandatory_PI,Database!$B64,FALSE)=\"N\"),\"-\",IF(VLOOKUP($C180,TR_Flag,Database!L$44,FALSE)=1,1,\"-\")))","v":""},{"$f":"IF($C180=\"\",\"\",IF(OR(HLOOKUP(Participant_Type,Overall_PI,Database!$B64,FALSE)=\"\",HLOOKUP(Participant_Type,Mandatory_PI,Database!$B64,FALSE)=\"N\"),\"-\",IF(VLOOKUP($C180,TR_Flag,Database!M$44,FALSE)=1,1,\"-\")))","v":""},null,{"$f":"IF($C180=\"\",\"\",IF(OR(HLOOKUP(Participant_Type,Overall_PI,Database!$B64,FALSE)=\"\",HLOOKUP(Participant_Type,Mandatory_PI,Database!$B64,FALSE)=\"N\"),\"-\",IF(VLOOKUP($C180,TR_Flag,Database!N$44,FALSE)=1,1,\"-\")))","v":""},null,{"$f":"IF($C180=\"\",\"\",IF(OR(HLOOKUP(Participant_Type,Overall_PI,Database!$B64,FALSE)=\"\",HLOOKUP(Participant_Type,Mandatory_PI,Database!$B64,FALSE)=\"N\"),\"-\",IF(VLOOKUP($C180,TR_Flag,Database!O$44,FALSE)=1,1,\"-\")))","v":""},null,{"$f":"IF($C180=\"\",\"\",IF(OR(HLOOKUP(Participant_Type,Overall_PI,Database!$B64,FALSE)=\"\",HLOOKUP(Participant_Type,Mandatory_PI,Database!$B64,FALSE)=\"N\"),\"-\",IF(VLOOKUP($C180,TR_Flag,Database!P$44,FALSE)=1,1,\"-\")))","v":""}]
[null,null,{"$f":"IF(Database!C66=\"\",\"\",Database!C66)","v":""},{"$f":"IF($C181=\"\",\"\",IF(OR(HLOOKUP(Participant_Type,Overall_PI,Database!$B65,FALSE)=\"\",HLOOKUP(Participant_Type,Mandatory_PI,Database!$B65,FALSE)=\"N\"),\"-\",IF(VLOOKUP($C181,TR_Flag,Database!E$44,FALSE)=1,1,\"-\")))","v":""},{"$f":"IF($C181=\"\",\"\",IF(OR(HLOOKUP(Participant_Type,Overall_PI,Database!$B65,FALSE)=\"\",HLOOKUP(Participant_Type,Mandatory_PI,Database!$B65,FALSE)=\"N\"),\"-\",IF(VLOOKUP($C181,TR_Flag,Database!F$44,FALSE)=1,1,\"-\")))","v":""},{"$f":"IF($C181=\"\",\"\",IF(OR(HLOOKUP(Participant_Type,Overall_PI,Database!$B65,FALSE)=\"\",HLOOKUP(Participant_Type,Mandatory_PI,Database!$B65,FALSE)=\"N\"),\"-\",IF(VLOOKUP($C181,TR_Flag,Database!G$44,FALSE)=1,1,\"-\")))","v":""},{"$f":"IF($C181=\"\",\"\",IF(OR(HLOOKUP(Participant_Type,Overall_PI,Database!$B65,FALSE)=\"\",HLOOKUP(Participant_Type,Mandatory_PI,Database!$B65,FALSE)=\"N\"),\"-\",IF(VLOOKUP($C181,TR_Flag,Database!H$44,FALSE)=1,1,\"-\")))","v":""},{"$f":"IF($C181=\"\",\"\",IF(OR(HLOOKUP(Participant_Type,Overall_PI,Database!$B65,FALSE)=\"\",HLOOKUP(Participant_Type,Mandatory_PI,Database!$B65,FALSE)=\"N\"),\"-\",IF(VLOOKUP($C181,TR_Flag,Database!I$44,FALSE)=1,1,\"-\")))","v":""},{"$f":"IF($C181=\"\",\"\",IF(OR(HLOOKUP(Participant_Type,Overall_PI,Database!$B65,FALSE)=\"\",HLOOKUP(Participant_Type,Mandatory_PI,Database!$B65,FALSE)=\"N\"),\"-\",IF(VLOOKUP($C181,TR_Flag,Database!J$44,FALSE)=1,1,\"-\")))","v":""},{"$f":"IF($C181=\"\",\"\",IF(OR(HLOOKUP(Participant_Type,Overall_PI,Database!$B65,FALSE)=\"\",HLOOKUP(Participant_Type,Mandatory_PI,Database!$B65,FALSE)=\"N\"),\"-\",IF(VLOOKUP($C181,TR_Flag,Database!K$44,FALSE)=1,1,\"-\")))","v":""},{"$f":"IF($C181=\"\",\"\",IF(OR(HLOOKUP(Participant_Type,Overall_PI,Database!$B65,FALSE)=\"\",HLOOKUP(Participant_Type,Mandatory_PI,Database!$B65,FALSE)=\"N\"),\"-\",IF(VLOOKUP($C181,TR_Flag,Database!L$44,FALSE)=1,1,\"-\")))","v":""},{"$f":"IF($C181=\"\",\"\",IF(OR(HLOOKUP(Participant_Type,Overall_PI,Database!$B65,FALSE)=\"\",HLOOKUP(Participant_Type,Mandatory_PI,Database!$B65,FALSE)=\"N\"),\"-\",IF(VLOOKUP($C181,TR_Flag,Database!M$44,FALSE)=1,1,\"-\")))","v":""},null,{"$f":"IF($C181=\"\",\"\",IF(OR(HLOOKUP(Participant_Type,Overall_PI,Database!$B65,FALSE)=\"\",HLOOKUP(Participant_Type,Mandatory_PI,Database!$B65,FALSE)=\"N\"),\"-\",IF(VLOOKUP($C181,TR_Flag,Database!N$44,FALSE)=1,1,\"-\")))","v":""},null,{"$f":"IF($C181=\"\",\"\",IF(OR(HLOOKUP(Participant_Type,Overall_PI,Database!$B65,FALSE)=\"\",HLOOKUP(Participant_Type,Mandatory_PI,Database!$B65,FALSE)=\"N\"),\"-\",IF(VLOOKUP($C181,TR_Flag,Database!O$44,FALSE)=1,1,\"-\")))","v":""},null,{"$f":"IF($C181=\"\",\"\",IF(OR(HLOOKUP(Participant_Type,Overall_PI,Database!$B65,FALSE)=\"\",HLOOKUP(Participant_Type,Mandatory_PI,Database!$B65,FALSE)=\"N\"),\"-\",IF(VLOOKUP($C181,TR_Flag,Database!P$44,FALSE)=1,1,\"-\")))","v":""}]
[null,null,{"$f":"IF(Database!C67=\"\",\"\",Database!C67)","v":""},{"$f":"IF($C182=\"\",\"\",IF(OR(HLOOKUP(Participant_Type,Overall_PI,Database!$B66,FALSE)=\"\",HLOOKUP(Participant_Type,Mandatory_PI,Database!$B66,FALSE)=\"N\"),\"-\",IF(VLOOKUP($C182,TR_Flag,Database!E$44,FALSE)=1,1,\"-\")))","v":""},{"$f":"IF($C182=\"\",\"\",IF(OR(HLOOKUP(Participant_Type,Overall_PI,Database!$B66,FALSE)=\"\",HLOOKUP(Participant_Type,Mandatory_PI,Database!$B66,FALSE)=\"N\"),\"-\",IF(VLOOKUP($C182,TR_Flag,Database!F$44,FALSE)=1,1,\"-\")))","v":""},{"$f":"IF($C182=\"\",\"\",IF(OR(HLOOKUP(Participant_Type,Overall_PI,Database!$B66,FALSE)=\"\",HLOOKUP(Participant_Type,Mandatory_PI,Database!$B66,FALSE)=\"N\"),\"-\",IF(VLOOKUP($C182,TR_Flag,Database!G$44,FALSE)=1,1,\"-\")))","v":""},{"$f":"IF($C182=\"\",\"\",IF(OR(HLOOKUP(Participant_Type,Overall_PI,Database!$B66,FALSE)=\"\",HLOOKUP(Participant_Type,Mandatory_PI,Database!$B66,FALSE)=\"N\"),\"-\",IF(VLOOKUP($C182,TR_Flag,Database!H$44,FALSE)=1,1,\"-\")))","v":""},{"$f":"IF($C182=\"\",\"\",IF(OR(HLOOKUP(Participant_Type,Overall_PI,Database!$B66,FALSE)=\"\",HLOOKUP(Participant_Type,Mandatory_PI,Database!$B66,FALSE)=\"N\"),\"-\",IF(VLOOKUP($C182,TR_Flag,Database!I$44,FALSE)=1,1,\"-\")))","v":""},{"$f":"IF($C182=\"\",\"\",IF(OR(HLOOKUP(Participant_Type,Overall_PI,Database!$B66,FALSE)=\"\",HLOOKUP(Participant_Type,Mandatory_PI,Database!$B66,FALSE)=\"N\"),\"-\",IF(VLOOKUP($C182,TR_Flag,Database!J$44,FALSE)=1,1,\"-\")))","v":""},{"$f":"IF($C182=\"\",\"\",IF(OR(HLOOKUP(Participant_Type,Overall_PI,Database!$B66,FALSE)=\"\",HLOOKUP(Participant_Type,Mandatory_PI,Database!$B66,FALSE)=\"N\"),\"-\",IF(VLOOKUP($C182,TR_Flag,Database!K$44,FALSE)=1,1,\"-\")))","v":""},{"$f":"IF($C182=\"\",\"\",IF(OR(HLOOKUP(Participant_Type,Overall_PI,Database!$B66,FALSE)=\"\",HLOOKUP(Participant_Type,Mandatory_PI,Database!$B66,FALSE)=\"N\"),\"-\",IF(VLOOKUP($C182,TR_Flag,Database!L$44,FALSE)=1,1,\"-\")))","v":""},{"$f":"IF($C182=\"\",\"\",IF(OR(HLOOKUP(Participant_Type,Overall_PI,Database!$B66,FALSE)=\"\",HLOOKUP(Participant_Type,Mandatory_PI,Database!$B66,FALSE)=\"N\"),\"-\",IF(VLOOKUP($C182,TR_Flag,Database!M$44,FALSE)=1,1,\"-\")))","v":""},null,{"$f":"IF($C182=\"\",\"\",IF(OR(HLOOKUP(Participant_Type,Overall_PI,Database!$B66,FALSE)=\"\",HLOOKUP(Participant_Type,Mandatory_PI,Database!$B66,FALSE)=\"N\"),\"-\",IF(VLOOKUP($C182,TR_Flag,Database!N$44,FALSE)=1,1,\"-\")))","v":""},null,{"$f":"IF($C182=\"\",\"\",IF(OR(HLOOKUP(Participant_Type,Overall_PI,Database!$B66,FALSE)=\"\",HLOOKUP(Participant_Type,Mandatory_PI,Database!$B66,FALSE)=\"N\"),\"-\",IF(VLOOKUP($C182,TR_Flag,Database!O$44,FALSE)=1,1,\"-\")))","v":""},null,{"$f":"IF($C182=\"\",\"\",IF(OR(HLOOKUP(Participant_Type,Overall_PI,Database!$B66,FALSE)=\"\",HLOOKUP(Participant_Type,Mandatory_PI,Database!$B66,FALSE)=\"N\"),\"-\",IF(VLOOKUP($C182,TR_Flag,Database!P$44,FALSE)=1,1,\"-\")))","v":""}]
[null,null,"Go-Live",{"$f":"IF(SUM(C184:E203)>=Database!$D$37,\"R\",IF(SUM(C184:E203)<Database!$E$37,\"G\",\"A\"))","v":"R"},{"$f":"IF(SUM(D184:F203)>=Database!$D$37,\"R\",IF(SUM(D184:F203)<Database!$E$37,\"G\",\"A\"))","v":"R"},{"$f":"IF(SUM(E184:G203)>=Database!$D$37,\"R\",IF(SUM(E184:G203)<Database!$E$37,\"G\",\"A\"))","v":"R"},{"$f":"IF(SUM(F184:H203)>=Database!$D$37,\"R\",IF(SUM(F184:H203)<Database!$E$37,\"G\",\"A\"))","v":"R"},{"$f":"IF(SUM(G184:I203)>=Database!$D$37,\"R\",IF(SUM(G184:I203)<Database!$E$37,\"G\",\"A\"))","v":"R"},{"$f":"IF(SUM(H184:J203)>=Database!$D$37,\"R\",IF(SUM(H184:J203)<Database!$E$37,\"G\",\"A\"))","v":"R"},{"$f":"IF(SUM(I184:K203)>=Database!$D$37,\"R\",IF(SUM(I184:K203)<Database!$E$37,\"G\",\"A\"))","v":"R"},{"$f":"IF(SUM(J184:M203)>=Database!$D$37,\"R\",IF(SUM(J184:M203)<Database!$E$37,\"G\",\"A\"))","v":"R"},{"$f":"IF(SUM(K184:O203)>=Database!$D$37,\"R\",IF(SUM(K184:O203)<Database!$E$37,\"G\",\"A\"))","v":"R"},null,{"$f":"IF(SUM(L184:Q203)>=Database!$D$37,\"R\",IF(SUM(L184:Q203)<Database!$E$37,\"G\",\"A\"))","v":"A"},null,{"$f":"IF(SUM(N184:S203)>=Database!$D$37,\"R\",IF(SUM(N184:S203)<Database!$E$37,\"G\",\"A\"))","v":"A"},null,{"$f":"IF(SUM(P184:U203)>=Database!$D$37,\"R\",IF(SUM(P184:U203)<Database!$E$37,\"G\",\"A\"))","v":"G"}]
[null,null,{"$f":"IF(Database!C48=\"\",\"\",Database!C48)","v":"I - SCADA Lite"},{"$f":"IF($C184=\"\",\"\",IF(OR(HLOOKUP(Participant_Type,Overall_PI,Database!$B47,FALSE)=\"\",HLOOKUP(Participant_Type,Mandatory_PI,Database!$B47,FALSE)=\"N\"),\"-\",IF(VLOOKUP($C184,Go_Flag,Database!E$44,FALSE)=1,1,\"-\")))","v":"-"},{"$f":"IF($C184=\"\",\"\",IF(OR(HLOOKUP(Participant_Type,Overall_PI,Database!$B47,FALSE)=\"\",HLOOKUP(Participant_Type,Mandatory_PI,Database!$B47,FALSE)=\"N\"),\"-\",IF(VLOOKUP($C184,Go_Flag,Database!F$44,FALSE)=1,1,\"-\")))","v":1},{"$f":"IF($C184=\"\",\"\",IF(OR(HLOOKUP(Participant_Type,Overall_PI,Database!$B47,FALSE)=\"\",HLOOKUP(Participant_Type,Mandatory_PI,Database!$B47,FALSE)=\"N\"),\"-\",IF(VLOOKUP($C184,Go_Flag,Database!G$44,FALSE)=1,1,\"-\")))","v":"-"},{"$f":"IF($C184=\"\",\"\",IF(OR(HLOOKUP(Participant_Type,Overall_PI,Database!$B47,FALSE)=\"\",HLOOKUP(Participant_Type,Mandatory_PI,Database!$B47,FALSE)=\"N\"),\"-\",IF(VLOOKUP($C184,Go_Flag,Database!H$44,FALSE)=1,1,\"-\")))","v":"-"},{"$f":"IF($C184=\"\",\"\",IF(OR(HLOOKUP(Participant_Type,Overall_PI,Database!$B47,FALSE)=\"\",HLOOKUP(Participant_Type,Mandatory_PI,Database!$B47,FALSE)=\"N\"),\"-\",IF(VLOOKUP($C184,Go_Flag,Database!I$44,FALSE)=1,1,\"-\")))","v":"-"},{"$f":"IF($C184=\"\",\"\",IF(OR(HLOOKUP(Participant_Type,Overall_PI,Database!$B47,FALSE)=\"\",HLOOKUP(Participant_Type,Mandatory_PI,Database!$B47,FALSE)=\"N\"),\"-\",IF(VLOOKUP($C184,Go_Flag,Database!J$44,FALSE)=1,1,\"-\")))","v":"-"},{"$f":"IF($C184=\"\",\"\",IF(OR(HLOOKUP(Participant_Type,Overall_PI,Database!$B47,FALSE)=\"\",HLOOKUP(Participant_Type,Mandatory_PI,Database!$B47,FALSE)=\"N\"),\"-\",IF(VLOOKUP($C184,Go_Flag,Database!K$44,FALSE)=1,1,\"-\")))","v":"-"},{"$f":"IF($C184=\"\",\"\",IF(OR(HLOOKUP(Participant_Type,Overall_PI,Database!$B47,FALSE)=\"\",HLOOKUP(Participant_Type,Mandatory_PI,Database!$B47,FALSE)=\"N\"),\"-\",IF(VLOOKUP($C184,Go_Flag,Database!L$44,FALSE)=1,1,\"-\")))","v":"-"},{"$f":"IF($C184=\"\",\"\",IF(OR(HLOOKUP(Participant_Type,Overall_PI,Database!$B47,FALSE)=\"\",HLOOKUP(Participant_Type,Mandatory_PI,Database!$B47,FALSE)=\"N\"),\"-\",IF(VLOOKUP($C184,Go_Flag,Database!M$44,FALSE)=1,1,\"-\")))","v":"-"},null,{"$f":"IF($C184=\"\",\"\",IF(OR(HLOOKUP(Participant_Type,Overall_PI,Database!$B47,FALSE)=\"\",HLOOKUP(Participant_Type,Mandatory_PI,Database!$B47,FALSE)=\"N\"),\"-\",IF(VLOOKUP($C184,Go_Flag,Database!N$44,FALSE)=1,1,\"-\")))","v":"-"},null,{"$f":"IF($C184=\"\",\"\",IF(OR(HLOOKUP(Participant_Type,Overall_PI,Database!$B47,FALSE)=\"\",HLOOKUP(Participant_Type,Mandatory_PI,Database!$B47,FALSE)=\"N\"),\"-\",IF(VLOOKUP($C184,Go_Flag,Database!O$44,FALSE)=1,1,\"-\")))","v":"-"},null,{"$f":"IF($C184=\"\",\"\",IF(OR(HLOOKUP(Participant_Type,Overall_PI,Database!$B47,FALSE)=\"\",HLOOKUP(Participant_Type,Mandatory_PI,Database!$B47,FALSE)=\"N\"),\"-\",IF(VLOOKUP($C184,Go_Flag,Database!P$44,FALSE)=1,1,\"-\")))","v":"-"}]
[null,null,{"$f":"IF(Database!C49=\"\",\"\",Database!C49)","v":"I - Frequency Performance Payments"},{"$f":"IF($C185=\"\",\"\",IF(OR(HLOOKUP(Participant_Type,Overall_PI,Database!$B48,FALSE)=\"\",HLOOKUP(Participant_Type,Mandatory_PI,Database!$B48,FALSE)=\"N\"),\"-\",IF(VLOOKUP($C185,Go_Flag,Database!E$44,FALSE)=1,1,\"-\")))","v":"-"},{"$f":"IF($C185=\"\",\"\",IF(OR(HLOOKUP(Participant_Type,Overall_PI,Database!$B48,FALSE)=\"\",HLOOKUP(Participant_Type,Mandatory_PI,Database!$B48,FALSE)=\"N\"),\"-\",IF(VLOOKUP($C185,Go_Flag,Database!F$44,FALSE)=1,1,\"-\")))","v":1},{"$f":"IF($C185=\"\",\"\",IF(OR(HLOOKUP(Participant_Type,Overall_PI,Database!$B48,FALSE)=\"\",HLOOKUP(Participant_Type,Mandatory_PI,Database!$B48,FALSE)=\"N\"),\"-\",IF(VLOOKUP($C185,Go_Flag,Database!G$44,FALSE)=1,1,\"-\")))","v":"-"},{"$f":"IF($C185=\"\",\"\",IF(OR(HLOOKUP(Participant_Type,Overall_PI,Database!$B48,FALSE)=\"\",HLOOKUP(Participant_Type,Mandatory_PI,Database!$B48,FALSE)=\"N\"),\"-\",IF(VLOOKUP($C185,Go_Flag,Database!H$44,FALSE)=1,1,\"-\")))","v":"-"},{"$f":"IF($C185=\"\",\"\",IF(OR(HLOOKUP(Participant_Type,Overall_PI,Database!$B48,FALSE)=\"\",HLOOKUP(Participant_Type,Mandatory_PI,Database!$B48,FALSE)=\"N\"),\"-\",IF(VLOOKUP($C185,Go_Flag,Database!I$44,FALSE)=1,1,\"-\")))","v":"-"},{"$f":"IF($C185=\"\",\"\",IF(OR(HLOOKUP(Participant_Type,Overall_PI,Database!$B48,FALSE)=\"\",HLOOKUP(Participant_Type,Mandatory_PI,Database!$B48,FALSE)=\"N\"),\"-\",IF(VLOOKUP($C185,Go_Flag,Database!J$44,FALSE)=1,1,\"-\")))","v":"-"},{"$f":"IF($C185=\"\",\"\",IF(OR(HLOOKUP(Participant_Type,Overall_PI,Database!$B48,FALSE)=\"\",HLOOKUP(Participant_Type,Mandatory_PI,Database!$B48,FALSE)=\"N\"),\"-\",IF(VLOOKUP($C185,Go_Flag,Database!K$44,FALSE)=1,1,\"-\")))","v":"-"},{"$f":"IF($C185=\"\",\"\",IF(OR(HLOOKUP(Participant_Type,Overall_PI,Database!$B48,FALSE)=\"\",HLOOKUP(Participant_Type,Mandatory_PI,Database!$B48,FALSE)=\"N\"),\"-\",IF(VLOOKUP($C185,Go_Flag,Database!L$44,FALSE)=1,1,\"-\")))","v":"-"},{"$f":"IF($C185=\"\",\"\",IF(OR(HLOOKUP(Participant_Type,Overall_PI,Database!$B48,FALSE)=\"\",HLOOKUP(Participant_Type,Mandatory_PI,Database!$B48,FALSE)=\"N\"),\"-\",IF(VLOOKUP($C185,Go_Flag,Database!M$44,FALSE)=1,1,\"-\")))","v":"-"},null,{"$f":"IF($C185=\"\",\"\",IF(OR(HLOOKUP(Participant_Type,Overall_PI,Database!$B48,FALSE)=\"\",HLOOKUP(Participant_Type,Mandatory_PI,Database!$B48,FALSE)=\"N\"),\"-\",IF(VLOOKUP($C185,Go_Flag,Database!N$44,FALSE)=1,1,\"-\")))","v":"-"},null,{"$f":"IF($C185=\"\",\"\",IF(OR(HLOOKUP(Participant_Type,Overall_PI,Database!$B48,FALSE)=\"\",HLOOKUP(Participant_Type,Mandatory_PI,Database!$B48,FALSE)=\"N\"),\"-\",IF(VLOOKUP($C185,Go_Flag,Database!O$44,FALSE)=1,1,\"-\")))","v":"-"},null,{"$f":"IF($C185=\"\",\"\",IF(OR(HLOOKUP(Participant_Type,Overall_PI,Database!$B48,FALSE)=\"\",HLOOKUP(Participant_Type,Mandatory_PI,Database!$B48,FALSE)=\"N\"),\"-\",IF(VLOOKUP($C185,Go_Flag,Database!P$44,FALSE)=1,1,\"-\")))","v":"-"}]
[null,null,{"$f":"IF(Database!C50=\"\",\"\",Database!C50)","v":"I - Enhancing Reserve Information"},{"$f":"IF($C186=\"\",\"\",IF(OR(HLOOKUP(Participant_Type,Overall_PI,Database!$B49,FALSE)=\"\",HLOOKUP(Participant_Type,Mandatory_PI,Database!$B49,FALSE)=\"N\"),\"-\",IF(VLOOKUP($C186,Go_Flag,Database!E$44,FALSE)=1,1,\"-\")))","v":"-"},{"$f":"IF($C186=\"\",\"\",IF(OR(HLOOKUP(Participant_Type,Overall_PI,Database!$B49,FALSE)=\"\",HLOOKUP(Participant_Type,Mandatory_PI,Database!$B49,FALSE)=\"N\"),\"-\",IF(VLOOKUP($C186,Go_Flag,Database!F$44,FALSE)=1,1,\"-\")))","v":"-"},{"$f":"IF($C186=\"\",\"\",IF(OR(HLOOKUP(Participant_Type,Overall_PI,Database!$B49,FALSE)=\"\",HLOOKUP(Participant_Type,Mandatory_PI,Database!$B49,FALSE)=\"N\"),\"-\",IF(VLOOKUP($C186,Go_Flag,Database!G$44,FALSE)=1,1,\"-\")))","v":1},{"$f":"IF($C186=\"\",\"\",IF(OR(HLOOKUP(Participant_Type,Overall_PI,Database!$B49,FALSE)=\"\",HLOOKUP(Participant_Type,Mandatory_PI,Database!$B49,FALSE)=\"N\"),\"-\",IF(VLOOKUP($C186,Go_Flag,Database!H$44,FALSE)=1,1,\"-\")))","v":"-"},{"$f":"IF($C186=\"\",\"\",IF(OR(HLOOKUP(Participant_Type,Overall_PI,Database!$B49,FALSE)=\"\",HLOOKUP(Participant_Type,Mandatory_PI,Database!$B49,FALSE)=\"N\"),\"-\",IF(VLOOKUP($C186,Go_Flag,Database!I$44,FALSE)=1,1,\"-\")))","v":"-"},{"$f":"IF($C186=\"\",\"\",IF(OR(HLOOKUP(Participant_Type,Overall_PI,Database!$B49,FALSE)=\"\",HLOOKUP(Participant_Type,Mandatory_PI,Database!$B49,FALSE)=\"N\"),\"-\",IF(VLOOKUP($C186,Go_Flag,Database!J$44,FALSE)=1,1,\"-\")))","v":"-"},{"$f":"IF($C186=\"\",\"\",IF(OR(HLOOKUP(Participant_Type,Overall_PI,Database!$B49,FALSE)=\"\",HLOOKUP(Participant_Type,Mandatory_PI,Database!$B49,FALSE)=\"N\"),\"-\",IF(VLOOKUP($C186,Go_Flag,Database!K$44,FALSE)=1,1,\"-\")))","v":"-"},{"$f":"IF($C186=\"\",\"\",IF(OR(HLOOKUP(Participant_Type,Overall_PI,Database!$B49,FALSE)=\"\",HLOOKUP(Participant_Type,Mandatory_PI,Database!$B49,FALSE)=\"N\"),\"-\",IF(VLOOKUP($C186,Go_Flag,Database!L$44,FALSE)=1,1,\"-\")))","v":"-"},{"$f":"IF($C186=\"\",\"\",IF(OR(HLOOKUP(Participant_Type,Overall_PI,Database!$B49,FALSE)=\"\",HLOOKUP(Participant_Type,Mandatory_PI,Database!$B49,FALSE)=\"N\"),\"-\",IF(VLOOKUP($C186,Go_Flag,Database!M$44,FALSE)=1,1,\"-\")))","v":"-"},null,{"$f":"IF($C186=\"\",\"\",IF(OR(HLOOKUP(Participant_Type,Overall_PI,Database!$B49,FALSE)=\"\",HLOOKUP(Participant_Type,Mandatory_PI,Database!$B49,FALSE)=\"N\"),\"-\",IF(VLOOKUP($C186,Go_Flag,Database!N$44,FALSE)=1,1,\"-\")))","v":"-"},null,{"$f":"IF($C186=\"\",\"\",IF(OR(HLOOKUP(Participant_Type,Overall_PI,Database!$B49,FALSE)=\"\",HLOOKUP(Participant_Type,Mandatory_PI,Database!$B49,FALSE)=\"N\"),\"-\",IF(VLOOKUP($C186,Go_Flag,Database!O$44,FALSE)=1,1,\"-\")))","v":"-"},null,{"$f":"IF($C186=\"\",\"\",IF(OR(HLOOKUP(Participant_Type,Overall_PI,Database!$B49,FALSE)=\"\",HLOOKUP(Participant_Type,Mandatory_PI,Database!$B49,FALSE)=\"N\"),\"-\",IF(VLOOKUP($C186,Go_Flag,Database!P$44,FALSE)=1,1,\"-\")))","v":"-"}]
[null,null,{"$f":"IF(Database!C51=\"\",\"\",Database!C51)","v":"I - ST PASA Procedure & Recall Period"},{"$f":"IF($C187=\"\",\"\",IF(OR(HLOOKUP(Participant_Type,Overall_PI,Database!$B50,FALSE)=\"\",HLOOKUP(Participant_Type,Mandatory_PI,Database!$B50,FALSE)=\"N\"),\"-\",IF(VLOOKUP($C187,Go_Flag,Database!E$44,FALSE)=1,1,\"-\")))","v":"-"},{"$f":"IF($C187=\"\",\"\",IF(OR(HLOOKUP(Participant_Type,Overall_PI,Database!$B50,FALSE)=\"\",HLOOKUP(Participant_Type,Mandatory_PI,Database!$B50,FALSE)=\"N\"),\"-\",IF(VLOOKUP($C187,Go_Flag,Database!F$44,FALSE)=1,1,\"-\")))","v":"-"},{"$f":"IF($C187=\"\",\"\",IF(OR(HLOOKUP(Participant_Type,Overall_PI,Database!$B50,FALSE)=\"\",HLOOKUP(Participant_Type,Mandatory_PI,Database!$B50,FALSE)=\"N\"),\"-\",IF(VLOOKUP($C187,Go_Flag,Database!G$44,FALSE)=1,1,\"-\")))","v":1},{"$f":"IF($C187=\"\",\"\",IF(OR(HLOOKUP(Participant_Type,Overall_PI,Database!$B50,FALSE)=\"\",HLOOKUP(Participant_Type,Mandatory_PI,Database!$B50,FALSE)=\"N\"),\"-\",IF(VLOOKUP($C187,Go_Flag,Database!H$44,FALSE)=1,1,\"-\")))","v":"-"},{"$f":"IF($C187=\"\",\"\",IF(OR(HLOOKUP(Participant_Type,Overall_PI,Database!$B50,FALSE)=\"\",HLOOKUP(Participant_Type,Mandatory_PI,Database!$B50,FALSE)=\"N\"),\"-\",IF(VLOOKUP($C187,Go_Flag,Database!I$44,FALSE)=1,1,\"-\")))","v":"-"},{"$f":"IF($C187=\"\",\"\",IF(OR(HLOOKUP(Participant_Type,Overall_PI,Database!$B50,FALSE)=\"\",HLOOKUP(Participant_Type,Mandatory_PI,Database!$B50,FALSE)=\"N\"),\"-\",IF(VLOOKUP($C187,Go_Flag,Database!J$44,FALSE)=1,1,\"-\")))","v":"-"},{"$f":"IF($C187=\"\",\"\",IF(OR(HLOOKUP(Participant_Type,Overall_PI,Database!$B50,FALSE)=\"\",HLOOKUP(Participant_Type,Mandatory_PI,Database!$B50,FALSE)=\"N\"),\"-\",IF(VLOOKUP($C187,Go_Flag,Database!K$44,FALSE)=1,1,\"-\")))","v":"-"},{"$f":"IF($C187=\"\",\"\",IF(OR(HLOOKUP(Participant_Type,Overall_PI,Database!$B50,FALSE)=\"\",HLOOKUP(Participant_Type,Mandatory_PI,Database!$B50,FALSE)=\"N\"),\"-\",IF(VLOOKUP($C187,Go_Flag,Database!L$44,FALSE)=1,1,\"-\")))","v":"-"},{"$f":"IF($C187=\"\",\"\",IF(OR(HLOOKUP(Participant_Type,Overall_PI,Database!$B50,FALSE)=\"\",HLOOKUP(Participant_Type,Mandatory_PI,Database!$B50,FALSE)=\"N\"),\"-\",IF(VLOOKUP($C187,Go_Flag,Database!M$44,FALSE)=1,1,\"-\")))","v":"-"},null,{"$f":"IF($C187=\"\",\"\",IF(OR(HLOOKUP(Participant_Type,Overall_PI,Database!$B50,FALSE)=\"\",HLOOKUP(Participant_Type,Mandatory_PI,Database!$B50,FALSE)=\"N\"),\"-\",IF(VLOOKUP($C187,Go_Flag,Database!N$44,FALSE)=1,1,\"-\")))","v":"-"},null,{"$f":"IF($C187=\"\",\"\",IF(OR(HLOOKUP(Participant_Type,Overall_PI,Database!$B50,FALSE)=\"\",HLOOKUP(Participant_Type,Mandatory_PI,Database!$B50,FALSE)=\"N\"),\"-\",IF(VLOOKUP($C187,Go_Flag,Database!O$44,FALSE)=1,1,\"-\")))","v":"-"},null,{"$f":"IF($C187=\"\",\"\",IF(OR(HLOOKUP(Participant_Type,Overall_PI,Database!$B50,FALSE)=\"\",HLOOKUP(Participant_Type,Mandatory_PI,Database!$B50,FALSE)=\"N\"),\"-\",IF(VLOOKUP($C187,Go_Flag,Database!P$44,FALSE)=1,1,\"-\")))","v":"-"}]
[null,null,{"$f":"IF(Database!C52=\"\",\"\",Database!C52)","v":"I - Improving Security Frameworks"},{"$f":"IF($C188=\"\",\"\",IF(OR(HLOOKUP(Participant_Type,Overall_PI,Database!$B51,FALSE)=\"\",HLOOKUP(Participant_Type,Mandatory_PI,Database!$B51,FALSE)=\"N\"),\"-\",IF(VLOOKUP($C188,Go_Flag,Database!E$44,FALSE)=1,1,\"-\")))","v":"-"},{"$f":"IF($C188=\"\",\"\",IF(OR(HLOOKUP(Participant_Type,Overall_PI,Database!$B51,FALSE)=\"\",HLOOKUP(Participant_Type,Mandatory_PI,Database!$B51,FALSE)=\"N\"),\"-\",IF(VLOOKUP($C188,Go_Flag,Database!F$44,FALSE)=1,1,\"-\")))","v":"-"},{"$f":"IF($C188=\"\",\"\",IF(OR(HLOOKUP(Participant_Type,Overall_PI,Database!$B51,FALSE)=\"\",HLOOKUP(Participant_Type,Mandatory_PI,Database!$B51,FALSE)=\"N\"),\"-\",IF(VLOOKUP($C188,Go_Flag,Database!G$44,FALSE)=1,1,\"-\")))","v":"-"},{"$f":"IF($C188=\"\",\"\",IF(OR(HLOOKUP(Participant_Type,Overall_PI,Database!$B51,FALSE)=\"\",HLOOKUP(Participant_Type,Mandatory_PI,Database!$B51,FALSE)=\"N\"),\"-\",IF(VLOOKUP($C188,Go_Flag,Database!H$44,FALSE)=1,1,\"-\")))","v":1},{"$f":"IF($C188=\"\",\"\",IF(OR(HLOOKUP(Participant_Type,Overall_PI,Database!$B51,FALSE)=\"\",HLOOKUP(Participant_Type,Mandatory_PI,Database!$B51,FALSE)=\"N\"),\"-\",IF(VLOOKUP($C188,Go_Flag,Database!I$44,FALSE)=1,1,\"-\")))","v":"-"},{"$f":"IF($C188=\"\",\"\",IF(OR(HLOOKUP(Participant_Type,Overall_PI,Database!$B51,FALSE)=\"\",HLOOKUP(Participant_Type,Mandatory_PI,Database!$B51,FALSE)=\"N\"),\"-\",IF(VLOOKUP($C188,Go_Flag,Database!J$44,FALSE)=1,1,\"-\")))","v":"-"},{"$f":"IF($C188=\"\",\"\",IF(OR(HLOOKUP(Participant_Type,Overall_PI,Database!$B51,FALSE)=\"\",HLOOKUP(Participant_Type,Mandatory_PI,Database!$B51,FALSE)=\"N\"),\"-\",IF(VLOOKUP($C188,Go_Flag,Database!K$44,FALSE)=1,1,\"-\")))","v":"-"},{"$f":"IF($C188=\"\",\"\",IF(OR(HLOOKUP(Participant_Type,Overall_PI,Database!$B51,FALSE)=\"\",HLOOKUP(Participant_Type,Mandatory_PI,Database!$B51,FALSE)=\"N\"),\"-\",IF(VLOOKUP($C188,Go_Flag,Database!L$44,FALSE)=1,1,\"-\")))","v":"-"},{"$f":"IF($C188=\"\",\"\",IF(OR(HLOOKUP(Participant_Type,Overall_PI,Database!$B51,FALSE)=\"\",HLOOKUP(Participant_Type,Mandatory_PI,Database!$B51,FALSE)=\"N\"),\"-\",IF(VLOOKUP($C188,Go_Flag,Database!M$44,FALSE)=1,1,\"-\")))","v":"-"},null,{"$f":"IF($C188=\"\",\"\",IF(OR(HLOOKUP(Participant_Type,Overall_PI,Database!$B51,FALSE)=\"\",HLOOKUP(Participant_Type,Mandatory_PI,Database!$B51,FALSE)=\"N\"),\"-\",IF(VLOOKUP($C188,Go_Flag,Database!N$44,FALSE)=1,1,\"-\")))","v":"-"},null,{"$f":"IF($C188=\"\",\"\",IF(OR(HLOOKUP(Participant_Type,Overall_PI,Database!$B51,FALSE)=\"\",HLOOKUP(Participant_Type,Mandatory_PI,Database!$B51,FALSE)=\"N\"),\"-\",IF(VLOOKUP($C188,Go_Flag,Database!O$44,FALSE)=1,1,\"-\")))","v":"-"},null,{"$f":"IF($C188=\"\",\"\",IF(OR(HLOOKUP(Participant_Type,Overall_PI,Database!$B51,FALSE)=\"\",HLOOKUP(Participant_Type,Mandatory_PI,Database!$B51,FALSE)=\"N\"),\"-\",IF(VLOOKUP($C188,Go_Flag,Database!P$44,FALSE)=1,1,\"-\")))","v":"-"}]
[null,null,{"$f":"IF(Database!C53=\"\",\"\",Database!C53)","v":"I - Unlocking CER Benefits Through Flexible Trading"},{"$f":"IF($C189=\"\",\"\",IF(OR(HLOOKUP(Participant_Type,Overall_PI,Database!$B52,FALSE)=\"\",HLOOKUP(Participant_Type,Mandatory_PI,Database!$B52,FALSE)=\"N\"),\"-\",IF(VLOOKUP($C189,Go_Flag,Database!E$44,FALSE)=1,1,\"-\")))","v":"-"},{"$f":"IF($C189=\"\",\"\",IF(OR(HLOOKUP(Participant_Type,Overall_PI,Database!$B52,FALSE)=\"\",HLOOKUP(Participant_Type,Mandatory_PI,Database!$B52,FALSE)=\"N\"),\"-\",IF(VLOOKUP($C189,Go_Flag,Database!F$44,FALSE)=1,1,\"-\")))","v":"-"},{"$f":"IF($C189=\"\",\"\",IF(OR(HLOOKUP(Participant_Type,Overall_PI,Database!$B52,FALSE)=\"\",HLOOKUP(Participant_Type,Mandatory_PI,Database!$B52,FALSE)=\"N\"),\"-\",IF(VLOOKUP($C189,Go_Flag,Database!G$44,FALSE)=1,1,\"-\")))","v":"-"},{"$f":"IF($C189=\"\",\"\",IF(OR(HLOOKUP(Participant_Type,Overall_PI,Database!$B52,FALSE)=\"\",HLOOKUP(Participant_Type,Mandatory_PI,Database!$B52,FALSE)=\"N\"),\"-\",IF(VLOOKUP($C189,Go_Flag,Database!H$44,FALSE)=1,1,\"-\")))","v":"-"},{"$f":"IF($C189=\"\",\"\",IF(OR(HLOOKUP(Participant_Type,Overall_PI,Database!$B52,FALSE)=\"\",HLOOKUP(Participant_Type,Mandatory_PI,Database!$B52,FALSE)=\"N\"),\"-\",IF(VLOOKUP($C189,Go_Flag,Database!I$44,FALSE)=1,1,\"-\")))","v":"-"},{"$f":"IF($C189=\"\",\"\",IF(OR(HLOOKUP(Participant_Type,Overall_PI,Database!$B52,FALSE)=\"\",HLOOKUP(Participant_Type,Mandatory_PI,Database!$B52,FALSE)=\"N\"),\"-\",IF(VLOOKUP($C189,Go_Flag,Database!J$44,FALSE)=1,1,\"-\")))","v":"-"},{"$f":"IF($C189=\"\",\"\",IF(OR(HLOOKUP(Participant_Type,Overall_PI,Database!$B52,FALSE)=\"\",HLOOKUP(Participant_Type,Mandatory_PI,Database!$B52,FALSE)=\"N\"),\"-\",IF(VLOOKUP($C189,Go_Flag,Database!K$44,FALSE)=1,1,\"-\")))","v":"-"},{"$f":"IF($C189=\"\",\"\",IF(OR(HLOOKUP(Participant_Type,Overall_PI,Database!$B52,FALSE)=\"\",HLOOKUP(Participant_Type,Mandatory_PI,Database!$B52,FALSE)=\"N\"),\"-\",IF(VLOOKUP($C189,Go_Flag,Database!L$44,FALSE)=1,1,\"-\")))","v":1},{"$f":"IF($C189=\"\",\"\",IF(OR(HLOOKUP(Participant_Type,Overall_PI,Database!$B52,FALSE)=\"\",HLOOKUP(Participant_Type,Mandatory_PI,Database!$B52,FALSE)=\"N\"),\"-\",IF(VLOOKUP($C189,Go_Flag,Database!M$44,FALSE)=1,1,\"-\")))","v":"-"},null,{"$f":"IF($C189=\"\",\"\",IF(OR(HLOOKUP(Participant_Type,Overall_PI,Database!$B52,FALSE)=\"\",HLOOKUP(Participant_Type,Mandatory_PI,Database!$B52,FALSE)=\"N\"),\"-\",IF(VLOOKUP($C189,Go_Flag,Database!N$44,FALSE)=1,1,\"-\")))","v":"-"},null,{"$f":"IF($C189=\"\",\"\",IF(OR(HLOOKUP(Participant_Type,Overall_PI,Database!$B52,FALSE)=\"\",HLOOKUP(Participant_Type,Mandatory_PI,Database!$B52,FALSE)=\"N\"),\"-\",IF(VLOOKUP($C189,Go_Flag,Database!O$44,FALSE)=1,1,\"-\")))","v":"-"},null,{"$f":"IF($C189=\"\",\"\",IF(OR(HLOOKUP(Participant_Type,Overall_PI,Database!$B52,FALSE)=\"\",HLOOKUP(Participant_Type,Mandatory_PI,Database!$B52,FALSE)=\"N\"),\"-\",IF(VLOOKUP($C189,Go_Flag,Database!P$44,FALSE)=1,1,\"-\")))","v":"-"}]
[null,null,{"$f":"IF(Database!C54=\"\",\"\",Database!C54)","v":"I - MSR (Accelerating Smart Meter Deployment - Package 1 & 2)"},{"$f":"IF($C190=\"\",\"\",IF(OR(HLOOKUP(Participant_Type,Overall_PI,Database!$B53,FALSE)=\"\",HLOOKUP(Participant_Type,Mandatory_PI,Database!$B53,FALSE)=\"N\"),\"-\",IF(VLOOKUP($C190,Go_Flag,Database!E$44,FALSE)=1,1,\"-\")))","v":"-"},{"$f":"IF($C190=\"\",\"\",IF(OR(HLOOKUP(Participant_Type,Overall_PI,Database!$B53,FALSE)=\"\",HLOOKUP(Participant_Type,Mandatory_PI,Database!$B53,FALSE)=\"N\"),\"-\",IF(VLOOKUP($C190,Go_Flag,Database!F$44,FALSE)=1,1,\"-\")))","v":"-"},{"$f":"IF($C190=\"\",\"\",IF(OR(HLOOKUP(Participant_Type,Overall_PI,Database!$B53,FALSE)=\"\",HLOOKUP(Participant_Type,Mandatory_PI,Database!$B53,FALSE)=\"N\"),\"-\",IF(VLOOKUP($C190,Go_Flag,Database!G$44,FALSE)=1,1,\"-\")))","v":"-"},{"$f":"IF($C190=\"\",\"\",IF(OR(HLOOKUP(Participant_Type,Overall_PI,Database!$B53,FALSE)=\"\",HLOOKUP(Participant_Type,Mandatory_PI,Database!$B53,FALSE)=\"N\"),\"-\",IF(VLOOKUP($C190,Go_Flag,Database!H$44,FALSE)=1,1,\"-\")))","v":1},{"$f":"IF($C190=\"\",\"\",IF(OR(HLOOKUP(Participant_Type,Overall_PI,Database!$B53,FALSE)=\"\",HLOOKUP(Participant_Type,Mandatory_PI,Database!$B53,FALSE)=\"N\"),\"-\",IF(VLOOKUP($C190,Go_Flag,Database!I$44,FALSE)=1,1,\"-\")))","v":"-"},{"$f":"IF($C190=\"\",\"\",IF(OR(HLOOKUP(Participant_Type,Overall_PI,Database!$B53,FALSE)=\"\",HLOOKUP(Participant_Type,Mandatory_PI,Database!$B53,FALSE)=\"N\"),\"-\",IF(VLOOKUP($C190,Go_Flag,Database!J$44,FALSE)=1,1,\"-\")))","v":"-"},{"$f":"IF($C190=\"\",\"\",IF(OR(HLOOKUP(Participant_Type,Overall_PI,Database!$B53,FALSE)=\"\",HLOOKUP(Participant_Type,Mandatory_PI,Database!$B53,FALSE)=\"N\"),\"-\",IF(VLOOKUP($C190,Go_Flag,Database!K$44,FALSE)=1,1,\"-\")))","v":"-"},{"$f":"IF($C190=\"\",\"\",IF(OR(HLOOKUP(Participant_Type,Overall_PI,Database!$B53,FALSE)=\"\",HLOOKUP(Participant_Type,Mandatory_PI,Database!$B53,FALSE)=\"N\"),\"-\",IF(VLOOKUP($C190,Go_Flag,Database!L$44,FALSE)=1,1,\"-\")))","v":"-"},{"$f":"IF($C190=\"\",\"\",IF(OR(HLOOKUP(Participant_Type,Overall_PI,Database!$B53,FALSE)=\"\",HLOOKUP(Participant_Type,Mandatory_PI,Database!$B53,FALSE)=\"N\"),\"-\",IF(VLOOKUP($C190,Go_Flag,Database!M$44,FALSE)=1,1,\"-\")))","v":"-"},null,{"$f":"IF($C190=\"\",\"\",IF(OR(HLOOKUP(Participant_Type,Overall_PI,Database!$B53,FALSE)=\"\",HLOOKUP(Participant_Type,Mandatory_PI,Database!$B53,FALSE)=\"N\"),\"-\",IF(VLOOKUP($C190,Go_Flag,Database!N$44,FALSE)=1,1,\"-\")))","v":"-"},null,{"$f":"IF($C190=\"\",\"\",IF(OR(HLOOKUP(Participant_Type,Overall_PI,Database!$B53,FALSE)=\"\",HLOOKUP(Participant_Type,Mandatory_PI,Database!$B53,FALSE)=\"N\"),\"-\",IF(VLOOKUP($C190,Go_Flag,Database!O$44,FALSE)=1,1,\"-\")))","v":"-"},null,{"$f":"IF($C190=\"\",\"\",IF(OR(HLOOKUP(Participant_Type,Overall_PI,Database!$B53,FALSE)=\"\",HLOOKUP(Participant_Type,Mandatory_PI,Database!$B53,FALSE)=\"N\"),\"-\",IF(VLOOKUP($C190,Go_Flag,Database!P$44,FALSE)=1,1,\"-\")))","v":"-"}]
[null,null,{"$f":"IF(Database!C55=\"\",\"\",Database!C55)","v":"I - Shortening the Settlement Cycle"},{"$f":"IF($C191=\"\",\"\",IF(OR(HLOOKUP(Participant_Type,Overall_PI,Database!$B54,FALSE)=\"\",HLOOKUP(Participant_Type,Mandatory_PI,Database!$B54,FALSE)=\"N\"),\"-\",IF(VLOOKUP($C191,Go_Flag,Database!E$44,FALSE)=1,1,\"-\")))","v":"-"},{"$f":"IF($C191=\"\",\"\",IF(OR(HLOOKUP(Participant_Type,Overall_PI,Database!$B54,FALSE)=\"\",HLOOKUP(Participant_Type,Mandatory_PI,Database!$B54,FALSE)=\"N\"),\"-\",IF(VLOOKUP($C191,Go_Flag,Database!F$44,FALSE)=1,1,\"-\")))","v":"-"},{"$f":"IF($C191=\"\",\"\",IF(OR(HLOOKUP(Participant_Type,Overall_PI,Database!$B54,FALSE)=\"\",HLOOKUP(Participant_Type,Mandatory_PI,Database!$B54,FALSE)=\"N\"),\"-\",IF(VLOOKUP($C191,Go_Flag,Database!G$44,FALSE)=1,1,\"-\")))","v":"-"},{"$f":"IF($C191=\"\",\"\",IF(OR(HLOOKUP(Participant_Type,Overall_PI,Database!$B54,FALSE)=\"\",HLOOKUP(Participant_Type,Mandatory_PI,Database!$B54,FALSE)=\"N\"),\"-\",IF(VLOOKUP($C191,Go_Flag,Database!H$44,FALSE)=1,1,\"-\")))","v":"-"},{"$f":"IF($C191=\"\",\"\",IF(OR(HLOOKUP(Participant_Type,Overall_PI,Database!$B54,FALSE)=\"\",HLOOKUP(Participant_Type,Mandatory_PI,Database!$B54,FALSE)=\"N\"),\"-\",IF(VLOOKUP($C191,Go_Flag,Database!I$44,FALSE)=1,1,\"-\")))","v":"-"},{"$f":"IF($C191=\"\",\"\",IF(OR(HLOOKUP(Participant_Type,Overall_PI,Database!$B54,FALSE)=\"\",HLOOKUP(Participant_Type,Mandatory_PI,Database!$B54,FALSE)=\"N\"),\"-\",IF(VLOOKUP($C191,Go_Flag,Database!J$44,FALSE)=1,1,\"-\")))","v":1},{"$f":"IF($C191=\"\",\"\",IF(OR(HLOOKUP(Participant_Type,Overall_PI,Database!$B54,FALSE)=\"\",HLOOKUP(Participant_Type,Mandatory_PI,Database!$B54,FALSE)=\"N\"),\"-\",IF(VLOOKUP($C191,Go_Flag,Database!K$44,FALSE)=1,1,\"-\")))","v":"-"},{"$f":"IF($C191=\"\",\"\",IF(OR(HLOOKUP(Participant_Type,Overall_PI,Database!$B54,FALSE)=\"\",HLOOKUP(Participant_Type,Mandatory_PI,Database!$B54,FALSE)=\"N\"),\"-\",IF(VLOOKUP($C191,Go_Flag,Database!L$44,FALSE)=1,1,\"-\")))","v":"-"},{"$f":"IF($C191=\"\",\"\",IF(OR(HLOOKUP(Participant_Type,Overall_PI,Database!$B54,FALSE)=\"\",HLOOKUP(Participant_Type,Mandatory_PI,Database!$B54,FALSE)=\"N\"),\"-\",IF(VLOOKUP($C191,Go_Flag,Database!M$44,FALSE)=1,1,\"-\")))","v":"-"},null,{"$f":"IF($C191=\"\",\"\",IF(OR(HLOOKUP(Participant_Type,Overall_PI,Database!$B54,FALSE)=\"\",HLOOKUP(Participant_Type,Mandatory_PI,Database!$B54,FALSE)=\"N\"),\"-\",IF(VLOOKUP($C191,Go_Flag,Database!N$44,FALSE)=1,1,\"-\")))","v":"-"},null,{"$f":"IF($C191=\"\",\"\",IF(OR(HLOOKUP(Participant_Type,Overall_PI,Database!$B54,FALSE)=\"\",HLOOKUP(Participant_Type,Mandatory_PI,Database!$B54,FALSE)=\"N\"),\"-\",IF(VLOOKUP($C191,Go_Flag,Database!O$44,FALSE)=1,1,\"-\")))","v":"-"},null,{"$f":"IF($C191=\"\",\"\",IF(OR(HLOOKUP(Participant_Type,Overall_PI,Database!$B54,FALSE)=\"\",HLOOKUP(Participant_Type,Mandatory_PI,Database!$B54,FALSE)=\"N\"),\"-\",IF(VLOOKUP($C191,Go_Flag,Database!P$44,FALSE)=1,1,\"-\")))","v":"-"}]
[null,null,{"$f":"IF(Database!C56=\"\",\"\",Database!C56)","v":"I - Integrating Price Responsive Resources into the NEM"},{"$f":"IF($C192=\"\",\"\",IF(OR(HLOOKUP(Participant_Type,Overall_PI,Database!$B55,FALSE)=\"\",HLOOKUP(Participant_Type,Mandatory_PI,Database!$B55,FALSE)=\"N\"),\"-\",IF(VLOOKUP($C192,Go_Flag,Database!E$44,FALSE)=1,1,\"-\")))","v":"-"},{"$f":"IF($C192=\"\",\"\",IF(OR(HLOOKUP(Participant_Type,Overall_PI,Database!$B55,FALSE)=\"\",HLOOKUP(Participant_Type,Mandatory_PI,Database!$B55,FALSE)=\"N\"),\"-\",IF(VLOOKUP($C192,Go_Flag,Database!F$44,FALSE)=1,1,\"-\")))","v":"-"},{"$f":"IF($C192=\"\",\"\",IF(OR(HLOOKUP(Participant_Type,Overall_PI,Database!$B55,FALSE)=\"\",HLOOKUP(Participant_Type,Mandatory_PI,Database!$B55,FALSE)=\"N\"),\"-\",IF(VLOOKUP($C192,Go_Flag,Database!G$44,FALSE)=1,1,\"-\")))","v":"-"},{"$f":"IF($C192=\"\",\"\",IF(OR(HLOOKUP(Participant_Type,Overall_PI,Database!$B55,FALSE)=\"\",HLOOKUP(Participant_Type,Mandatory_PI,Database!$B55,FALSE)=\"N\"),\"-\",IF(VLOOKUP($C192,Go_Flag,Database!H$44,FALSE)=1,1,\"-\")))","v":"-"},{"$f":"IF($C192=\"\",\"\",IF(OR(HLOOKUP(Participant_Type,Overall_PI,Database!$B55,FALSE)=\"\",HLOOKUP(Participant_Type,Mandatory_PI,Database!$B55,FALSE)=\"N\"),\"-\",IF(VLOOKUP($C192,Go_Flag,Database!I$44,FALSE)=1,1,\"-\")))","v":"-"},{"$f":"IF($C192=\"\",\"\",IF(OR(HLOOKUP(Participant_Type,Overall_PI,Database!$B55,FALSE)=\"\",HLOOKUP(Participant_Type,Mandatory_PI,Database!$B55,FALSE)=\"N\"),\"-\",IF(VLOOKUP($C192,Go_Flag,Database!J$44,FALSE)=1,1,\"-\")))","v":"-"},{"$f":"IF($C192=\"\",\"\",IF(OR(HLOOKUP(Participant_Type,Overall_PI,Database!$B55,FALSE)=\"\",HLOOKUP(Participant_Type,Mandatory_PI,Database!$B55,FALSE)=\"N\"),\"-\",IF(VLOOKUP($C192,Go_Flag,Database!K$44,FALSE)=1,1,\"-\")))","v":"-"},{"$f":"IF($C192=\"\",\"\",IF(OR(HLOOKUP(Participant_Type,Overall_PI,Database!$B55,FALSE)=\"\",HLOOKUP(Participant_Type,Mandatory_PI,Database!$B55,FALSE)=\"N\"),\"-\",IF(VLOOKUP($C192,Go_Flag,Database!L$44,FALSE)=1,1,\"-\")))","v":"-"},{"$f":"IF($C192=\"\",\"\",IF(OR(HLOOKUP(Participant_Type,Overall_PI,Database!$B55,FALSE)=\"\",HLOOKUP(Participant_Type,Mandatory_PI,Database!$B55,FALSE)=\"N\"),\"-\",IF(VLOOKUP($C192,Go_Flag,Database!M$44,FALSE)=1,1,\"-\")))","v":"-"},null,{"$f":"IF($C192=\"\",\"\",IF(OR(HLOOKUP(Participant_Type,Overall_PI,Database!$B55,FALSE)=\"\",HLOOKUP(Participant_Type,Mandatory_PI,Database!$B55,FALSE)=\"N\"),\"-\",IF(VLOOKUP($C192,Go_Flag,Database!N$44,FALSE)=1,1,\"-\")))","v":1},null,{"$f":"IF($C192=\"\",\"\",IF(OR(HLOOKUP(Participant_Type,Overall_PI,Database!$B55,FALSE)=\"\",HLOOKUP(Participant_Type,Mandatory_PI,Database!$B55,FALSE)=\"N\"),\"-\",IF(VLOOKUP($C192,Go_Flag,Database!O$44,FALSE)=1,1,\"-\")))","v":"-"},null,{"$f":"IF($C192=\"\",\"\",IF(OR(HLOOKUP(Participant_Type,Overall_PI,Database!$B55,FALSE)=\"\",HLOOKUP(Participant_Type,Mandatory_PI,Database!$B55,FALSE)=\"N\"),\"-\",IF(VLOOKUP($C192,Go_Flag,Database!P$44,FALSE)=1,1,\"-\")))","v":"-"}]
[null,null,{"$f":"IF(Database!C57=\"\",\"\",Database!C57)","v":"I - IDX (Foundation)"},{"$f":"IF($C193=\"\",\"\",IF(OR(HLOOKUP(Participant_Type,Overall_PI,Database!$B56,FALSE)=\"\",HLOOKUP(Participant_Type,Mandatory_PI,Database!$B56,FALSE)=\"N\"),\"-\",IF(VLOOKUP($C193,Go_Flag,Database!E$44,FALSE)=1,1,\"-\")))","v":"-"},{"$f":"IF($C193=\"\",\"\",IF(OR(HLOOKUP(Participant_Type,Overall_PI,Database!$B56,FALSE)=\"\",HLOOKUP(Participant_Type,Mandatory_PI,Database!$B56,FALSE)=\"N\"),\"-\",IF(VLOOKUP($C193,Go_Flag,Database!F$44,FALSE)=1,1,\"-\")))","v":"-"},{"$f":"IF($C193=\"\",\"\",IF(OR(HLOOKUP(Participant_Type,Overall_PI,Database!$B56,FALSE)=\"\",HLOOKUP(Participant_Type,Mandatory_PI,Database!$B56,FALSE)=\"N\"),\"-\",IF(VLOOKUP($C193,Go_Flag,Database!G$44,FALSE)=1,1,\"-\")))","v":"-"},{"$f":"IF($C193=\"\",\"\",IF(OR(HLOOKUP(Participant_Type,Overall_PI,Database!$B56,FALSE)=\"\",HLOOKUP(Participant_Type,Mandatory_PI,Database!$B56,FALSE)=\"N\"),\"-\",IF(VLOOKUP($C193,Go_Flag,Database!H$44,FALSE)=1,1,\"-\")))","v":"-"},{"$f":"IF($C193=\"\",\"\",IF(OR(HLOOKUP(Participant_Type,Overall_PI,Database!$B56,FALSE)=\"\",HLOOKUP(Participant_Type,Mandatory_PI,Database!$B56,FALSE)=\"N\"),\"-\",IF(VLOOKUP($C193,Go_Flag,Database!I$44,FALSE)=1,1,\"-\")))","v":"-"},{"$f":"IF($C193=\"\",\"\",IF(OR(HLOOKUP(Participant_Type,Overall_PI,Database!$B56,FALSE)=\"\",HLOOKUP(Participant_Type,Mandatory_PI,Database!$B56,FALSE)=\"N\"),\"-\",IF(VLOOKUP($C193,Go_Flag,Database!J$44,FALSE)=1,1,\"-\")))","v":"-"},{"$f":"IF($C193=\"\",\"\",IF(OR(HLOOKUP(Participant_Type,Overall_PI,Database!$B56,FALSE)=\"\",HLOOKUP(Participant_Type,Mandatory_PI,Database!$B56,FALSE)=\"N\"),\"-\",IF(VLOOKUP($C193,Go_Flag,Database!K$44,FALSE)=1,1,\"-\")))","v":"-"},{"$f":"IF($C193=\"\",\"\",IF(OR(HLOOKUP(Participant_Type,Overall_PI,Database!$B56,FALSE)=\"\",HLOOKUP(Participant_Type,Mandatory_PI,Database!$B56,FALSE)=\"N\"),\"-\",IF(VLOOKUP($C193,Go_Flag,Database!L$44,FALSE)=1,1,\"-\")))","v":"-"},{"$f":"IF($C193=\"\",\"\",IF(OR(HLOOKUP(Participant_Type,Overall_PI,Database!$B56,FALSE)=\"\",HLOOKUP(Participant_Type,Mandatory_PI,Database!$B56,FALSE)=\"N\"),\"-\",IF(VLOOKUP($C193,Go_Flag,Database!M$44,FALSE)=1,1,\"-\")))","v":"-"},null,{"$f":"IF($C193=\"\",\"\",IF(OR(HLOOKUP(Participant_Type,Overall_PI,Database!$B56,FALSE)=\"\",HLOOKUP(Participant_Type,Mandatory_PI,Database!$B56,FALSE)=\"N\"),\"-\",IF(VLOOKUP($C193,Go_Flag,Database!N$44,FALSE)=1,1,\"-\")))","v":"-"},null,{"$f":"IF($C193=\"\",\"\",IF(OR(HLOOKUP(Participant_Type,Overall_PI,Database!$B56,FALSE)=\"\",HLOOKUP(Participant_Type,Mandatory_PI,Database!$B56,FALSE)=\"N\"),\"-\",IF(VLOOKUP($C193,Go_Flag,Database!O$44,FALSE)=1,1,\"-\")))","v":"-"},null,{"$f":"IF($C193=\"\",\"\",IF(OR(HLOOKUP(Participant_Type,Overall_PI,Database!$B56,FALSE)=\"\",HLOOKUP(Participant_Type,Mandatory_PI,Database!$B56,FALSE)=\"N\"),\"-\",IF(VLOOKUP($C193,Go_Flag,Database!P$44,FALSE)=1,1,\"-\")))","v":"-"}]
[null,null,{"$f":"IF(Database!C58=\"\",\"\",Database!C58)","v":"I - IDAM (Foundation)"},{"$f":"IF($C194=\"\",\"\",IF(OR(HLOOKUP(Participant_Type,Overall_PI,Database!$B57,FALSE)=\"\",HLOOKUP(Participant_Type,Mandatory_PI,Database!$B57,FALSE)=\"N\"),\"-\",IF(VLOOKUP($C194,Go_Flag,Database!E$44,FALSE)=1,1,\"-\")))","v":"-"},{"$f":"IF($C194=\"\",\"\",IF(OR(HLOOKUP(Participant_Type,Overall_PI,Database!$B57,FALSE)=\"\",HLOOKUP(Participant_Type,Mandatory_PI,Database!$B57,FALSE)=\"N\"),\"-\",IF(VLOOKUP($C194,Go_Flag,Database!F$44,FALSE)=1,1,\"-\")))","v":"-"},{"$f":"IF($C194=\"\",\"\",IF(OR(HLOOKUP(Participant_Type,Overall_PI,Database!$B57,FALSE)=\"\",HLOOKUP(Participant_Type,Mandatory_PI,Database!$B57,FALSE)=\"N\"),\"-\",IF(VLOOKUP($C194,Go_Flag,Database!G$44,FALSE)=1,1,\"-\")))","v":"-"},{"$f":"IF($C194=\"\",\"\",IF(OR(HLOOKUP(Participant_Type,Overall_PI,Database!$B57,FALSE)=\"\",HLOOKUP(Participant_Type,Mandatory_PI,Database!$B57,FALSE)=\"N\"),\"-\",IF(VLOOKUP($C194,Go_Flag,Database!H$44,FALSE)=1,1,\"-\")))","v":"-"},{"$f":"IF($C194=\"\",\"\",IF(OR(HLOOKUP(Participant_Type,Overall_PI,Database!$B57,FALSE)=\"\",HLOOKUP(Participant_Type,Mandatory_PI,Database!$B57,FALSE)=\"N\"),\"-\",IF(VLOOKUP($C194,Go_Flag,Database!I$44,FALSE)=1,1,\"-\")))","v":"-"},{"$f":"IF($C194=\"\",\"\",IF(OR(HLOOKUP(Participant_Type,Overall_PI,Database!$B57,FALSE)=\"\",HLOOKUP(Participant_Type,Mandatory_PI,Database!$B57,FALSE)=\"N\"),\"-\",IF(VLOOKUP($C194,Go_Flag,Database!J$44,FALSE)=1,1,\"-\")))","v":"-"},{"$f":"IF($C194=\"\",\"\",IF(OR(HLOOKUP(Participant_Type,Overall_PI,Database!$B57,FALSE)=\"\",HLOOKUP(Participant_Type,Mandatory_PI,Database!$B57,FALSE)=\"N\"),\"-\",IF(VLOOKUP($C194,Go_Flag,Database!K$44,FALSE)=1,1,\"-\")))","v":"-"},{"$f":"IF($C194=\"\",\"\",IF(OR(HLOOKUP(Participant_Type,Overall_PI,Database!$B57,FALSE)=\"\",HLOOKUP(Participant_Type,Mandatory_PI,Database!$B57,FALSE)=\"N\"),\"-\",IF(VLOOKUP($C194,Go_Flag,Database!L$44,FALSE)=1,1,\"-\")))","v":1},{"$f":"IF($C194=\"\",\"\",IF(OR(HLOOKUP(Participant_Type,Overall_PI,Database!$B57,FALSE)=\"\",HLOOKUP(Participant_Type,Mandatory_PI,Database!$B57,FALSE)=\"N\"),\"-\",IF(VLOOKUP($C194,Go_Flag,Database!M$44,FALSE)=1,1,\"-\")))","v":"-"},null,{"$f":"IF($C194=\"\",\"\",IF(OR(HLOOKUP(Participant_Type,Overall_PI,Database!$B57,FALSE)=\"\",HLOOKUP(Participant_Type,Mandatory_PI,Database!$B57,FALSE)=\"N\"),\"-\",IF(VLOOKUP($C194,Go_Flag,Database!N$44,FALSE)=1,1,\"-\")))","v":"-"},null,{"$f":"IF($C194=\"\",\"\",IF(OR(HLOOKUP(Participant_Type,Overall_PI,Database!$B57,FALSE)=\"\",HLOOKUP(Participant_Type,Mandatory_PI,Database!$B57,FALSE)=\"N\"),\"-\",IF(VLOOKUP($C194,Go_Flag,Database!O$44,FALSE)=1,1,\"-\")))","v":"-"},null,{"$f":"IF($C194=\"\",\"\",IF(OR(HLOOKUP(Participant_Type,Overall_PI,Database!$B57,FALSE)=\"\",HLOOKUP(Participant_Type,Mandatory_PI,Database!$B57,FALSE)=\"N\"),\"-\",IF(VLOOKUP($C194,Go_Flag,Database!P$44,FALSE)=1,1,\"-\")))","v":"-"}]
[null,null,{"$f":"IF(Database!C59=\"\",\"\",Database!C59)","v":"I - MSR (Accelerating Smart Meter Deployment - Package 3)"},{"$f":"IF($C195=\"\",\"\",IF(OR(HLOOKUP(Participant_Type,Overall_PI,Database!$B58,FALSE)=\"\",HLOOKUP(Participant_Type,Mandatory_PI,Database!$B58,FALSE)=\"N\"),\"-\",IF(VLOOKUP($C195,Go_Flag,Database!E$44,FALSE)=1,1,\"-\")))","v":"-"},{"$f":"IF($C195=\"\",\"\",IF(OR(HLOOKUP(Participant_Type,Overall_PI,Database!$B58,FALSE)=\"\",HLOOKUP(Participant_Type,Mandatory_PI,Database!$B58,FALSE)=\"N\"),\"-\",IF(VLOOKUP($C195,Go_Flag,Database!F$44,FALSE)=1,1,\"-\")))","v":"-"},{"$f":"IF($C195=\"\",\"\",IF(OR(HLOOKUP(Participant_Type,Overall_PI,Database!$B58,FALSE)=\"\",HLOOKUP(Participant_Type,Mandatory_PI,Database!$B58,FALSE)=\"N\"),\"-\",IF(VLOOKUP($C195,Go_Flag,Database!G$44,FALSE)=1,1,\"-\")))","v":"-"},{"$f":"IF($C195=\"\",\"\",IF(OR(HLOOKUP(Participant_Type,Overall_PI,Database!$B58,FALSE)=\"\",HLOOKUP(Participant_Type,Mandatory_PI,Database!$B58,FALSE)=\"N\"),\"-\",IF(VLOOKUP($C195,Go_Flag,Database!H$44,FALSE)=1,1,\"-\")))","v":"-"},{"$f":"IF($C195=\"\",\"\",IF(OR(HLOOKUP(Participant_Type,Overall_PI,Database!$B58,FALSE)=\"\",HLOOKUP(Participant_Type,Mandatory_PI,Database!$B58,FALSE)=\"N\"),\"-\",IF(VLOOKUP($C195,Go_Flag,Database!I$44,FALSE)=1,1,\"-\")))","v":"-"},{"$f":"IF($C195=\"\",\"\",IF(OR(HLOOKUP(Participant_Type,Overall_PI,Database!$B58,FALSE)=\"\",HLOOKUP(Participant_Type,Mandatory_PI,Database!$B58,FALSE)=\"N\"),\"-\",IF(VLOOKUP($C195,Go_Flag,Database!J$44,FALSE)=1,1,\"-\")))","v":"-"},{"$f":"IF($C195=\"\",\"\",IF(OR(HLOOKUP(Participant_Type,Overall_PI,Database!$B58,FALSE)=\"\",HLOOKUP(Participant_Type,Mandatory_PI,Database!$B58,FALSE)=\"N\"),\"-\",IF(VLOOKUP($C195,Go_Flag,Database!K$44,FALSE)=1,1,\"-\")))","v":1},{"$f":"IF($C195=\"\",\"\",IF(OR(HLOOKUP(Participant_Type,Overall_PI,Database!$B58,FALSE)=\"\",HLOOKUP(Participant_Type,Mandatory_PI,Database!$B58,FALSE)=\"N\"),\"-\",IF(VLOOKUP($C195,Go_Flag,Database!L$44,FALSE)=1,1,\"-\")))","v":"-"},{"$f":"IF($C195=\"\",\"\",IF(OR(HLOOKUP(Participant_Type,Overall_PI,Database!$B58,FALSE)=\"\",HLOOKUP(Participant_Type,Mandatory_PI,Database!$B58,FALSE)=\"N\"),\"-\",IF(VLOOKUP($C195,Go_Flag,Database!M$44,FALSE)=1,1,\"-\")))","v":"-"},null,{"$f":"IF($C195=\"\",\"\",IF(OR(HLOOKUP(Participant_Type,Overall_PI,Database!$B58,FALSE)=\"\",HLOOKUP(Participant_Type,Mandatory_PI,Database!$B58,FALSE)=\"N\"),\"-\",IF(VLOOKUP($C195,Go_Flag,Database!N$44,FALSE)=1,1,\"-\")))","v":"-"},null,{"$f":"IF($C195=\"\",\"\",IF(OR(HLOOKUP(Participant_Type,Overall_PI,Database!$B58,FALSE)=\"\",HLOOKUP(Participant_Type,Mandatory_PI,Database!$B58,FALSE)=\"N\"),\"-\",IF(VLOOKUP($C195,Go_Flag,Database!O$44,FALSE)=1,1,\"-\")))","v":"-"},null,{"$f":"IF($C195=\"\",\"\",IF(OR(HLOOKUP(Participant_Type,Overall_PI,Database!$B58,FALSE)=\"\",HLOOKUP(Participant_Type,Mandatory_PI,Database!$B58,FALSE)=\"N\"),\"-\",IF(VLOOKUP($C195,Go_Flag,Database!P$44,FALSE)=1,1,\"-\")))","v":"-"}]
[null,null,{"$f":"IF(Database!C60=\"\",\"\",Database!C60)","v":"A - Inter-regional SRAs for transmission loops (PEC-MI)"},{"$f":"IF($C196=\"\",\"\",IF(OR(HLOOKUP(Participant_Type,Overall_PI,Database!$B59,FALSE)=\"\",HLOOKUP(Participant_Type,Mandatory_PI,Database!$B59,FALSE)=\"N\"),\"-\",IF(VLOOKUP($C196,Go_Flag,Database!E$44,FALSE)=1,1,\"-\")))","v":"-"},{"$f":"IF($C196=\"\",\"\",IF(OR(HLOOKUP(Participant_Type,Overall_PI,Database!$B59,FALSE)=\"\",HLOOKUP(Participant_Type,Mandatory_PI,Database!$B59,FALSE)=\"N\"),\"-\",IF(VLOOKUP($C196,Go_Flag,Database!F$44,FALSE)=1,1,\"-\")))","v":"-"},{"$f":"IF($C196=\"\",\"\",IF(OR(HLOOKUP(Participant_Type,Overall_PI,Database!$B59,FALSE)=\"\",HLOOKUP(Participant_Type,Mandatory_PI,Database!$B59,FALSE)=\"N\"),\"-\",IF(VLOOKUP($C196,Go_Flag,Database!G$44,FALSE)=1,1,\"-\")))","v":"-"},{"$f":"IF($C196=\"\",\"\",IF(OR(HLOOKUP(Participant_Type,Overall_PI,Database!$B59,FALSE)=\"\",HLOOKUP(Participant_Type,Mandatory_PI,Database!$B59,FALSE)=\"N\"),\"-\",IF(VLOOKUP($C196,Go_Flag,Database!H$44,FALSE)=1,1,\"-\")))","v":"-"},{"$f":"IF($C196=\"\",\"\",IF(OR(HLOOKUP(Participant_Type,Overall_PI,Database!$B59,FALSE)=\"\",HLOOKUP(Participant_Type,Mandatory_PI,Database!$B59,FALSE)=\"N\"),\"-\",IF(VLOOKUP($C196,Go_Flag,Database!I$44,FALSE)=1,1,\"-\")))","v":"-"},{"$f":"IF($C196=\"\",\"\",IF(OR(HLOOKUP(Participant_Type,Overall_PI,Database!$B59,FALSE)=\"\",HLOOKUP(Participant_Type,Mandatory_PI,Database!$B59,FALSE)=\"N\"),\"-\",IF(VLOOKUP($C196,Go_Flag,Database!J$44,FALSE)=1,1,\"-\")))","v":"-"},{"$f":"IF($C196=\"\",\"\",IF(OR(HLOOKUP(Participant_Type,Overall_PI,Database!$B59,FALSE)=\"\",HLOOKUP(Participant_Type,Mandatory_PI,Database!$B59,FALSE)=\"N\"),\"-\",IF(VLOOKUP($C196,Go_Flag,Database!K$44,FALSE)=1,1,\"-\")))","v":"-"},{"$f":"IF($C196=\"\",\"\",IF(OR(HLOOKUP(Participant_Type,Overall_PI,Database!$B59,FALSE)=\"\",HLOOKUP(Participant_Type,Mandatory_PI,Database!$B59,FALSE)=\"N\"),\"-\",IF(VLOOKUP($C196,Go_Flag,Database!L$44,FALSE)=1,1,\"-\")))","v":1},{"$f":"IF($C196=\"\",\"\",IF(OR(HLOOKUP(Participant_Type,Overall_PI,Database!$B59,FALSE)=\"\",HLOOKUP(Participant_Type,Mandatory_PI,Database!$B59,FALSE)=\"N\"),\"-\",IF(VLOOKUP($C196,Go_Flag,Database!M$44,FALSE)=1,1,\"-\")))","v":"-"},null,{"$f":"IF($C196=\"\",\"\",IF(OR(HLOOKUP(Participant_Type,Overall_PI,Database!$B59,FALSE)=\"\",HLOOKUP(Participant_Type,Mandatory_PI,Database!$B59,FALSE)=\"N\"),\"-\",IF(VLOOKUP($C196,Go_Flag,Database!N$44,FALSE)=1,1,\"-\")))","v":"-"},null,{"$f":"IF($C196=\"\",\"\",IF(OR(HLOOKUP(Participant_Type,Overall_PI,Database!$B59,FALSE)=\"\",HLOOKUP(Participant_Type,Mandatory_PI,Database!$B59,FALSE)=\"N\"),\"-\",IF(VLOOKUP($C196,Go_Flag,Database!O$44,FALSE)=1,1,\"-\")))","v":"-"},null,{"$f":"IF($C196=\"\",\"\",IF(OR(HLOOKUP(Participant_Type,Overall_PI,Database!$B59,FALSE)=\"\",HLOOKUP(Participant_Type,Mandatory_PI,Database!$B59,FALSE)=\"N\"),\"-\",IF(VLOOKUP($C196,Go_Flag,Database!P$44,FALSE)=1,1,\"-\")))","v":"-"}]
[null,null,{"$f":"IF(Database!C61=\"\",\"\",Database!C61)","v":""},{"$f":"IF($C197=\"\",\"\",IF(OR(HLOOKUP(Participant_Type,Overall_PI,Database!$B60,FALSE)=\"\",HLOOKUP(Participant_Type,Mandatory_PI,Database!$B60,FALSE)=\"N\"),\"-\",IF(VLOOKUP($C197,Go_Flag,Database!E$44,FALSE)=1,1,\"-\")))","v":""},{"$f":"IF($C197=\"\",\"\",IF(OR(HLOOKUP(Participant_Type,Overall_PI,Database!$B60,FALSE)=\"\",HLOOKUP(Participant_Type,Mandatory_PI,Database!$B60,FALSE)=\"N\"),\"-\",IF(VLOOKUP($C197,Go_Flag,Database!F$44,FALSE)=1,1,\"-\")))","v":""},{"$f":"IF($C197=\"\",\"\",IF(OR(HLOOKUP(Participant_Type,Overall_PI,Database!$B60,FALSE)=\"\",HLOOKUP(Participant_Type,Mandatory_PI,Database!$B60,FALSE)=\"N\"),\"-\",IF(VLOOKUP($C197,Go_Flag,Database!G$44,FALSE)=1,1,\"-\")))","v":""},{"$f":"IF($C197=\"\",\"\",IF(OR(HLOOKUP(Participant_Type,Overall_PI,Database!$B60,FALSE)=\"\",HLOOKUP(Participant_Type,Mandatory_PI,Database!$B60,FALSE)=\"N\"),\"-\",IF(VLOOKUP($C197,Go_Flag,Database!H$44,FALSE)=1,1,\"-\")))","v":""},{"$f":"IF($C197=\"\",\"\",IF(OR(HLOOKUP(Participant_Type,Overall_PI,Database!$B60,FALSE)=\"\",HLOOKUP(Participant_Type,Mandatory_PI,Database!$B60,FALSE)=\"N\"),\"-\",IF(VLOOKUP($C197,Go_Flag,Database!I$44,FALSE)=1,1,\"-\")))","v":""},{"$f":"IF($C197=\"\",\"\",IF(OR(HLOOKUP(Participant_Type,Overall_PI,Database!$B60,FALSE)=\"\",HLOOKUP(Participant_Type,Mandatory_PI,Database!$B60,FALSE)=\"N\"),\"-\",IF(VLOOKUP($C197,Go_Flag,Database!J$44,FALSE)=1,1,\"-\")))","v":""},{"$f":"IF($C197=\"\",\"\",IF(OR(HLOOKUP(Participant_Type,Overall_PI,Database!$B60,FALSE)=\"\",HLOOKUP(Participant_Type,Mandatory_PI,Database!$B60,FALSE)=\"N\"),\"-\",IF(VLOOKUP($C197,Go_Flag,Database!K$44,FALSE)=1,1,\"-\")))","v":""},{"$f":"IF($C197=\"\",\"\",IF(OR(HLOOKUP(Participant_Type,Overall_PI,Database!$B60,FALSE)=\"\",HLOOKUP(Participant_Type,Mandatory_PI,Database!$B60,FALSE)=\"N\"),\"-\",IF(VLOOKUP($C197,Go_Flag,Database!L$44,FALSE)=1,1,\"-\")))","v":""},{"$f":"IF($C197=\"\",\"\",IF(OR(HLOOKUP(Participant_Type,Overall_PI,Database!$B60,FALSE)=\"\",HLOOKUP(Participant_Type,Mandatory_PI,Database!$B60,FALSE)=\"N\"),\"-\",IF(VLOOKUP($C197,Go_Flag,Database!M$44,FALSE)=1,1,\"-\")))","v":""},null,{"$f":"IF($C197=\"\",\"\",IF(OR(HLOOKUP(Participant_Type,Overall_PI,Database!$B60,FALSE)=\"\",HLOOKUP(Participant_Type,Mandatory_PI,Database!$B60,FALSE)=\"N\"),\"-\",IF(VLOOKUP($C197,Go_Flag,Database!N$44,FALSE)=1,1,\"-\")))","v":""},null,{"$f":"IF($C197=\"\",\"\",IF(OR(HLOOKUP(Participant_Type,Overall_PI,Database!$B60,FALSE)=\"\",HLOOKUP(Participant_Type,Mandatory_PI,Database!$B60,FALSE)=\"N\"),\"-\",IF(VLOOKUP($C197,Go_Flag,Database!O$44,FALSE)=1,1,\"-\")))","v":""},null,{"$f":"IF($C197=\"\",\"\",IF(OR(HLOOKUP(Participant_Type,Overall_PI,Database!$B60,FALSE)=\"\",HLOOKUP(Participant_Type,Mandatory_PI,Database!$B60,FALSE)=\"N\"),\"-\",IF(VLOOKUP($C197,Go_Flag,Database!P$44,FALSE)=1,1,\"-\")))","v":""}]
[null,null,{"$f":"IF(Database!C62=\"\",\"\",Database!C62)","v":""},{"$f":"IF($C198=\"\",\"\",IF(OR(HLOOKUP(Participant_Type,Overall_PI,Database!$B61,FALSE)=\"\",HLOOKUP(Participant_Type,Mandatory_PI,Database!$B61,FALSE)=\"N\"),\"-\",IF(VLOOKUP($C198,Go_Flag,Database!E$44,FALSE)=1,1,\"-\")))","v":""},{"$f":"IF($C198=\"\",\"\",IF(OR(HLOOKUP(Participant_Type,Overall_PI,Database!$B61,FALSE)=\"\",HLOOKUP(Participant_Type,Mandatory_PI,Database!$B61,FALSE)=\"N\"),\"-\",IF(VLOOKUP($C198,Go_Flag,Database!F$44,FALSE)=1,1,\"-\")))","v":""},{"$f":"IF($C198=\"\",\"\",IF(OR(HLOOKUP(Participant_Type,Overall_PI,Database!$B61,FALSE)=\"\",HLOOKUP(Participant_Type,Mandatory_PI,Database!$B61,FALSE)=\"N\"),\"-\",IF(VLOOKUP($C198,Go_Flag,Database!G$44,FALSE)=1,1,\"-\")))","v":""},{"$f":"IF($C198=\"\",\"\",IF(OR(HLOOKUP(Participant_Type,Overall_PI,Database!$B61,FALSE)=\"\",HLOOKUP(Participant_Type,Mandatory_PI,Database!$B61,FALSE)=\"N\"),\"-\",IF(VLOOKUP($C198,Go_Flag,Database!H$44,FALSE)=1,1,\"-\")))","v":""},{"$f":"IF($C198=\"\",\"\",IF(OR(HLOOKUP(Participant_Type,Overall_PI,Database!$B61,FALSE)=\"\",HLOOKUP(Participant_Type,Mandatory_PI,Database!$B61,FALSE)=\"N\"),\"-\",IF(VLOOKUP($C198,Go_Flag,Database!I$44,FALSE)=1,1,\"-\")))","v":""},{"$f":"IF($C198=\"\",\"\",IF(OR(HLOOKUP(Participant_Type,Overall_PI,Database!$B61,FALSE)=\"\",HLOOKUP(Participant_Type,Mandatory_PI,Database!$B61,FALSE)=\"N\"),\"-\",IF(VLOOKUP($C198,Go_Flag,Database!J$44,FALSE)=1,1,\"-\")))","v":""},{"$f":"IF($C198=\"\",\"\",IF(OR(HLOOKUP(Participant_Type,Overall_PI,Database!$B61,FALSE)=\"\",HLOOKUP(Participant_Type,Mandatory_PI,Database!$B61,FALSE)=\"N\"),\"-\",IF(VLOOKUP($C198,Go_Flag,Database!K$44,FALSE)=1,1,\"-\")))","v":""},{"$f":"IF($C198=\"\",\"\",IF(OR(HLOOKUP(Participant_Type,Overall_PI,Database!$B61,FALSE)=\"\",HLOOKUP(Participant_Type,Mandatory_PI,Database!$B61,FALSE)=\"N\"),\"-\",IF(VLOOKUP($C198,Go_Flag,Database!L$44,FALSE)=1,1,\"-\")))","v":""},{"$f":"IF($C198=\"\",\"\",IF(OR(HLOOKUP(Participant_Type,Overall_PI,Database!$B61,FALSE)=\"\",HLOOKUP(Participant_Type,Mandatory_PI,Database!$B61,FALSE)=\"N\"),\"-\",IF(VLOOKUP($C198,Go_Flag,Database!M$44,FALSE)=1,1,\"-\")))","v":""},null,{"$f":"IF($C198=\"\",\"\",IF(OR(HLOOKUP(Participant_Type,Overall_PI,Database!$B61,FALSE)=\"\",HLOOKUP(Participant_Type,Mandatory_PI,Database!$B61,FALSE)=\"N\"),\"-\",IF(VLOOKUP($C198,Go_Flag,Database!N$44,FALSE)=1,1,\"-\")))","v":""},null,{"$f":"IF($C198=\"\",\"\",IF(OR(HLOOKUP(Participant_Type,Overall_PI,Database!$B61,FALSE)=\"\",HLOOKUP(Participant_Type,Mandatory_PI,Database!$B61,FALSE)=\"N\"),\"-\",IF(VLOOKUP($C198,Go_Flag,Database!O$44,FALSE)=1,1,\"-\")))","v":""},null,{"$f":"IF($C198=\"\",\"\",IF(OR(HLOOKUP(Participant_Type,Overall_PI,Database!$B61,FALSE)=\"\",HLOOKUP(Participant_Type,Mandatory_PI,Database!$B61,FALSE)=\"N\"),\"-\",IF(VLOOKUP($C198,Go_Flag,Database!P$44,FALSE)=1,1,\"-\")))","v":""}]
[null,null,{"$f":"IF(Database!C63=\"\",\"\",Database!C63)","v":""},{"$f":"IF($C199=\"\",\"\",IF(OR(HLOOKUP(Participant_Type,Overall_PI,Database!$B62,FALSE)=\"\",HLOOKUP(Participant_Type,Mandatory_PI,Database!$B62,FALSE)=\"N\"),\"-\",IF(VLOOKUP($C199,Go_Flag,Database!E$44,FALSE)=1,1,\"-\")))","v":""},{"$f":"IF($C199=\"\",\"\",IF(OR(HLOOKUP(Participant_Type,Overall_PI,Database!$B62,FALSE)=\"\",HLOOKUP(Participant_Type,Mandatory_PI,Database!$B62,FALSE)=\"N\"),\"-\",IF(VLOOKUP($C199,Go_Flag,Database!F$44,FALSE)=1,1,\"-\")))","v":""},{"$f":"IF($C199=\"\",\"\",IF(OR(HLOOKUP(Participant_Type,Overall_PI,Database!$B62,FALSE)=\"\",HLOOKUP(Participant_Type,Mandatory_PI,Database!$B62,FALSE)=\"N\"),\"-\",IF(VLOOKUP($C199,Go_Flag,Database!G$44,FALSE)=1,1,\"-\")))","v":""},{"$f":"IF($C199=\"\",\"\",IF(OR(HLOOKUP(Participant_Type,Overall_PI,Database!$B62,FALSE)=\"\",HLOOKUP(Participant_Type,Mandatory_PI,Database!$B62,FALSE)=\"N\"),\"-\",IF(VLOOKUP($C199,Go_Flag,Database!H$44,FALSE)=1,1,\"-\")))","v":""},{"$f":"IF($C199=\"\",\"\",IF(OR(HLOOKUP(Participant_Type,Overall_PI,Database!$B62,FALSE)=\"\",HLOOKUP(Participant_Type,Mandatory_PI,Database!$B62,FALSE)=\"N\"),\"-\",IF(VLOOKUP($C199,Go_Flag,Database!I$44,FALSE)=1,1,\"-\")))","v":""},{"$f":"IF($C199=\"\",\"\",IF(OR(HLOOKUP(Participant_Type,Overall_PI,Database!$B62,FALSE)=\"\",HLOOKUP(Participant_Type,Mandatory_PI,Database!$B62,FALSE)=\"N\"),\"-\",IF(VLOOKUP($C199,Go_Flag,Database!J$44,FALSE)=1,1,\"-\")))","v":""},{"$f":"IF($C199=\"\",\"\",IF(OR(HLOOKUP(Participant_Type,Overall_PI,Database!$B62,FALSE)=\"\",HLOOKUP(Participant_Type,Mandatory_PI,Database!$B62,FALSE)=\"N\"),\"-\",IF(VLOOKUP($C199,Go_Flag,Database!K$44,FALSE)=1,1,\"-\")))","v":""},{"$f":"IF($C199=\"\",\"\",IF(OR(HLOOKUP(Participant_Type,Overall_PI,Database!$B62,FALSE)=\"\",HLOOKUP(Participant_Type,Mandatory_PI,Database!$B62,FALSE)=\"N\"),\"-\",IF(VLOOKUP($C199,Go_Flag,Database!L$44,FALSE)=1,1,\"-\")))","v":""},{"$f":"IF($C199=\"\",\"\",IF(OR(HLOOKUP(Participant_Type,Overall_PI,Database!$B62,FALSE)=\"\",HLOOKUP(Participant_Type,Mandatory_PI,Database!$B62,FALSE)=\"N\"),\"-\",IF(VLOOKUP($C199,Go_Flag,Database!M$44,FALSE)=1,1,\"-\")))","v":""},null,{"$f":"IF($C199=\"\",\"\",IF(OR(HLOOKUP(Participant_Type,Overall_PI,Database!$B62,FALSE)=\"\",HLOOKUP(Participant_Type,Mandatory_PI,Database!$B62,FALSE)=\"N\"),\"-\",IF(VLOOKUP($C199,Go_Flag,Database!N$44,FALSE)=1,1,\"-\")))","v":""},null,{"$f":"IF($C199=\"\",\"\",IF(OR(HLOOKUP(Participant_Type,Overall_PI,Database!$B62,FALSE)=\"\",HLOOKUP(Participant_Type,Mandatory_PI,Database!$B62,FALSE)=\"N\"),\"-\",IF(VLOOKUP($C199,Go_Flag,Database!O$44,FALSE)=1,1,\"-\")))","v":""},null,{"$f":"IF($C199=\"\",\"\",IF(OR(HLOOKUP(Participant_Type,Overall_PI,Database!$B62,FALSE)=\"\",HLOOKUP(Participant_Type,Mandatory_PI,Database!$B62,FALSE)=\"N\"),\"-\",IF(VLOOKUP($C199,Go_Flag,Database!P$44,FALSE)=1,1,\"-\")))","v":""}]
[null,null,{"$f":"IF(Database!C64=\"\",\"\",Database!C64)","v":""},{"$f":"IF($C200=\"\",\"\",IF(OR(HLOOKUP(Participant_Type,Overall_PI,Database!$B63,FALSE)=\"\",HLOOKUP(Participant_Type,Mandatory_PI,Database!$B63,FALSE)=\"N\"),\"-\",IF(VLOOKUP($C200,Go_Flag,Database!E$44,FALSE)=1,1,\"-\")))","v":""},{"$f":"IF($C200=\"\",\"\",IF(OR(HLOOKUP(Participant_Type,Overall_PI,Database!$B63,FALSE)=\"\",HLOOKUP(Participant_Type,Mandatory_PI,Database!$B63,FALSE)=\"N\"),\"-\",IF(VLOOKUP($C200,Go_Flag,Database!F$44,FALSE)=1,1,\"-\")))","v":""},{"$f":"IF($C200=\"\",\"\",IF(OR(HLOOKUP(Participant_Type,Overall_PI,Database!$B63,FALSE)=\"\",HLOOKUP(Participant_Type,Mandatory_PI,Database!$B63,FALSE)=\"N\"),\"-\",IF(VLOOKUP($C200,Go_Flag,Database!G$44,FALSE)=1,1,\"-\")))","v":""},{"$f":"IF($C200=\"\",\"\",IF(OR(HLOOKUP(Participant_Type,Overall_PI,Database!$B63,FALSE)=\"\",HLOOKUP(Participant_Type,Mandatory_PI,Database!$B63,FALSE)=\"N\"),\"-\",IF(VLOOKUP($C200,Go_Flag,Database!H$44,FALSE)=1,1,\"-\")))","v":""},{"$f":"IF($C200=\"\",\"\",IF(OR(HLOOKUP(Participant_Type,Overall_PI,Database!$B63,FALSE)=\"\",HLOOKUP(Participant_Type,Mandatory_PI,Database!$B63,FALSE)=\"N\"),\"-\",IF(VLOOKUP($C200,Go_Flag,Database!I$44,FALSE)=1,1,\"-\")))","v":""},{"$f":"IF($C200=\"\",\"\",IF(OR(HLOOKUP(Participant_Type,Overall_PI,Database!$B63,FALSE)=\"\",HLOOKUP(Participant_Type,Mandatory_PI,Database!$B63,FALSE)=\"N\"),\"-\",IF(VLOOKUP($C200,Go_Flag,Database!J$44,FALSE)=1,1,\"-\")))","v":""},{"$f":"IF($C200=\"\",\"\",IF(OR(HLOOKUP(Participant_Type,Overall_PI,Database!$B63,FALSE)=\"\",HLOOKUP(Participant_Type,Mandatory_PI,Database!$B63,FALSE)=\"N\"),\"-\",IF(VLOOKUP($C200,Go_Flag,Database!K$44,FALSE)=1,1,\"-\")))","v":""},{"$f":"IF($C200=\"\",\"\",IF(OR(HLOOKUP(Participant_Type,Overall_PI,Database!$B63,FALSE)=\"\",HLOOKUP(Participant_Type,Mandatory_PI,Database!$B63,FALSE)=\"N\"),\"-\",IF(VLOOKUP($C200,Go_Flag,Database!L$44,FALSE)=1,1,\"-\")))","v":""},{"$f":"IF($C200=\"\",\"\",IF(OR(HLOOKUP(Participant_Type,Overall_PI,Database!$B63,FALSE)=\"\",HLOOKUP(Participant_Type,Mandatory_PI,Database!$B63,FALSE)=\"N\"),\"-\",IF(VLOOKUP($C200,Go_Flag,Database!M$44,FALSE)=1,1,\"-\")))","v":""},null,{"$f":"IF($C200=\"\",\"\",IF(OR(HLOOKUP(Participant_Type,Overall_PI,Database!$B63,FALSE)=\"\",HLOOKUP(Participant_Type,Mandatory_PI,Database!$B63,FALSE)=\"N\"),\"-\",IF(VLOOKUP($C200,Go_Flag,Database!N$44,FALSE)=1,1,\"-\")))","v":""},null,{"$f":"IF($C200=\"\",\"\",IF(OR(HLOOKUP(Participant_Type,Overall_PI,Database!$B63,FALSE)=\"\",HLOOKUP(Participant_Type,Mandatory_PI,Database!$B63,FALSE)=\"N\"),\"-\",IF(VLOOKUP($C200,Go_Flag,Database!O$44,FALSE)=1,1,\"-\")))","v":""},null,{"$f":"IF($C200=\"\",\"\",IF(OR(HLOOKUP(Participant_Type,Overall_PI,Database!$B63,FALSE)=\"\",HLOOKUP(Participant_Type,Mandatory_PI,Database!$B63,FALSE)=\"N\"),\"-\",IF(VLOOKUP($C200,Go_Flag,Database!P$44,FALSE)=1,1,\"-\")))","v":""}]
[null,null,{"$f":"IF(Database!C65=\"\",\"\",Database!C65)","v":""},{"$f":"IF($C201=\"\",\"\",IF(OR(HLOOKUP(Participant_Type,Overall_PI,Database!$B64,FALSE)=\"\",HLOOKUP(Participant_Type,Mandatory_PI,Database!$B64,FALSE)=\"N\"),\"-\",IF(VLOOKUP($C201,Go_Flag,Database!E$44,FALSE)=1,1,\"-\")))","v":""},{"$f":"IF($C201=\"\",\"\",IF(OR(HLOOKUP(Participant_Type,Overall_PI,Database!$B64,FALSE)=\"\",HLOOKUP(Participant_Type,Mandatory_PI,Database!$B64,FALSE)=\"N\"),\"-\",IF(VLOOKUP($C201,Go_Flag,Database!F$44,FALSE)=1,1,\"-\")))","v":""},{"$f":"IF($C201=\"\",\"\",IF(OR(HLOOKUP(Participant_Type,Overall_PI,Database!$B64,FALSE)=\"\",HLOOKUP(Participant_Type,Mandatory_PI,Database!$B64,FALSE)=\"N\"),\"-\",IF(VLOOKUP($C201,Go_Flag,Database!G$44,FALSE)=1,1,\"-\")))","v":""},{"$f":"IF($C201=\"\",\"\",IF(OR(HLOOKUP(Participant_Type,Overall_PI,Database!$B64,FALSE)=\"\",HLOOKUP(Participant_Type,Mandatory_PI,Database!$B64,FALSE)=\"N\"),\"-\",IF(VLOOKUP($C201,Go_Flag,Database!H$44,FALSE)=1,1,\"-\")))","v":""},{"$f":"IF($C201=\"\",\"\",IF(OR(HLOOKUP(Participant_Type,Overall_PI,Database!$B64,FALSE)=\"\",HLOOKUP(Participant_Type,Mandatory_PI,Database!$B64,FALSE)=\"N\"),\"-\",IF(VLOOKUP($C201,Go_Flag,Database!I$44,FALSE)=1,1,\"-\")))","v":""},{"$f":"IF($C201=\"\",\"\",IF(OR(HLOOKUP(Participant_Type,Overall_PI,Database!$B64,FALSE)=\"\",HLOOKUP(Participant_Type,Mandatory_PI,Database!$B64,FALSE)=\"N\"),\"-\",IF(VLOOKUP($C201,Go_Flag,Database!J$44,FALSE)=1,1,\"-\")))","v":""},{"$f":"IF($C201=\"\",\"\",IF(OR(HLOOKUP(Participant_Type,Overall_PI,Database!$B64,FALSE)=\"\",HLOOKUP(Participant_Type,Mandatory_PI,Database!$B64,FALSE)=\"N\"),\"-\",IF(VLOOKUP($C201,Go_Flag,Database!K$44,FALSE)=1,1,\"-\")))","v":""},{"$f":"IF($C201=\"\",\"\",IF(OR(HLOOKUP(Participant_Type,Overall_PI,Database!$B64,FALSE)=\"\",HLOOKUP(Participant_Type,Mandatory_PI,Database!$B64,FALSE)=\"N\"),\"-\",IF(VLOOKUP($C201,Go_Flag,Database!L$44,FALSE)=1,1,\"-\")))","v":""},{"$f":"IF($C201=\"\",\"\",IF(OR(HLOOKUP(Participant_Type,Overall_PI,Database!$B64,FALSE)=\"\",HLOOKUP(Participant_Type,Mandatory_PI,Database!$B64,FALSE)=\"N\"),\"-\",IF(VLOOKUP($C201,Go_Flag,Database!M$44,FALSE)=1,1,\"-\")))","v":""},null,{"$f":"IF($C201=\"\",\"\",IF(OR(HLOOKUP(Participant_Type,Overall_PI,Database!$B64,FALSE)=\"\",HLOOKUP(Participant_Type,Mandatory_PI,Database!$B64,FALSE)=\"N\"),\"-\",IF(VLOOKUP($C201,Go_Flag,Database!N$44,FALSE)=1,1,\"-\")))","v":""},null,{"$f":"IF($C201=\"\",\"\",IF(OR(HLOOKUP(Participant_Type,Overall_PI,Database!$B64,FALSE)=\"\",HLOOKUP(Participant_Type,Mandatory_PI,Database!$B64,FALSE)=\"N\"),\"-\",IF(VLOOKUP($C201,Go_Flag,Database!O$44,FALSE)=1,1,\"-\")))","v":""},null,{"$f":"IF($C201=\"\",\"\",IF(OR(HLOOKUP(Participant_Type,Overall_PI,Database!$B64,FALSE)=\"\",HLOOKUP(Participant_Type,Mandatory_PI,Database!$B64,FALSE)=\"N\"),\"-\",IF(VLOOKUP($C201,Go_Flag,Database!P$44,FALSE)=1,1,\"-\")))","v":""}]
[null,null,{"$f":"IF(Database!C66=\"\",\"\",Database!C66)","v":""},{"$f":"IF($C202=\"\",\"\",IF(OR(HLOOKUP(Participant_Type,Overall_PI,Database!$B65,FALSE)=\"\",HLOOKUP(Participant_Type,Mandatory_PI,Database!$B65,FALSE)=\"N\"),\"-\",IF(VLOOKUP($C202,Go_Flag,Database!E$44,FALSE)=1,1,\"-\")))","v":""},{"$f":"IF($C202=\"\",\"\",IF(OR(HLOOKUP(Participant_Type,Overall_PI,Database!$B65,FALSE)=\"\",HLOOKUP(Participant_Type,Mandatory_PI,Database!$B65,FALSE)=\"N\"),\"-\",IF(VLOOKUP($C202,Go_Flag,Database!F$44,FALSE)=1,1,\"-\")))","v":""},{"$f":"IF($C202=\"\",\"\",IF(OR(HLOOKUP(Participant_Type,Overall_PI,Database!$B65,FALSE)=\"\",HLOOKUP(Participant_Type,Mandatory_PI,Database!$B65,FALSE)=\"N\"),\"-\",IF(VLOOKUP($C202,Go_Flag,Database!G$44,FALSE)=1,1,\"-\")))","v":""},{"$f":"IF($C202=\"\",\"\",IF(OR(HLOOKUP(Participant_Type,Overall_PI,Database!$B65,FALSE)=\"\",HLOOKUP(Participant_Type,Mandatory_PI,Database!$B65,FALSE)=\"N\"),\"-\",IF(VLOOKUP($C202,Go_Flag,Database!H$44,FALSE)=1,1,\"-\")))","v":""},{"$f":"IF($C202=\"\",\"\",IF(OR(HLOOKUP(Participant_Type,Overall_PI,Database!$B65,FALSE)=\"\",HLOOKUP(Participant_Type,Mandatory_PI,Database!$B65,FALSE)=\"N\"),\"-\",IF(VLOOKUP($C202,Go_Flag,Database!I$44,FALSE)=1,1,\"-\")))","v":""},{"$f":"IF($C202=\"\",\"\",IF(OR(HLOOKUP(Participant_Type,Overall_PI,Database!$B65,FALSE)=\"\",HLOOKUP(Participant_Type,Mandatory_PI,Database!$B65,FALSE)=\"N\"),\"-\",IF(VLOOKUP($C202,Go_Flag,Database!J$44,FALSE)=1,1,\"-\")))","v":""},{"$f":"IF($C202=\"\",\"\",IF(OR(HLOOKUP(Participant_Type,Overall_PI,Database!$B65,FALSE)=\"\",HLOOKUP(Participant_Type,Mandatory_PI,Database!$B65,FALSE)=\"N\"),\"-\",IF(VLOOKUP($C202,Go_Flag,Database!K$44,FALSE)=1,1,\"-\")))","v":""},{"$f":"IF($C202=\"\",\"\",IF(OR(HLOOKUP(Participant_Type,Overall_PI,Database!$B65,FALSE)=\"\",HLOOKUP(Participant_Type,Mandatory_PI,Database!$B65,FALSE)=\"N\"),\"-\",IF(VLOOKUP($C202,Go_Flag,Database!L$44,FALSE)=1,1,\"-\")))","v":""},{"$f":"IF($C202=\"\",\"\",IF(OR(HLOOKUP(Participant_Type,Overall_PI,Database!$B65,FALSE)=\"\",HLOOKUP(Participant_Type,Mandatory_PI,Database!$B65,FALSE)=\"N\"),\"-\",IF(VLOOKUP($C202,Go_Flag,Database!M$44,FALSE)=1,1,\"-\")))","v":""},null,{"$f":"IF($C202=\"\",\"\",IF(OR(HLOOKUP(Participant_Type,Overall_PI,Database!$B65,FALSE)=\"\",HLOOKUP(Participant_Type,Mandatory_PI,Database!$B65,FALSE)=\"N\"),\"-\",IF(VLOOKUP($C202,Go_Flag,Database!N$44,FALSE)=1,1,\"-\")))","v":""},null,{"$f":"IF($C202=\"\",\"\",IF(OR(HLOOKUP(Participant_Type,Overall_PI,Database!$B65,FALSE)=\"\",HLOOKUP(Participant_Type,Mandatory_PI,Database!$B65,FALSE)=\"N\"),\"-\",IF(VLOOKUP($C202,Go_Flag,Database!O$44,FALSE)=1,1,\"-\")))","v":""},null,{"$f":"IF($C202=\"\",\"\",IF(OR(HLOOKUP(Participant_Type,Overall_PI,Database!$B65,FALSE)=\"\",HLOOKUP(Participant_Type,Mandatory_PI,Database!$B65,FALSE)=\"N\"),\"-\",IF(VLOOKUP($C202,Go_Flag,Database!P$44,FALSE)=1,1,\"-\")))","v":""}]
[null,null,{"$f":"IF(Database!C67=\"\",\"\",Database!C67)","v":""},{"$f":"IF($C203=\"\",\"\",IF(OR(HLOOKUP(Participant_Type,Overall_PI,Database!$B66,FALSE)=\"\",HLOOKUP(Participant_Type,Mandatory_PI,Database!$B66,FALSE)=\"N\"),\"-\",IF(VLOOKUP($C203,Go_Flag,Database!E$44,FALSE)=1,1,\"-\")))","v":""},{"$f":"IF($C203=\"\",\"\",IF(OR(HLOOKUP(Participant_Type,Overall_PI,Database!$B66,FALSE)=\"\",HLOOKUP(Participant_Type,Mandatory_PI,Database!$B66,FALSE)=\"N\"),\"-\",IF(VLOOKUP($C203,Go_Flag,Database!F$44,FALSE)=1,1,\"-\")))","v":""},{"$f":"IF($C203=\"\",\"\",IF(OR(HLOOKUP(Participant_Type,Overall_PI,Database!$B66,FALSE)=\"\",HLOOKUP(Participant_Type,Mandatory_PI,Database!$B66,FALSE)=\"N\"),\"-\",IF(VLOOKUP($C203,Go_Flag,Database!G$44,FALSE)=1,1,\"-\")))","v":""},{"$f":"IF($C203=\"\",\"\",IF(OR(HLOOKUP(Participant_Type,Overall_PI,Database!$B66,FALSE)=\"\",HLOOKUP(Participant_Type,Mandatory_PI,Database!$B66,FALSE)=\"N\"),\"-\",IF(VLOOKUP($C203,Go_Flag,Database!H$44,FALSE)=1,1,\"-\")))","v":""},{"$f":"IF($C203=\"\",\"\",IF(OR(HLOOKUP(Participant_Type,Overall_PI,Database!$B66,FALSE)=\"\",HLOOKUP(Participant_Type,Mandatory_PI,Database!$B66,FALSE)=\"N\"),\"-\",IF(VLOOKUP($C203,Go_Flag,Database!I$44,FALSE)=1,1,\"-\")))","v":""},{"$f":"IF($C203=\"\",\"\",IF(OR(HLOOKUP(Participant_Type,Overall_PI,Database!$B66,FALSE)=\"\",HLOOKUP(Participant_Type,Mandatory_PI,Database!$B66,FALSE)=\"N\"),\"-\",IF(VLOOKUP($C203,Go_Flag,Database!J$44,FALSE)=1,1,\"-\")))","v":""},{"$f":"IF($C203=\"\",\"\",IF(OR(HLOOKUP(Participant_Type,Overall_PI,Database!$B66,FALSE)=\"\",HLOOKUP(Participant_Type,Mandatory_PI,Database!$B66,FALSE)=\"N\"),\"-\",IF(VLOOKUP($C203,Go_Flag,Database!K$44,FALSE)=1,1,\"-\")))","v":""},{"$f":"IF($C203=\"\",\"\",IF(OR(HLOOKUP(Participant_Type,Overall_PI,Database!$B66,FALSE)=\"\",HLOOKUP(Participant_Type,Mandatory_PI,Database!$B66,FALSE)=\"N\"),\"-\",IF(VLOOKUP($C203,Go_Flag,Database!L$44,FALSE)=1,1,\"-\")))","v":""},{"$f":"IF($C203=\"\",\"\",IF(OR(HLOOKUP(Participant_Type,Overall_PI,Database!$B66,FALSE)=\"\",HLOOKUP(Participant_Type,Mandatory_PI,Database!$B66,FALSE)=\"N\"),\"-\",IF(VLOOKUP($C203,Go_Flag,Database!M$44,FALSE)=1,1,\"-\")))","v":""},null,{"$f":"IF($C203=\"\",\"\",IF(OR(HLOOKUP(Participant_Type,Overall_PI,Database!$B66,FALSE)=\"\",HLOOKUP(Participant_Type,Mandatory_PI,Database!$B66,FALSE)=\"N\"),\"-\",IF(VLOOKUP($C203,Go_Flag,Database!N$44,FALSE)=1,1,\"-\")))","v":""},null,{"$f":"IF($C203=\"\",\"\",IF(OR(HLOOKUP(Participant_Type,Overall_PI,Database!$B66,FALSE)=\"\",HLOOKUP(Participant_Type,Mandatory_PI,Database!$B66,FALSE)=\"N\"),\"-\",IF(VLOOKUP($C203,Go_Flag,Database!O$44,FALSE)=1,1,\"-\")))","v":""},null,{"$f":"IF($C203=\"\",\"\",IF(OR(HLOOKUP(Participant_Type,Overall_PI,Database!$B66,FALSE)=\"\",HLOOKUP(Participant_Type,Mandatory_PI,Database!$B66,FALSE)=\"N\"),\"-\",IF(VLOOKUP($C203,Go_Flag,Database!P$44,FALSE)=1,1,\"-\")))","v":""}]
[]
[null,null,"Policy / Rules Development - Anticipated Initiatives",{"$f":"Start_Yr","v":2025},null,null,null,{"$f":"D205+1","v":2026},null,null,null,{"$f":"H205+1","v":2027}]
[null,null,null,{"$f":"Start_Qtr","v":"Q1"},{"$f":"IF(D206=\"Q4\",\"Q1\",\"Q\"&(RIGHT(D206,1)+1))","v":"Q2"},{"$f":"IF(E206=\"Q4\",\"Q1\",\"Q\"&(RIGHT(E206,1)+1))","v":"Q3"},"Q4","Q1","Q2","Q3","Q4",{"$f":"IF(K206=\"Q4\",\"Q1\",\"Q\"&(RIGHT(K206,1)+1))","v":"Q1"},null,{"$f":"IF(L206=\"Q4\",\"Q1\",\"Q\"&(RIGHT(L206,1)+1))","v":"Q2"},null,{"$f":"IF(N206=\"Q4\",\"Q1\",\"Q\"&(RIGHT(N206,1)+1))","v":"Q3"},null,{"$f":"IF(P206=\"Q4\",\"Q1\",\"Q\"&(RIGHT(P206,1)+1))","v":"Q4"}]
[null,null,"Rule Change / Policy Development - Final Determination Count",{"$f":"SUM(Database!E298:E317)","v":0},{"$f":"SUM(Database!F298:F317)","v":0},{"$f":"SUM(Database!G298:G317)","v":1},{"$f":"SUM(Database!H298:H317)","v":0},{"$f":"SUM(Database!I298:I317)","v":0},{"$f":"SUM(Database!J298:J317)","v":0},{"$f":"SUM(Database!K298:K317)","v":0},{"$f":"SUM(Database!L298:L317)","v":0},{"$f":"SUM(Database!M298:M317)","v":0},{"$f":"SUM(Database!N298:N317)","v":0},{"$f":"SUM(Database!N298:N317)","v":0},{"$f":"SUM(Database!P298:P317)","v":0},{"$f":"SUM(Database!O298:O317)","v":0},{"$f":"SUM(Database!R298:R317)","v":0},{"$f":"SUM(Database!P298:P317)","v":0},{"$f":"SUM(Database!T298:T317)","v":1}]

{"sheet":"Explainer","index":2,"n_rows":85,"n_cols":24,"rows_kept":85,"cut":false,"hidden":false,"merged":[[84,2,87,7],[84,8,87,11],[84,12,87,15],[84,16,87,19],[74,2,77,7],[74,8,77,11],[74,12,77,15],[74,16,77,19],[79,2,82,7],[79,8,82,11],[79,12,82,15],[79,16,82,19],[68,2,68,7],[68,8,68,11],[68,12,68,15],[68,16,68,19],[69,2,72,7],[69,8,72,11],[69,12,72,15],[69,16,72,19],[57,16,57,19],[63,2,66,7],[63,8,66,11],[63,12,66,15],[63,16,66,19],[58,2,61,7],[58,8,61,11],[58,12,61,15],[58,16,61,19],[21,16,21,19],[55,2,55,19],[57,2,57,7],[57,8,57,11],[57,12,57,15],[32,2,32,7],[32,8,32,11],[32,12,32,15],[32,16,32,19],[43,2,46,7],[43,8,46,11],[43,12,46,15],[43,16,46,19],[48,2,51,7],[48,8,51,11],[48,12,51,15],[12,23,12,40],[14,23,14,40],[12,2,12,19],[33,2,36,7],[33,8,36,11],[33,12,36,15],[33,16,36,19],[22,2,25,7],[22,8,25,11],[22,12,25,15],[22,16,25,19],[27,2,30,7],[19,2,19,19],[21,2,21,7],[21,8,21,11],[21,12,21,15],[53,2,53,7],[39,23,39,40],[27,8,30,11],[27,12,30,15],[27,16,30,19],[38,2,41,7],[38,8,41,11],[38,12,41,15],[38,16,41,19],[48,16,51,19]]}
[]
[]
[]
[]
[]
[]
[]
[null,{"$f":"Cover!B8","v":"NEM Reform Program"}]
[null,{"$f":"Cover!B9","v":"Participant Impact Assessment"}]
[null,{"$f":"Cover!B10","v":"Last updated: 29 April 2025"}]
[]
[]
[null,null,"Participant Types",null,null,null,null,null,null,null,null,null,null,null,null,null,null,null,null,null,null,null,null,"Dashboard Walk Through (indicative assessment shown)"]
[]
[null,null,"AEMO",null,"WHOLESALE",null,null,null,null,"NETWORKS",null,null,null,null,null,"RETAIL / METERING",null,null,null,null,null,null,null,"Industry-Wide Impact Assessment"]
[null,null,null,null,"Generators (GEN)",null,null,null,null,"Transmission Network Service Providers (TNSP)",null,null,null,null,null,"Market Customers (MC)"]
[null,null,null,null,"Integrated Resource Providers (IRP)",null,null,null,null,"Distribution Network Service Providers (DNSP)",null,null,null,null,null,"Retailers (RET)"]
[null,null,null,null,null,null,null,null,null,"Embedded Network Managers (ENM)",null,null,null,null,null,"Metering Service Providers (MSP)"]
[]
[null,null,"Industry-Wide Impact Assessment - Assumptions & Thresholds"]
[]
[null,null,"Individual Initiative Assessment - Procedures & Guidelines",null,null,null,null,null,"High",null,null,null,"Medium",null,null,null,"Low"]
[null,null,"Assess by 'Count'",null,null,null,null,null,"Initiative yields 6+ Procedures & Guidelines developed or updated per quarter",null,null,null,"Initiative yields 3+ Procedures & Guidelines developed or updated per quarter",null,null,null,"Initiative yields less than 3 Procedures & Guidelines developed or updated per quarter"]
[]
[]
[]
[]
[null,null,"Assess by 'Impact'",null,null,null,null,null,"Initiative yields 5+ \"High' or 10+ 'Medium' impacts to Procedures & Guidelines developed or updated per quarter as defined in AEMO HLIA",null,null,null,"Initiative yields 5+ \"Medium' or 10+ 'Low' impacts to Procedures & Guidelines developed or updated per quarter as defined in AEMO HLIA",null,null,null,"Initiative yields less than 5+ \"Medium' or 10+ 'Low' impacts to  Procedures & Guidelines developed or updated per quarter as defined in AEMO HLIA"]
[]
[]
[]
[]
[null,null,"Impact assessment",null,null,null,null,null,"R",null,null,null,"A",null,null,null,"G"]
[null,null,"Procedures & Guidelines",null,null,null,null,null,"Weighted average (H = 3, M = 2, L = 1) Procedures & Guidelines impacts across initiatives total 12+ per quarter",null,null,null,"Weighted average Procedures & Guidelines impacts across initiatives total 6+ per quarter",null,null,null,"Weighted average Procedures & Guidelines impacts across initiatives total less than 8 per quarter"]
[]
[]
[]
[]
[null,null,"IT Solution",null,null,null,null,null,"Weighted average IT Solution impacts across initiatives total 6+ per quarter",null,null,null,"Weighted average IT Solution impacts across initiatives total 3+ per quarter",null,null,null,"Weighted average IT Solution impacts across initiatives total less than 3 per quarter"]
[null,null,null,null,null,null,null,null,null,null,null,null,null,null,null,null,null,null,null,null,null,null,null,"Participant Impact Assessment"]
[]
[]
[]
[null,null,"Testing & Readiness",null,null,null,null,null,"Concurrent Testing & Readiness activities occurring for 6+ initiatives within the same quarter",null,null,null,"Concurrent Testing & Readiness activities occurring for 3+ initiatives within the same quarter",null,null,null,"Concurrent Testing & Readiness activities occurring for less than 3 initiatives within the same quarter"]
[]
[]
[]
[]
[null,null,"Go-live",null,null,null,null,null,"3+ initiatives Go-live within a three quarter period",null,null,null,"2 initiatives Go-live within a three quarter period",null,null,null,"Less than 2 initiatives Go-live within a three quarter period"]
[]
[]
[]
[]
[null,null,"Industry Segment Threshold Adjustment ",null,null,null,null,null,0.75,"Applied to thresholds defined above when selecting industry segment"]
[]
[null,null,"Participant Impact Assessment - Assumptions & Thresholds"]
[]
[null,null,"Individual Initiative Assessment - Procedures & Guidelines",null,null,null,null,null,"High",null,null,null,"Medium",null,null,null,"Low"]
[null,null,"Assess by 'Count'",null,null,null,null,null,"Initiative yields 6+ Procedures & Guidelines developed or updated per quarter",null,null,null,"Initiative yields 3+ Procedures & Guidelines developed or updated per quarter",null,null,null,"Initiative yields less than 3 Procedures & Guidelines developed or updated per quarter"]
[]
[]
[]
[]
[null,null,"Assess by 'Impact'",null,null,null,null,null,"Initiative yields 5+ \"High' or 10+ 'Medium' impacts to Procedures & Guidelines developed or updated per quarter as defined in AEMO HLIA",null,null,null,"Initiative yields 5+ \"Medium' or 10+ 'Low' impacts to Procedures & Guidelines developed or updated per quarter as defined in AEMO HLIA",null,null,null,"Initiative yields less than 5+ \"Medium' or 10+ 'Low' impacts to  Procedures & Guidelines developed or updated per quarter as defined in AEMO HLIA"]
[]
[]
[]
[]
[null,null,"Cumulative Initiative Assessment",null,null,null,null,null,"R",null,null,null,"A",null,null,null,"G"]
[null,null,"Procedures & Guidelines",null,null,null,null,null,"Aggregated Procedures & Guidelines impacts across initiatives total 5+ 'High' or 10+ 'Medium' per quarter",null,null,null,"Aggregated Procedures & Guidelines impacts across initiatives total 2+ 'High', 6+ 'Medium' or 12+ 'Low' per quarter",null,null,null,"Aggregated Procedures & Guidelines impacts across initiatives are less than 2+ 'High', 6+ 'Medium' or 12+ 'Low' per quarter"]
[]
[]
[]
[]
[null,null,"IT Solution",null,null,null,null,null,"Aggregated IT Solution impacts across initiatives total 1+ 'High' or 5+ 'Medium' per quarter",null,null,null,"Aggregated IT Solution impacts across initiatives total 3+ 'Medium' or 6+ 'Low' per quarter",null,null,null,"Aggregated IT Solution impacts across initiatives are less than 3+ 'Medium' or 6+ 'Low' per quarter"]
[]
[]
[]
[]
[null,null,"Testing & Readiness",null,null,null,null,null,"Concurrent Testing & Readiness activities occurring for 3+ initiatives within the same quarter",null,null,null,"Concurrent Testing & Readiness activities occurring for 2+ initiatives within the same quarter",null,null,null,"Concurrent Testing & Readiness activities occurring for less than 2 initiatives within the same quarter"]
[]
[]
[]
[]
[null,null,"Go-live",null,null,null,null,null,"2+ initiatives Go-live within a three quarter period",null,null,null,"1 initiative Go-live within a three quarter period",null,null,null,"0 initiative Go-live within a three quarter period"]

{"sheet":"Database","index":3,"n_rows":325,"n_cols":60,"rows_kept":325,"cut":false,"hidden":true,"merged":[[19,7,19,19],[27,7,27,19],[20,7,20,19],[22,7,22,19],[24,7,24,19],[26,7,26,19],[44,52,44,55],[45,52,45,53],[44,56,44,57],[45,56,46,56],[45,57,46,57],[45,45,46,45],[45,46,46,46],[45,47,46,47],[45,48,46,48],[45,50,46,50],[45,51,46,51],[45,39,45,40],[45,41,45,42],[45,54,45,55],[45,30,45,33],[45,26,45,27],[45,28,45,29],[44,23,46,23],[44,58,44,59],[45,58,46,58],[45,59,46,59],[92,2,92,59],[44,24,46,24],[44,25,46,25],[28,7,28,19],[44,13,45,22],[21,2,21,5],[25,7,25,19],[23,7,23,19],[21,7,21,19],[68,13,69,22],[68,2,70,2],[68,3,90,12],[44,2,46,2],[44,3,45,12],[45,49,46,49],[45,34,45,35],[45,36,45,37],[44,34,44,51],[45,38,46,38],[45,43,46,43],[45,44,46,44],[215,17,215,20],[215,21,215,24],[215,25,215,28],[214,17,214,28],[211,14,211,15],[211,16,211,17],[211,18,211,19],[212,14,212,15],[212,16,212,17],[212,18,212,19],[209,14,209,15],[209,16,209,17],[209,18,209,19],[210,14,210,15],[210,16,210,17],[210,18,210,19],[207,14,207,15],[207,16,207,17],[207,18,207,19],[208,14,208,15],[208,16,208,17],[208,18,208,19],[205,14,205,15],[205,16,205,17],[205,18,205,19],[206,14,206,15],[206,16,206,17],[206,18,206,19],[203,14,203,15],[203,16,203,17],[203,18,203,19],[204,14,204,15],[204,16,204,17],[204,18,204,19],[201,14,201,15],[201,16,201,17],[201,18,201,19],[202,14,202,15],[202,16,202,17],[202,18,202,19],[199,14,199,15],[199,16,199,17],[199,18,199,19],[200,14,200,15],[200,16,200,17],[200,18,200,19],[197,14,197,15],[197,16,197,17],[197,18,197,19],[198,14,198,15],[198,16,198,17],[198,18,198,19],[195,14,195,15],[195,16,195,17],[195,18,195,19],[196,14,196,15],[196,16,196,17],[196,18,196,19],[193,14,193,15],[193,16,193,17],[193,18,193,19],[194,14,194,15],[194,16,194,17],[194,18,194,19],[188,14,188,15],[188,16,188,17],[188,18,188,19],[192,14,192,15],[192,16,192,17],[192,18,192,19],[190,3,191,19],[187,14,187,15],[187,16,187,17],[187,18,187,19],[184,14,184,15],[184,16,184,17],[184,18,184,19],[185,14,185,15],[185,16,185,17],[185,18,185,19],[180,14,180,15],[180,16,180,17],[180,18,180,19],[181,14,181,15],[181,16,181,17],[181,18,181,19],[186,14,186,15],[186,16,186,17],[186,18,186,19],[18,7,18,22],[215,3,216,3],[215,12,215,15],[215,4,215,7],[215,8,215,11],[142,2,144,2],[142,3,143,12],[214,2,216,2],[214,3,214,15],[18,2,18,5],[118,3,119,12],[38,2,38,22],[40,3,40,4],[41,3,41,4],[169,16,169,17],[169,18,169,19],[182,14,182,15],[182,16,182,17],[182,18,182,19],[179,16,179,17],[179,14,179,15],[183,14,183,15],[183,16,183,17],[183,18,183,19],[44,26,44,33],[94,14,95,18],[172,14,172,15],[170,14,170,15],[179,18,179,19],[170,16,170,17],[170,18,170,19],[172,18,172,19],[173,14,173,15],[173,16,173,17],[173,18,173,19],[178,14,178,15],[178,16,178,17],[178,18,178,19],[175,18,175,19],[172,16,172,17],[176,14,176,15],[176,16,176,17],[176,18,176,19],[177,14,177,15],[177,16,177,17],[177,18,177,19],[166,3,167,19],[169,14,169,15],[94,29,95,33],[118,19,119,23],[118,24,119,28],[118,29,119,33],[142,19,143,23],[142,24,143,28],[142,29,143,33],[94,19,95,23],[94,24,95,28],[318,2,320,2],[190,2,192,2],[319,3,320,3],[318,3,318,15],[319,4,319,7],[166,2,168,2],[142,14,143,18],[118,14,119,18],[94,2,96,2],[94,3,95,12],[118,2,120,2],[171,14,171,15],[171,16,171,17],[171,18,171,19],[168,14,168,15],[168,16,168,17],[168,18,168,19],[174,14,174,15],[174,16,174,17],[174,18,174,19],[319,8,319,11],[175,14,175,15],[175,16,175,17],[319,12,319,15]]}
[{"$f":"Cover!B8","v":"NEM Reform Program"}]
[{"$f":"Cover!B9","v":"Participant Impact Assessment"}]
[{"$f":"Cover!B10","v":"Last updated: 29 April 2025"}]
[]
[null,null,"Quarter","Start","End"]
[null,null,"Q1",1,{"$f":"D6+2","v":3}]
[null,null,"Q2",{"$f":"E6+1","v":4},{"$f":"D7+2","v":6}]
[null,null,"Q3",{"$f":"E7+1","v":7},{"$f":"D8+2","v":9}]
[null,null,"Q4",10,12]
[]
[null,1,"Months","Jan","Feb","Mar","Apr","May","Jun","Jul","Aug","Sep","Oct","Nov","Dec"]
[null,2,null,1,{"$f":"+D12+1","v":2},{"$f":"+E12+1","v":3},4,5,6,7,8,9,10,11,12]
[null,3,null,30,28,31,30,31,30,31,31,30,31,30,31]
[]
[null,null,"Industry segments - List",{"$f":"H31","v":"All"},{"$f":"H33","v":"Wholesale"},{"$f":"H35","v":"Retail / Metering"},{"$f":"H37","v":"Network"}]
[]
[null,null,"Report Clean Up (prior to publishing)"]
[]
[null,null,"Participant Impacts & Assumptions",null,null,null,null,"Industry-Wide Impacts & Assumptions"]
[null,null,"Procedure & Guideline - Count","H","M","L",null,"Procedure & Guideline - Count",null,null,null,null,null,null,null,null,null,null,null,null,"R","A","G"]
[null,null,"Range - Initiative",6,3,0,null,"Range",null,null,null,null,null,null,null,null,null,null,null,null,12,6,0]
[null,null,"Procedure & Guideline - Impact",null,null,null,null,"Procedure & Guideline - Impact",null,null,null,null,null,null,null,null,null,null,null,null,"R","A","G"]
[null,null,"High",5,0,0,null,"Range",null,null,null,null,null,null,null,null,null,null,null,null,12,6,{"$f":"F23*$X$21","v":0}]
[null,null,"Medium",10,5,0,null,"IT Solution",null,null,null,null,null,null,null,null,null,null,null,null,"R","A","G"]
[null,null,"Low",0,10,0,null,"Range",null,null,null,null,null,null,null,null,null,null,null,null,6,3,{"$f":"F31*$X$21","v":0}]
[null,null,"Procedure & Guideline - Program Wide","R","A","G",null,"Testing & Readiness",null,null,null,null,null,null,null,null,null,null,null,null,"R","A","G"]
[null,null,"High",5,2,0,null,"Range",null,null,null,null,null,null,null,null,null,null,null,null,6,3,0]
[null,null,"Medium",10,6,0,null,"Go-Live",null,null,null,null,null,null,null,null,null,null,null,null,"R","A","G"]
[null,null,"Low",0,12,0,null,"Range",null,null,null,null,null,null,null,null,null,null,null,null,3,2,0]
[null,null,"IT Solution - Impact","R","A","G"]
[null,null,"High",1,0,0,null,"All",null,null,null,null,null,null,null,null,null,null,"Threshold Adjustment",1]
[null,null,"Medium",5,3,0]
[null,null,"Low",0,6,0,null,"Wholesale",null,null,null,null,null,null,null,null,null,null,"Threshold Adjustment",0.75,"GEN","IRP","[Spare]"]
[null,null,"Testing & Readiness","R","A","G"]
[null,null,"Range",3,2,0,null,"Retail / Metering",null,null,null,null,null,null,null,null,null,null,"Threshold Adjustment",0.75,"MC","RET","MSP"]
[null,null,"Go-Live","R","A","G"]
[null,null,"Range",2,1,0,null,"Network",null,null,null,null,null,null,null,null,null,null,"Threshold Adjustment",0.75,"TNSP","DNSP","ENM"]
[]
[null,null,"Timing"]
[null,null,"Report Start","Q1",2025,3,"years"]
[null,null,"Month Start",{"$f":"DATE(Start_Yr,VLOOKUP(Start_Qtr,Qtrs,2,FALSE),1)","v":"2025-01-01"}]
[null,null,"Month End",{"$f":"EOMONTH(D41,(F40*12)-1)","v":"2027-12-31"}]
[]
[null,null,1,{"$f":"C44+1","v":2},{"$f":"D44+1","v":3},4,5,6,7,8,9,10,11,12,13,14,15,16,17,18,19,20,21,22,23,24,25,26,27,28,29,30,31,32,33,{"$f":"AI44+1","v":34},{"$f":"AJ44+1","v":35},{"$f":"AK44+1","v":36},{"$f":"AL44+1","v":37},{"$f":"AM44+1","v":38},{"$f":"AN44+1","v":39},{"$f":"AO44+1","v":40},{"$f":"AP44+1","v":41},{"$f":"AQ44+1","v":42},{"$f":"AR44+1","v":43},{"$f":"AS44+1","v":44},{"$f":"AT44+1","v":45},{"$f":"AU44+1","v":46},{"$f":"AV44+1","v":47},{"$f":"AW44+1","v":48},{"$f":"AX44+1","v":49},{"$f":"AY44+1","v":50},{"$f":"AZ44+1","v":51},{"$f":"BA44+1","v":52},{"$f":"BB44+1","v":53},{"$f":"BC44+1","v":54},{"$f":"BD44+1","v":55},{"$f":"BE44+1","v":56},{"$f":"BF44+1","v":57},{"$f":"BG44+1","v":58}]
[null,null,"Inflight (I) & Anticipated (A) Initiatives","Overall Participant Impact",null,null,null,null,null,null,null,null,null,"Mandatory",null,null,null,null,null,null,null,null,null,"Go-Live Date","Final Determination",null,"Procedure & Guideline",null,null,null,null,null,null,null,"IT Solution",null,null,null,null,null,null,null,null,null,null,null,null,null,null,null,null,null,"Testing & Readiness",null,null,null,"Go-Live",null,"FD"]
[null,1,null,null,null,null,null,null,null,null,null,null,null,null,null,null,null,null,null,null,null,null,null,null,null,null,"Start",null,"End",null,"Number",null,null,null,"Start",null,"End",null,{"$f":"D47","v":"AEMO"},"Start",null,"End",null,{"$f":"E47","v":"GEN"},"IRP","[Spare]","MC","RET","MSP","TNSP","DNSP","ENM","Start",null,"End",null,"Qtr","Year","Qtr","Year"]
[null,{"$f":"B46+1","v":2},null,"AEMO","GEN","IRP","[Spare]","MC","RET","MSP","TNSP","DNSP","ENM",{"$f":"D47","v":"AEMO"},{"$f":"E47","v":"GEN"},"IRP","[Spare]","MC","RET","MSP","TNSP","DNSP","ENM",null,null,null,"Qtr","Year","Qtr","Year","Total","H","M","L","Qtr","Year","Qtr","Year",null,"Qtr","Year","Qtr","Year",null,null,null,null,null,null,null,null,null,"Qtr","Year","Qtr","Year"]
[null,{"$f":"B47+1","v":3},"I - SCADA Lite","L",null,"L",null,null,null,null,null,null,"L",{"$f":"IF(Participant_Mandatory=\"Yes\",N72,\"\")","v":""},{"$f":"IF(Participant_Mandatory=\"Yes\",O72,\"\")","v":""},"","","","","","","","","2025-06-28",null,"I","Jun",2024,"May",2025,{"$f":"IF(SUM(AF48:AH48)=0,\"\",SUM(AF48:AH48))","v":2},0,2,0,"Jul",2024,"Apr",2025,"L","Jul",2024,"Apr",2025,null,"L",null,null,null,null,null,null,"L","Oct",2024,"Apr",2025,{"$f":"IF(X48=\"\",\"\",IF(AND(MONTH(X48)>=$D$6,MONTH(X48)<=$E$6),\"Q1\",IF(AND(MONTH(X48)>=$D$7,MONTH(X48)<=$E$7),\"Q2\",IF(AND(MONTH(X48)>=$D$8,MONTH(X48)<=$E$8),\"Q3\",\"Q4\"))))","v":"Q2"},{"$f":"IF(X48=\"\",\"\",YEAR(X48))","v":2025},{"$f":"IF(Y48=\"\",\"\",IF(AND(MONTH(Y48)>=$D$6,MONTH(Y48)<=$E$6),\"Q1\",IF(AND(MONTH(Y48)>=$D$7,MONTH(Y48)<=$E$7),\"Q2\",IF(AND(MONTH(Y48)>=$D$8,MONTH(Y48)<=$E$8),\"Q3\",\"Q4\"))))","v":""},{"$f":"IF(Y48=\"\",\"\",YEAR(Y48))","v":""}]
[null,4,"I - Frequency Performance Payments","M","M","M",null,"M","M",null,null,null,null,{"$f":"IF(Participant_Mandatory=\"Yes\",N73,\"\")","v":""},"","","","","","","","","","2025-06-08","2022-09-08","I","Sep",2022,"Jun",2023,{"$f":"IF(SUM(AF49:AH49)=0,\"\",SUM(AF49:AH49))","v":4},2,2,0,"Oct",2022,"Mar",2025,"M","Dec",2023,"Mar",2025,"M","M",null,"M","M",null,null,null,null,"Mar",2024,"May",2025,"Q2",2025,"Q3",2022]
[null,5,"I - Enhancing Reserve Information","L","L","L",null,null,null,null,null,null,null,{"$f":"IF(Participant_Mandatory=\"Yes\",N74,\"\")","v":""},"","","","","","","","","","2025-07-01","2024-03-21","I","Oct",2024,"Jul",2025,2,0,0,2,"Sep",2024,"May",2025,"L","Dec",2024,"May",2025,"L","L",null,null,null,null,null,null,null,"Feb",2025,"Jun",2025,"Q3",2025,"Q1",2024]
[null,6,"I - ST PASA Procedure & Recall Period","L","L","L",null,null,null,null,"L",null,null,{"$f":"IF(Participant_Mandatory=\"Yes\",N75,\"\")","v":""},"","","","","","","","","","2025-07-31","2022-05-05","I","Sep",2024,"Jul",2025,4,1,0,3,"Oct",2024,"Mar",2025,"L","Oct",2024,"Mar",2025,"L","L",null,null,null,null,"L",null,null,"Jan",2025,"Jun",2025,"Q3",2025,"Q2",2022]
[null,7,"I - Improving Security Frameworks","H","M","M",null,null,null,null,"M",null,null,{"$f":"IF(Participant_Mandatory=\"Yes\",N76,\"\")","v":""},"","","","","","","","","","2025-12-02","2024-03-28","I","Jun",2024,"Nov",2025,27,5,14,8,"Feb",2025,"Aug",2025,"H","Apr",2024,"Oct",2025,"M","M",null,null,null,null,"M",null,null,"May",2025,"Nov",2025,"Q4",2025,"Q1",2024]
[null,8,"I - Unlocking CER Benefits Through Flexible Trading","M",null,null,null,"M","M","M",null,"L",null,{"$f":"IF(Participant_Mandatory=\"Yes\",N77,\"\")","v":""},"","","","","","","","","","2026-11-01","2024-08-15","I","Apr",2025,"Dec",2025,26,3,15,8,"May",2025,"Jul",2026,"M","Sep",2025,"Jul",2026,null,null,null,"M","M","M",null,"L",null,"Aug",2025,"Oct",2026,"Q4",2026,"Q3",2024]
[null,9,"I - MSR (Accelerating Smart Meter Deployment - Package 1 & 2)","L",null,null,null,null,"L","M",null,"M",null,{"$f":"IF(Participant_Mandatory=\"Yes\",N78,\"\")","v":""},"","","","","","","","","","2025-12-01","2024-11-28","I","May",2024,"Apr",2025,13,2,11,0,"Dec",2024,"Jun",2025,"M","Nov",2024,"Aug",2025,null,null,null,null,"L","M",null,"M",null,"Jan",2025,"Nov",2025,"Q4",2025,"Q4",2024]
[null,10,"I - Shortening the Settlement Cycle","M",null,null,null,"M","M","M",null,null,null,{"$f":"IF(Participant_Mandatory=\"Yes\",N79,\"\")","v":""},"","","","","","","","","","2026-06-30","2024-12-12","A","Mar",2025,"Apr",2026,10,1,4,5,"Apr",2025,"Jun",2026,"M","Nov",2025,"Jun",2026,null,null,null,"M","M","M",null,null,null,"Jan",2026,"May",2026,"Q2",2026,"Q4",2024]
[null,11,"I - Integrating Price Responsive Resources into the NEM","H","H","H",null,"H","H",null,"M","M",null,{"$f":"IF(Participant_Mandatory=\"Yes\",N80,\"\")","v":""},"","","","","","","","","","2027-05-23","2024-12-19","A","Feb",2025,"Jun",2026,20,9,4,7,"Feb",2025,"Jun",2026,"H","Feb",2026,"Apr",2027,"H","H",null,"H","H",null,"M","M",null,"Jun",2026,"Apr",2027,"Q2",2027,"Q4",2024]
[null,12,"I - IDX (Foundation)","H","L","L",null,"L","L","L","L","L","L",{"$f":"IF(Participant_Mandatory=\"Yes\",N81,\"\")","v":""},"","","","","","","","","",null,null,null,"Aug",2024,"Apr",2026,"",0,0,0,"Mar",2025,"Mar",2026,"H","May",2025,"Apr",2026,"L","L",null,"L","L","L","L","L","L","Jun",2025,"Sep",2026,{"$f":"IF(X57=\"\",\"\",IF(AND(MONTH(X57)>=$D$6,MONTH(X57)<=$E$6),\"Q1\",IF(AND(MONTH(X57)>=$D$7,MONTH(X57)<=$E$7),\"Q2\",IF(AND(MONTH(X57)>=$D$8,MONTH(X57)<=$E$8),\"Q3\",\"Q4\"))))","v":""},{"$f":"IF(X57=\"\",\"\",YEAR(X57))","v":""},"",""]
[null,13,"I - IDAM (Foundation)","H","L","L",null,"L","L","L","L","L","L",{"$f":"IF(Participant_Mandatory=\"Yes\",N82,\"\")","v":""},"","","","","","","","","","2026-10-03",null,null,"Aug",2024,"Jun",2025,"",0,0,0,"Jul",2025,"Apr",2026,"H","Oct",2025,"Jul",2026,"L","L",null,"L","L","L","L","L","L","Sep",2025,"Sep",2026,"Q4",2026,{"$f":"IF(Y58=\"\",\"\",IF(AND(MONTH(Y58)>=$D$6,MONTH(Y58)<=$E$6),\"Q1\",IF(AND(MONTH(Y58)>=$D$7,MONTH(Y58)<=$E$7),\"Q2\",IF(AND(MONTH(Y58)>=$D$8,MONTH(Y58)<=$E$8),\"Q3\",\"Q4\"))))","v":""},{"$f":"IF(Y58=\"\",\"\",YEAR(Y58))","v":""}]
[null,14,"I - MSR (Accelerating Smart Meter Deployment - Package 3)","L",null,null,null,null,null,"M",null,"M",null,{"$f":"IF(Participant_Mandatory=\"Yes\",N83,\"\")","v":""},"","","","","","","","","","2026-07-01","2024-11-28",null,"Apr",2025,"Sep",2025,3,0,3,0,"Jun",2025,"Jan",2026,"L","Jul",2025,"Apr",2026,null,null,null,null,null,"M",null,"M",null,"Feb",2026,"Jun",2026,"Q3",2026,"Q4",2024]
[null,15,"A - Inter-regional SRAs for transmission loops (PEC-MI)","M","L","L",null,"L","L",null,"L",null,null,{"$f":"IF(Participant_Mandatory=\"Yes\",N84,\"\")","v":""},"","","","","","","","","","2026-11-30","2025-09-25",null,"Apr",2025,"Jan",2026,5,1,2,2,"Aug",2025,"Nov",2025,"M","Aug",2025,"Nov",2025,"L","L",null,"L","L",null,"L",null,null,"Nov",2025,"May",2026,"Q4",2026,"Q3",2025]
[null,16,null,null,null,null,null,null,null,null,null,null,null,{"$f":"IF(Participant_Mandatory=\"Yes\",N85,\"\")","v":""},"","","","","","","","","",null,null,null,null,null,null,null,"",null,null,null,null,null,null,null,null,null,null,null,null,null,null,null,null,null,null,null,null,null,null,null,null,null,{"$f":"IF(X61=\"\",\"\",IF(AND(MONTH(X61)>=$D$6,MONTH(X61)<=$E$6),\"Q1\",IF(AND(MONTH(X61)>=$D$7,MONTH(X61)<=$E$7),\"Q2\",IF(AND(MONTH(X61)>=$D$8,MONTH(X61)<=$E$8),\"Q3\",\"Q4\"))))","v":""},{"$f":"IF(X61=\"\",\"\",YEAR(X61))","v":""},"",""]
[null,17,null,null,null,null,null,null,null,null,null,null,null,{"$f":"IF(Participant_Mandatory=\"Yes\",N86,\"\")","v":""},"","","","","","","","","",null,null,null,null,null,null,null,"",null,null,null,null,null,null,null,null,null,null,null,null,null,null,null,null,null,null,null,null,null,null,null,null,null,"","","",""]
[null,18,null,null,null,null,null,null,null,null,null,null,null,{"$f":"IF(Participant_Mandatory=\"Yes\",N87,\"\")","v":""},"","","","","","","","","",null,null,null,null,null,null,null,"",null,null,null,null,null,null,null,null,null,null,null,null,null,null,null,null,null,null,null,null,null,null,null,null,null,"","","",""]
[null,19,null,null,null,null,null,null,null,null,null,null,null,{"$f":"IF(Participant_Mandatory=\"Yes\",N88,\"\")","v":""},"","","","","","","","","",null,null,null,null,null,null,null,{"$f":"IF(SUM(AF64:AH64)=0,\"\",SUM(AF64:AH64))","v":""},null,null,null,null,null,null,null,null,null,null,null,null,null,null,null,null,null,null,null,null,null,null,null,null,null,{"$f":"IF(X64=\"\",\"\",IF(AND(MONTH(X64)>=$D$6,MONTH(X64)<=$E$6),\"Q1\",IF(AND(MONTH(X64)>=$D$7,MONTH(X64)<=$E$7),\"Q2\",IF(AND(MONTH(X64)>=$D$8,MONTH(X64)<=$E$8),\"Q3\",\"Q4\"))))","v":""},{"$f":"IF(X64=\"\",\"\",YEAR(X64))","v":""},"",""]
[null,20,null,null,null,null,null,null,null,null,null,null,null,{"$f":"IF(Participant_Mandatory=\"Yes\",N89,\"\")","v":""},"","","","","","","","","",null,null,null,null,null,null,null,"",null,null,null,null,null,null,null,null,null,null,null,null,null,null,null,null,null,null,null,null,null,null,null,null,null,"","",{"$f":"IF(Y65=\"\",\"\",IF(AND(MONTH(Y65)>=$D$6,MONTH(Y65)<=$E$6),\"Q1\",IF(AND(MONTH(Y65)>=$D$7,MONTH(Y65)<=$E$7),\"Q2\",IF(AND(MONTH(Y65)>=$D$8,MONTH(Y65)<=$E$8),\"Q3\",\"Q4\"))))","v":""},{"$f":"IF(Y65=\"\",\"\",YEAR(Y65))","v":""}]
[null,21,null,null,null,null,null,null,null,null,null,null,null,{"$f":"IF(Participant_Mandatory=\"Yes\",N90,\"\")","v":""},"","","","","","","","","",null,null,null,null,null,null,null,"",null,null,null,null,null,null,null,null,null,null,null,null,null,null,null,null,null,null,null,null,null,null,null,null,null,"","","",""]
[null,22,null,null,null,null,null,null,null,null,null,null,null,{"$f":"IF(Participant_Mandatory=\"Yes\",N91,\"\")","v":""},"","","","","","","","","",null,null,null,null,null,null,null,"",null,null,null,null,null,null,null,null,null,null,null,null,null,null,null,null,null,null,null,null,null,null,null,null,null,"","","",""]
[]
[null,null,"Inflight (I) & Anticipated (A) Initiatives",null,null,null,null,null,null,null,null,null,null,"Mandatory"]
[]
[null,null,null,null,null,null,null,null,null,null,null,null,null,{"$f":"D47","v":"AEMO"},{"$f":"E47","v":"GEN"},"IRP","[Spare]","MC","RET","MSP","TNSP","DNSP","ENM"]
[null,null,{"$f":"IF(C48=\"\",\"\",C48)","v":"I - SCADA Lite"},null,null,null,null,null,null,null,null,null,null,"","","N","","","","","","","N"]
[null,null,{"$f":"IF(C49=\"\",\"\",C49)","v":"I - Frequency Performance Payments"},null,null,null,null,null,null,null,null,null,null,"",null,null,null,null,"","","","",""]
[null,null,"I - Enhancing Reserve Information",null,null,null,null,null,null,null,null,null,null,null,null,null,null,"","","","","",""]
[null,null,"I - ST PASA Procedure & Recall Period",null,null,null,null,null,null,null,null,null,null,"",null,null,null,"","","","N","",""]
[null,null,"I - Improving Security Frameworks",null,null,null,null,null,null,null,null,null,null,"","N","N","","","","","","",""]
[null,null,"I - Unlocking CER Benefits Through Flexible Trading",null,null,null,null,null,null,null,null,null,null,"","","","","N","N","N","","N"]
[null,null,"I - MSR (Accelerating Smart Meter Deployment - Package 1 & 2)",null,null,null,null,null,null,null,null,null,null,"","","","","","","","","",""]
[null,null,"I - Shortening the Settlement Cycle",null,null,null,null,null,null,null,null,null,null,"","","",null,null,null,null,"","",""]
[null,null,"I - Integrating Price Responsive Resources into the NEM",null,null,null,null,null,null,null,null,null,null,"","N","N",null,"N","N","",null,null,""]
[null,null,"I - IDX (Foundation)",null,null,null,null,null,null,null,null,null,null,"","N","N",null,"N","N","N","N","N","N"]
[null,null,"I - IDAM (Foundation)",null,null,null,null,null,null,null,null,null,null,"","N","N",null,"N","N","N","N","N","N"]
[null,null,"I - MSR (Accelerating Smart Meter Deployment - Package 3)",null,null,null,null,null,null,null,null,null,null,"","","",null,"","","","",null,""]
[null,null,"A - Inter-regional SRAs for transmission loops (PEC-MI)",null,null,null,null,null,null,null,null,null,null,"","N","N",null,"","N","N","N","",""]
[null,null,"",null,null,null,null,null,null,null,null,null,null,"","","","","","","","","",""]
[null,null,"",null,null,null,null,null,null,null,null,null,null,"","","","","","","","","",""]
[null,null,"",null,null,null,null,null,null,null,null,null,null,"","","","","","","","","",""]
[null,null,"",null,null,null,null,null,null,null,null,null,null,"","","","","","","","","",""]
[null,null,"",null,null,null,null,null,null,null,null,null,null,"","","","","","","","","",""]
[null,null,"",null,null,null,null,null,null,null,null,null,null,"","","","","","","","","",""]
[null,null,"",null,null,null,null,null,null,null,null,null,null,"","","","","","","","","",""]
[]
[null,null,"Workings - Inflight & Anticipated Initiatives "]
[]
[null,null,"Procedure & Guideline - Count","Participant Impact Assessment",null,null,null,null,null,null,null,null,null,null,{"$f":"$H$31","v":"All"},null,null,null,null,{"$f":"$H$33","v":"Wholesale"},null,null,null,null,{"$f":"$H$35","v":"Retail / Metering"},null,null,null,null,{"$f":"$H$37","v":"Network"}]
[]
[null,null,null,{"$f":"D47","v":"AEMO"},"GEN","IRP","[Spare]","MC","RET","MSP","TNSP","DNSP","ENM",null,"H","M","L","Total","AVG","H","M","L","Total","AVG","H","M","L","Total","AVG","H","M","L","Total","AVG"]
[null,null,{"$f":"IF(C48=\"\",\"\",C48)","v":"I - SCADA Lite"},{"$f":"IF(OR($C98=\"\",HLOOKUP(D$97,Overall_PI,$B47,FALSE)=\"\",HLOOKUP(D$97,Mandatory_PI,$B47,FALSE)=\"N\"),\"\",IF(VLOOKUP($C98,Inflight,$AE$44,FALSE)>=$D$21,\"H\",IF(AND(VLOOKUP($C98,Inflight,$AE$44,FALSE)>=$E$21,VLOOKUP($C98,Inflight,$AE$44,FALSE)<$D$21),\"M\",\"L\")))","v":"L"},"","L","","","","","","","L",null,{"$f":"IF($C98=\"\",\"\",COUNTIF($D98:$M98,O$97))","v":0},{"$f":"IF($C98=\"\",\"\",COUNTIF($D98:$M98,P$97))","v":0},3,{"$f":"IF($C98=\"\",\"\",SUM(O98:Q98))","v":3},{"$f":"IF($C98=\"\",\"\",IF(OR(AVERAGE(O98*3,P98*2,Q98*1)>1,AVERAGE(O98*3,P98*2,Q98*1)=0),AVERAGE(O98*3,P98*2,Q98*1),1))","v":1},{"$f":"IF($C98=\"\",\"\",COUNTIF($E98:$G98,T$97))","v":0},{"$f":"IF($C98=\"\",\"\",COUNTIF($E98:$G98,U$97))","v":0},{"$f":"IF($C98=\"\",\"\",COUNTIF($E98:$G98,V$97))","v":1},{"$f":"IF($C98=\"\",\"\",SUM(T98:V98))","v":1},{"$f":"IF($C98=\"\",\"\",IF(OR(AVERAGE(T98*3,U98*2,V98*1)>1,AVERAGE(T98*3,U98*2,V98*1)=0),AVERAGE(T98*3,U98*2,V98*1),1))","v":1},{"$f":"IF($C98=\"\",\"\",COUNTIF($H98:$J98,Y$97))","v":0},{"$f":"IF($C98=\"\",\"\",COUNTIF($H98:$J98,Z$97))","v":0},{"$f":"IF($C98=\"\",\"\",COUNTIF($H98:$J98,AA$97))","v":0},{"$f":"IF($C98=\"\",\"\",SUM(Y98:AA98))","v":0},{"$f":"IF($C98=\"\",\"\",IF(OR(AVERAGE(Y98*3,Z98*2,AA98*1)>1,AVERAGE(Y98*3,Z98*2,AA98*1)=0),AVERAGE(Y98*3,Z98*2,AA98*1),1))","v":0},{"$f":"IF($C98=\"\",\"\",COUNTIF($K98:$M98,AD$97))","v":0},{"$f":"IF($C98=\"\",\"\",COUNTIF($K98:$M98,AE$97))","v":0},{"$f":"IF($C98=\"\",\"\",COUNTIF($K98:$M98,AF$97))","v":1},{"$f":"IF($C98=\"\",\"\",SUM(AD98:AF98))","v":1},{"$f":"IF($C98=\"\",\"\",IF(OR(AVERAGE(AD98*3,AE98*2,AF98*1)>1,AVERAGE(AD98*3,AE98*2,AF98*1)=0),AVERAGE(AD98*3,AE98*2,AF98*1),1))","v":1}]
[null,null,"I - Frequency Performance Payments",{"$f":"IF(OR($C99=\"\",HLOOKUP(D$97,Overall_PI,$B48,FALSE)=\"\",HLOOKUP(D$97,Mandatory_PI,$B48,FALSE)=\"N\"),\"\",IF(VLOOKUP($C99,Inflight,$AE$44,FALSE)>=$D$21,\"H\",IF(AND(VLOOKUP($C99,Inflight,$AE$44,FALSE)>=$E$21,VLOOKUP($C99,Inflight,$AE$44,FALSE)<$D$21),\"M\",\"L\")))","v":"M"},"M","M","","M","M","","","","",null,{"$f":"IF($C99=\"\",\"\",COUNTIF($D99:$M99,O$97))","v":0},5,0,{"$f":"IF($C99=\"\",\"\",SUM(O99:Q99))","v":5},{"$f":"IF($C99=\"\",\"\",IF(OR(AVERAGE(O99*3,P99*2,Q99*1)>1,AVERAGE(O99*3,P99*2,Q99*1)=0),AVERAGE(O99*3,P99*2,Q99*1),1))","v":3.3333333333333335},{"$f":"IF($C99=\"\",\"\",COUNTIF($E99:$G99,T$97))","v":0},2,0,{"$f":"IF($C99=\"\",\"\",SUM(T99:V99))","v":2},{"$f":"IF($C99=\"\",\"\",IF(OR(AVERAGE(T99*3,U99*2,V99*1)>1,AVERAGE(T99*3,U99*2,V99*1)=0),AVERAGE(T99*3,U99*2,V99*1),1))","v":1.3333333333333333},{"$f":"IF($C99=\"\",\"\",COUNTIF($H99:$J99,Y$97))","v":0},2,0,{"$f":"IF($C99=\"\",\"\",SUM(Y99:AA99))","v":2},{"$f":"IF($C99=\"\",\"\",IF(OR(AVERAGE(Y99*3,Z99*2,AA99*1)>1,AVERAGE(Y99*3,Z99*2,AA99*1)=0),AVERAGE(Y99*3,Z99*2,AA99*1),1))","v":1.3333333333333333},{"$f":"IF($C99=\"\",\"\",COUNTIF($K99:$M99,AD$97))","v":0},0,0,{"$f":"IF($C99=\"\",\"\",SUM(AD99:AF99))","v":0},{"$f":"IF($C99=\"\",\"\",IF(OR(AVERAGE(AD99*3,AE99*2,AF99*1)>1,AVERAGE(AD99*3,AE99*2,AF99*1)=0),AVERAGE(AD99*3,AE99*2,AF99*1),1))","v":0}]
[null,null,"I - Enhancing Reserve Information",{"$f":"IF(OR($C100=\"\",HLOOKUP(D$97,Overall_PI,$B49,FALSE)=\"\",HLOOKUP(D$97,Mandatory_PI,$B49,FALSE)=\"N\"),\"\",IF(VLOOKUP($C100,Inflight,$AE$44,FALSE)>=$D$21,\"H\",IF(AND(VLOOKUP($C100,Inflight,$AE$44,FALSE)>=$E$21,VLOOKUP($C100,Inflight,$AE$44,FALSE)<$D$21),\"M\",\"L\")))","v":"L"},"L","L","","","","","","","",null,0,0,3,3,1,0,0,2,2,1,0,0,0,0,0,0,0,0,0,0]
[null,null,"I - ST PASA Procedure & Recall Period",{"$f":"IF(OR($C101=\"\",HLOOKUP(D$97,Overall_PI,$B50,FALSE)=\"\",HLOOKUP(D$97,Mandatory_PI,$B50,FALSE)=\"N\"),\"\",IF(VLOOKUP($C101,Inflight,$AE$44,FALSE)>=$D$21,\"H\",IF(AND(VLOOKUP($C101,Inflight,$AE$44,FALSE)>=$E$21,VLOOKUP($C101,Inflight,$AE$44,FALSE)<$D$21),\"M\",\"L\")))","v":"M"},"M","M","","","","","M","","",null,0,4,0,4,2.6666666666666665,0,2,0,2,1.3333333333333333,0,0,0,0,0,0,1,0,1,1]
[null,null,"I - Improving Security Frameworks",{"$f":"IF(OR($C102=\"\",HLOOKUP(D$97,Overall_PI,$B51,FALSE)=\"\",HLOOKUP(D$97,Mandatory_PI,$B51,FALSE)=\"N\"),\"\",IF(VLOOKUP($C102,Inflight,$AE$44,FALSE)>=$D$21,\"H\",IF(AND(VLOOKUP($C102,Inflight,$AE$44,FALSE)>=$E$21,VLOOKUP($C102,Inflight,$AE$44,FALSE)<$D$21),\"M\",\"L\")))","v":"H"},"H","H","","","","","H","","",null,4,0,0,4,4,2,0,0,2,2,0,0,0,0,0,1,0,0,1,1]
[null,null,"I - Unlocking CER Benefits Through Flexible Trading",{"$f":"IF(OR($C103=\"\",HLOOKUP(D$97,Overall_PI,$B52,FALSE)=\"\",HLOOKUP(D$97,Mandatory_PI,$B52,FALSE)=\"N\"),\"\",IF(VLOOKUP($C103,Inflight,$AE$44,FALSE)>=$D$21,\"H\",IF(AND(VLOOKUP($C103,Inflight,$AE$44,FALSE)>=$E$21,VLOOKUP($C103,Inflight,$AE$44,FALSE)<$D$21),\"M\",\"L\")))","v":"H"},"","","","H","H","H","","H","",null,5,0,0,5,5,0,0,0,0,0,3,0,0,3,3,1,0,0,1,1]
[null,null,"I - MSR (Accelerating Smart Meter Deployment - Package 1 & 2)",{"$f":"IF(OR($C104=\"\",HLOOKUP(D$97,Overall_PI,$B53,FALSE)=\"\",HLOOKUP(D$97,Mandatory_PI,$B53,FALSE)=\"N\"),\"\",IF(VLOOKUP($C104,Inflight,$AE$44,FALSE)>=$D$21,\"H\",IF(AND(VLOOKUP($C104,Inflight,$AE$44,FALSE)>=$E$21,VLOOKUP($C104,Inflight,$AE$44,FALSE)<$D$21),\"M\",\"L\")))","v":"H"},"","","","","H","H","","H","",null,4,0,0,4,4,0,0,0,0,0,2,0,0,2,2,1,0,0,1,1]
[null,null,"I - Shortening the Settlement Cycle",{"$f":"IF(OR($C105=\"\",HLOOKUP(D$97,Overall_PI,$B54,FALSE)=\"\",HLOOKUP(D$97,Mandatory_PI,$B54,FALSE)=\"N\"),\"\",IF(VLOOKUP($C105,Inflight,$AE$44,FALSE)>=$D$21,\"H\",IF(AND(VLOOKUP($C105,Inflight,$AE$44,FALSE)>=$E$21,VLOOKUP($C105,Inflight,$AE$44,FALSE)<$D$21),\"M\",\"L\")))","v":"H"},"","","","H","H","H","","","",null,4,0,0,4,4,0,0,0,0,0,3,0,0,3,3,0,0,0,0,0]
[null,null,"I - Integrating Price Responsive Resources into the NEM",{"$f":"IF(OR($C106=\"\",HLOOKUP(D$97,Overall_PI,$B55,FALSE)=\"\",HLOOKUP(D$97,Mandatory_PI,$B55,FALSE)=\"N\"),\"\",IF(VLOOKUP($C106,Inflight,$AE$44,FALSE)>=$D$21,\"H\",IF(AND(VLOOKUP($C106,Inflight,$AE$44,FALSE)>=$E$21,VLOOKUP($C106,Inflight,$AE$44,FALSE)<$D$21),\"M\",\"L\")))","v":"H"},"H","H","","H","H","","H","H","",null,7,0,0,7,7,2,0,0,2,2,2,0,0,2,2,2,0,0,2,2]
[null,null,"I - IDX (Foundation)",{"$f":"IF(OR($C107=\"\",HLOOKUP(D$97,Overall_PI,$B56,FALSE)=\"\",HLOOKUP(D$97,Mandatory_PI,$B56,FALSE)=\"N\"),\"\",IF(VLOOKUP($C107,Inflight,$AE$44,FALSE)>=$D$21,\"H\",IF(AND(VLOOKUP($C107,Inflight,$AE$44,FALSE)>=$E$21,VLOOKUP($C107,Inflight,$AE$44,FALSE)<$D$21),\"M\",\"L\")))","v":"H"},"H","H","","H","H","H","H","H","H",null,9,0,0,9,9,2,0,0,2,2,3,0,0,3,3,3,0,0,3,3]
[null,null,"I - IDAM (Foundation)",{"$f":"IF(OR($C108=\"\",HLOOKUP(D$97,Overall_PI,$B57,FALSE)=\"\",HLOOKUP(D$97,Mandatory_PI,$B57,FALSE)=\"N\"),\"\",IF(VLOOKUP($C108,Inflight,$AE$44,FALSE)>=$D$21,\"H\",IF(AND(VLOOKUP($C108,Inflight,$AE$44,FALSE)>=$E$21,VLOOKUP($C108,Inflight,$AE$44,FALSE)<$D$21),\"M\",\"L\")))","v":"H"},"H","H","","H","H","H","H","H","H",null,9,0,0,9,9,2,0,0,2,2,3,0,0,3,3,3,0,0,3,3]
[null,null,"I - MSR (Accelerating Smart Meter Deployment - Package 3)",{"$f":"IF(OR($C109=\"\",HLOOKUP(D$97,Overall_PI,$B58,FALSE)=\"\",HLOOKUP(D$97,Mandatory_PI,$B58,FALSE)=\"N\"),\"\",IF(VLOOKUP($C109,Inflight,$AE$44,FALSE)>=$D$21,\"H\",IF(AND(VLOOKUP($C109,Inflight,$AE$44,FALSE)>=$E$21,VLOOKUP($C109,Inflight,$AE$44,FALSE)<$D$21),\"M\",\"L\")))","v":"M"},"","","","","","M","","M","",null,0,3,0,3,2,0,0,0,0,0,0,1,0,1,1,0,1,0,1,1]
[null,null,"A - Inter-regional SRAs for transmission loops (PEC-MI)",{"$f":"IF(OR($C110=\"\",HLOOKUP(D$97,Overall_PI,$B59,FALSE)=\"\",HLOOKUP(D$97,Mandatory_PI,$B59,FALSE)=\"N\"),\"\",IF(VLOOKUP($C110,Inflight,$AE$44,FALSE)>=$D$21,\"H\",IF(AND(VLOOKUP($C110,Inflight,$AE$44,FALSE)>=$E$21,VLOOKUP($C110,Inflight,$AE$44,FALSE)<$D$21),\"M\",\"L\")))","v":"M"},"M","M","","M","M","","M","","",null,0,6,0,6,4,0,2,0,2,1.3333333333333333,0,2,0,2,1.3333333333333333,0,1,0,1,1]
[null,null,"",{"$f":"IF(OR($C111=\"\",HLOOKUP(D$97,Overall_PI,$B60,FALSE)=\"\",HLOOKUP(D$97,Mandatory_PI,$B60,FALSE)=\"N\"),\"\",IF(VLOOKUP($C111,Inflight,$AE$44,FALSE)>=$D$21,\"H\",IF(AND(VLOOKUP($C111,Inflight,$AE$44,FALSE)>=$E$21,VLOOKUP($C111,Inflight,$AE$44,FALSE)<$D$21),\"M\",\"L\")))","v":""},"","","","","","","","","",null,"","","","","","","","","","","","","","","","","","","",""]
[null,null,"",{"$f":"IF(OR($C112=\"\",HLOOKUP(D$97,Overall_PI,$B61,FALSE)=\"\",HLOOKUP(D$97,Mandatory_PI,$B61,FALSE)=\"N\"),\"\",IF(VLOOKUP($C112,Inflight,$AE$44,FALSE)>=$D$21,\"H\",IF(AND(VLOOKUP($C112,Inflight,$AE$44,FALSE)>=$E$21,VLOOKUP($C112,Inflight,$AE$44,FALSE)<$D$21),\"M\",\"L\")))","v":""},"","","","","","","","","",null,"","","","","","","","","","","","","","","","","","","",""]
[null,null,"",{"$f":"IF(OR($C113=\"\",HLOOKUP(D$97,Overall_PI,$B62,FALSE)=\"\",HLOOKUP(D$97,Mandatory_PI,$B62,FALSE)=\"N\"),\"\",IF(VLOOKUP($C113,Inflight,$AE$44,FALSE)>=$D$21,\"H\",IF(AND(VLOOKUP($C113,Inflight,$AE$44,FALSE)>=$E$21,VLOOKUP($C113,Inflight,$AE$44,FALSE)<$D$21),\"M\",\"L\")))","v":""},"","","","","","","","","",null,"","","","","","","","","","","","","","","","","","","",""]
[null,null,"",{"$f":"IF(OR($C114=\"\",HLOOKUP(D$97,Overall_PI,$B63,FALSE)=\"\",HLOOKUP(D$97,Mandatory_PI,$B63,FALSE)=\"N\"),\"\",IF(VLOOKUP($C114,Inflight,$AE$44,FALSE)>=$D$21,\"H\",IF(AND(VLOOKUP($C114,Inflight,$AE$44,FALSE)>=$E$21,VLOOKUP($C114,Inflight,$AE$44,FALSE)<$D$21),\"M\",\"L\")))","v":""},"","","","","","","","","",null,"","","","","","","","","","","","","","","","","","","",""]
[null,null,"",{"$f":"IF(OR($C115=\"\",HLOOKUP(D$97,Overall_PI,$B64,FALSE)=\"\",HLOOKUP(D$97,Mandatory_PI,$B64,FALSE)=\"N\"),\"\",IF(VLOOKUP($C115,Inflight,$AE$44,FALSE)>=$D$21,\"H\",IF(AND(VLOOKUP($C115,Inflight,$AE$44,FALSE)>=$E$21,VLOOKUP($C115,Inflight,$AE$44,FALSE)<$D$21),\"M\",\"L\")))","v":""},"","","","","","","","","",null,"","","","","","","","","","","","","","","","","","","",""]
[null,null,"",{"$f":"IF(OR($C116=\"\",HLOOKUP(D$97,Overall_PI,$B65,FALSE)=\"\",HLOOKUP(D$97,Mandatory_PI,$B65,FALSE)=\"N\"),\"\",IF(VLOOKUP($C116,Inflight,$AE$44,FALSE)>=$D$21,\"H\",IF(AND(VLOOKUP($C116,Inflight,$AE$44,FALSE)>=$E$21,VLOOKUP($C116,Inflight,$AE$44,FALSE)<$D$21),\"M\",\"L\")))","v":""},"","","","","","","","","",null,"","","","","","","","","","","","","","","","","","","",""]
[null,null,"",{"$f":"IF(OR($C117=\"\",HLOOKUP(D$97,Overall_PI,$B66,FALSE)=\"\",HLOOKUP(D$97,Mandatory_PI,$B66,FALSE)=\"N\"),\"\",IF(VLOOKUP($C117,Inflight,$AE$44,FALSE)>=$D$21,\"H\",IF(AND(VLOOKUP($C117,Inflight,$AE$44,FALSE)>=$E$21,VLOOKUP($C117,Inflight,$AE$44,FALSE)<$D$21),\"M\",\"L\")))","v":""},"","","","","","","","","",null,"","","","","","","","","","","","","","","","","","","",""]
[]
[null,null,"Procedure & Guideline - Impact","Participant Impact Assessment",null,null,null,null,null,null,null,null,null,null,{"$f":"$H$31","v":"All"},null,null,null,null,{"$f":"$H$33","v":"Wholesale"},null,null,null,null,{"$f":"$H$35","v":"Retail / Metering"},null,null,null,null,{"$f":"$H$37","v":"Network"}]
[]
[null,null,null,{"$f":"D47","v":"AEMO"},"GEN","IRP","[Spare]","MC","RET","MSP","TNSP","DNSP","ENM",null,"H","M","L","Total","AVG","H","M","L","Total","AVG","H","M","L","Total","AVG","H","M","L","Total","AVG"]
[null,null,{"$f":"IF(C48=\"\",\"\",C48)","v":"I - SCADA Lite"},{"$f":"IF(OR($C122=\"\",HLOOKUP(D$121,Overall_PI,$B47,FALSE)=\"\",HLOOKUP(D$121,Mandatory_PI,$B47,FALSE)=\"N\"),\"\",IF(OR(VLOOKUP($C122,Inflight,$AF$44,FALSE)>=$D$23,VLOOKUP($C122,Inflight,$AG$44,FALSE)>=$D$24),\"H\",IF(OR(VLOOKUP($C122,Inflight,$AG$44,FALSE)>=$E$24,VLOOKUP($C122,Inflight,$AH$44,FALSE)>=$E$25),\"M\",\"L\")))","v":"L"},"","L","","","","","","","L",null,{"$f":"IF($C122=\"\",\"\",COUNTIF($D122:$M122,O$121))","v":0},{"$f":"IF($C122=\"\",\"\",COUNTIF($D122:$M122,P$121))","v":0},{"$f":"IF($C122=\"\",\"\",COUNTIF($D122:$M122,Q$121))","v":3},{"$f":"IF($C122=\"\",\"\",SUM(O122:Q122))","v":3},{"$f":"IF($C122=\"\",\"\",IF(OR(AVERAGE(O122*3,P122*2,Q122*1)>1,AVERAGE(O122*3,P122*2,Q122*1)=0),AVERAGE(O122*3,P122*2,Q122*1),1))","v":1},{"$f":"IF($C122=\"\",\"\",COUNTIF($E122:$G122,T$121))","v":0},{"$f":"IF($C122=\"\",\"\",COUNTIF($E122:$G122,U$121))","v":0},{"$f":"IF($C122=\"\",\"\",COUNTIF($E122:$G122,V$121))","v":1},{"$f":"IF($C122=\"\",\"\",SUM(T122:V122))","v":1},{"$f":"IF($C122=\"\",\"\",IF(OR(AVERAGE(T122*3,U122*2,V122*1)>1,AVERAGE(T122*3,U122*2,V122*1)=0),AVERAGE(T122*3,U122*2,V122*1),1))","v":1},{"$f":"IF($C122=\"\",\"\",COUNTIF($H122:$J122,Y$121))","v":0},{"$f":"IF($C122=\"\",\"\",COUNTIF($H122:$J122,Z$121))","v":0},{"$f":"IF($C122=\"\",\"\",COUNTIF($H122:$J122,AA$121))","v":0},{"$f":"IF($C122=\"\",\"\",SUM(Y122:AA122))","v":0},{"$f":"IF($C122=\"\",\"\",IF(OR(AVERAGE(Y122*3,Z122*2,AA122*1)>1,AVERAGE(Y122*3,Z122*2,AA122*1)=0),AVERAGE(Y122*3,Z122*2,AA122*1),1))","v":0},{"$f":"IF($C122=\"\",\"\",COUNTIF($K122:$M122,AD$121))","v":0},{"$f":"IF($C122=\"\",\"\",COUNTIF($K122:$M122,AE$121))","v":0},{"$f":"IF($C122=\"\",\"\",COUNTIF($K122:$M122,AF$121))","v":1},{"$f":"IF($C122=\"\",\"\",SUM(AD122:AF122))","v":1},{"$f":"IF($C122=\"\",\"\",IF(OR(AVERAGE(AD122*3,AE122*2,AF122*1)>1,AVERAGE(AD122*3,AE122*2,AF122*1)=0),AVERAGE(AD122*3,AE122*2,AF122*1),1))","v":1}]
[null,null,"I - Frequency Performance Payments",{"$f":"IF(OR($C123=\"\",HLOOKUP(D$121,Overall_PI,$B48,FALSE)=\"\",HLOOKUP(D$121,Mandatory_PI,$B48,FALSE)=\"N\"),\"\",IF(OR(VLOOKUP($C123,Inflight,$AF$44,FALSE)>=$D$23,VLOOKUP($C123,Inflight,$AG$44,FALSE)>=$D$24),\"H\",IF(OR(VLOOKUP($C123,Inflight,$AG$44,FALSE)>=$E$24,VLOOKUP($C123,Inflight,$AH$44,FALSE)>=$E$25),\"M\",\"L\")))","v":"L"},"L","L","","L","L","","","","",null,{"$f":"IF($C123=\"\",\"\",COUNTIF($D123:$M123,O$121))","v":0},0,5,{"$f":"IF($C123=\"\",\"\",SUM(O123:Q123))","v":5},{"$f":"IF($C123=\"\",\"\",IF(OR(AVERAGE(O123*3,P123*2,Q123*1)>1,AVERAGE(O123*3,P123*2,Q123*1)=0),AVERAGE(O123*3,P123*2,Q123*1),1))","v":1.6666666666666667},{"$f":"IF($C123=\"\",\"\",COUNTIF($E123:$G123,T$121))","v":0},0,2,{"$f":"IF($C123=\"\",\"\",SUM(T123:V123))","v":2},{"$f":"IF($C123=\"\",\"\",IF(OR(AVERAGE(T123*3,U123*2,V123*1)>1,AVERAGE(T123*3,U123*2,V123*1)=0),AVERAGE(T123*3,U123*2,V123*1),1))","v":1},{"$f":"IF($C123=\"\",\"\",COUNTIF($H123:$J123,Y$121))","v":0},0,2,{"$f":"IF($C123=\"\",\"\",SUM(Y123:AA123))","v":2},{"$f":"IF($C123=\"\",\"\",IF(OR(AVERAGE(Y123*3,Z123*2,AA123*1)>1,AVERAGE(Y123*3,Z123*2,AA123*1)=0),AVERAGE(Y123*3,Z123*2,AA123*1),1))","v":1},{"$f":"IF($C123=\"\",\"\",COUNTIF($K123:$M123,AD$121))","v":0},0,0,{"$f":"IF($C123=\"\",\"\",SUM(AD123:AF123))","v":0},{"$f":"IF($C123=\"\",\"\",IF(OR(AVERAGE(AD123*3,AE123*2,AF123*1)>1,AVERAGE(AD123*3,AE123*2,AF123*1)=0),AVERAGE(AD123*3,AE123*2,AF123*1),1))","v":0}]
[null,null,"I - Enhancing Reserve Information",{"$f":"IF(OR($C124=\"\",HLOOKUP(D$121,Overall_PI,$B49,FALSE)=\"\",HLOOKUP(D$121,Mandatory_PI,$B49,FALSE)=\"N\"),\"\",IF(OR(VLOOKUP($C124,Inflight,$AF$44,FALSE)>=$D$23,VLOOKUP($C124,Inflight,$AG$44,FALSE)>=$D$24),\"H\",IF(OR(VLOOKUP($C124,Inflight,$AG$44,FALSE)>=$E$24,VLOOKUP($C124,Inflight,$AH$44,FALSE)>=$E$25),\"M\",\"L\")))","v":"L"},"L","L","","","","","","","",null,0,0,3,3,1,0,0,2,2,1,0,0,0,0,0,0,0,0,0,0]
[null,null,"I - ST PASA Procedure & Recall Period",{"$f":"IF(OR($C125=\"\",HLOOKUP(D$121,Overall_PI,$B50,FALSE)=\"\",HLOOKUP(D$121,Mandatory_PI,$B50,FALSE)=\"N\"),\"\",IF(OR(VLOOKUP($C125,Inflight,$AF$44,FALSE)>=$D$23,VLOOKUP($C125,Inflight,$AG$44,FALSE)>=$D$24),\"H\",IF(OR(VLOOKUP($C125,Inflight,$AG$44,FALSE)>=$E$24,VLOOKUP($C125,Inflight,$AH$44,FALSE)>=$E$25),\"M\",\"L\")))","v":"L"},"L","L","","","","","L","","",null,0,0,4,4,1.3333333333333333,0,0,2,2,1,0,0,0,0,0,0,0,1,1,1]
[null,null,"I - Improving Security Frameworks",{"$f":"IF(OR($C126=\"\",HLOOKUP(D$121,Overall_PI,$B51,FALSE)=\"\",HLOOKUP(D$121,Mandatory_PI,$B51,FALSE)=\"N\"),\"\",IF(OR(VLOOKUP($C126,Inflight,$AF$44,FALSE)>=$D$23,VLOOKUP($C126,Inflight,$AG$44,FALSE)>=$D$24),\"H\",IF(OR(VLOOKUP($C126,Inflight,$AG$44,FALSE)>=$E$24,VLOOKUP($C126,Inflight,$AH$44,FALSE)>=$E$25),\"M\",\"L\")))","v":"H"},"H","H","","","","","H","","",null,4,0,0,4,4,2,0,0,2,2,0,0,0,0,0,1,0,0,1,1]
[null,null,"I - Unlocking CER Benefits Through Flexible Trading",{"$f":"IF(OR($C127=\"\",HLOOKUP(D$121,Overall_PI,$B52,FALSE)=\"\",HLOOKUP(D$121,Mandatory_PI,$B52,FALSE)=\"N\"),\"\",IF(OR(VLOOKUP($C127,Inflight,$AF$44,FALSE)>=$D$23,VLOOKUP($C127,Inflight,$AG$44,FALSE)>=$D$24),\"H\",IF(OR(VLOOKUP($C127,Inflight,$AG$44,FALSE)>=$E$24,VLOOKUP($C127,Inflight,$AH$44,FALSE)>=$E$25),\"M\",\"L\")))","v":"H"},"","","","H","H","H","","H","",null,5,0,0,5,5,0,0,0,0,0,3,0,0,3,3,1,0,0,1,1]
[null,null,"I - MSR (Accelerating Smart Meter Deployment - Package 1 & 2)",{"$f":"IF(OR($C128=\"\",HLOOKUP(D$121,Overall_PI,$B53,FALSE)=\"\",HLOOKUP(D$121,Mandatory_PI,$B53,FALSE)=\"N\"),\"\",IF(OR(VLOOKUP($C128,Inflight,$AF$44,FALSE)>=$D$23,VLOOKUP($C128,Inflight,$AG$44,FALSE)>=$D$24),\"H\",IF(OR(VLOOKUP($C128,Inflight,$AG$44,FALSE)>=$E$24,VLOOKUP($C128,Inflight,$AH$44,FALSE)>=$E$25),\"M\",\"L\")))","v":"H"},"","","","","H","H","","H","",null,4,0,0,4,4,0,0,0,0,0,2,0,0,2,2,1,0,0,1,1]
[null,null,"I - Shortening the Settlement Cycle",{"$f":"IF(OR($C129=\"\",HLOOKUP(D$121,Overall_PI,$B54,FALSE)=\"\",HLOOKUP(D$121,Mandatory_PI,$B54,FALSE)=\"N\"),\"\",IF(OR(VLOOKUP($C129,Inflight,$AF$44,FALSE)>=$D$23,VLOOKUP($C129,Inflight,$AG$44,FALSE)>=$D$24),\"H\",IF(OR(VLOOKUP($C129,Inflight,$AG$44,FALSE)>=$E$24,VLOOKUP($C129,Inflight,$AH$44,FALSE)>=$E$25),\"M\",\"L\")))","v":"L"},"","","","L","L","L","","","",null,0,0,4,4,1.3333333333333333,0,0,0,0,0,0,0,3,3,1,0,0,0,0,0]
[null,null,"I - Integrating Price Responsive Resources into the NEM",{"$f":"IF(OR($C130=\"\",HLOOKUP(D$121,Overall_PI,$B55,FALSE)=\"\",HLOOKUP(D$121,Mandatory_PI,$B55,FALSE)=\"N\"),\"\",IF(OR(VLOOKUP($C130,Inflight,$AF$44,FALSE)>=$D$23,VLOOKUP($C130,Inflight,$AG$44,FALSE)>=$D$24),\"H\",IF(OR(VLOOKUP($C130,Inflight,$AG$44,FALSE)>=$E$24,VLOOKUP($C130,Inflight,$AH$44,FALSE)>=$E$25),\"M\",\"L\")))","v":"H"},"H","H","","H","H","","H","H","",null,7,0,0,7,7,2,0,0,2,2,2,0,0,2,2,2,0,0,2,2]
[null,null,"I - IDX (Foundation)",{"$f":"IF(OR($C131=\"\",HLOOKUP(D$121,Overall_PI,$B56,FALSE)=\"\",HLOOKUP(D$121,Mandatory_PI,$B56,FALSE)=\"N\"),\"\",IF(OR(VLOOKUP($C131,Inflight,$AF$44,FALSE)>=$D$23,VLOOKUP($C131,Inflight,$AG$44,FALSE)>=$D$24),\"H\",IF(OR(VLOOKUP($C131,Inflight,$AG$44,FALSE)>=$E$24,VLOOKUP($C131,Inflight,$AH$44,FALSE)>=$E$25),\"M\",\"L\")))","v":"L"},"L","L","","L","L","L","L","L","L",null,0,0,9,9,3,0,0,2,2,1,0,0,3,3,1,0,0,3,3,1]
[null,null,"I - IDAM (Foundation)",{"$f":"IF(OR($C132=\"\",HLOOKUP(D$121,Overall_PI,$B57,FALSE)=\"\",HLOOKUP(D$121,Mandatory_PI,$B57,FALSE)=\"N\"),\"\",IF(OR(VLOOKUP($C132,Inflight,$AF$44,FALSE)>=$D$23,VLOOKUP($C132,Inflight,$AG$44,FALSE)>=$D$24),\"H\",IF(OR(VLOOKUP($C132,Inflight,$AG$44,FALSE)>=$E$24,VLOOKUP($C132,Inflight,$AH$44,FALSE)>=$E$25),\"M\",\"L\")))","v":"L"},"L","L","","L","L","L","L","L","L",null,0,0,9,9,3,0,0,2,2,1,0,0,3,3,1,0,0,3,3,1]
[null,null,"I - MSR (Accelerating Smart Meter Deployment - Package 3)",{"$f":"IF(OR($C133=\"\",HLOOKUP(D$121,Overall_PI,$B58,FALSE)=\"\",HLOOKUP(D$121,Mandatory_PI,$B58,FALSE)=\"N\"),\"\",IF(OR(VLOOKUP($C133,Inflight,$AF$44,FALSE)>=$D$23,VLOOKUP($C133,Inflight,$AG$44,FALSE)>=$D$24),\"H\",IF(OR(VLOOKUP($C133,Inflight,$AG$44,FALSE)>=$E$24,VLOOKUP($C133,Inflight,$AH$44,FALSE)>=$E$25),\"M\",\"L\")))","v":"L"},"","","","","","L","","L","",null,0,0,3,3,1,0,0,0,0,0,0,0,1,1,1,0,0,1,1,1]
[null,null,"A - Inter-regional SRAs for transmission loops (PEC-MI)",{"$f":"IF(OR($C134=\"\",HLOOKUP(D$121,Overall_PI,$B59,FALSE)=\"\",HLOOKUP(D$121,Mandatory_PI,$B59,FALSE)=\"N\"),\"\",IF(OR(VLOOKUP($C134,Inflight,$AF$44,FALSE)>=$D$23,VLOOKUP($C134,Inflight,$AG$44,FALSE)>=$D$24),\"H\",IF(OR(VLOOKUP($C134,Inflight,$AG$44,FALSE)>=$E$24,VLOOKUP($C134,Inflight,$AH$44,FALSE)>=$E$25),\"M\",\"L\")))","v":"L"},"L","L","","L","L","","L","","",null,0,0,6,6,2,0,0,2,2,1,0,0,2,2,1,0,0,1,1,1]
[null,null,"",{"$f":"IF(OR($C135=\"\",HLOOKUP(D$121,Overall_PI,$B60,FALSE)=\"\",HLOOKUP(D$121,Mandatory_PI,$B60,FALSE)=\"N\"),\"\",IF(OR(VLOOKUP($C135,Inflight,$AF$44,FALSE)>=$D$23,VLOOKUP($C135,Inflight,$AG$44,FALSE)>=$D$24),\"H\",IF(OR(VLOOKUP($C135,Inflight,$AG$44,FALSE)>=$E$24,VLOOKUP($C135,Inflight,$AH$44,FALSE)>=$E$25),\"M\",\"L\")))","v":""},"","","","","","","","","",null,"","","","","","","","","","","","","","","","","","","",""]
[null,null,"",{"$f":"IF(OR($C136=\"\",HLOOKUP(D$121,Overall_PI,$B61,FALSE)=\"\",HLOOKUP(D$121,Mandatory_PI,$B61,FALSE)=\"N\"),\"\",IF(OR(VLOOKUP($C136,Inflight,$AF$44,FALSE)>=$D$23,VLOOKUP($C136,Inflight,$AG$44,FALSE)>=$D$24),\"H\",IF(OR(VLOOKUP($C136,Inflight,$AG$44,FALSE)>=$E$24,VLOOKUP($C136,Inflight,$AH$44,FALSE)>=$E$25),\"M\",\"L\")))","v":""},"","","","","","","","","",null,"","","","","","","","","","","","","","","","","","","",""]
[null,null,"",{"$f":"IF(OR($C137=\"\",HLOOKUP(D$121,Overall_PI,$B62,FALSE)=\"\",HLOOKUP(D$121,Mandatory_PI,$B62,FALSE)=\"N\"),\"\",IF(OR(VLOOKUP($C137,Inflight,$AF$44,FALSE)>=$D$23,VLOOKUP($C137,Inflight,$AG$44,FALSE)>=$D$24),\"H\",IF(OR(VLOOKUP($C137,Inflight,$AG$44,FALSE)>=$E$24,VLOOKUP($C137,Inflight,$AH$44,FALSE)>=$E$25),\"M\",\"L\")))","v":""},"","","","","","","","","",null,"","","","","","","","","","","","","","","","","","","",""]
[null,null,"",{"$f":"IF(OR($C138=\"\",HLOOKUP(D$121,Overall_PI,$B63,FALSE)=\"\",HLOOKUP(D$121,Mandatory_PI,$B63,FALSE)=\"N\"),\"\",IF(OR(VLOOKUP($C138,Inflight,$AF$44,FALSE)>=$D$23,VLOOKUP($C138,Inflight,$AG$44,FALSE)>=$D$24),\"H\",IF(OR(VLOOKUP($C138,Inflight,$AG$44,FALSE)>=$E$24,VLOOKUP($C138,Inflight,$AH$44,FALSE)>=$E$25),\"M\",\"L\")))","v":""},"","","","","","","","","",null,"","","","","","","","","","","","","","","","","","","",""]
[null,null,"",{"$f":"IF(OR($C139=\"\",HLOOKUP(D$121,Overall_PI,$B64,FALSE)=\"\",HLOOKUP(D$121,Mandatory_PI,$B64,FALSE)=\"N\"),\"\",IF(OR(VLOOKUP($C139,Inflight,$AF$44,FALSE)>=$D$23,VLOOKUP($C139,Inflight,$AG$44,FALSE)>=$D$24),\"H\",IF(OR(VLOOKUP($C139,Inflight,$AG$44,FALSE)>=$E$24,VLOOKUP($C139,Inflight,$AH$44,FALSE)>=$E$25),\"M\",\"L\")))","v":""},"","","","","","","","","",null,"","","","","","","","","","","","","","","","","","","",""]
[null,null,"",{"$f":"IF(OR($C140=\"\",HLOOKUP(D$121,Overall_PI,$B65,FALSE)=\"\",HLOOKUP(D$121,Mandatory_PI,$B65,FALSE)=\"N\"),\"\",IF(OR(VLOOKUP($C140,Inflight,$AF$44,FALSE)>=$D$23,VLOOKUP($C140,Inflight,$AG$44,FALSE)>=$D$24),\"H\",IF(OR(VLOOKUP($C140,Inflight,$AG$44,FALSE)>=$E$24,VLOOKUP($C140,Inflight,$AH$44,FALSE)>=$E$25),\"M\",\"L\")))","v":""},"","","","","","","","","",null,"","","","","","","","","","","","","","","","","","","",""]
[null,null,"",{"$f":"IF(OR($C141=\"\",HLOOKUP(D$121,Overall_PI,$B66,FALSE)=\"\",HLOOKUP(D$121,Mandatory_PI,$B66,FALSE)=\"N\"),\"\",IF(OR(VLOOKUP($C141,Inflight,$AF$44,FALSE)>=$D$23,VLOOKUP($C141,Inflight,$AG$44,FALSE)>=$D$24),\"H\",IF(OR(VLOOKUP($C141,Inflight,$AG$44,FALSE)>=$E$24,VLOOKUP($C141,Inflight,$AH$44,FALSE)>=$E$25),\"M\",\"L\")))","v":""},"","","","","","","","","",null,"","","","","","","","","","","","","","","","","","","",""]
[]
[null,null,"IT Solution","Participant Impact Assessment",null,null,null,null,null,null,null,null,null,null,{"$f":"$H$31","v":"All"},null,null,null,null,{"$f":"$H$33","v":"Wholesale"},null,null,null,null,{"$f":"$H$35","v":"Retail / Metering"},null,null,null,null,{"$f":"$H$37","v":"Network"}]
[]
[null,null,null,{"$f":"D47","v":"AEMO"},"GEN","IRP","[Spare]","MC","RET","MSP","TNSP","DNSP","ENM",null,"H","M","L","Total","AVG","H","M","L","Total","AVG","H","M","L","Total","AVG","H","M","L","Total","AVG"]
[null,null,{"$f":"IF(C48=\"\",\"\",C48)","v":"I - SCADA Lite"},{"$f":"IF($C146=\"\",\"\",IF(VLOOKUP($C146,Inflight,AM$44,FALSE)=\"\",\"\",VLOOKUP($C146,Inflight,AM$44,FALSE)))","v":"L"},{"$f":"IF($C146=\"\",\"\",IF(VLOOKUP($C146,Inflight,AR$44,FALSE)=\"\",\"\",VLOOKUP($C146,Inflight,AR$44,FALSE)))","v":""},{"$f":"IF($C146=\"\",\"\",IF(VLOOKUP($C146,Inflight,AS$44,FALSE)=\"\",\"\",VLOOKUP($C146,Inflight,AS$44,FALSE)))","v":"L"},{"$f":"IF($C146=\"\",\"\",IF(VLOOKUP($C146,Inflight,AT$44,FALSE)=\"\",\"\",VLOOKUP($C146,Inflight,AT$44,FALSE)))","v":""},{"$f":"IF($C146=\"\",\"\",IF(VLOOKUP($C146,Inflight,AU$44,FALSE)=\"\",\"\",VLOOKUP($C146,Inflight,AU$44,FALSE)))","v":""},{"$f":"IF($C146=\"\",\"\",IF(VLOOKUP($C146,Inflight,AV$44,FALSE)=\"\",\"\",VLOOKUP($C146,Inflight,AV$44,FALSE)))","v":""},{"$f":"IF($C146=\"\",\"\",IF(VLOOKUP($C146,Inflight,AW$44,FALSE)=\"\",\"\",VLOOKUP($C146,Inflight,AW$44,FALSE)))","v":""},{"$f":"IF($C146=\"\",\"\",IF(VLOOKUP($C146,Inflight,AX$44,FALSE)=\"\",\"\",VLOOKUP($C146,Inflight,AX$44,FALSE)))","v":""},{"$f":"IF($C146=\"\",\"\",IF(VLOOKUP($C146,Inflight,AY$44,FALSE)=\"\",\"\",VLOOKUP($C146,Inflight,AY$44,FALSE)))","v":""},{"$f":"IF($C146=\"\",\"\",IF(VLOOKUP($C146,Inflight,AZ$44,FALSE)=\"\",\"\",VLOOKUP($C146,Inflight,AZ$44,FALSE)))","v":"L"},null,{"$f":"IF($C146=\"\",\"\",COUNTIF($D146:$M146,O$145))","v":0},{"$f":"IF($C146=\"\",\"\",COUNTIF($D146:$M146,P$145))","v":0},{"$f":"IF($C146=\"\",\"\",COUNTIF($D146:$M146,Q$145))","v":3},{"$f":"IF($C146=\"\",\"\",SUM(O146:Q146))","v":3},{"$f":"IF($C146=\"\",\"\",IF(OR(AVERAGE(O146*3,P146*2,Q146*1)>1,AVERAGE(O146*3,P146*2,Q146*1)=0),AVERAGE(O146*3,P146*2,Q146*1),1))","v":1},{"$f":"IF($C146=\"\",\"\",COUNTIF($E146:$G146,T$145))","v":0},{"$f":"IF($C146=\"\",\"\",COUNTIF($E146:$G146,U$145))","v":0},{"$f":"IF($C146=\"\",\"\",COUNTIF($E146:$G146,V$145))","v":1},{"$f":"IF($C146=\"\",\"\",SUM(T146:V146))","v":1},{"$f":"IF($C146=\"\",\"\",IF(OR(AVERAGE(T146*3,U146*2,V146*1)>1,AVERAGE(T146*3,U146*2,V146*1)=0),AVERAGE(T146*3,U146*2,V146*1),1))","v":1},{"$f":"IF($C146=\"\",\"\",COUNTIF($H146:$J146,Y$145))","v":0},{"$f":"IF($C146=\"\",\"\",COUNTIF($H146:$J146,Z$145))","v":0},{"$f":"IF($C146=\"\",\"\",COUNTIF($H146:$J146,AA$145))","v":0},{"$f":"IF($C146=\"\",\"\",SUM(Y146:AA146))","v":0},{"$f":"IF($C146=\"\",\"\",IF(OR(AVERAGE(Y146*3,Z146*2,AA146*1)>1,AVERAGE(Y146*3,Z146*2,AA146*1)=0),AVERAGE(Y146*3,Z146*2,AA146*1),1))","v":0},{"$f":"IF($C146=\"\",\"\",COUNTIF($K146:$M146,AD$145))","v":0},{"$f":"IF($C146=\"\",\"\",COUNTIF($K146:$M146,AE$145))","v":0},{"$f":"IF($C146=\"\",\"\",COUNTIF($K146:$M146,AF$145))","v":1},{"$f":"IF($C146=\"\",\"\",SUM(AD146:AF146))","v":1},{"$f":"IF($C146=\"\",\"\",IF(OR(AVERAGE(AD146*3,AE146*2,AF146*1)>1,AVERAGE(AD146*3,AE146*2,AF146*1)=0),AVERAGE(AD146*3,AE146*2,AF146*1),1))","v":1}]
[null,null,"I - Frequency Performance Payments","M","M","M","","M","M","","","","",null,{"$f":"IF($C147=\"\",\"\",COUNTIF($D147:$M147,O$145))","v":0},5,0,{"$f":"IF($C147=\"\",\"\",SUM(O147:Q147))","v":5},{"$f":"IF($C147=\"\",\"\",IF(OR(AVERAGE(O147*3,P147*2,Q147*1)>1,AVERAGE(O147*3,P147*2,Q147*1)=0),AVERAGE(O147*3,P147*2,Q147*1),1))","v":3.3333333333333335},{"$f":"IF($C147=\"\",\"\",COUNTIF($E147:$G147,T$145))","v":0},2,0,{"$f":"IF($C147=\"\",\"\",SUM(T147:V147))","v":2},{"$f":"IF($C147=\"\",\"\",IF(OR(AVERAGE(T147*3,U147*2,V147*1)>1,AVERAGE(T147*3,U147*2,V147*1)=0),AVERAGE(T147*3,U147*2,V147*1),1))","v":1.3333333333333333},{"$f":"IF($C147=\"\",\"\",COUNTIF($H147:$J147,Y$145))","v":0},2,0,{"$f":"IF($C147=\"\",\"\",SUM(Y147:AA147))","v":2},{"$f":"IF($C147=\"\",\"\",IF(OR(AVERAGE(Y147*3,Z147*2,AA147*1)>1,AVERAGE(Y147*3,Z147*2,AA147*1)=0),AVERAGE(Y147*3,Z147*2,AA147*1),1))","v":1.3333333333333333},{"$f":"IF($C147=\"\",\"\",COUNTIF($K147:$M147,AD$145))","v":0},0,0,{"$f":"IF($C147=\"\",\"\",SUM(AD147:AF147))","v":0},{"$f":"IF($C147=\"\",\"\",IF(OR(AVERAGE(AD147*3,AE147*2,AF147*1)>1,AVERAGE(AD147*3,AE147*2,AF147*1)=0),AVERAGE(AD147*3,AE147*2,AF147*1),1))","v":0}]
[null,null,"I - Enhancing Reserve Information","L","L","L","","","","","","","",null,0,0,3,3,1,0,0,2,2,1,0,0,0,0,0,0,0,0,0,0]
[null,null,"I - ST PASA Procedure & Recall Period","L","L","L","","","","","L","","",null,0,0,4,4,1.3333333333333333,0,0,2,2,1,0,0,0,0,0,0,0,1,1,1]
[null,null,"I - Improving Security Frameworks","H","M","M","","","","","M","","",null,1,3,0,4,3,0,2,0,2,1.3333333333333333,0,0,0,0,0,0,1,0,1,1]
[null,null,"I - Unlocking CER Benefits Through Flexible Trading","M","","","","M","M","M","","L","",null,0,4,1,5,3,0,0,0,0,0,0,3,0,3,2,0,0,1,1,1]
[null,null,"I - MSR (Accelerating Smart Meter Deployment - Package 1 & 2)","M","","","","","L","M","","M","",null,0,3,1,4,2.3333333333333335,0,0,0,0,0,0,1,1,2,1,0,1,0,1,1]
[null,null,"I - Shortening the Settlement Cycle","M","","","","M","M","M","","","",null,0,4,0,4,2.6666666666666665,0,0,0,0,0,0,3,0,3,2,0,0,0,0,0]
[null,null,"I - Integrating Price Responsive Resources into the NEM","H","H","H","","H","H","","M","M","",null,5,2,0,7,6.333333333333333,2,0,0,2,2,2,0,0,2,2,0,2,0,2,1.3333333333333333]
[null,null,"I - IDX (Foundation)","H","L","L","","L","L","L","L","L","L",null,1,0,8,9,3.6666666666666665,0,0,2,2,1,0,0,3,3,1,0,0,3,3,1]
[null,null,"I - IDAM (Foundation)","H","L","L","","L","L","L","L","L","L",null,1,0,8,9,3.6666666666666665,0,0,2,2,1,0,0,3,3,1,0,0,3,3,1]
[null,null,"I - MSR (Accelerating Smart Meter Deployment - Package 3)","L","","","","","","M","","M","",null,0,2,1,3,1.6666666666666667,0,0,0,0,0,0,1,0,1,1,0,1,0,1,1]
[null,null,"A - Inter-regional SRAs for transmission loops (PEC-MI)","M","L","L","","L","L","","L","","",null,0,1,5,6,2.3333333333333335,0,0,2,2,1,0,0,2,2,1,0,0,1,1,1]
[null,null,"","","","","","","","","","","",null,"","","","","","","","","","","","","","","","","","","",""]
[null,null,"","","","","","","","","","","",null,"","","","","","","","","","","","","","","","","","","",""]
[null,null,"","","","","","","","","","","",null,"","","","","","","","","","","","","","","","","","","",""]
[null,null,"","","","","","","","","","","",null,"","","","","","","","","","","","","","","","","","","",""]
[null,null,"","","","","","","","","","","",null,"","","","","","","","","","","","","","","","","","","",""]
[null,null,"","","","","","","","","","","",null,"","","","","","","","","","","","","","","","","","","",""]
[null,null,"","","","","","","","","","","",null,"","","","","","","","","","","","","","","","","","","",""]
[]
[null,null,"Testing & Readiness","Y / N"]
[]
[null,null,null,{"$f":"D47","v":"AEMO"},"GEN","IRP","[Spare]","MC","RET","MSP","TNSP","DNSP","ENM","All",{"$f":"H33","v":"Wholesale"},null,{"$f":"H35","v":"Retail / Metering"},null,{"$f":"H37","v":"Network"}]
[null,null,{"$f":"IF(C48=\"\",\"\",C48)","v":"I - SCADA Lite"},{"$f":"IF(OR($C170=\"\",HLOOKUP(D$169,Overall_PI,Database!$B47,FALSE)=\"\",HLOOKUP(D$169,Mandatory_PI,Database!$B47,FALSE)=\"N\"),\"\",1)","v":1},{"$f":"IF(OR($C170=\"\",HLOOKUP(E$169,Overall_PI,Database!$B47,FALSE)=\"\",HLOOKUP(E$169,Mandatory_PI,Database!$B47,FALSE)=\"N\"),\"\",1)","v":""},{"$f":"IF(OR($C170=\"\",HLOOKUP(F$169,Overall_PI,Database!$B47,FALSE)=\"\",HLOOKUP(F$169,Mandatory_PI,Database!$B47,FALSE)=\"N\"),\"\",1)","v":1},{"$f":"IF(OR($C170=\"\",HLOOKUP(G$169,Overall_PI,Database!$B47,FALSE)=\"\",HLOOKUP(G$169,Mandatory_PI,Database!$B47,FALSE)=\"N\"),\"\",1)","v":""},{"$f":"IF(OR($C170=\"\",HLOOKUP(H$169,Overall_PI,Database!$B47,FALSE)=\"\",HLOOKUP(H$169,Mandatory_PI,Database!$B47,FALSE)=\"N\"),\"\",1)","v":""},{"$f":"IF(OR($C170=\"\",HLOOKUP(I$169,Overall_PI,Database!$B47,FALSE)=\"\",HLOOKUP(I$169,Mandatory_PI,Database!$B47,FALSE)=\"N\"),\"\",1)","v":""},{"$f":"IF(OR($C170=\"\",HLOOKUP(J$169,Overall_PI,Database!$B47,FALSE)=\"\",HLOOKUP(J$169,Mandatory_PI,Database!$B47,FALSE)=\"N\"),\"\",1)","v":""},{"$f":"IF(OR($C170=\"\",HLOOKUP(K$169,Overall_PI,Database!$B47,FALSE)=\"\",HLOOKUP(K$169,Mandatory_PI,Database!$B47,FALSE)=\"N\"),\"\",1)","v":""},{"$f":"IF(OR($C170=\"\",HLOOKUP(L$169,Overall_PI,Database!$B47,FALSE)=\"\",HLOOKUP(L$169,Mandatory_PI,Database!$B47,FALSE)=\"N\"),\"\",1)","v":""},{"$f":"IF(OR($C170=\"\",HLOOKUP(M$169,Overall_PI,Database!$B47,FALSE)=\"\",HLOOKUP(M$169,Mandatory_PI,Database!$B47,FALSE)=\"N\"),\"\",1)","v":1},{"$f":"IF(SUM(D170:M170)>=1,1,\"\")","v":1},{"$f":"IF(SUM(E170:G170)>=1,1,\"\")","v":1},null,{"$f":"IF(SUM(H170:J170)>=1,1,\"\")","v":""},null,{"$f":"IF(SUM(K170:M170)>=1,1,\"\")","v":1}]
[null,null,"I - Frequency Performance Payments",{"$f":"IF(OR($C171=\"\",HLOOKUP(D$169,Overall_PI,Database!$B48,FALSE)=\"\",HLOOKUP(D$169,Mandatory_PI,Database!$B48,FALSE)=\"N\"),\"\",1)","v":1},{"$f":"IF(OR($C171=\"\",HLOOKUP(E$169,Overall_PI,Database!$B48,FALSE)=\"\",HLOOKUP(E$169,Mandatory_PI,Database!$B48,FALSE)=\"N\"),\"\",1)","v":1},{"$f":"IF(OR($C171=\"\",HLOOKUP(F$169,Overall_PI,Database!$B48,FALSE)=\"\",HLOOKUP(F$169,Mandatory_PI,Database!$B48,FALSE)=\"N\"),\"\",1)","v":1},{"$f":"IF(OR($C171=\"\",HLOOKUP(G$169,Overall_PI,Database!$B48,FALSE)=\"\",HLOOKUP(G$169,Mandatory_PI,Database!$B48,FALSE)=\"N\"),\"\",1)","v":""},{"$f":"IF(OR($C171=\"\",HLOOKUP(H$169,Overall_PI,Database!$B48,FALSE)=\"\",HLOOKUP(H$169,Mandatory_PI,Database!$B48,FALSE)=\"N\"),\"\",1)","v":1},{"$f":"IF(OR($C171=\"\",HLOOKUP(I$169,Overall_PI,Database!$B48,FALSE)=\"\",HLOOKUP(I$169,Mandatory_PI,Database!$B48,FALSE)=\"N\"),\"\",1)","v":1},{"$f":"IF(OR($C171=\"\",HLOOKUP(J$169,Overall_PI,Database!$B48,FALSE)=\"\",HLOOKUP(J$169,Mandatory_PI,Database!$B48,FALSE)=\"N\"),\"\",1)","v":""},{"$f":"IF(OR($C171=\"\",HLOOKUP(K$169,Overall_PI,Database!$B48,FALSE)=\"\",HLOOKUP(K$169,Mandatory_PI,Database!$B48,FALSE)=\"N\"),\"\",1)","v":""},{"$f":"IF(OR($C171=\"\",HLOOKUP(L$169,Overall_PI,Database!$B48,FALSE)=\"\",HLOOKUP(L$169,Mandatory_PI,Database!$B48,FALSE)=\"N\"),\"\",1)","v":""},{"$f":"IF(OR($C171=\"\",HLOOKUP(M$169,Overall_PI,Database!$B48,FALSE)=\"\",HLOOKUP(M$169,Mandatory_PI,Database!$B48,FALSE)=\"N\"),\"\",1)","v":""},1,1,null,1,null,""]
[null,null,"I - Enhancing Reserve Information",{"$f":"IF(OR($C172=\"\",HLOOKUP(D$169,Overall_PI,Database!$B49,FALSE)=\"\",HLOOKUP(D$169,Mandatory_PI,Database!$B49,FALSE)=\"N\"),\"\",1)","v":1},{"$f":"IF(OR($C172=\"\",HLOOKUP(E$169,Overall_PI,Database!$B49,FALSE)=\"\",HLOOKUP(E$169,Mandatory_PI,Database!$B49,FALSE)=\"N\"),\"\",1)","v":1},{"$f":"IF(OR($C172=\"\",HLOOKUP(F$169,Overall_PI,Database!$B49,FALSE)=\"\",HLOOKUP(F$169,Mandatory_PI,Database!$B49,FALSE)=\"N\"),\"\",1)","v":1},{"$f":"IF(OR($C172=\"\",HLOOKUP(G$169,Overall_PI,Database!$B49,FALSE)=\"\",HLOOKUP(G$169,Mandatory_PI,Database!$B49,FALSE)=\"N\"),\"\",1)","v":""},{"$f":"IF(OR($C172=\"\",HLOOKUP(H$169,Overall_PI,Database!$B49,FALSE)=\"\",HLOOKUP(H$169,Mandatory_PI,Database!$B49,FALSE)=\"N\"),\"\",1)","v":""},{"$f":"IF(OR($C172=\"\",HLOOKUP(I$169,Overall_PI,Database!$B49,FALSE)=\"\",HLOOKUP(I$169,Mandatory_PI,Database!$B49,FALSE)=\"N\"),\"\",1)","v":""},{"$f":"IF(OR($C172=\"\",HLOOKUP(J$169,Overall_PI,Database!$B49,FALSE)=\"\",HLOOKUP(J$169,Mandatory_PI,Database!$B49,FALSE)=\"N\"),\"\",1)","v":""},{"$f":"IF(OR($C172=\"\",HLOOKUP(K$169,Overall_PI,Database!$B49,FALSE)=\"\",HLOOKUP(K$169,Mandatory_PI,Database!$B49,FALSE)=\"N\"),\"\",1)","v":""},{"$f":"IF(OR($C172=\"\",HLOOKUP(L$169,Overall_PI,Database!$B49,FALSE)=\"\",HLOOKUP(L$169,Mandatory_PI,Database!$B49,FALSE)=\"N\"),\"\",1)","v":""},{"$f":"IF(OR($C172=\"\",HLOOKUP(M$169,Overall_PI,Database!$B49,FALSE)=\"\",HLOOKUP(M$169,Mandatory_PI,Database!$B49,FALSE)=\"N\"),\"\",1)","v":""},1,1,null,"",null,""]
[null,null,"I - ST PASA Procedure & Recall Period",{"$f":"IF(OR($C173=\"\",HLOOKUP(D$169,Overall_PI,Database!$B50,FALSE)=\"\",HLOOKUP(D$169,Mandatory_PI,Database!$B50,FALSE)=\"N\"),\"\",1)","v":1},{"$f":"IF(OR($C173=\"\",HLOOKUP(E$169,Overall_PI,Database!$B50,FALSE)=\"\",HLOOKUP(E$169,Mandatory_PI,Database!$B50,FALSE)=\"N\"),\"\",1)","v":1},{"$f":"IF(OR($C173=\"\",HLOOKUP(F$169,Overall_PI,Database!$B50,FALSE)=\"\",HLOOKUP(F$169,Mandatory_PI,Database!$B50,FALSE)=\"N\"),\"\",1)","v":1},{"$f":"IF(OR($C173=\"\",HLOOKUP(G$169,Overall_PI,Database!$B50,FALSE)=\"\",HLOOKUP(G$169,Mandatory_PI,Database!$B50,FALSE)=\"N\"),\"\",1)","v":""},{"$f":"IF(OR($C173=\"\",HLOOKUP(H$169,Overall_PI,Database!$B50,FALSE)=\"\",HLOOKUP(H$169,Mandatory_PI,Database!$B50,FALSE)=\"N\"),\"\",1)","v":""},{"$f":"IF(OR($C173=\"\",HLOOKUP(I$169,Overall_PI,Database!$B50,FALSE)=\"\",HLOOKUP(I$169,Mandatory_PI,Database!$B50,FALSE)=\"N\"),\"\",1)","v":""},{"$f":"IF(OR($C173=\"\",HLOOKUP(J$169,Overall_PI,Database!$B50,FALSE)=\"\",HLOOKUP(J$169,Mandatory_PI,Database!$B50,FALSE)=\"N\"),\"\",1)","v":""},{"$f":"IF(OR($C173=\"\",HLOOKUP(K$169,Overall_PI,Database!$B50,FALSE)=\"\",HLOOKUP(K$169,Mandatory_PI,Database!$B50,FALSE)=\"N\"),\"\",1)","v":1},{"$f":"IF(OR($C173=\"\",HLOOKUP(L$169,Overall_PI,Database!$B50,FALSE)=\"\",HLOOKUP(L$169,Mandatory_PI,Database!$B50,FALSE)=\"N\"),\"\",1)","v":""},{"$f":"IF(OR($C173=\"\",HLOOKUP(M$169,Overall_PI,Database!$B50,FALSE)=\"\",HLOOKUP(M$169,Mandatory_PI,Database!$B50,FALSE)=\"N\"),\"\",1)","v":""},1,1,null,"",null,1]
[null,null,"I - Improving Security Frameworks",{"$f":"IF(OR($C174=\"\",HLOOKUP(D$169,Overall_PI,Database!$B51,FALSE)=\"\",HLOOKUP(D$169,Mandatory_PI,Database!$B51,FALSE)=\"N\"),\"\",1)","v":1},{"$f":"IF(OR($C174=\"\",HLOOKUP(E$169,Overall_PI,Database!$B51,FALSE)=\"\",HLOOKUP(E$169,Mandatory_PI,Database!$B51,FALSE)=\"N\"),\"\",1)","v":1},{"$f":"IF(OR($C174=\"\",HLOOKUP(F$169,Overall_PI,Database!$B51,FALSE)=\"\",HLOOKUP(F$169,Mandatory_PI,Database!$B51,FALSE)=\"N\"),\"\",1)","v":1},{"$f":"IF(OR($C174=\"\",HLOOKUP(G$169,Overall_PI,Database!$B51,FALSE)=\"\",HLOOKUP(G$169,Mandatory_PI,Database!$B51,FALSE)=\"N\"),\"\",1)","v":""},{"$f":"IF(OR($C174=\"\",HLOOKUP(H$169,Overall_PI,Database!$B51,FALSE)=\"\",HLOOKUP(H$169,Mandatory_PI,Database!$B51,FALSE)=\"N\"),\"\",1)","v":""},{"$f":"IF(OR($C174=\"\",HLOOKUP(I$169,Overall_PI,Database!$B51,FALSE)=\"\",HLOOKUP(I$169,Mandatory_PI,Database!$B51,FALSE)=\"N\"),\"\",1)","v":""},{"$f":"IF(OR($C174=\"\",HLOOKUP(J$169,Overall_PI,Database!$B51,FALSE)=\"\",HLOOKUP(J$169,Mandatory_PI,Database!$B51,FALSE)=\"N\"),\"\",1)","v":""},{"$f":"IF(OR($C174=\"\",HLOOKUP(K$169,Overall_PI,Database!$B51,FALSE)=\"\",HLOOKUP(K$169,Mandatory_PI,Database!$B51,FALSE)=\"N\"),\"\",1)","v":1},{"$f":"IF(OR($C174=\"\",HLOOKUP(L$169,Overall_PI,Database!$B51,FALSE)=\"\",HLOOKUP(L$169,Mandatory_PI,Database!$B51,FALSE)=\"N\"),\"\",1)","v":""},{"$f":"IF(OR($C174=\"\",HLOOKUP(M$169,Overall_PI,Database!$B51,FALSE)=\"\",HLOOKUP(M$169,Mandatory_PI,Database!$B51,FALSE)=\"N\"),\"\",1)","v":""},1,1,null,"",null,1]
[null,null,"I - Unlocking CER Benefits Through Flexible Trading",{"$f":"IF(OR($C175=\"\",HLOOKUP(D$169,Overall_PI,Database!$B52,FALSE)=\"\",HLOOKUP(D$169,Mandatory_PI,Database!$B52,FALSE)=\"N\"),\"\",1)","v":1},{"$f":"IF(OR($C175=\"\",HLOOKUP(E$169,Overall_PI,Database!$B52,FALSE)=\"\",HLOOKUP(E$169,Mandatory_PI,Database!$B52,FALSE)=\"N\"),\"\",1)","v":""},{"$f":"IF(OR($C175=\"\",HLOOKUP(F$169,Overall_PI,Database!$B52,FALSE)=\"\",HLOOKUP(F$169,Mandatory_PI,Database!$B52,FALSE)=\"N\"),\"\",1)","v":""},{"$f":"IF(OR($C175=\"\",HLOOKUP(G$169,Overall_PI,Database!$B52,FALSE)=\"\",HLOOKUP(G$169,Mandatory_PI,Database!$B52,FALSE)=\"N\"),\"\",1)","v":""},{"$f":"IF(OR($C175=\"\",HLOOKUP(H$169,Overall_PI,Database!$B52,FALSE)=\"\",HLOOKUP(H$169,Mandatory_PI,Database!$B52,FALSE)=\"N\"),\"\",1)","v":1},{"$f":"IF(OR($C175=\"\",HLOOKUP(I$169,Overall_PI,Database!$B52,FALSE)=\"\",HLOOKUP(I$169,Mandatory_PI,Database!$B52,FALSE)=\"N\"),\"\",1)","v":1},{"$f":"IF(OR($C175=\"\",HLOOKUP(J$169,Overall_PI,Database!$B52,FALSE)=\"\",HLOOKUP(J$169,Mandatory_PI,Database!$B52,FALSE)=\"N\"),\"\",1)","v":1},{"$f":"IF(OR($C175=\"\",HLOOKUP(K$169,Overall_PI,Database!$B52,FALSE)=\"\",HLOOKUP(K$169,Mandatory_PI,Database!$B52,FALSE)=\"N\"),\"\",1)","v":""},{"$f":"IF(OR($C175=\"\",HLOOKUP(L$169,Overall_PI,Database!$B52,FALSE)=\"\",HLOOKUP(L$169,Mandatory_PI,Database!$B52,FALSE)=\"N\"),\"\",1)","v":1},{"$f":"IF(OR($C175=\"\",HLOOKUP(M$169,Overall_PI,Database!$B52,FALSE)=\"\",HLOOKUP(M$169,Mandatory_PI,Database!$B52,FALSE)=\"N\"),\"\",1)","v":""},1,"",null,1,null,1]
[null,null,"I - MSR (Accelerating Smart Meter Deployment - Package 1 & 2)",{"$f":"IF(OR($C176=\"\",HLOOKUP(D$169,Overall_PI,Database!$B53,FALSE)=\"\",HLOOKUP(D$169,Mandatory_PI,Database!$B53,FALSE)=\"N\"),\"\",1)","v":1},{"$f":"IF(OR($C176=\"\",HLOOKUP(E$169,Overall_PI,Database!$B53,FALSE)=\"\",HLOOKUP(E$169,Mandatory_PI,Database!$B53,FALSE)=\"N\"),\"\",1)","v":""},{"$f":"IF(OR($C176=\"\",HLOOKUP(F$169,Overall_PI,Database!$B53,FALSE)=\"\",HLOOKUP(F$169,Mandatory_PI,Database!$B53,FALSE)=\"N\"),\"\",1)","v":""},{"$f":"IF(OR($C176=\"\",HLOOKUP(G$169,Overall_PI,Database!$B53,FALSE)=\"\",HLOOKUP(G$169,Mandatory_PI,Database!$B53,FALSE)=\"N\"),\"\",1)","v":""},{"$f":"IF(OR($C176=\"\",HLOOKUP(H$169,Overall_PI,Database!$B53,FALSE)=\"\",HLOOKUP(H$169,Mandatory_PI,Database!$B53,FALSE)=\"N\"),\"\",1)","v":""},{"$f":"IF(OR($C176=\"\",HLOOKUP(I$169,Overall_PI,Database!$B53,FALSE)=\"\",HLOOKUP(I$169,Mandatory_PI,Database!$B53,FALSE)=\"N\"),\"\",1)","v":1},{"$f":"IF(OR($C176=\"\",HLOOKUP(J$169,Overall_PI,Database!$B53,FALSE)=\"\",HLOOKUP(J$169,Mandatory_PI,Database!$B53,FALSE)=\"N\"),\"\",1)","v":1},{"$f":"IF(OR($C176=\"\",HLOOKUP(K$169,Overall_PI,Database!$B53,FALSE)=\"\",HLOOKUP(K$169,Mandatory_PI,Database!$B53,FALSE)=\"N\"),\"\",1)","v":""},{"$f":"IF(OR($C176=\"\",HLOOKUP(L$169,Overall_PI,Database!$B53,FALSE)=\"\",HLOOKUP(L$169,Mandatory_PI,Database!$B53,FALSE)=\"N\"),\"\",1)","v":1},{"$f":"IF(OR($C176=\"\",HLOOKUP(M$169,Overall_PI,Database!$B53,FALSE)=\"\",HLOOKUP(M$169,Mandatory_PI,Database!$B53,FALSE)=\"N\"),\"\",1)","v":""},1,"",null,1,null,1]
[null,null,"I - Shortening the Settlement Cycle",{"$f":"IF(OR($C177=\"\",HLOOKUP(D$169,Overall_PI,Database!$B54,FALSE)=\"\",HLOOKUP(D$169,Mandatory_PI,Database!$B54,FALSE)=\"N\"),\"\",1)","v":1},{"$f":"IF(OR($C177=\"\",HLOOKUP(E$169,Overall_PI,Database!$B54,FALSE)=\"\",HLOOKUP(E$169,Mandatory_PI,Database!$B54,FALSE)=\"N\"),\"\",1)","v":""},{"$f":"IF(OR($C177=\"\",HLOOKUP(F$169,Overall_PI,Database!$B54,FALSE)=\"\",HLOOKUP(F$169,Mandatory_PI,Database!$B54,FALSE)=\"N\"),\"\",1)","v":""},{"$f":"IF(OR($C177=\"\",HLOOKUP(G$169,Overall_PI,Database!$B54,FALSE)=\"\",HLOOKUP(G$169,Mandatory_PI,Database!$B54,FALSE)=\"N\"),\"\",1)","v":""},{"$f":"IF(OR($C177=\"\",HLOOKUP(H$169,Overall_PI,Database!$B54,FALSE)=\"\",HLOOKUP(H$169,Mandatory_PI,Database!$B54,FALSE)=\"N\"),\"\",1)","v":1},{"$f":"IF(OR($C177=\"\",HLOOKUP(I$169,Overall_PI,Database!$B54,FALSE)=\"\",HLOOKUP(I$169,Mandatory_PI,Database!$B54,FALSE)=\"N\"),\"\",1)","v":1},{"$f":"IF(OR($C177=\"\",HLOOKUP(J$169,Overall_PI,Database!$B54,FALSE)=\"\",HLOOKUP(J$169,Mandatory_PI,Database!$B54,FALSE)=\"N\"),\"\",1)","v":1},{"$f":"IF(OR($C177=\"\",HLOOKUP(K$169,Overall_PI,Database!$B54,FALSE)=\"\",HLOOKUP(K$169,Mandatory_PI,Database!$B54,FALSE)=\"N\"),\"\",1)","v":""},{"$f":"IF(OR($C177=\"\",HLOOKUP(L$169,Overall_PI,Database!$B54,FALSE)=\"\",HLOOKUP(L$169,Mandatory_PI,Database!$B54,FALSE)=\"N\"),\"\",1)","v":""},{"$f":"IF(OR($C177=\"\",HLOOKUP(M$169,Overall_PI,Database!$B54,FALSE)=\"\",HLOOKUP(M$169,Mandatory_PI,Database!$B54,FALSE)=\"N\"),\"\",1)","v":""},1,"",null,1,null,""]
[null,null,"I - Integrating Price Responsive Resources into the NEM",{"$f":"IF(OR($C178=\"\",HLOOKUP(D$169,Overall_PI,Database!$B55,FALSE)=\"\",HLOOKUP(D$169,Mandatory_PI,Database!$B55,FALSE)=\"N\"),\"\",1)","v":1},{"$f":"IF(OR($C178=\"\",HLOOKUP(E$169,Overall_PI,Database!$B55,FALSE)=\"\",HLOOKUP(E$169,Mandatory_PI,Database!$B55,FALSE)=\"N\"),\"\",1)","v":1},{"$f":"IF(OR($C178=\"\",HLOOKUP(F$169,Overall_PI,Database!$B55,FALSE)=\"\",HLOOKUP(F$169,Mandatory_PI,Database!$B55,FALSE)=\"N\"),\"\",1)","v":1},{"$f":"IF(OR($C178=\"\",HLOOKUP(G$169,Overall_PI,Database!$B55,FALSE)=\"\",HLOOKUP(G$169,Mandatory_PI,Database!$B55,FALSE)=\"N\"),\"\",1)","v":""},{"$f":"IF(OR($C178=\"\",HLOOKUP(H$169,Overall_PI,Database!$B55,FALSE)=\"\",HLOOKUP(H$169,Mandatory_PI,Database!$B55,FALSE)=\"N\"),\"\",1)","v":1},{"$f":"IF(OR($C178=\"\",HLOOKUP(I$169,Overall_PI,Database!$B55,FALSE)=\"\",HLOOKUP(I$169,Mandatory_PI,Database!$B55,FALSE)=\"N\"),\"\",1)","v":1},{"$f":"IF(OR($C178=\"\",HLOOKUP(J$169,Overall_PI,Database!$B55,FALSE)=\"\",HLOOKUP(J$169,Mandatory_PI,Database!$B55,FALSE)=\"N\"),\"\",1)","v":""},{"$f":"IF(OR($C178=\"\",HLOOKUP(K$169,Overall_PI,Database!$B55,FALSE)=\"\",HLOOKUP(K$169,Mandatory_PI,Database!$B55,FALSE)=\"N\"),\"\",1)","v":1},{"$f":"IF(OR($C178=\"\",HLOOKUP(L$169,Overall_PI,Database!$B55,FALSE)=\"\",HLOOKUP(L$169,Mandatory_PI,Database!$B55,FALSE)=\"N\"),\"\",1)","v":1},{"$f":"IF(OR($C178=\"\",HLOOKUP(M$169,Overall_PI,Database!$B55,FALSE)=\"\",HLOOKUP(M$169,Mandatory_PI,Database!$B55,FALSE)=\"N\"),\"\",1)","v":""},1,1,null,1,null,1]
[null,null,"I - IDX (Foundation)",{"$f":"IF(OR($C179=\"\",HLOOKUP(D$169,Overall_PI,Database!$B56,FALSE)=\"\",HLOOKUP(D$169,Mandatory_PI,Database!$B56,FALSE)=\"N\"),\"\",1)","v":1},{"$f":"IF(OR($C179=\"\",HLOOKUP(E$169,Overall_PI,Database!$B56,FALSE)=\"\",HLOOKUP(E$169,Mandatory_PI,Database!$B56,FALSE)=\"N\"),\"\",1)","v":1},{"$f":"IF(OR($C179=\"\",HLOOKUP(F$169,Overall_PI,Database!$B56,FALSE)=\"\",HLOOKUP(F$169,Mandatory_PI,Database!$B56,FALSE)=\"N\"),\"\",1)","v":1},{"$f":"IF(OR($C179=\"\",HLOOKUP(G$169,Overall_PI,Database!$B56,FALSE)=\"\",HLOOKUP(G$169,Mandatory_PI,Database!$B56,FALSE)=\"N\"),\"\",1)","v":""},{"$f":"IF(OR($C179=\"\",HLOOKUP(H$169,Overall_PI,Database!$B56,FALSE)=\"\",HLOOKUP(H$169,Mandatory_PI,Database!$B56,FALSE)=\"N\"),\"\",1)","v":1},{"$f":"IF(OR($C179=\"\",HLOOKUP(I$169,Overall_PI,Database!$B56,FALSE)=\"\",HLOOKUP(I$169,Mandatory_PI,Database!$B56,FALSE)=\"N\"),\"\",1)","v":1},{"$f":"IF(OR($C179=\"\",HLOOKUP(J$169,Overall_PI,Database!$B56,FALSE)=\"\",HLOOKUP(J$169,Mandatory_PI,Database!$B56,FALSE)=\"N\"),\"\",1)","v":1},{"$f":"IF(OR($C179=\"\",HLOOKUP(K$169,Overall_PI,Database!$B56,FALSE)=\"\",HLOOKUP(K$169,Mandatory_PI,Database!$B56,FALSE)=\"N\"),\"\",1)","v":1},{"$f":"IF(OR($C179=\"\",HLOOKUP(L$169,Overall_PI,Database!$B56,FALSE)=\"\",HLOOKUP(L$169,Mandatory_PI,Database!$B56,FALSE)=\"N\"),\"\",1)","v":1},{"$f":"IF(OR($C179=\"\",HLOOKUP(M$169,Overall_PI,Database!$B56,FALSE)=\"\",HLOOKUP(M$169,Mandatory_PI,Database!$B56,FALSE)=\"N\"),\"\",1)","v":1},{"$f":"IF(SUM(D179:M179)>=1,1,\"\")","v":1},{"$f":"IF(SUM(E179:G179)>=1,1,\"\")","v":1},null,{"$f":"IF(SUM(H179:J179)>=1,1,\"\")","v":1},null,{"$f":"IF(SUM(K179:M179)>=1,1,\"\")","v":1}]
[null,null,"I - IDAM (Foundation)",{"$f":"IF(OR($C180=\"\",HLOOKUP(D$169,Overall_PI,Database!$B57,FALSE)=\"\",HLOOKUP(D$169,Mandatory_PI,Database!$B57,FALSE)=\"N\"),\"\",1)","v":1},{"$f":"IF(OR($C180=\"\",HLOOKUP(E$169,Overall_PI,Database!$B57,FALSE)=\"\",HLOOKUP(E$169,Mandatory_PI,Database!$B57,FALSE)=\"N\"),\"\",1)","v":1},{"$f":"IF(OR($C180=\"\",HLOOKUP(F$169,Overall_PI,Database!$B57,FALSE)=\"\",HLOOKUP(F$169,Mandatory_PI,Database!$B57,FALSE)=\"N\"),\"\",1)","v":1},{"$f":"IF(OR($C180=\"\",HLOOKUP(G$169,Overall_PI,Database!$B57,FALSE)=\"\",HLOOKUP(G$169,Mandatory_PI,Database!$B57,FALSE)=\"N\"),\"\",1)","v":""},{"$f":"IF(OR($C180=\"\",HLOOKUP(H$169,Overall_PI,Database!$B57,FALSE)=\"\",HLOOKUP(H$169,Mandatory_PI,Database!$B57,FALSE)=\"N\"),\"\",1)","v":1},{"$f":"IF(OR($C180=\"\",HLOOKUP(I$169,Overall_PI,Database!$B57,FALSE)=\"\",HLOOKUP(I$169,Mandatory_PI,Database!$B57,FALSE)=\"N\"),\"\",1)","v":1},{"$f":"IF(OR($C180=\"\",HLOOKUP(J$169,Overall_PI,Database!$B57,FALSE)=\"\",HLOOKUP(J$169,Mandatory_PI,Database!$B57,FALSE)=\"N\"),\"\",1)","v":1},{"$f":"IF(OR($C180=\"\",HLOOKUP(K$169,Overall_PI,Database!$B57,FALSE)=\"\",HLOOKUP(K$169,Mandatory_PI,Database!$B57,FALSE)=\"N\"),\"\",1)","v":1},{"$f":"IF(OR($C180=\"\",HLOOKUP(L$169,Overall_PI,Database!$B57,FALSE)=\"\",HLOOKUP(L$169,Mandatory_PI,Database!$B57,FALSE)=\"N\"),\"\",1)","v":1},{"$f":"IF(OR($C180=\"\",HLOOKUP(M$169,Overall_PI,Database!$B57,FALSE)=\"\",HLOOKUP(M$169,Mandatory_PI,Database!$B57,FALSE)=\"N\"),\"\",1)","v":1},1,{"$f":"IF(SUM(E180:G180)>=1,1,\"\")","v":1},null,{"$f":"IF(SUM(H180:J180)>=1,1,\"\")","v":1},null,{"$f":"IF(SUM(K180:M180)>=1,1,\"\")","v":1}]
[null,null,"I - MSR (Accelerating Smart Meter Deployment - Package 3)",{"$f":"IF(OR($C181=\"\",HLOOKUP(D$169,Overall_PI,Database!$B58,FALSE)=\"\",HLOOKUP(D$169,Mandatory_PI,Database!$B58,FALSE)=\"N\"),\"\",1)","v":1},{"$f":"IF(OR($C181=\"\",HLOOKUP(E$169,Overall_PI,Database!$B58,FALSE)=\"\",HLOOKUP(E$169,Mandatory_PI,Database!$B58,FALSE)=\"N\"),\"\",1)","v":""},{"$f":"IF(OR($C181=\"\",HLOOKUP(F$169,Overall_PI,Database!$B58,FALSE)=\"\",HLOOKUP(F$169,Mandatory_PI,Database!$B58,FALSE)=\"N\"),\"\",1)","v":""},{"$f":"IF(OR($C181=\"\",HLOOKUP(G$169,Overall_PI,Database!$B58,FALSE)=\"\",HLOOKUP(G$169,Mandatory_PI,Database!$B58,FALSE)=\"N\"),\"\",1)","v":""},{"$f":"IF(OR($C181=\"\",HLOOKUP(H$169,Overall_PI,Database!$B58,FALSE)=\"\",HLOOKUP(H$169,Mandatory_PI,Database!$B58,FALSE)=\"N\"),\"\",1)","v":""},{"$f":"IF(OR($C181=\"\",HLOOKUP(I$169,Overall_PI,Database!$B58,FALSE)=\"\",HLOOKUP(I$169,Mandatory_PI,Database!$B58,FALSE)=\"N\"),\"\",1)","v":""},{"$f":"IF(OR($C181=\"\",HLOOKUP(J$169,Overall_PI,Database!$B58,FALSE)=\"\",HLOOKUP(J$169,Mandatory_PI,Database!$B58,FALSE)=\"N\"),\"\",1)","v":1},{"$f":"IF(OR($C181=\"\",HLOOKUP(K$169,Overall_PI,Database!$B58,FALSE)=\"\",HLOOKUP(K$169,Mandatory_PI,Database!$B58,FALSE)=\"N\"),\"\",1)","v":""},{"$f":"IF(OR($C181=\"\",HLOOKUP(L$169,Overall_PI,Database!$B58,FALSE)=\"\",HLOOKUP(L$169,Mandatory_PI,Database!$B58,FALSE)=\"N\"),\"\",1)","v":1},{"$f":"IF(OR($C181=\"\",HLOOKUP(M$169,Overall_PI,Database!$B58,FALSE)=\"\",HLOOKUP(M$169,Mandatory_PI,Database!$B58,FALSE)=\"N\"),\"\",1)","v":""},1,"",null,1,null,1]
[null,null,"A - Inter-regional SRAs for transmission loops (PEC-MI)",{"$f":"IF(OR($C182=\"\",HLOOKUP(D$169,Overall_PI,Database!$B59,FALSE)=\"\",HLOOKUP(D$169,Mandatory_PI,Database!$B59,FALSE)=\"N\"),\"\",1)","v":1},{"$f":"IF(OR($C182=\"\",HLOOKUP(E$169,Overall_PI,Database!$B59,FALSE)=\"\",HLOOKUP(E$169,Mandatory_PI,Database!$B59,FALSE)=\"N\"),\"\",1)","v":1},{"$f":"IF(OR($C182=\"\",HLOOKUP(F$169,Overall_PI,Database!$B59,FALSE)=\"\",HLOOKUP(F$169,Mandatory_PI,Database!$B59,FALSE)=\"N\"),\"\",1)","v":1},{"$f":"IF(OR($C182=\"\",HLOOKUP(G$169,Overall_PI,Database!$B59,FALSE)=\"\",HLOOKUP(G$169,Mandatory_PI,Database!$B59,FALSE)=\"N\"),\"\",1)","v":""},{"$f":"IF(OR($C182=\"\",HLOOKUP(H$169,Overall_PI,Database!$B59,FALSE)=\"\",HLOOKUP(H$169,Mandatory_PI,Database!$B59,FALSE)=\"N\"),\"\",1)","v":1},{"$f":"IF(OR($C182=\"\",HLOOKUP(I$169,Overall_PI,Database!$B59,FALSE)=\"\",HLOOKUP(I$169,Mandatory_PI,Database!$B59,FALSE)=\"N\"),\"\",1)","v":1},{"$f":"IF(OR($C182=\"\",HLOOKUP(J$169,Overall_PI,Database!$B59,FALSE)=\"\",HLOOKUP(J$169,Mandatory_PI,Database!$B59,FALSE)=\"N\"),\"\",1)","v":""},{"$f":"IF(OR($C182=\"\",HLOOKUP(K$169,Overall_PI,Database!$B59,FALSE)=\"\",HLOOKUP(K$169,Mandatory_PI,Database!$B59,FALSE)=\"N\"),\"\",1)","v":1},{"$f":"IF(OR($C182=\"\",HLOOKUP(L$169,Overall_PI,Database!$B59,FALSE)=\"\",HLOOKUP(L$169,Mandatory_PI,Database!$B59,FALSE)=\"N\"),\"\",1)","v":""},{"$f":"IF(OR($C182=\"\",HLOOKUP(M$169,Overall_PI,Database!$B59,FALSE)=\"\",HLOOKUP(M$169,Mandatory_PI,Database!$B59,FALSE)=\"N\"),\"\",1)","v":""},1,1,null,1,null,1]
[null,null,"",{"$f":"IF(OR($C183=\"\",HLOOKUP(D$169,Overall_PI,Database!$B60,FALSE)=\"\",HLOOKUP(D$169,Mandatory_PI,Database!$B60,FALSE)=\"N\"),\"\",1)","v":""},{"$f":"IF(OR($C183=\"\",HLOOKUP(E$169,Overall_PI,Database!$B60,FALSE)=\"\",HLOOKUP(E$169,Mandatory_PI,Database!$B60,FALSE)=\"N\"),\"\",1)","v":""},{"$f":"IF(OR($C183=\"\",HLOOKUP(F$169,Overall_PI,Database!$B60,FALSE)=\"\",HLOOKUP(F$169,Mandatory_PI,Database!$B60,FALSE)=\"N\"),\"\",1)","v":""},{"$f":"IF(OR($C183=\"\",HLOOKUP(G$169,Overall_PI,Database!$B60,FALSE)=\"\",HLOOKUP(G$169,Mandatory_PI,Database!$B60,FALSE)=\"N\"),\"\",1)","v":""},{"$f":"IF(OR($C183=\"\",HLOOKUP(H$169,Overall_PI,Database!$B60,FALSE)=\"\",HLOOKUP(H$169,Mandatory_PI,Database!$B60,FALSE)=\"N\"),\"\",1)","v":""},{"$f":"IF(OR($C183=\"\",HLOOKUP(I$169,Overall_PI,Database!$B60,FALSE)=\"\",HLOOKUP(I$169,Mandatory_PI,Database!$B60,FALSE)=\"N\"),\"\",1)","v":""},{"$f":"IF(OR($C183=\"\",HLOOKUP(J$169,Overall_PI,Database!$B60,FALSE)=\"\",HLOOKUP(J$169,Mandatory_PI,Database!$B60,FALSE)=\"N\"),\"\",1)","v":""},{"$f":"IF(OR($C183=\"\",HLOOKUP(K$169,Overall_PI,Database!$B60,FALSE)=\"\",HLOOKUP(K$169,Mandatory_PI,Database!$B60,FALSE)=\"N\"),\"\",1)","v":""},{"$f":"IF(OR($C183=\"\",HLOOKUP(L$169,Overall_PI,Database!$B60,FALSE)=\"\",HLOOKUP(L$169,Mandatory_PI,Database!$B60,FALSE)=\"N\"),\"\",1)","v":""},{"$f":"IF(OR($C183=\"\",HLOOKUP(M$169,Overall_PI,Database!$B60,FALSE)=\"\",HLOOKUP(M$169,Mandatory_PI,Database!$B60,FALSE)=\"N\"),\"\",1)","v":""},"","",null,"",null,""]
[null,null,"",{"$f":"IF(OR($C184=\"\",HLOOKUP(D$169,Overall_PI,Database!$B61,FALSE)=\"\",HLOOKUP(D$169,Mandatory_PI,Database!$B61,FALSE)=\"N\"),\"\",1)","v":""},{"$f":"IF(OR($C184=\"\",HLOOKUP(E$169,Overall_PI,Database!$B61,FALSE)=\"\",HLOOKUP(E$169,Mandatory_PI,Database!$B61,FALSE)=\"N\"),\"\",1)","v":""},{"$f":"IF(OR($C184=\"\",HLOOKUP(F$169,Overall_PI,Database!$B61,FALSE)=\"\",HLOOKUP(F$169,Mandatory_PI,Database!$B61,FALSE)=\"N\"),\"\",1)","v":""},{"$f":"IF(OR($C184=\"\",HLOOKUP(G$169,Overall_PI,Database!$B61,FALSE)=\"\",HLOOKUP(G$169,Mandatory_PI,Database!$B61,FALSE)=\"N\"),\"\",1)","v":""},{"$f":"IF(OR($C184=\"\",HLOOKUP(H$169,Overall_PI,Database!$B61,FALSE)=\"\",HLOOKUP(H$169,Mandatory_PI,Database!$B61,FALSE)=\"N\"),\"\",1)","v":""},{"$f":"IF(OR($C184=\"\",HLOOKUP(I$169,Overall_PI,Database!$B61,FALSE)=\"\",HLOOKUP(I$169,Mandatory_PI,Database!$B61,FALSE)=\"N\"),\"\",1)","v":""},{"$f":"IF(OR($C184=\"\",HLOOKUP(J$169,Overall_PI,Database!$B61,FALSE)=\"\",HLOOKUP(J$169,Mandatory_PI,Database!$B61,FALSE)=\"N\"),\"\",1)","v":""},{"$f":"IF(OR($C184=\"\",HLOOKUP(K$169,Overall_PI,Database!$B61,FALSE)=\"\",HLOOKUP(K$169,Mandatory_PI,Database!$B61,FALSE)=\"N\"),\"\",1)","v":""},{"$f":"IF(OR($C184=\"\",HLOOKUP(L$169,Overall_PI,Database!$B61,FALSE)=\"\",HLOOKUP(L$169,Mandatory_PI,Database!$B61,FALSE)=\"N\"),\"\",1)","v":""},{"$f":"IF(OR($C184=\"\",HLOOKUP(M$169,Overall_PI,Database!$B61,FALSE)=\"\",HLOOKUP(M$169,Mandatory_PI,Database!$B61,FALSE)=\"N\"),\"\",1)","v":""},"","",null,"",null,""]
[null,null,"",{"$f":"IF(OR($C185=\"\",HLOOKUP(D$169,Overall_PI,Database!$B62,FALSE)=\"\",HLOOKUP(D$169,Mandatory_PI,Database!$B62,FALSE)=\"N\"),\"\",1)","v":""},{"$f":"IF(OR($C185=\"\",HLOOKUP(E$169,Overall_PI,Database!$B62,FALSE)=\"\",HLOOKUP(E$169,Mandatory_PI,Database!$B62,FALSE)=\"N\"),\"\",1)","v":""},{"$f":"IF(OR($C185=\"\",HLOOKUP(F$169,Overall_PI,Database!$B62,FALSE)=\"\",HLOOKUP(F$169,Mandatory_PI,Database!$B62,FALSE)=\"N\"),\"\",1)","v":""},{"$f":"IF(OR($C185=\"\",HLOOKUP(G$169,Overall_PI,Database!$B62,FALSE)=\"\",HLOOKUP(G$169,Mandatory_PI,Database!$B62,FALSE)=\"N\"),\"\",1)","v":""},{"$f":"IF(OR($C185=\"\",HLOOKUP(H$169,Overall_PI,Database!$B62,FALSE)=\"\",HLOOKUP(H$169,Mandatory_PI,Database!$B62,FALSE)=\"N\"),\"\",1)","v":""},{"$f":"IF(OR($C185=\"\",HLOOKUP(I$169,Overall_PI,Database!$B62,FALSE)=\"\",HLOOKUP(I$169,Mandatory_PI,Database!$B62,FALSE)=\"N\"),\"\",1)","v":""},{"$f":"IF(OR($C185=\"\",HLOOKUP(J$169,Overall_PI,Database!$B62,FALSE)=\"\",HLOOKUP(J$169,Mandatory_PI,Database!$B62,FALSE)=\"N\"),\"\",1)","v":""},{"$f":"IF(OR($C185=\"\",HLOOKUP(K$169,Overall_PI,Database!$B62,FALSE)=\"\",HLOOKUP(K$169,Mandatory_PI,Database!$B62,FALSE)=\"N\"),\"\",1)","v":""},{"$f":"IF(OR($C185=\"\",HLOOKUP(L$169,Overall_PI,Database!$B62,FALSE)=\"\",HLOOKUP(L$169,Mandatory_PI,Database!$B62,FALSE)=\"N\"),\"\",1)","v":""},{"$f":"IF(OR($C185=\"\",HLOOKUP(M$169,Overall_PI,Database!$B62,FALSE)=\"\",HLOOKUP(M$169,Mandatory_PI,Database!$B62,FALSE)=\"N\"),\"\",1)","v":""},"","",null,"",null,""]
[null,null,"",{"$f":"IF(OR($C186=\"\",HLOOKUP(D$169,Overall_PI,Database!$B63,FALSE)=\"\",HLOOKUP(D$169,Mandatory_PI,Database!$B63,FALSE)=\"N\"),\"\",1)","v":""},{"$f":"IF(OR($C186=\"\",HLOOKUP(E$169,Overall_PI,Database!$B63,FALSE)=\"\",HLOOKUP(E$169,Mandatory_PI,Database!$B63,FALSE)=\"N\"),\"\",1)","v":""},{"$f":"IF(OR($C186=\"\",HLOOKUP(F$169,Overall_PI,Database!$B63,FALSE)=\"\",HLOOKUP(F$169,Mandatory_PI,Database!$B63,FALSE)=\"N\"),\"\",1)","v":""},{"$f":"IF(OR($C186=\"\",HLOOKUP(G$169,Overall_PI,Database!$B63,FALSE)=\"\",HLOOKUP(G$169,Mandatory_PI,Database!$B63,FALSE)=\"N\"),\"\",1)","v":""},{"$f":"IF(OR($C186=\"\",HLOOKUP(H$169,Overall_PI,Database!$B63,FALSE)=\"\",HLOOKUP(H$169,Mandatory_PI,Database!$B63,FALSE)=\"N\"),\"\",1)","v":""},{"$f":"IF(OR($C186=\"\",HLOOKUP(I$169,Overall_PI,Database!$B63,FALSE)=\"\",HLOOKUP(I$169,Mandatory_PI,Database!$B63,FALSE)=\"N\"),\"\",1)","v":""},{"$f":"IF(OR($C186=\"\",HLOOKUP(J$169,Overall_PI,Database!$B63,FALSE)=\"\",HLOOKUP(J$169,Mandatory_PI,Database!$B63,FALSE)=\"N\"),\"\",1)","v":""},{"$f":"IF(OR($C186=\"\",HLOOKUP(K$169,Overall_PI,Database!$B63,FALSE)=\"\",HLOOKUP(K$169,Mandatory_PI,Database!$B63,FALSE)=\"N\"),\"\",1)","v":""},{"$f":"IF(OR($C186=\"\",HLOOKUP(L$169,Overall_PI,Database!$B63,FALSE)=\"\",HLOOKUP(L$169,Mandatory_PI,Database!$B63,FALSE)=\"N\"),\"\",1)","v":""},{"$f":"IF(OR($C186=\"\",HLOOKUP(M$169,Overall_PI,Database!$B63,FALSE)=\"\",HLOOKUP(M$169,Mandatory_PI,Database!$B63,FALSE)=\"N\"),\"\",1)","v":""},"","",null,"",null,""]
[null,null,"",{"$f":"IF(OR($C187=\"\",HLOOKUP(D$169,Overall_PI,Database!$B64,FALSE)=\"\",HLOOKUP(D$169,Mandatory_PI,Database!$B64,FALSE)=\"N\"),\"\",1)","v":""},{"$f":"IF(OR($C187=\"\",HLOOKUP(E$169,Overall_PI,Database!$B64,FALSE)=\"\",HLOOKUP(E$169,Mandatory_PI,Database!$B64,FALSE)=\"N\"),\"\",1)","v":""},{"$f":"IF(OR($C187=\"\",HLOOKUP(F$169,Overall_PI,Database!$B64,FALSE)=\"\",HLOOKUP(F$169,Mandatory_PI,Database!$B64,FALSE)=\"N\"),\"\",1)","v":""},{"$f":"IF(OR($C187=\"\",HLOOKUP(G$169,Overall_PI,Database!$B64,FALSE)=\"\",HLOOKUP(G$169,Mandatory_PI,Database!$B64,FALSE)=\"N\"),\"\",1)","v":""},{"$f":"IF(OR($C187=\"\",HLOOKUP(H$169,Overall_PI,Database!$B64,FALSE)=\"\",HLOOKUP(H$169,Mandatory_PI,Database!$B64,FALSE)=\"N\"),\"\",1)","v":""},{"$f":"IF(OR($C187=\"\",HLOOKUP(I$169,Overall_PI,Database!$B64,FALSE)=\"\",HLOOKUP(I$169,Mandatory_PI,Database!$B64,FALSE)=\"N\"),\"\",1)","v":""},{"$f":"IF(OR($C187=\"\",HLOOKUP(J$169,Overall_PI,Database!$B64,FALSE)=\"\",HLOOKUP(J$169,Mandatory_PI,Database!$B64,FALSE)=\"N\"),\"\",1)","v":""},{"$f":"IF(OR($C187=\"\",HLOOKUP(K$169,Overall_PI,Database!$B64,FALSE)=\"\",HLOOKUP(K$169,Mandatory_PI,Database!$B64,FALSE)=\"N\"),\"\",1)","v":""},{"$f":"IF(OR($C187=\"\",HLOOKUP(L$169,Overall_PI,Database!$B64,FALSE)=\"\",HLOOKUP(L$169,Mandatory_PI,Database!$B64,FALSE)=\"N\"),\"\",1)","v":""},{"$f":"IF(OR($C187=\"\",HLOOKUP(M$169,Overall_PI,Database!$B64,FALSE)=\"\",HLOOKUP(M$169,Mandatory_PI,Database!$B64,FALSE)=\"N\"),\"\",1)","v":""},"","",null,"",null,""]
[null,null,"",{"$f":"IF(OR($C188=\"\",HLOOKUP(D$169,Overall_PI,Database!$B65,FALSE)=\"\",HLOOKUP(D$169,Mandatory_PI,Database!$B65,FALSE)=\"N\"),\"\",1)","v":""},{"$f":"IF(OR($C188=\"\",HLOOKUP(E$169,Overall_PI,Database!$B65,FALSE)=\"\",HLOOKUP(E$169,Mandatory_PI,Database!$B65,FALSE)=\"N\"),\"\",1)","v":""},{"$f":"IF(OR($C188=\"\",HLOOKUP(F$169,Overall_PI,Database!$B65,FALSE)=\"\",HLOOKUP(F$169,Mandatory_PI,Database!$B65,FALSE)=\"N\"),\"\",1)","v":""},{"$f":"IF(OR($C188=\"\",HLOOKUP(G$169,Overall_PI,Database!$B65,FALSE)=\"\",HLOOKUP(G$169,Mandatory_PI,Database!$B65,FALSE)=\"N\"),\"\",1)","v":""},{"$f":"IF(OR($C188=\"\",HLOOKUP(H$169,Overall_PI,Database!$B65,FALSE)=\"\",HLOOKUP(H$169,Mandatory_PI,Database!$B65,FALSE)=\"N\"),\"\",1)","v":""},{"$f":"IF(OR($C188=\"\",HLOOKUP(I$169,Overall_PI,Database!$B65,FALSE)=\"\",HLOOKUP(I$169,Mandatory_PI,Database!$B65,FALSE)=\"N\"),\"\",1)","v":""},{"$f":"IF(OR($C188=\"\",HLOOKUP(J$169,Overall_PI,Database!$B65,FALSE)=\"\",HLOOKUP(J$169,Mandatory_PI,Database!$B65,FALSE)=\"N\"),\"\",1)","v":""},{"$f":"IF(OR($C188=\"\",HLOOKUP(K$169,Overall_PI,Database!$B65,FALSE)=\"\",HLOOKUP(K$169,Mandatory_PI,Database!$B65,FALSE)=\"N\"),\"\",1)","v":""},{"$f":"IF(OR($C188=\"\",HLOOKUP(L$169,Overall_PI,Database!$B65,FALSE)=\"\",HLOOKUP(L$169,Mandatory_PI,Database!$B65,FALSE)=\"N\"),\"\",1)","v":""},{"$f":"IF(OR($C188=\"\",HLOOKUP(M$169,Overall_PI,Database!$B65,FALSE)=\"\",HLOOKUP(M$169,Mandatory_PI,Database!$B65,FALSE)=\"N\"),\"\",1)","v":""},"","",null,"",null,""]
[null,null,"",{"$f":"IF(OR($C189=\"\",HLOOKUP(D$169,Overall_PI,Database!$B66,FALSE)=\"\",HLOOKUP(D$169,Mandatory_PI,Database!$B66,FALSE)=\"N\"),\"\",1)","v":""},{"$f":"IF(OR($C189=\"\",HLOOKUP(E$169,Overall_PI,Database!$B66,FALSE)=\"\",HLOOKUP(E$169,Mandatory_PI,Database!$B66,FALSE)=\"N\"),\"\",1)","v":""},{"$f":"IF(OR($C189=\"\",HLOOKUP(F$169,Overall_PI,Database!$B66,FALSE)=\"\",HLOOKUP(F$169,Mandatory_PI,Database!$B66,FALSE)=\"N\"),\"\",1)","v":""},{"$f":"IF(OR($C189=\"\",HLOOKUP(G$169,Overall_PI,Database!$B66,FALSE)=\"\",HLOOKUP(G$169,Mandatory_PI,Database!$B66,FALSE)=\"N\"),\"\",1)","v":""},{"$f":"IF(OR($C189=\"\",HLOOKUP(H$169,Overall_PI,Database!$B66,FALSE)=\"\",HLOOKUP(H$169,Mandatory_PI,Database!$B66,FALSE)=\"N\"),\"\",1)","v":""},{"$f":"IF(OR($C189=\"\",HLOOKUP(I$169,Overall_PI,Database!$B66,FALSE)=\"\",HLOOKUP(I$169,Mandatory_PI,Database!$B66,FALSE)=\"N\"),\"\",1)","v":""},{"$f":"IF(OR($C189=\"\",HLOOKUP(J$169,Overall_PI,Database!$B66,FALSE)=\"\",HLOOKUP(J$169,Mandatory_PI,Database!$B66,FALSE)=\"N\"),\"\",1)","v":""},{"$f":"IF(OR($C189=\"\",HLOOKUP(K$169,Overall_PI,Database!$B66,FALSE)=\"\",HLOOKUP(K$169,Mandatory_PI,Database!$B66,FALSE)=\"N\"),\"\",1)","v":""},{"$f":"IF(OR($C189=\"\",HLOOKUP(L$169,Overall_PI,Database!$B66,FALSE)=\"\",HLOOKUP(L$169,Mandatory_PI,Database!$B66,FALSE)=\"N\"),\"\",1)","v":""},{"$f":"IF(OR($C189=\"\",HLOOKUP(M$169,Overall_PI,Database!$B66,FALSE)=\"\",HLOOKUP(M$169,Mandatory_PI,Database!$B66,FALSE)=\"N\"),\"\",1)","v":""},{"$f":"IF(SUM(D189:M189)>=1,1,\"\")","v":""},{"$f":"IF(SUM(E189:G189)>=1,1,\"\")","v":""},null,{"$f":"IF(SUM(H189:J189)>=1,1,\"\")","v":""},null,{"$f":"IF(SUM(K189:M189)>=1,1,\"\")","v":""}]
[]
[null,null,"Go-Live","Y / N"]
[]
[null,null,null,{"$f":"D47","v":"AEMO"},"GEN","IRP","[Spare]","MC","RET","MSP","TNSP","DNSP","ENM","All",{"$f":"H33","v":"Wholesale"},null,{"$f":"H35","v":"Retail / Metering"},null,{"$f":"H37","v":"Network"}]
[null,null,{"$f":"IF(C48=\"\",\"\",C48)","v":"I - SCADA Lite"},{"$f":"IF(OR($C194=\"\",HLOOKUP(D$193,Overall_PI,Database!$B47,FALSE)=\"\",HLOOKUP(D$193,Mandatory_PI,Database!$B47,FALSE)=\"N\"),\"\",1)","v":1},{"$f":"IF(OR($C194=\"\",HLOOKUP(E$193,Overall_PI,Database!$B47,FALSE)=\"\",HLOOKUP(E$193,Mandatory_PI,Database!$B47,FALSE)=\"N\"),\"\",1)","v":""},{"$f":"IF(OR($C194=\"\",HLOOKUP(F$193,Overall_PI,Database!$B47,FALSE)=\"\",HLOOKUP(F$193,Mandatory_PI,Database!$B47,FALSE)=\"N\"),\"\",1)","v":1},{"$f":"IF(OR($C194=\"\",HLOOKUP(G$193,Overall_PI,Database!$B47,FALSE)=\"\",HLOOKUP(G$193,Mandatory_PI,Database!$B47,FALSE)=\"N\"),\"\",1)","v":""},{"$f":"IF(OR($C194=\"\",HLOOKUP(H$193,Overall_PI,Database!$B47,FALSE)=\"\",HLOOKUP(H$193,Mandatory_PI,Database!$B47,FALSE)=\"N\"),\"\",1)","v":""},{"$f":"IF(OR($C194=\"\",HLOOKUP(I$193,Overall_PI,Database!$B47,FALSE)=\"\",HLOOKUP(I$193,Mandatory_PI,Database!$B47,FALSE)=\"N\"),\"\",1)","v":""},{"$f":"IF(OR($C194=\"\",HLOOKUP(J$193,Overall_PI,Database!$B47,FALSE)=\"\",HLOOKUP(J$193,Mandatory_PI,Database!$B47,FALSE)=\"N\"),\"\",1)","v":""},{"$f":"IF(OR($C194=\"\",HLOOKUP(K$193,Overall_PI,Database!$B47,FALSE)=\"\",HLOOKUP(K$193,Mandatory_PI,Database!$B47,FALSE)=\"N\"),\"\",1)","v":""},{"$f":"IF(OR($C194=\"\",HLOOKUP(L$193,Overall_PI,Database!$B47,FALSE)=\"\",HLOOKUP(L$193,Mandatory_PI,Database!$B47,FALSE)=\"N\"),\"\",1)","v":""},{"$f":"IF(OR($C194=\"\",HLOOKUP(M$193,Overall_PI,Database!$B47,FALSE)=\"\",HLOOKUP(M$193,Mandatory_PI,Database!$B47,FALSE)=\"N\"),\"\",1)","v":1},{"$f":"IF(SUM(D194:M194)>=1,1,\"\")","v":1},{"$f":"IF(SUM(E194:G194)>=1,1,\"\")","v":1},null,{"$f":"IF(SUM(H194:J194)>=1,1,\"\")","v":""},null,{"$f":"IF(SUM(K194:M194)>=1,1,\"\")","v":1}]
[null,null,"I - Frequency Performance Payments",{"$f":"IF(OR($C195=\"\",HLOOKUP(D$193,Overall_PI,Database!$B48,FALSE)=\"\",HLOOKUP(D$193,Mandatory_PI,Database!$B48,FALSE)=\"N\"),\"\",1)","v":1},{"$f":"IF(OR($C195=\"\",HLOOKUP(E$193,Overall_PI,Database!$B48,FALSE)=\"\",HLOOKUP(E$193,Mandatory_PI,Database!$B48,FALSE)=\"N\"),\"\",1)","v":1},{"$f":"IF(OR($C195=\"\",HLOOKUP(F$193,Overall_PI,Database!$B48,FALSE)=\"\",HLOOKUP(F$193,Mandatory_PI,Database!$B48,FALSE)=\"N\"),\"\",1)","v":1},{"$f":"IF(OR($C195=\"\",HLOOKUP(G$193,Overall_PI,Database!$B48,FALSE)=\"\",HLOOKUP(G$193,Mandatory_PI,Database!$B48,FALSE)=\"N\"),\"\",1)","v":""},{"$f":"IF(OR($C195=\"\",HLOOKUP(H$193,Overall_PI,Database!$B48,FALSE)=\"\",HLOOKUP(H$193,Mandatory_PI,Database!$B48,FALSE)=\"N\"),\"\",1)","v":1},{"$f":"IF(OR($C195=\"\",HLOOKUP(I$193,Overall_PI,Database!$B48,FALSE)=\"\",HLOOKUP(I$193,Mandatory_PI,Database!$B48,FALSE)=\"N\"),\"\",1)","v":1},{"$f":"IF(OR($C195=\"\",HLOOKUP(J$193,Overall_PI,Database!$B48,FALSE)=\"\",HLOOKUP(J$193,Mandatory_PI,Database!$B48,FALSE)=\"N\"),\"\",1)","v":""},{"$f":"IF(OR($C195=\"\",HLOOKUP(K$193,Overall_PI,Database!$B48,FALSE)=\"\",HLOOKUP(K$193,Mandatory_PI,Database!$B48,FALSE)=\"N\"),\"\",1)","v":""},{"$f":"IF(OR($C195=\"\",HLOOKUP(L$193,Overall_PI,Database!$B48,FALSE)=\"\",HLOOKUP(L$193,Mandatory_PI,Database!$B48,FALSE)=\"N\"),\"\",1)","v":""},{"$f":"IF(OR($C195=\"\",HLOOKUP(M$193,Overall_PI,Database!$B48,FALSE)=\"\",HLOOKUP(M$193,Mandatory_PI,Database!$B48,FALSE)=\"N\"),\"\",1)","v":""},1,{"$f":"IF(SUM(E195:G195)>=1,1,\"\")","v":1},null,{"$f":"IF(SUM(H195:J195)>=1,1,\"\")","v":1},null,{"$f":"IF(SUM(K195:M195)>=1,1,\"\")","v":""}]
[null,null,"I - Enhancing Reserve Information",{"$f":"IF(OR($C196=\"\",HLOOKUP(D$193,Overall_PI,Database!$B49,FALSE)=\"\",HLOOKUP(D$193,Mandatory_PI,Database!$B49,FALSE)=\"N\"),\"\",1)","v":1},{"$f":"IF(OR($C196=\"\",HLOOKUP(E$193,Overall_PI,Database!$B49,FALSE)=\"\",HLOOKUP(E$193,Mandatory_PI,Database!$B49,FALSE)=\"N\"),\"\",1)","v":1},{"$f":"IF(OR($C196=\"\",HLOOKUP(F$193,Overall_PI,Database!$B49,FALSE)=\"\",HLOOKUP(F$193,Mandatory_PI,Database!$B49,FALSE)=\"N\"),\"\",1)","v":1},{"$f":"IF(OR($C196=\"\",HLOOKUP(G$193,Overall_PI,Database!$B49,FALSE)=\"\",HLOOKUP(G$193,Mandatory_PI,Database!$B49,FALSE)=\"N\"),\"\",1)","v":""},{"$f":"IF(OR($C196=\"\",HLOOKUP(H$193,Overall_PI,Database!$B49,FALSE)=\"\",HLOOKUP(H$193,Mandatory_PI,Database!$B49,FALSE)=\"N\"),\"\",1)","v":""},{"$f":"IF(OR($C196=\"\",HLOOKUP(I$193,Overall_PI,Database!$B49,FALSE)=\"\",HLOOKUP(I$193,Mandatory_PI,Database!$B49,FALSE)=\"N\"),\"\",1)","v":""},{"$f":"IF(OR($C196=\"\",HLOOKUP(J$193,Overall_PI,Database!$B49,FALSE)=\"\",HLOOKUP(J$193,Mandatory_PI,Database!$B49,FALSE)=\"N\"),\"\",1)","v":""},{"$f":"IF(OR($C196=\"\",HLOOKUP(K$193,Overall_PI,Database!$B49,FALSE)=\"\",HLOOKUP(K$193,Mandatory_PI,Database!$B49,FALSE)=\"N\"),\"\",1)","v":""},{"$f":"IF(OR($C196=\"\",HLOOKUP(L$193,Overall_PI,Database!$B49,FALSE)=\"\",HLOOKUP(L$193,Mandatory_PI,Database!$B49,FALSE)=\"N\"),\"\",1)","v":""},{"$f":"IF(OR($C196=\"\",HLOOKUP(M$193,Overall_PI,Database!$B49,FALSE)=\"\",HLOOKUP(M$193,Mandatory_PI,Database!$B49,FALSE)=\"N\"),\"\",1)","v":""},1,1,null,"",null,""]
[null,null,"I - ST PASA Procedure & Recall Period",{"$f":"IF(OR($C197=\"\",HLOOKUP(D$193,Overall_PI,Database!$B50,FALSE)=\"\",HLOOKUP(D$193,Mandatory_PI,Database!$B50,FALSE)=\"N\"),\"\",1)","v":1},{"$f":"IF(OR($C197=\"\",HLOOKUP(E$193,Overall_PI,Database!$B50,FALSE)=\"\",HLOOKUP(E$193,Mandatory_PI,Database!$B50,FALSE)=\"N\"),\"\",1)","v":1},{"$f":"IF(OR($C197=\"\",HLOOKUP(F$193,Overall_PI,Database!$B50,FALSE)=\"\",HLOOKUP(F$193,Mandatory_PI,Database!$B50,FALSE)=\"N\"),\"\",1)","v":1},{"$f":"IF(OR($C197=\"\",HLOOKUP(G$193,Overall_PI,Database!$B50,FALSE)=\"\",HLOOKUP(G$193,Mandatory_PI,Database!$B50,FALSE)=\"N\"),\"\",1)","v":""},{"$f":"IF(OR($C197=\"\",HLOOKUP(H$193,Overall_PI,Database!$B50,FALSE)=\"\",HLOOKUP(H$193,Mandatory_PI,Database!$B50,FALSE)=\"N\"),\"\",1)","v":""},{"$f":"IF(OR($C197=\"\",HLOOKUP(I$193,Overall_PI,Database!$B50,FALSE)=\"\",HLOOKUP(I$193,Mandatory_PI,Database!$B50,FALSE)=\"N\"),\"\",1)","v":""},{"$f":"IF(OR($C197=\"\",HLOOKUP(J$193,Overall_PI,Database!$B50,FALSE)=\"\",HLOOKUP(J$193,Mandatory_PI,Database!$B50,FALSE)=\"N\"),\"\",1)","v":""},{"$f":"IF(OR($C197=\"\",HLOOKUP(K$193,Overall_PI,Database!$B50,FALSE)=\"\",HLOOKUP(K$193,Mandatory_PI,Database!$B50,FALSE)=\"N\"),\"\",1)","v":1},{"$f":"IF(OR($C197=\"\",HLOOKUP(L$193,Overall_PI,Database!$B50,FALSE)=\"\",HLOOKUP(L$193,Mandatory_PI,Database!$B50,FALSE)=\"N\"),\"\",1)","v":""},{"$f":"IF(OR($C197=\"\",HLOOKUP(M$193,Overall_PI,Database!$B50,FALSE)=\"\",HLOOKUP(M$193,Mandatory_PI,Database!$B50,FALSE)=\"N\"),\"\",1)","v":""},1,1,null,"",null,1]
[null,null,"I - Improving Security Frameworks",{"$f":"IF(OR($C198=\"\",HLOOKUP(D$193,Overall_PI,Database!$B51,FALSE)=\"\",HLOOKUP(D$193,Mandatory_PI,Database!$B51,FALSE)=\"N\"),\"\",1)","v":1},{"$f":"IF(OR($C198=\"\",HLOOKUP(E$193,Overall_PI,Database!$B51,FALSE)=\"\",HLOOKUP(E$193,Mandatory_PI,Database!$B51,FALSE)=\"N\"),\"\",1)","v":1},{"$f":"IF(OR($C198=\"\",HLOOKUP(F$193,Overall_PI,Database!$B51,FALSE)=\"\",HLOOKUP(F$193,Mandatory_PI,Database!$B51,FALSE)=\"N\"),\"\",1)","v":1},{"$f":"IF(OR($C198=\"\",HLOOKUP(G$193,Overall_PI,Database!$B51,FALSE)=\"\",HLOOKUP(G$193,Mandatory_PI,Database!$B51,FALSE)=\"N\"),\"\",1)","v":""},{"$f":"IF(OR($C198=\"\",HLOOKUP(H$193,Overall_PI,Database!$B51,FALSE)=\"\",HLOOKUP(H$193,Mandatory_PI,Database!$B51,FALSE)=\"N\"),\"\",1)","v":""},{"$f":"IF(OR($C198=\"\",HLOOKUP(I$193,Overall_PI,Database!$B51,FALSE)=\"\",HLOOKUP(I$193,Mandatory_PI,Database!$B51,FALSE)=\"N\"),\"\",1)","v":""},{"$f":"IF(OR($C198=\"\",HLOOKUP(J$193,Overall_PI,Database!$B51,FALSE)=\"\",HLOOKUP(J$193,Mandatory_PI,Database!$B51,FALSE)=\"N\"),\"\",1)","v":""},{"$f":"IF(OR($C198=\"\",HLOOKUP(K$193,Overall_PI,Database!$B51,FALSE)=\"\",HLOOKUP(K$193,Mandatory_PI,Database!$B51,FALSE)=\"N\"),\"\",1)","v":1},{"$f":"IF(OR($C198=\"\",HLOOKUP(L$193,Overall_PI,Database!$B51,FALSE)=\"\",HLOOKUP(L$193,Mandatory_PI,Database!$B51,FALSE)=\"N\"),\"\",1)","v":""},{"$f":"IF(OR($C198=\"\",HLOOKUP(M$193,Overall_PI,Database!$B51,FALSE)=\"\",HLOOKUP(M$193,Mandatory_PI,Database!$B51,FALSE)=\"N\"),\"\",1)","v":""},1,1,null,"",null,1]
[null,null,"I - Unlocking CER Benefits Through Flexible Trading",{"$f":"IF(OR($C199=\"\",HLOOKUP(D$193,Overall_PI,Database!$B52,FALSE)=\"\",HLOOKUP(D$193,Mandatory_PI,Database!$B52,FALSE)=\"N\"),\"\",1)","v":1},{"$f":"IF(OR($C199=\"\",HLOOKUP(E$193,Overall_PI,Database!$B52,FALSE)=\"\",HLOOKUP(E$193,Mandatory_PI,Database!$B52,FALSE)=\"N\"),\"\",1)","v":""},{"$f":"IF(OR($C199=\"\",HLOOKUP(F$193,Overall_PI,Database!$B52,FALSE)=\"\",HLOOKUP(F$193,Mandatory_PI,Database!$B52,FALSE)=\"N\"),\"\",1)","v":""},{"$f":"IF(OR($C199=\"\",HLOOKUP(G$193,Overall_PI,Database!$B52,FALSE)=\"\",HLOOKUP(G$193,Mandatory_PI,Database!$B52,FALSE)=\"N\"),\"\",1)","v":""},{"$f":"IF(OR($C199=\"\",HLOOKUP(H$193,Overall_PI,Database!$B52,FALSE)=\"\",HLOOKUP(H$193,Mandatory_PI,Database!$B52,FALSE)=\"N\"),\"\",1)","v":1},{"$f":"IF(OR($C199=\"\",HLOOKUP(I$193,Overall_PI,Database!$B52,FALSE)=\"\",HLOOKUP(I$193,Mandatory_PI,Database!$B52,FALSE)=\"N\"),\"\",1)","v":1},{"$f":"IF(OR($C199=\"\",HLOOKUP(J$193,Overall_PI,Database!$B52,FALSE)=\"\",HLOOKUP(J$193,Mandatory_PI,Database!$B52,FALSE)=\"N\"),\"\",1)","v":1},{"$f":"IF(OR($C199=\"\",HLOOKUP(K$193,Overall_PI,Database!$B52,FALSE)=\"\",HLOOKUP(K$193,Mandatory_PI,Database!$B52,FALSE)=\"N\"),\"\",1)","v":""},{"$f":"IF(OR($C199=\"\",HLOOKUP(L$193,Overall_PI,Database!$B52,FALSE)=\"\",HLOOKUP(L$193,Mandatory_PI,Database!$B52,FALSE)=\"N\"),\"\",1)","v":1},{"$f":"IF(OR($C199=\"\",HLOOKUP(M$193,Overall_PI,Database!$B52,FALSE)=\"\",HLOOKUP(M$193,Mandatory_PI,Database!$B52,FALSE)=\"N\"),\"\",1)","v":""},1,"",null,1,null,1]
[null,null,"I - MSR (Accelerating Smart Meter Deployment - Package 1 & 2)",{"$f":"IF(OR($C200=\"\",HLOOKUP(D$193,Overall_PI,Database!$B53,FALSE)=\"\",HLOOKUP(D$193,Mandatory_PI,Database!$B53,FALSE)=\"N\"),\"\",1)","v":1},{"$f":"IF(OR($C200=\"\",HLOOKUP(E$193,Overall_PI,Database!$B53,FALSE)=\"\",HLOOKUP(E$193,Mandatory_PI,Database!$B53,FALSE)=\"N\"),\"\",1)","v":""},{"$f":"IF(OR($C200=\"\",HLOOKUP(F$193,Overall_PI,Database!$B53,FALSE)=\"\",HLOOKUP(F$193,Mandatory_PI,Database!$B53,FALSE)=\"N\"),\"\",1)","v":""},{"$f":"IF(OR($C200=\"\",HLOOKUP(G$193,Overall_PI,Database!$B53,FALSE)=\"\",HLOOKUP(G$193,Mandatory_PI,Database!$B53,FALSE)=\"N\"),\"\",1)","v":""},{"$f":"IF(OR($C200=\"\",HLOOKUP(H$193,Overall_PI,Database!$B53,FALSE)=\"\",HLOOKUP(H$193,Mandatory_PI,Database!$B53,FALSE)=\"N\"),\"\",1)","v":""},{"$f":"IF(OR($C200=\"\",HLOOKUP(I$193,Overall_PI,Database!$B53,FALSE)=\"\",HLOOKUP(I$193,Mandatory_PI,Database!$B53,FALSE)=\"N\"),\"\",1)","v":1},{"$f":"IF(OR($C200=\"\",HLOOKUP(J$193,Overall_PI,Database!$B53,FALSE)=\"\",HLOOKUP(J$193,Mandatory_PI,Database!$B53,FALSE)=\"N\"),\"\",1)","v":1},{"$f":"IF(OR($C200=\"\",HLOOKUP(K$193,Overall_PI,Database!$B53,FALSE)=\"\",HLOOKUP(K$193,Mandatory_PI,Database!$B53,FALSE)=\"N\"),\"\",1)","v":""},{"$f":"IF(OR($C200=\"\",HLOOKUP(L$193,Overall_PI,Database!$B53,FALSE)=\"\",HLOOKUP(L$193,Mandatory_PI,Database!$B53,FALSE)=\"N\"),\"\",1)","v":1},{"$f":"IF(OR($C200=\"\",HLOOKUP(M$193,Overall_PI,Database!$B53,FALSE)=\"\",HLOOKUP(M$193,Mandatory_PI,Database!$B53,FALSE)=\"N\"),\"\",1)","v":""},1,"",null,1,null,1]
[null,null,"I - Shortening the Settlement Cycle",{"$f":"IF(OR($C201=\"\",HLOOKUP(D$193,Overall_PI,Database!$B54,FALSE)=\"\",HLOOKUP(D$193,Mandatory_PI,Database!$B54,FALSE)=\"N\"),\"\",1)","v":1},{"$f":"IF(OR($C201=\"\",HLOOKUP(E$193,Overall_PI,Database!$B54,FALSE)=\"\",HLOOKUP(E$193,Mandatory_PI,Database!$B54,FALSE)=\"N\"),\"\",1)","v":""},{"$f":"IF(OR($C201=\"\",HLOOKUP(F$193,Overall_PI,Database!$B54,FALSE)=\"\",HLOOKUP(F$193,Mandatory_PI,Database!$B54,FALSE)=\"N\"),\"\",1)","v":""},{"$f":"IF(OR($C201=\"\",HLOOKUP(G$193,Overall_PI,Database!$B54,FALSE)=\"\",HLOOKUP(G$193,Mandatory_PI,Database!$B54,FALSE)=\"N\"),\"\",1)","v":""},{"$f":"IF(OR($C201=\"\",HLOOKUP(H$193,Overall_PI,Database!$B54,FALSE)=\"\",HLOOKUP(H$193,Mandatory_PI,Database!$B54,FALSE)=\"N\"),\"\",1)","v":1},{"$f":"IF(OR($C201=\"\",HLOOKUP(I$193,Overall_PI,Database!$B54,FALSE)=\"\",HLOOKUP(I$193,Mandatory_PI,Database!$B54,FALSE)=\"N\"),\"\",1)","v":1},{"$f":"IF(OR($C201=\"\",HLOOKUP(J$193,Overall_PI,Database!$B54,FALSE)=\"\",HLOOKUP(J$193,Mandatory_PI,Database!$B54,FALSE)=\"N\"),\"\",1)","v":1},{"$f":"IF(OR($C201=\"\",HLOOKUP(K$193,Overall_PI,Database!$B54,FALSE)=\"\",HLOOKUP(K$193,Mandatory_PI,Database!$B54,FALSE)=\"N\"),\"\",1)","v":""},{"$f":"IF(OR($C201=\"\",HLOOKUP(L$193,Overall_PI,Database!$B54,FALSE)=\"\",HLOOKUP(L$193,Mandatory_PI,Database!$B54,FALSE)=\"N\"),\"\",1)","v":""},{"$f":"IF(OR($C201=\"\",HLOOKUP(M$193,Overall_PI,Database!$B54,FALSE)=\"\",HLOOKUP(M$193,Mandatory_PI,Database!$B54,FALSE)=\"N\"),\"\",1)","v":""},1,"",null,1,null,""]
[null,null,"I - Integrating Price Responsive Resources into the NEM",{"$f":"IF(OR($C202=\"\",HLOOKUP(D$193,Overall_PI,Database!$B55,FALSE)=\"\",HLOOKUP(D$193,Mandatory_PI,Database!$B55,FALSE)=\"N\"),\"\",1)","v":1},{"$f":"IF(OR($C202=\"\",HLOOKUP(E$193,Overall_PI,Database!$B55,FALSE)=\"\",HLOOKUP(E$193,Mandatory_PI,Database!$B55,FALSE)=\"N\"),\"\",1)","v":1},{"$f":"IF(OR($C202=\"\",HLOOKUP(F$193,Overall_PI,Database!$B55,FALSE)=\"\",HLOOKUP(F$193,Mandatory_PI,Database!$B55,FALSE)=\"N\"),\"\",1)","v":1},{"$f":"IF(OR($C202=\"\",HLOOKUP(G$193,Overall_PI,Database!$B55,FALSE)=\"\",HLOOKUP(G$193,Mandatory_PI,Database!$B55,FALSE)=\"N\"),\"\",1)","v":""},{"$f":"IF(OR($C202=\"\",HLOOKUP(H$193,Overall_PI,Database!$B55,FALSE)=\"\",HLOOKUP(H$193,Mandatory_PI,Database!$B55,FALSE)=\"N\"),\"\",1)","v":1},{"$f":"IF(OR($C202=\"\",HLOOKUP(I$193,Overall_PI,Database!$B55,FALSE)=\"\",HLOOKUP(I$193,Mandatory_PI,Database!$B55,FALSE)=\"N\"),\"\",1)","v":1},{"$f":"IF(OR($C202=\"\",HLOOKUP(J$193,Overall_PI,Database!$B55,FALSE)=\"\",HLOOKUP(J$193,Mandatory_PI,Database!$B55,FALSE)=\"N\"),\"\",1)","v":""},{"$f":"IF(OR($C202=\"\",HLOOKUP(K$193,Overall_PI,Database!$B55,FALSE)=\"\",HLOOKUP(K$193,Mandatory_PI,Database!$B55,FALSE)=\"N\"),\"\",1)","v":1},{"$f":"IF(OR($C202=\"\",HLOOKUP(L$193,Overall_PI,Database!$B55,FALSE)=\"\",HLOOKUP(L$193,Mandatory_PI,Database!$B55,FALSE)=\"N\"),\"\",1)","v":1},{"$f":"IF(OR($C202=\"\",HLOOKUP(M$193,Overall_PI,Database!$B55,FALSE)=\"\",HLOOKUP(M$193,Mandatory_PI,Database!$B55,FALSE)=\"N\"),\"\",1)","v":""},1,1,null,1,null,1]
[null,null,"I - IDX (Foundation)",{"$f":"IF(OR($C203=\"\",HLOOKUP(D$193,Overall_PI,Database!$B56,FALSE)=\"\",HLOOKUP(D$193,Mandatory_PI,Database!$B56,FALSE)=\"N\"),\"\",1)","v":1},{"$f":"IF(OR($C203=\"\",HLOOKUP(E$193,Overall_PI,Database!$B56,FALSE)=\"\",HLOOKUP(E$193,Mandatory_PI,Database!$B56,FALSE)=\"N\"),\"\",1)","v":1},{"$f":"IF(OR($C203=\"\",HLOOKUP(F$193,Overall_PI,Database!$B56,FALSE)=\"\",HLOOKUP(F$193,Mandatory_PI,Database!$B56,FALSE)=\"N\"),\"\",1)","v":1},{"$f":"IF(OR($C203=\"\",HLOOKUP(G$193,Overall_PI,Database!$B56,FALSE)=\"\",HLOOKUP(G$193,Mandatory_PI,Database!$B56,FALSE)=\"N\"),\"\",1)","v":""},{"$f":"IF(OR($C203=\"\",HLOOKUP(H$193,Overall_PI,Database!$B56,FALSE)=\"\",HLOOKUP(H$193,Mandatory_PI,Database!$B56,FALSE)=\"N\"),\"\",1)","v":1},{"$f":"IF(OR($C203=\"\",HLOOKUP(I$193,Overall_PI,Database!$B56,FALSE)=\"\",HLOOKUP(I$193,Mandatory_PI,Database!$B56,FALSE)=\"N\"),\"\",1)","v":1},{"$f":"IF(OR($C203=\"\",HLOOKUP(J$193,Overall_PI,Database!$B56,FALSE)=\"\",HLOOKUP(J$193,Mandatory_PI,Database!$B56,FALSE)=\"N\"),\"\",1)","v":1},{"$f":"IF(OR($C203=\"\",HLOOKUP(K$193,Overall_PI,Database!$B56,FALSE)=\"\",HLOOKUP(K$193,Mandatory_PI,Database!$B56,FALSE)=\"N\"),\"\",1)","v":1},{"$f":"IF(OR($C203=\"\",HLOOKUP(L$193,Overall_PI,Database!$B56,FALSE)=\"\",HLOOKUP(L$193,Mandatory_PI,Database!$B56,FALSE)=\"N\"),\"\",1)","v":1},{"$f":"IF(OR($C203=\"\",HLOOKUP(M$193,Overall_PI,Database!$B56,FALSE)=\"\",HLOOKUP(M$193,Mandatory_PI,Database!$B56,FALSE)=\"N\"),\"\",1)","v":1},{"$f":"IF(SUM(D203:M203)>=1,1,\"\")","v":1},1,null,1,null,1]
[null,null,"I - IDAM (Foundation)",{"$f":"IF(OR($C204=\"\",HLOOKUP(D$193,Overall_PI,Database!$B57,FALSE)=\"\",HLOOKUP(D$193,Mandatory_PI,Database!$B57,FALSE)=\"N\"),\"\",1)","v":1},{"$f":"IF(OR($C204=\"\",HLOOKUP(E$193,Overall_PI,Database!$B57,FALSE)=\"\",HLOOKUP(E$193,Mandatory_PI,Database!$B57,FALSE)=\"N\"),\"\",1)","v":1},{"$f":"IF(OR($C204=\"\",HLOOKUP(F$193,Overall_PI,Database!$B57,FALSE)=\"\",HLOOKUP(F$193,Mandatory_PI,Database!$B57,FALSE)=\"N\"),\"\",1)","v":1},{"$f":"IF(OR($C204=\"\",HLOOKUP(G$193,Overall_PI,Database!$B57,FALSE)=\"\",HLOOKUP(G$193,Mandatory_PI,Database!$B57,FALSE)=\"N\"),\"\",1)","v":""},{"$f":"IF(OR($C204=\"\",HLOOKUP(H$193,Overall_PI,Database!$B57,FALSE)=\"\",HLOOKUP(H$193,Mandatory_PI,Database!$B57,FALSE)=\"N\"),\"\",1)","v":1},{"$f":"IF(OR($C204=\"\",HLOOKUP(I$193,Overall_PI,Database!$B57,FALSE)=\"\",HLOOKUP(I$193,Mandatory_PI,Database!$B57,FALSE)=\"N\"),\"\",1)","v":1},{"$f":"IF(OR($C204=\"\",HLOOKUP(J$193,Overall_PI,Database!$B57,FALSE)=\"\",HLOOKUP(J$193,Mandatory_PI,Database!$B57,FALSE)=\"N\"),\"\",1)","v":1},{"$f":"IF(OR($C204=\"\",HLOOKUP(K$193,Overall_PI,Database!$B57,FALSE)=\"\",HLOOKUP(K$193,Mandatory_PI,Database!$B57,FALSE)=\"N\"),\"\",1)","v":1},{"$f":"IF(OR($C204=\"\",HLOOKUP(L$193,Overall_PI,Database!$B57,FALSE)=\"\",HLOOKUP(L$193,Mandatory_PI,Database!$B57,FALSE)=\"N\"),\"\",1)","v":1},{"$f":"IF(OR($C204=\"\",HLOOKUP(M$193,Overall_PI,Database!$B57,FALSE)=\"\",HLOOKUP(M$193,Mandatory_PI,Database!$B57,FALSE)=\"N\"),\"\",1)","v":1},1,1,null,1,null,1]
[null,null,"I - MSR (Accelerating Smart Meter Deployment - Package 3)",{"$f":"IF(OR($C205=\"\",HLOOKUP(D$193,Overall_PI,Database!$B58,FALSE)=\"\",HLOOKUP(D$193,Mandatory_PI,Database!$B58,FALSE)=\"N\"),\"\",1)","v":1},{"$f":"IF(OR($C205=\"\",HLOOKUP(E$193,Overall_PI,Database!$B58,FALSE)=\"\",HLOOKUP(E$193,Mandatory_PI,Database!$B58,FALSE)=\"N\"),\"\",1)","v":""},{"$f":"IF(OR($C205=\"\",HLOOKUP(F$193,Overall_PI,Database!$B58,FALSE)=\"\",HLOOKUP(F$193,Mandatory_PI,Database!$B58,FALSE)=\"N\"),\"\",1)","v":""},{"$f":"IF(OR($C205=\"\",HLOOKUP(G$193,Overall_PI,Database!$B58,FALSE)=\"\",HLOOKUP(G$193,Mandatory_PI,Database!$B58,FALSE)=\"N\"),\"\",1)","v":""},{"$f":"IF(OR($C205=\"\",HLOOKUP(H$193,Overall_PI,Database!$B58,FALSE)=\"\",HLOOKUP(H$193,Mandatory_PI,Database!$B58,FALSE)=\"N\"),\"\",1)","v":""},{"$f":"IF(OR($C205=\"\",HLOOKUP(I$193,Overall_PI,Database!$B58,FALSE)=\"\",HLOOKUP(I$193,Mandatory_PI,Database!$B58,FALSE)=\"N\"),\"\",1)","v":""},{"$f":"IF(OR($C205=\"\",HLOOKUP(J$193,Overall_PI,Database!$B58,FALSE)=\"\",HLOOKUP(J$193,Mandatory_PI,Database!$B58,FALSE)=\"N\"),\"\",1)","v":1},{"$f":"IF(OR($C205=\"\",HLOOKUP(K$193,Overall_PI,Database!$B58,FALSE)=\"\",HLOOKUP(K$193,Mandatory_PI,Database!$B58,FALSE)=\"N\"),\"\",1)","v":""},{"$f":"IF(OR($C205=\"\",HLOOKUP(L$193,Overall_PI,Database!$B58,FALSE)=\"\",HLOOKUP(L$193,Mandatory_PI,Database!$B58,FALSE)=\"N\"),\"\",1)","v":1},{"$f":"IF(OR($C205=\"\",HLOOKUP(M$193,Overall_PI,Database!$B58,FALSE)=\"\",HLOOKUP(M$193,Mandatory_PI,Database!$B58,FALSE)=\"N\"),\"\",1)","v":""},1,"",null,1,null,1]
[null,null,"A - Inter-regional SRAs for transmission loops (PEC-MI)",{"$f":"IF(OR($C206=\"\",HLOOKUP(D$193,Overall_PI,Database!$B59,FALSE)=\"\",HLOOKUP(D$193,Mandatory_PI,Database!$B59,FALSE)=\"N\"),\"\",1)","v":1},{"$f":"IF(OR($C206=\"\",HLOOKUP(E$193,Overall_PI,Database!$B59,FALSE)=\"\",HLOOKUP(E$193,Mandatory_PI,Database!$B59,FALSE)=\"N\"),\"\",1)","v":1},{"$f":"IF(OR($C206=\"\",HLOOKUP(F$193,Overall_PI,Database!$B59,FALSE)=\"\",HLOOKUP(F$193,Mandatory_PI,Database!$B59,FALSE)=\"N\"),\"\",1)","v":1},{"$f":"IF(OR($C206=\"\",HLOOKUP(G$193,Overall_PI,Database!$B59,FALSE)=\"\",HLOOKUP(G$193,Mandatory_PI,Database!$B59,FALSE)=\"N\"),\"\",1)","v":""},{"$f":"IF(OR($C206=\"\",HLOOKUP(H$193,Overall_PI,Database!$B59,FALSE)=\"\",HLOOKUP(H$193,Mandatory_PI,Database!$B59,FALSE)=\"N\"),\"\",1)","v":1},{"$f":"IF(OR($C206=\"\",HLOOKUP(I$193,Overall_PI,Database!$B59,FALSE)=\"\",HLOOKUP(I$193,Mandatory_PI,Database!$B59,FALSE)=\"N\"),\"\",1)","v":1},{"$f":"IF(OR($C206=\"\",HLOOKUP(J$193,Overall_PI,Database!$B59,FALSE)=\"\",HLOOKUP(J$193,Mandatory_PI,Database!$B59,FALSE)=\"N\"),\"\",1)","v":""},{"$f":"IF(OR($C206=\"\",HLOOKUP(K$193,Overall_PI,Database!$B59,FALSE)=\"\",HLOOKUP(K$193,Mandatory_PI,Database!$B59,FALSE)=\"N\"),\"\",1)","v":1},{"$f":"IF(OR($C206=\"\",HLOOKUP(L$193,Overall_PI,Database!$B59,FALSE)=\"\",HLOOKUP(L$193,Mandatory_PI,Database!$B59,FALSE)=\"N\"),\"\",1)","v":""},{"$f":"IF(OR($C206=\"\",HLOOKUP(M$193,Overall_PI,Database!$B59,FALSE)=\"\",HLOOKUP(M$193,Mandatory_PI,Database!$B59,FALSE)=\"N\"),\"\",1)","v":""},1,1,null,1,null,1]
[null,null,"",{"$f":"IF(OR($C207=\"\",HLOOKUP(D$193,Overall_PI,Database!$B60,FALSE)=\"\",HLOOKUP(D$193,Mandatory_PI,Database!$B60,FALSE)=\"N\"),\"\",1)","v":""},{"$f":"IF(OR($C207=\"\",HLOOKUP(E$193,Overall_PI,Database!$B60,FALSE)=\"\",HLOOKUP(E$193,Mandatory_PI,Database!$B60,FALSE)=\"N\"),\"\",1)","v":""},{"$f":"IF(OR($C207=\"\",HLOOKUP(F$193,Overall_PI,Database!$B60,FALSE)=\"\",HLOOKUP(F$193,Mandatory_PI,Database!$B60,FALSE)=\"N\"),\"\",1)","v":""},{"$f":"IF(OR($C207=\"\",HLOOKUP(G$193,Overall_PI,Database!$B60,FALSE)=\"\",HLOOKUP(G$193,Mandatory_PI,Database!$B60,FALSE)=\"N\"),\"\",1)","v":""},{"$f":"IF(OR($C207=\"\",HLOOKUP(H$193,Overall_PI,Database!$B60,FALSE)=\"\",HLOOKUP(H$193,Mandatory_PI,Database!$B60,FALSE)=\"N\"),\"\",1)","v":""},{"$f":"IF(OR($C207=\"\",HLOOKUP(I$193,Overall_PI,Database!$B60,FALSE)=\"\",HLOOKUP(I$193,Mandatory_PI,Database!$B60,FALSE)=\"N\"),\"\",1)","v":""},{"$f":"IF(OR($C207=\"\",HLOOKUP(J$193,Overall_PI,Database!$B60,FALSE)=\"\",HLOOKUP(J$193,Mandatory_PI,Database!$B60,FALSE)=\"N\"),\"\",1)","v":""},{"$f":"IF(OR($C207=\"\",HLOOKUP(K$193,Overall_PI,Database!$B60,FALSE)=\"\",HLOOKUP(K$193,Mandatory_PI,Database!$B60,FALSE)=\"N\"),\"\",1)","v":""},{"$f":"IF(OR($C207=\"\",HLOOKUP(L$193,Overall_PI,Database!$B60,FALSE)=\"\",HLOOKUP(L$193,Mandatory_PI,Database!$B60,FALSE)=\"N\"),\"\",1)","v":""},{"$f":"IF(OR($C207=\"\",HLOOKUP(M$193,Overall_PI,Database!$B60,FALSE)=\"\",HLOOKUP(M$193,Mandatory_PI,Database!$B60,FALSE)=\"N\"),\"\",1)","v":""},"","",null,"",null,""]
[null,null,"",{"$f":"IF(OR($C208=\"\",HLOOKUP(D$193,Overall_PI,Database!$B61,FALSE)=\"\",HLOOKUP(D$193,Mandatory_PI,Database!$B61,FALSE)=\"N\"),\"\",1)","v":""},{"$f":"IF(OR($C208=\"\",HLOOKUP(E$193,Overall_PI,Database!$B61,FALSE)=\"\",HLOOKUP(E$193,Mandatory_PI,Database!$B61,FALSE)=\"N\"),\"\",1)","v":""},{"$f":"IF(OR($C208=\"\",HLOOKUP(F$193,Overall_PI,Database!$B61,FALSE)=\"\",HLOOKUP(F$193,Mandatory_PI,Database!$B61,FALSE)=\"N\"),\"\",1)","v":""},{"$f":"IF(OR($C208=\"\",HLOOKUP(G$193,Overall_PI,Database!$B61,FALSE)=\"\",HLOOKUP(G$193,Mandatory_PI,Database!$B61,FALSE)=\"N\"),\"\",1)","v":""},{"$f":"IF(OR($C208=\"\",HLOOKUP(H$193,Overall_PI,Database!$B61,FALSE)=\"\",HLOOKUP(H$193,Mandatory_PI,Database!$B61,FALSE)=\"N\"),\"\",1)","v":""},{"$f":"IF(OR($C208=\"\",HLOOKUP(I$193,Overall_PI,Database!$B61,FALSE)=\"\",HLOOKUP(I$193,Mandatory_PI,Database!$B61,FALSE)=\"N\"),\"\",1)","v":""},{"$f":"IF(OR($C208=\"\",HLOOKUP(J$193,Overall_PI,Database!$B61,FALSE)=\"\",HLOOKUP(J$193,Mandatory_PI,Database!$B61,FALSE)=\"N\"),\"\",1)","v":""},{"$f":"IF(OR($C208=\"\",HLOOKUP(K$193,Overall_PI,Database!$B61,FALSE)=\"\",HLOOKUP(K$193,Mandatory_PI,Database!$B61,FALSE)=\"N\"),\"\",1)","v":""},{"$f":"IF(OR($C208=\"\",HLOOKUP(L$193,Overall_PI,Database!$B61,FALSE)=\"\",HLOOKUP(L$193,Mandatory_PI,Database!$B61,FALSE)=\"N\"),\"\",1)","v":""},{"$f":"IF(OR($C208=\"\",HLOOKUP(M$193,Overall_PI,Database!$B61,FALSE)=\"\",HLOOKUP(M$193,Mandatory_PI,Database!$B61,FALSE)=\"N\"),\"\",1)","v":""},"","",null,"",null,""]
[null,null,"",{"$f":"IF(OR($C209=\"\",HLOOKUP(D$193,Overall_PI,Database!$B62,FALSE)=\"\",HLOOKUP(D$193,Mandatory_PI,Database!$B62,FALSE)=\"N\"),\"\",1)","v":""},{"$f":"IF(OR($C209=\"\",HLOOKUP(E$193,Overall_PI,Database!$B62,FALSE)=\"\",HLOOKUP(E$193,Mandatory_PI,Database!$B62,FALSE)=\"N\"),\"\",1)","v":""},{"$f":"IF(OR($C209=\"\",HLOOKUP(F$193,Overall_PI,Database!$B62,FALSE)=\"\",HLOOKUP(F$193,Mandatory_PI,Database!$B62,FALSE)=\"N\"),\"\",1)","v":""},{"$f":"IF(OR($C209=\"\",HLOOKUP(G$193,Overall_PI,Database!$B62,FALSE)=\"\",HLOOKUP(G$193,Mandatory_PI,Database!$B62,FALSE)=\"N\"),\"\",1)","v":""},{"$f":"IF(OR($C209=\"\",HLOOKUP(H$193,Overall_PI,Database!$B62,FALSE)=\"\",HLOOKUP(H$193,Mandatory_PI,Database!$B62,FALSE)=\"N\"),\"\",1)","v":""},{"$f":"IF(OR($C209=\"\",HLOOKUP(I$193,Overall_PI,Database!$B62,FALSE)=\"\",HLOOKUP(I$193,Mandatory_PI,Database!$B62,FALSE)=\"N\"),\"\",1)","v":""},{"$f":"IF(OR($C209=\"\",HLOOKUP(J$193,Overall_PI,Database!$B62,FALSE)=\"\",HLOOKUP(J$193,Mandatory_PI,Database!$B62,FALSE)=\"N\"),\"\",1)","v":""},{"$f":"IF(OR($C209=\"\",HLOOKUP(K$193,Overall_PI,Database!$B62,FALSE)=\"\",HLOOKUP(K$193,Mandatory_PI,Database!$B62,FALSE)=\"N\"),\"\",1)","v":""},{"$f":"IF(OR($C209=\"\",HLOOKUP(L$193,Overall_PI,Database!$B62,FALSE)=\"\",HLOOKUP(L$193,Mandatory_PI,Database!$B62,FALSE)=\"N\"),\"\",1)","v":""},{"$f":"IF(OR($C209=\"\",HLOOKUP(M$193,Overall_PI,Database!$B62,FALSE)=\"\",HLOOKUP(M$193,Mandatory_PI,Database!$B62,FALSE)=\"N\"),\"\",1)","v":""},"","",null,"",null,""]
[null,null,"",{"$f":"IF(OR($C210=\"\",HLOOKUP(D$193,Overall_PI,Database!$B63,FALSE)=\"\",HLOOKUP(D$193,Mandatory_PI,Database!$B63,FALSE)=\"N\"),\"\",1)","v":""},{"$f":"IF(OR($C210=\"\",HLOOKUP(E$193,Overall_PI,Database!$B63,FALSE)=\"\",HLOOKUP(E$193,Mandatory_PI,Database!$B63,FALSE)=\"N\"),\"\",1)","v":""},{"$f":"IF(OR($C210=\"\",HLOOKUP(F$193,Overall_PI,Database!$B63,FALSE)=\"\",HLOOKUP(F$193,Mandatory_PI,Database!$B63,FALSE)=\"N\"),\"\",1)","v":""},{"$f":"IF(OR($C210=\"\",HLOOKUP(G$193,Overall_PI,Database!$B63,FALSE)=\"\",HLOOKUP(G$193,Mandatory_PI,Database!$B63,FALSE)=\"N\"),\"\",1)","v":""},{"$f":"IF(OR($C210=\"\",HLOOKUP(H$193,Overall_PI,Database!$B63,FALSE)=\"\",HLOOKUP(H$193,Mandatory_PI,Database!$B63,FALSE)=\"N\"),\"\",1)","v":""},{"$f":"IF(OR($C210=\"\",HLOOKUP(I$193,Overall_PI,Database!$B63,FALSE)=\"\",HLOOKUP(I$193,Mandatory_PI,Database!$B63,FALSE)=\"N\"),\"\",1)","v":""},{"$f":"IF(OR($C210=\"\",HLOOKUP(J$193,Overall_PI,Database!$B63,FALSE)=\"\",HLOOKUP(J$193,Mandatory_PI,Database!$B63,FALSE)=\"N\"),\"\",1)","v":""},{"$f":"IF(OR($C210=\"\",HLOOKUP(K$193,Overall_PI,Database!$B63,FALSE)=\"\",HLOOKUP(K$193,Mandatory_PI,Database!$B63,FALSE)=\"N\"),\"\",1)","v":""},{"$f":"IF(OR($C210=\"\",HLOOKUP(L$193,Overall_PI,Database!$B63,FALSE)=\"\",HLOOKUP(L$193,Mandatory_PI,Database!$B63,FALSE)=\"N\"),\"\",1)","v":""},{"$f":"IF(OR($C210=\"\",HLOOKUP(M$193,Overall_PI,Database!$B63,FALSE)=\"\",HLOOKUP(M$193,Mandatory_PI,Database!$B63,FALSE)=\"N\"),\"\",1)","v":""},"","",null,"",null,""]
[null,null,"",{"$f":"IF(OR($C211=\"\",HLOOKUP(D$193,Overall_PI,Database!$B64,FALSE)=\"\",HLOOKUP(D$193,Mandatory_PI,Database!$B64,FALSE)=\"N\"),\"\",1)","v":""},{"$f":"IF(OR($C211=\"\",HLOOKUP(E$193,Overall_PI,Database!$B64,FALSE)=\"\",HLOOKUP(E$193,Mandatory_PI,Database!$B64,FALSE)=\"N\"),\"\",1)","v":""},{"$f":"IF(OR($C211=\"\",HLOOKUP(F$193,Overall_PI,Database!$B64,FALSE)=\"\",HLOOKUP(F$193,Mandatory_PI,Database!$B64,FALSE)=\"N\"),\"\",1)","v":""},{"$f":"IF(OR($C211=\"\",HLOOKUP(G$193,Overall_PI,Database!$B64,FALSE)=\"\",HLOOKUP(G$193,Mandatory_PI,Database!$B64,FALSE)=\"N\"),\"\",1)","v":""},{"$f":"IF(OR($C211=\"\",HLOOKUP(H$193,Overall_PI,Database!$B64,FALSE)=\"\",HLOOKUP(H$193,Mandatory_PI,Database!$B64,FALSE)=\"N\"),\"\",1)","v":""},{"$f":"IF(OR($C211=\"\",HLOOKUP(I$193,Overall_PI,Database!$B64,FALSE)=\"\",HLOOKUP(I$193,Mandatory_PI,Database!$B64,FALSE)=\"N\"),\"\",1)","v":""},{"$f":"IF(OR($C211=\"\",HLOOKUP(J$193,Overall_PI,Database!$B64,FALSE)=\"\",HLOOKUP(J$193,Mandatory_PI,Database!$B64,FALSE)=\"N\"),\"\",1)","v":""},{"$f":"IF(OR($C211=\"\",HLOOKUP(K$193,Overall_PI,Database!$B64,FALSE)=\"\",HLOOKUP(K$193,Mandatory_PI,Database!$B64,FALSE)=\"N\"),\"\",1)","v":""},{"$f":"IF(OR($C211=\"\",HLOOKUP(L$193,Overall_PI,Database!$B64,FALSE)=\"\",HLOOKUP(L$193,Mandatory_PI,Database!$B64,FALSE)=\"N\"),\"\",1)","v":""},{"$f":"IF(OR($C211=\"\",HLOOKUP(M$193,Overall_PI,Database!$B64,FALSE)=\"\",HLOOKUP(M$193,Mandatory_PI,Database!$B64,FALSE)=\"N\"),\"\",1)","v":""},"","",null,"",null,""]
[null,null,"",{"$f":"IF(OR($C212=\"\",HLOOKUP(D$193,Overall_PI,Database!$B65,FALSE)=\"\",HLOOKUP(D$193,Mandatory_PI,Database!$B65,FALSE)=\"N\"),\"\",1)","v":""},{"$f":"IF(OR($C212=\"\",HLOOKUP(E$193,Overall_PI,Database!$B65,FALSE)=\"\",HLOOKUP(E$193,Mandatory_PI,Database!$B65,FALSE)=\"N\"),\"\",1)","v":""},{"$f":"IF(OR($C212=\"\",HLOOKUP(F$193,Overall_PI,Database!$B65,FALSE)=\"\",HLOOKUP(F$193,Mandatory_PI,Database!$B65,FALSE)=\"N\"),\"\",1)","v":""},{"$f":"IF(OR($C212=\"\",HLOOKUP(G$193,Overall_PI,Database!$B65,FALSE)=\"\",HLOOKUP(G$193,Mandatory_PI,Database!$B65,FALSE)=\"N\"),\"\",1)","v":""},{"$f":"IF(OR($C212=\"\",HLOOKUP(H$193,Overall_PI,Database!$B65,FALSE)=\"\",HLOOKUP(H$193,Mandatory_PI,Database!$B65,FALSE)=\"N\"),\"\",1)","v":""},{"$f":"IF(OR($C212=\"\",HLOOKUP(I$193,Overall_PI,Database!$B65,FALSE)=\"\",HLOOKUP(I$193,Mandatory_PI,Database!$B65,FALSE)=\"N\"),\"\",1)","v":""},{"$f":"IF(OR($C212=\"\",HLOOKUP(J$193,Overall_PI,Database!$B65,FALSE)=\"\",HLOOKUP(J$193,Mandatory_PI,Database!$B65,FALSE)=\"N\"),\"\",1)","v":""},{"$f":"IF(OR($C212=\"\",HLOOKUP(K$193,Overall_PI,Database!$B65,FALSE)=\"\",HLOOKUP(K$193,Mandatory_PI,Database!$B65,FALSE)=\"N\"),\"\",1)","v":""},{"$f":"IF(OR($C212=\"\",HLOOKUP(L$193,Overall_PI,Database!$B65,FALSE)=\"\",HLOOKUP(L$193,Mandatory_PI,Database!$B65,FALSE)=\"N\"),\"\",1)","v":""},{"$f":"IF(OR($C212=\"\",HLOOKUP(M$193,Overall_PI,Database!$B65,FALSE)=\"\",HLOOKUP(M$193,Mandatory_PI,Database!$B65,FALSE)=\"N\"),\"\",1)","v":""},"","",null,"",null,""]
[null,null,"",{"$f":"IF(OR($C213=\"\",HLOOKUP(D$193,Overall_PI,Database!$B66,FALSE)=\"\",HLOOKUP(D$193,Mandatory_PI,Database!$B66,FALSE)=\"N\"),\"\",1)","v":""},{"$f":"IF(OR($C213=\"\",HLOOKUP(E$193,Overall_PI,Database!$B66,FALSE)=\"\",HLOOKUP(E$193,Mandatory_PI,Database!$B66,FALSE)=\"N\"),\"\",1)","v":""},{"$f":"IF(OR($C213=\"\",HLOOKUP(F$193,Overall_PI,Database!$B66,FALSE)=\"\",HLOOKUP(F$193,Mandatory_PI,Database!$B66,FALSE)=\"N\"),\"\",1)","v":""},{"$f":"IF(OR($C213=\"\",HLOOKUP(G$193,Overall_PI,Database!$B66,FALSE)=\"\",HLOOKUP(G$193,Mandatory_PI,Database!$B66,FALSE)=\"N\"),\"\",1)","v":""},{"$f":"IF(OR($C213=\"\",HLOOKUP(H$193,Overall_PI,Database!$B66,FALSE)=\"\",HLOOKUP(H$193,Mandatory_PI,Database!$B66,FALSE)=\"N\"),\"\",1)","v":""},{"$f":"IF(OR($C213=\"\",HLOOKUP(I$193,Overall_PI,Database!$B66,FALSE)=\"\",HLOOKUP(I$193,Mandatory_PI,Database!$B66,FALSE)=\"N\"),\"\",1)","v":""},{"$f":"IF(OR($C213=\"\",HLOOKUP(J$193,Overall_PI,Database!$B66,FALSE)=\"\",HLOOKUP(J$193,Mandatory_PI,Database!$B66,FALSE)=\"N\"),\"\",1)","v":""},{"$f":"IF(OR($C213=\"\",HLOOKUP(K$193,Overall_PI,Database!$B66,FALSE)=\"\",HLOOKUP(K$193,Mandatory_PI,Database!$B66,FALSE)=\"N\"),\"\",1)","v":""},{"$f":"IF(OR($C213=\"\",HLOOKUP(L$193,Overall_PI,Database!$B66,FALSE)=\"\",HLOOKUP(L$193,Mandatory_PI,Database!$B66,FALSE)=\"N\"),\"\",1)","v":""},{"$f":"IF(OR($C213=\"\",HLOOKUP(M$193,Overall_PI,Database!$B66,FALSE)=\"\",HLOOKUP(M$193,Mandatory_PI,Database!$B66,FALSE)=\"N\"),\"\",1)","v":""},{"$f":"IF(SUM(D213:M213)>=1,1,\"\")","v":""},"",null,"",null,""]
[]
[null,null,"Inflight Initiatives","Participant Implementation - Flags",null,null,null,null,null,null,null,null,null,null,null,null,null,"Industry Implementation - Flags"]
[null,null,null,"Step",{"$f":"Start_Yr","v":2025},null,null,null,{"$f":"E216+1","v":2026},null,null,null,{"$f":"I216+1","v":2027},null,null,null,null,{"$f":"Start_Yr","v":2025},null,null,null,{"$f":"R216+1","v":2026},null,null,null,{"$f":"V216+1","v":2027}]
[null,null,null,null,"Q1","Q2","Q3","Q4","Q1","Q2","Q3","Q4","Q1","Q2","Q3","Q4",null,"Q1","Q2","Q3","Q4","Q1","Q2","Q3","Q4","Q1","Q2","Q3","Q4"]
[null,null,{"$f":"IF(C48=\"\",\"\",C48)","v":"I - SCADA Lite"},"PG",{"$f":"IF(OR($C218=\"\",HLOOKUP(Participant_Type,Overall_PI,$B47,FALSE)=\"\",HLOOKUP(Participant_Type,Mandatory_PI,$B47,FALSE)=\"N\"),\"\",IF(AND(DATE(E$216,VLOOKUP(E$217,Qtrs,$D$44,FALSE),1)>=DATE($AB48,HLOOKUP($AA48,Mths,$B$12,FALSE),1),DATE(E$216,VLOOKUP(E$217,Qtrs,$D$44,FALSE),1)<=DATE($AD48,HLOOKUP($AC48,Mths,$B$12,FALSE),HLOOKUP($AC48,Mths,$B$13,FALSE))),1,\"\"))","v":1},{"$f":"IF(OR($C218=\"\",HLOOKUP(Participant_Type,Overall_PI,$B47,FALSE)=\"\",HLOOKUP(Participant_Type,Mandatory_PI,$B47,FALSE)=\"N\"),\"\",IF(AND(DATE(E$216,VLOOKUP(F$217,Qtrs,$D$44,FALSE),1)>=DATE($AB48,HLOOKUP($AA48,Mths,$B$12,FALSE),1),DATE(E$216,VLOOKUP(F$217,Qtrs,$D$44,FALSE),1)<=DATE($AD48,HLOOKUP($AC48,Mths,$B$12,FALSE),HLOOKUP($AC48,Mths,$B$13,FALSE))),1,\"\"))","v":1},{"$f":"IF(OR($C218=\"\",HLOOKUP(Participant_Type,Overall_PI,$B47,FALSE)=\"\",HLOOKUP(Participant_Type,Mandatory_PI,$B47,FALSE)=\"N\"),\"\",IF(AND(DATE(E$216,VLOOKUP(G$217,Qtrs,$D$44,FALSE),1)>=DATE($AB48,HLOOKUP($AA48,Mths,$B$12,FALSE),1),DATE(E$216,VLOOKUP(G$217,Qtrs,$D$44,FALSE),1)<=DATE($AD48,HLOOKUP($AC48,Mths,$B$12,FALSE),HLOOKUP($AC48,Mths,$B$13,FALSE))),1,\"\"))","v":""},{"$f":"IF(OR($C218=\"\",HLOOKUP(Participant_Type,Overall_PI,$B47,FALSE)=\"\",HLOOKUP(Participant_Type,Mandatory_PI,$B47,FALSE)=\"N\"),\"\",IF(AND(DATE(E$216,VLOOKUP(H$217,Qtrs,$D$44,FALSE),1)>=DATE($AB48,HLOOKUP($AA48,Mths,$B$12,FALSE),1),DATE(E$216,VLOOKUP(H$217,Qtrs,$D$44,FALSE),1)<=DATE($AD48,HLOOKUP($AC48,Mths,$B$12,FALSE),HLOOKUP($AC48,Mths,$B$13,FALSE))),1,\"\"))","v":""},{"$f":"IF(OR($C218=\"\",HLOOKUP(Participant_Type,Overall_PI,$B47,FALSE)=\"\",HLOOKUP(Participant_Type,Mandatory_PI,$B47,FALSE)=\"N\"),\"\",IF(AND(DATE(I$216,VLOOKUP(I$217,Qtrs,$D$44,FALSE),1)>=DATE($AB48,HLOOKUP($AA48,Mths,$B$12,FALSE),1),DATE(I$216,VLOOKUP(I$217,Qtrs,$D$44,FALSE),1)<=DATE($AD48,HLOOKUP($AC48,Mths,$B$12,FALSE),HLOOKUP($AC48,Mths,$B$13,FALSE))),1,\"\"))","v":""},{"$f":"IF(OR($C218=\"\",HLOOKUP(Participant_Type,Overall_PI,$B47,FALSE)=\"\",HLOOKUP(Participant_Type,Mandatory_PI,$B47,FALSE)=\"N\"),\"\",IF(AND(DATE(I$216,VLOOKUP(J$217,Qtrs,$D$44,FALSE),1)>=DATE($AB48,HLOOKUP($AA48,Mths,$B$12,FALSE),1),DATE(I$216,VLOOKUP(J$217,Qtrs,$D$44,FALSE),1)<=DATE($AD48,HLOOKUP($AC48,Mths,$B$12,FALSE),HLOOKUP($AC48,Mths,$B$13,FALSE))),1,\"\"))","v":""},{"$f":"IF(OR($C218=\"\",HLOOKUP(Participant_Type,Overall_PI,$B47,FALSE)=\"\",HLOOKUP(Participant_Type,Mandatory_PI,$B47,FALSE)=\"N\"),\"\",IF(AND(DATE(I$216,VLOOKUP(K$217,Qtrs,$D$44,FALSE),1)>=DATE($AB48,HLOOKUP($AA48,Mths,$B$12,FALSE),1),DATE(I$216,VLOOKUP(K$217,Qtrs,$D$44,FALSE),1)<=DATE($AD48,HLOOKUP($AC48,Mths,$B$12,FALSE),HLOOKUP($AC48,Mths,$B$13,FALSE))),1,\"\"))","v":""},{"$f":"IF(OR($C218=\"\",HLOOKUP(Participant_Type,Overall_PI,$B47,FALSE)=\"\",HLOOKUP(Participant_Type,Mandatory_PI,$B47,FALSE)=\"N\"),\"\",IF(AND(DATE(I$216,VLOOKUP(L$217,Qtrs,$D$44,FALSE),1)>=DATE($AB48,HLOOKUP($AA48,Mths,$B$12,FALSE),1),DATE(I$216,VLOOKUP(L$217,Qtrs,$D$44,FALSE),1)<=DATE($AD48,HLOOKUP($AC48,Mths,$B$12,FALSE),HLOOKUP($AC48,Mths,$B$13,FALSE))),1,\"\"))","v":""},{"$f":"IF(OR($C218=\"\",HLOOKUP(Participant_Type,Overall_PI,$B47,FALSE)=\"\",HLOOKUP(Participant_Type,Mandatory_PI,$B47,FALSE)=\"N\"),\"\",IF(AND(DATE(M$216,VLOOKUP(M$217,Qtrs,$D$44,FALSE),1)>=DATE($AB48,HLOOKUP($AA48,Mths,$B$12,FALSE),1),DATE(M$216,VLOOKUP(M$217,Qtrs,$D$44,FALSE),1)<=DATE($AD48,HLOOKUP($AC48,Mths,$B$12,FALSE),HLOOKUP($AC48,Mths,$B$13,FALSE))),1,\"\"))","v":""},{"$f":"IF(OR($C218=\"\",HLOOKUP(Participant_Type,Overall_PI,$B47,FALSE)=\"\",HLOOKUP(Participant_Type,Mandatory_PI,$B47,FALSE)=\"N\"),\"\",IF(AND(DATE(M$216,VLOOKUP(N$217,Qtrs,$D$44,FALSE),1)>=DATE($AB48,HLOOKUP($AA48,Mths,$B$12,FALSE),1),DATE(M$216,VLOOKUP(N$217,Qtrs,$D$44,FALSE),1)<=DATE($AD48,HLOOKUP($AC48,Mths,$B$12,FALSE),HLOOKUP($AC48,Mths,$B$13,FALSE))),1,\"\"))","v":""},{"$f":"IF(OR($C218=\"\",HLOOKUP(Participant_Type,Overall_PI,$B47,FALSE)=\"\",HLOOKUP(Participant_Type,Mandatory_PI,$B47,FALSE)=\"N\"),\"\",IF(AND(DATE(M$216,VLOOKUP(O$217,Qtrs,$D$44,FALSE),1)>=DATE($AB48,HLOOKUP($AA48,Mths,$B$12,FALSE),1),DATE(M$216,VLOOKUP(O$217,Qtrs,$D$44,FALSE),1)<=DATE($AD48,HLOOKUP($AC48,Mths,$B$12,FALSE),HLOOKUP($AC48,Mths,$B$13,FALSE))),1,\"\"))","v":""},{"$f":"IF(OR($C218=\"\",HLOOKUP(Participant_Type,Overall_PI,$B47,FALSE)=\"\",HLOOKUP(Participant_Type,Mandatory_PI,$B47,FALSE)=\"N\"),\"\",IF(AND(DATE(M$216,VLOOKUP(P$217,Qtrs,$D$44,FALSE),1)>=DATE($AB48,HLOOKUP($AA48,Mths,$B$12,FALSE),1),DATE(M$216,VLOOKUP(P$217,Qtrs,$D$44,FALSE),1)<=DATE($AD48,HLOOKUP($AC48,Mths,$B$12,FALSE),HLOOKUP($AC48,Mths,$B$13,FALSE))),1,\"\"))","v":""},null,{"$f":"IF(OR($C218=\"\",HLOOKUP(Industry_Segment,Industry_Golive,$B47,FALSE)=\"\"),\"\",IF(AND(DATE(R$216,VLOOKUP(R$217,Qtrs,$D$44,FALSE),1)>=DATE($AB48,HLOOKUP($AA48,Mths,$B$12,FALSE),1),DATE(R$216,VLOOKUP(R$217,Qtrs,$D$44,FALSE),1)<=DATE($AD48,HLOOKUP($AC48,Mths,$B$12,FALSE),HLOOKUP($AC48,Mths,$B$13,FALSE))),1,\"\"))","v":1},{"$f":"IF(OR($C218=\"\",HLOOKUP(Industry_Segment,Industry_Golive,$B47,FALSE)=\"\"),\"\",IF(AND(DATE(R$216,VLOOKUP(S$217,Qtrs,$D$44,FALSE),1)>=DATE($AB48,HLOOKUP($AA48,Mths,$B$12,FALSE),1),DATE(R$216,VLOOKUP(S$217,Qtrs,$D$44,FALSE),1)<=DATE($AD48,HLOOKUP($AC48,Mths,$B$12,FALSE),HLOOKUP($AC48,Mths,$B$13,FALSE))),1,\"\"))","v":1},{"$f":"IF(OR($C218=\"\",HLOOKUP(Industry_Segment,Industry_Golive,$B47,FALSE)=\"\"),\"\",IF(AND(DATE(R$216,VLOOKUP(T$217,Qtrs,$D$44,FALSE),1)>=DATE($AB48,HLOOKUP($AA48,Mths,$B$12,FALSE),1),DATE(R$216,VLOOKUP(T$217,Qtrs,$D$44,FALSE),1)<=DATE($AD48,HLOOKUP($AC48,Mths,$B$12,FALSE),HLOOKUP($AC48,Mths,$B$13,FALSE))),1,\"\"))","v":""},{"$f":"IF(OR($C218=\"\",HLOOKUP(Industry_Segment,Industry_Golive,$B47,FALSE)=\"\"),\"\",IF(AND(DATE(R$216,VLOOKUP(U$217,Qtrs,$D$44,FALSE),1)>=DATE($AB48,HLOOKUP($AA48,Mths,$B$12,FALSE),1),DATE(R$216,VLOOKUP(U$217,Qtrs,$D$44,FALSE),1)<=DATE($AD48,HLOOKUP($AC48,Mths,$B$12,FALSE),HLOOKUP($AC48,Mths,$B$13,FALSE))),1,\"\"))","v":""},{"$f":"IF(OR($C218=\"\",HLOOKUP(Industry_Segment,Industry_Golive,$B47,FALSE)=\"\"),\"\",IF(AND(DATE(V$216,VLOOKUP(V$217,Qtrs,$D$44,FALSE),1)>=DATE($AB48,HLOOKUP($AA48,Mths,$B$12,FALSE),1),DATE(V$216,VLOOKUP(V$217,Qtrs,$D$44,FALSE),1)<=DATE($AD48,HLOOKUP($AC48,Mths,$B$12,FALSE),HLOOKUP($AC48,Mths,$B$13,FALSE))),1,\"\"))","v":""},{"$f":"IF(OR($C218=\"\",HLOOKUP(Industry_Segment,Industry_Golive,$B47,FALSE)=\"\"),\"\",IF(AND(DATE(V$216,VLOOKUP(W$217,Qtrs,$D$44,FALSE),1)>=DATE($AB48,HLOOKUP($AA48,Mths,$B$12,FALSE),1),DATE(V$216,VLOOKUP(W$217,Qtrs,$D$44,FALSE),1)<=DATE($AD48,HLOOKUP($AC48,Mths,$B$12,FALSE),HLOOKUP($AC48,Mths,$B$13,FALSE))),1,\"\"))","v":""},{"$f":"IF(OR($C218=\"\",HLOOKUP(Industry_Segment,Industry_Golive,$B47,FALSE)=\"\"),\"\",IF(AND(DATE(V$216,VLOOKUP(X$217,Qtrs,$D$44,FALSE),1)>=DATE($AB48,HLOOKUP($AA48,Mths,$B$12,FALSE),1),DATE(V$216,VLOOKUP(X$217,Qtrs,$D$44,FALSE),1)<=DATE($AD48,HLOOKUP($AC48,Mths,$B$12,FALSE),HLOOKUP($AC48,Mths,$B$13,FALSE))),1,\"\"))","v":""},{"$f":"IF(OR($C218=\"\",HLOOKUP(Industry_Segment,Industry_Golive,$B47,FALSE)=\"\"),\"\",IF(AND(DATE(V$216,VLOOKUP(Y$217,Qtrs,$D$44,FALSE),1)>=DATE($AB48,HLOOKUP($AA48,Mths,$B$12,FALSE),1),DATE(V$216,VLOOKUP(Y$217,Qtrs,$D$44,FALSE),1)<=DATE($AD48,HLOOKUP($AC48,Mths,$B$12,FALSE),HLOOKUP($AC48,Mths,$B$13,FALSE))),1,\"\"))","v":""},{"$f":"IF(OR($C218=\"\",HLOOKUP(Industry_Segment,Industry_Golive,$B47,FALSE)=\"\"),\"\",IF(AND(DATE(Z$216,VLOOKUP(Z$217,Qtrs,$D$44,FALSE),1)>=DATE($AB48,HLOOKUP($AA48,Mths,$B$12,FALSE),1),DATE(Z$216,VLOOKUP(Z$217,Qtrs,$D$44,FALSE),1)<=DATE($AD48,HLOOKUP($AC48,Mths,$B$12,FALSE),HLOOKUP($AC48,Mths,$B$13,FALSE))),1,\"\"))","v":""},{"$f":"IF(OR($C218=\"\",HLOOKUP(Industry_Segment,Industry_Golive,$B47,FALSE)=\"\"),\"\",IF(AND(DATE(Z$216,VLOOKUP(AA$217,Qtrs,$D$44,FALSE),1)>=DATE($AB48,HLOOKUP($AA48,Mths,$B$12,FALSE),1),DATE(Z$216,VLOOKUP(AA$217,Qtrs,$D$44,FALSE),1)<=DATE($AD48,HLOOKUP($AC48,Mths,$B$12,FALSE),HLOOKUP($AC48,Mths,$B$13,FALSE))),1,\"\"))","v":""},{"$f":"IF(OR($C218=\"\",HLOOKUP(Industry_Segment,Industry_Golive,$B47,FALSE)=\"\"),\"\",IF(AND(DATE(Z$216,VLOOKUP(AB$217,Qtrs,$D$44,FALSE),1)>=DATE($AB48,HLOOKUP($AA48,Mths,$B$12,FALSE),1),DATE(Z$216,VLOOKUP(AB$217,Qtrs,$D$44,FALSE),1)<=DATE($AD48,HLOOKUP($AC48,Mths,$B$12,FALSE),HLOOKUP($AC48,Mths,$B$13,FALSE))),1,\"\"))","v":""},{"$f":"IF(OR($C218=\"\",HLOOKUP(Industry_Segment,Industry_Golive,$B47,FALSE)=\"\"),\"\",IF(AND(DATE(Z$216,VLOOKUP(AC$217,Qtrs,$D$44,FALSE),1)>=DATE($AB48,HLOOKUP($AA48,Mths,$B$12,FALSE),1),DATE(Z$216,VLOOKUP(AC$217,Qtrs,$D$44,FALSE),1)<=DATE($AD48,HLOOKUP($AC48,Mths,$B$12,FALSE),HLOOKUP($AC48,Mths,$B$13,FALSE))),1,\"\"))","v":""}]
[null,null,"I - Frequency Performance Payments","PG","","","","","","","","","","","","",null,"","","","","","","","","","","",""]
[null,null,"I - Enhancing Reserve Information","PG",1,1,1,"","","","","","","","","",null,1,1,1,"","","","","","","","",""]
[null,null,"I - ST PASA Procedure & Recall Period","PG",1,1,1,"","","","","","","","","",null,1,1,1,"","","","","","","","",""]
[null,null,"I - Improving Security Frameworks","PG",1,1,1,1,"","","","","","","","",null,1,1,1,1,"","","","","","","",""]
[null,null,"I - Unlocking CER Benefits Through Flexible Trading","PG","",1,1,1,"","","","","","","","",null,"",1,1,1,"","","","","","","",""]
[null,null,"I - MSR (Accelerating Smart Meter Deployment - Package 1 & 2)","PG",1,1,"","","","","","","","","","",null,1,1,"","","","","","","","","",""]
[null,null,"I - Shortening the Settlement Cycle","PG","",1,1,1,1,1,"","","","","","",null,"",1,1,1,1,1,"","","","","",""]
[null,null,"I - Integrating Price Responsive Resources into the NEM","PG","",1,1,1,1,1,"","","","","","",null,"",1,1,1,1,1,"","","","","",""]
[null,null,"I - IDX (Foundation)","PG",1,1,1,1,1,1,"","","","","","",null,1,1,1,1,1,1,"","","","","",""]
[null,null,"I - IDAM (Foundation)","PG",1,1,"","","","","","","","","","",null,1,1,"","","","","","","","","",""]
[null,null,"I - MSR (Accelerating Smart Meter Deployment - Package 3)","PG","",1,1,"","","","","","","","","",null,"",1,1,"","","","","","","","",""]
[null,null,"A - Inter-regional SRAs for transmission loops (PEC-MI)","PG","",1,1,1,1,"","","","","","","",null,"",1,1,1,1,"","","","","","",""]
[null,null,"","PG","","","","","","","","","","","","",null,"","","","","","","","","","","",""]
[null,null,"","PG","","","","","","","","","","","","",null,"","","","","","","","","","","",""]
[null,null,"","PG","","","","","","","","","","","","",null,"","","","","","","","","","","",""]
[null,null,"","PG","","","","","","","","","","","","",null,"","","","","","","","","","","",""]
[null,null,"","PG","","","","","","","","","","","","",null,"","","","","","","","","","","",""]
[null,null,"","PG","","","","","","","","","","","","",null,"","","","","","","","","","","",""]
[null,null,"","PG","","","","","","","","","","","","",null,"","","","","","","","","","","",""]
[null,null,{"$f":"IF(C48=\"\",\"\",C48)","v":"I - SCADA Lite"},"IT",{"$f":"IF(OR($C238=\"\",HLOOKUP(Participant_Type,Overall_PI,$B47,FALSE)=\"\",HLOOKUP(Participant_Type,Mandatory_PI,$B47,FALSE)=\"N\"),\"\",\n\nIF(AND(Participant_Type=$AM$46,DATE(E$216,VLOOKUP(E$217,Qtrs,$D$44,FALSE),1)>=DATE($AJ48,HLOOKUP($AI48,Mths,$B$12,FALSE),1),DATE(E$216,VLOOKUP(E$217,Qtrs,$D$44,FALSE),1)<=DATE($AL48,HLOOKUP($AK48,Mths,$B$12,FALSE),HLOOKUP($AK48,Mths,$B$13,FALSE))),1,\n\nIF(AND(DATE(E$216,VLOOKUP(E$217,Qtrs,$D$44,FALSE),1)>=DATE($AO48,HLOOKUP($AN48,Mths,$B$12,FALSE),1),DATE(E$216,VLOOKUP(E$217,Qtrs,$D$44,FALSE),1)<=DATE($AQ48,HLOOKUP($AP48,Mths,$B$12,FALSE),HLOOKUP($AP48,Mths,$B$13,FALSE))),1,\"\")))","v":1},{"$f":"IF(OR($C238=\"\",HLOOKUP(Participant_Type,Overall_PI,$B47,FALSE)=\"\",HLOOKUP(Participant_Type,Mandatory_PI,$B47,FALSE)=\"N\"),\"\",\n\nIF(AND(Participant_Type=$AM$46,DATE(E$216,VLOOKUP(F$217,Qtrs,$D$44,FALSE),1)>=DATE($AJ48,HLOOKUP($AI48,Mths,$B$12,FALSE),1),DATE(E$216,VLOOKUP(F$217,Qtrs,$D$44,FALSE),1)<=DATE($AL48,HLOOKUP($AK48,Mths,$B$12,FALSE),HLOOKUP($AK48,Mths,$B$13,FALSE))),1,\n\nIF(AND(DATE(E$216,VLOOKUP(F$217,Qtrs,$D$44,FALSE),1)>=DATE($AO48,HLOOKUP($AN48,Mths,$B$12,FALSE),1),DATE(E$216,VLOOKUP(F$217,Qtrs,$D$44,FALSE),1)<=DATE($AQ48,HLOOKUP($AP48,Mths,$B$12,FALSE),HLOOKUP($AP48,Mths,$B$13,FALSE))),1,\"\")))","v":1},{"$f":"IF(OR($C238=\"\",HLOOKUP(Participant_Type,Overall_PI,$B47,FALSE)=\"\",HLOOKUP(Participant_Type,Mandatory_PI,$B47,FALSE)=\"N\"),\"\",\n\nIF(AND(Participant_Type=$AM$46,DATE(E$216,VLOOKUP(G$217,Qtrs,$D$44,FALSE),1)>=DATE($AJ48,HLOOKUP($AI48,Mths,$B$12,FALSE),1),DATE(E$216,VLOOKUP(G$217,Qtrs,$D$44,FALSE),1)<=DATE($AL48,HLOOKUP($AK48,Mths,$B$12,FALSE),HLOOKUP($AK48,Mths,$B$13,FALSE))),1,\n\nIF(AND(DATE(E$216,VLOOKUP(G$217,Qtrs,$D$44,FALSE),1)>=DATE($AO48,HLOOKUP($AN48,Mths,$B$12,FALSE),1),DATE(E$216,VLOOKUP(G$217,Qtrs,$D$44,FALSE),1)<=DATE($AQ48,HLOOKUP($AP48,Mths,$B$12,FALSE),HLOOKUP($AP48,Mths,$B$13,FALSE))),1,\"\")))","v":""},{"$f":"IF(OR($C238=\"\",HLOOKUP(Participant_Type,Overall_PI,$B47,FALSE)=\"\",HLOOKUP(Participant_Type,Mandatory_PI,$B47,FALSE)=\"N\"),\"\",\n\nIF(AND(Participant_Type=$AM$46,DATE(E$216,VLOOKUP(H$217,Qtrs,$D$44,FALSE),1)>=DATE($AJ48,HLOOKUP($AI48,Mths,$B$12,FALSE),1),DATE(E$216,VLOOKUP(H$217,Qtrs,$D$44,FALSE),1)<=DATE($AL48,HLOOKUP($AK48,Mths,$B$12,FALSE),HLOOKUP($AK48,Mths,$B$13,FALSE))),1,\n\nIF(AND(DATE(E$216,VLOOKUP(H$217,Qtrs,$D$44,FALSE),1)>=DATE($AO48,HLOOKUP($AN48,Mths,$B$12,FALSE),1),DATE(E$216,VLOOKUP(H$217,Qtrs,$D$44,FALSE),1)<=DATE($AQ48,HLOOKUP($AP48,Mths,$B$12,FALSE),HLOOKUP($AP48,Mths,$B$13,FALSE))),1,\"\")))","v":""},{"$f":"IF(OR($C238=\"\",HLOOKUP(Participant_Type,Overall_PI,$B47,FALSE)=\"\",HLOOKUP(Participant_Type,Mandatory_PI,$B47,FALSE)=\"N\"),\"\",\n\nIF(AND(Participant_Type=$AM$46,DATE(I$216,VLOOKUP(I$217,Qtrs,$D$44,FALSE),1)>=DATE($AJ48,HLOOKUP($AI48,Mths,$B$12,FALSE),1),DATE(I$216,VLOOKUP(I$217,Qtrs,$D$44,FALSE),1)<=DATE($AL48,HLOOKUP($AK48,Mths,$B$12,FALSE),HLOOKUP($AK48,Mths,$B$13,FALSE))),1,\n\nIF(AND(DATE(I$216,VLOOKUP(I$217,Qtrs,$D$44,FALSE),1)>=DATE($AO48,HLOOKUP($AN48,Mths,$B$12,FALSE),1),DATE(I$216,VLOOKUP(I$217,Qtrs,$D$44,FALSE),1)<=DATE($AQ48,HLOOKUP($AP48,Mths,$B$12,FALSE),HLOOKUP($AP48,Mths,$B$13,FALSE))),1,\"\")))","v":""},{"$f":"IF(OR($C238=\"\",HLOOKUP(Participant_Type,Overall_PI,$B47,FALSE)=\"\",HLOOKUP(Participant_Type,Mandatory_PI,$B47,FALSE)=\"N\"),\"\",\n\nIF(AND(Participant_Type=$AM$46,DATE(I$216,VLOOKUP(J$217,Qtrs,$D$44,FALSE),1)>=DATE($AJ48,HLOOKUP($AI48,Mths,$B$12,FALSE),1),DATE(I$216,VLOOKUP(J$217,Qtrs,$D$44,FALSE),1)<=DATE($AL48,HLOOKUP($AK48,Mths,$B$12,FALSE),HLOOKUP($AK48,Mths,$B$13,FALSE))),1,\n\nIF(AND(DATE(I$216,VLOOKUP(J$217,Qtrs,$D$44,FALSE),1)>=DATE($AO48,HLOOKUP($AN48,Mths,$B$12,FALSE),1),DATE(I$216,VLOOKUP(J$217,Qtrs,$D$44,FALSE),1)<=DATE($AQ48,HLOOKUP($AP48,Mths,$B$12,FALSE),HLOOKUP($AP48,Mths,$B$13,FALSE))),1,\"\")))","v":""},{"$f":"IF(OR($C238=\"\",HLOOKUP(Participant_Type,Overall_PI,$B47,FALSE)=\"\",HLOOKUP(Participant_Type,Mandatory_PI,$B47,FALSE)=\"N\"),\"\",\n\nIF(AND(Participant_Type=$AM$46,DATE(I$216,VLOOKUP(K$217,Qtrs,$D$44,FALSE),1)>=DATE($AJ48,HLOOKUP($AI48,Mths,$B$12,FALSE),1),DATE(I$216,VLOOKUP(K$217,Qtrs,$D$44,FALSE),1)<=DATE($AL48,HLOOKUP($AK48,Mths,$B$12,FALSE),HLOOKUP($AK48,Mths,$B$13,FALSE))),1,\n\nIF(AND(DATE(I$216,VLOOKUP(K$217,Qtrs,$D$44,FALSE),1)>=DATE($AO48,HLOOKUP($AN48,Mths,$B$12,FALSE),1),DATE(I$216,VLOOKUP(K$217,Qtrs,$D$44,FALSE),1)<=DATE($AQ48,HLOOKUP($AP48,Mths,$B$12,FALSE),HLOOKUP($AP48,Mths,$B$13,FALSE))),1,\"\")))","v":""},{"$f":"IF(OR($C238=\"\",HLOOKUP(Participant_Type,Overall_PI,$B47,FALSE)=\"\",HLOOKUP(Participant_Type,Mandatory_PI,$B47,FALSE)=\"N\"),\"\",\n\nIF(AND(Participant_Type=$AM$46,DATE(I$216,VLOOKUP(L$217,Qtrs,$D$44,FALSE),1)>=DATE($AJ48,HLOOKUP($AI48,Mths,$B$12,FALSE),1),DATE(I$216,VLOOKUP(L$217,Qtrs,$D$44,FALSE),1)<=DATE($AL48,HLOOKUP($AK48,Mths,$B$12,FALSE),HLOOKUP($AK48,Mths,$B$13,FALSE))),1,\n\nIF(AND(DATE(I$216,VLOOKUP(L$217,Qtrs,$D$44,FALSE),1)>=DATE($AO48,HLOOKUP($AN48,Mths,$B$12,FALSE),1),DATE(I$216,VLOOKUP(L$217,Qtrs,$D$44,FALSE),1)<=DATE($AQ48,HLOOKUP($AP48,Mths,$B$12,FALSE),HLOOKUP($AP48,Mths,$B$13,FALSE))),1,\"\")))","v":""},{"$f":"IF(OR($C238=\"\",HLOOKUP(Participant_Type,Overall_PI,$B47,FALSE)=\"\",HLOOKUP(Participant_Type,Mandatory_PI,$B47,FALSE)=\"N\"),\"\",\n\nIF(AND(Participant_Type=$AM$46,DATE(M$216,VLOOKUP(M$217,Qtrs,$D$44,FALSE),1)>=DATE($AJ48,HLOOKUP($AI48,Mths,$B$12,FALSE),1),DATE(M$216,VLOOKUP(M$217,Qtrs,$D$44,FALSE),1)<=DATE($AL48,HLOOKUP($AK48,Mths,$B$12,FALSE),HLOOKUP($AK48,Mths,$B$13,FALSE))),1,\n\nIF(AND(DATE(M$216,VLOOKUP(M$217,Qtrs,$D$44,FALSE),1)>=DATE($AO48,HLOOKUP($AN48,Mths,$B$12,FALSE),1),DATE(M$216,VLOOKUP(M$217,Qtrs,$D$44,FALSE),1)<=DATE($AQ48,HLOOKUP($AP48,Mths,$B$12,FALSE),HLOOKUP($AP48,Mths,$B$13,FALSE))),1,\"\")))","v":""},{"$f":"IF(OR($C238=\"\",HLOOKUP(Participant_Type,Overall_PI,$B47,FALSE)=\"\",HLOOKUP(Participant_Type,Mandatory_PI,$B47,FALSE)=\"N\"),\"\",\n\nIF(AND(Participant_Type=$AM$46,DATE(M$216,VLOOKUP(N$217,Qtrs,$D$44,FALSE),1)>=DATE($AJ48,HLOOKUP($AI48,Mths,$B$12,FALSE),1),DATE(M$216,VLOOKUP(N$217,Qtrs,$D$44,FALSE),1)<=DATE($AL48,HLOOKUP($AK48,Mths,$B$12,FALSE),HLOOKUP($AK48,Mths,$B$13,FALSE))),1,\n\nIF(AND(DATE(M$216,VLOOKUP(N$217,Qtrs,$D$44,FALSE),1)>=DATE($AO48,HLOOKUP($AN48,Mths,$B$12,FALSE),1),DATE(M$216,VLOOKUP(N$217,Qtrs,$D$44,FALSE),1)<=DATE($AQ48,HLOOKUP($AP48,Mths,$B$12,FALSE),HLOOKUP($AP48,Mths,$B$13,FALSE))),1,\"\")))","v":""},{"$f":"IF(OR($C238=\"\",HLOOKUP(Participant_Type,Overall_PI,$B47,FALSE)=\"\",HLOOKUP(Participant_Type,Mandatory_PI,$B47,FALSE)=\"N\"),\"\",\n\nIF(AND(Participant_Type=$AM$46,DATE(M$216,VLOOKUP(O$217,Qtrs,$D$44,FALSE),1)>=DATE($AJ48,HLOOKUP($AI48,Mths,$B$12,FALSE),1),DATE(M$216,VLOOKUP(O$217,Qtrs,$D$44,FALSE),1)<=DATE($AL48,HLOOKUP($AK48,Mths,$B$12,FALSE),HLOOKUP($AK48,Mths,$B$13,FALSE))),1,\n\nIF(AND(DATE(M$216,VLOOKUP(O$217,Qtrs,$D$44,FALSE),1)>=DATE($AO48,HLOOKUP($AN48,Mths,$B$12,FALSE),1),DATE(M$216,VLOOKUP(O$217,Qtrs,$D$44,FALSE),1)<=DATE($AQ48,HLOOKUP($AP48,Mths,$B$12,FALSE),HLOOKUP($AP48,Mths,$B$13,FALSE))),1,\"\")))","v":""},{"$f":"IF(OR($C238=\"\",HLOOKUP(Participant_Type,Overall_PI,$B47,FALSE)=\"\",HLOOKUP(Participant_Type,Mandatory_PI,$B47,FALSE)=\"N\"),\"\",\n\nIF(AND(Participant_Type=$AM$46,DATE(M$216,VLOOKUP(P$217,Qtrs,$D$44,FALSE),1)>=DATE($AJ48,HLOOKUP($AI48,Mths,$B$12,FALSE),1),DATE(M$216,VLOOKUP(P$217,Qtrs,$D$44,FALSE),1)<=DATE($AL48,HLOOKUP($AK48,Mths,$B$12,FALSE),HLOOKUP($AK48,Mths,$B$13,FALSE))),1,\n\nIF(AND(DATE(M$216,VLOOKUP(P$217,Qtrs,$D$44,FALSE),1)>=DATE($AO48,HLOOKUP($AN48,Mths,$B$12,FALSE),1),DATE(M$216,VLOOKUP(P$217,Qtrs,$D$44,FALSE),1)<=DATE($AQ48,HLOOKUP($AP48,Mths,$B$12,FALSE),HLOOKUP($AP48,Mths,$B$13,FALSE))),1,\"\")))","v":""},null,{"$f":"IF(OR($C238=\"\",HLOOKUP(Industry_Segment,Industry_Golive,$B47,FALSE)=\"\"),\"\",\n\nIF(AND(Industry_Segment=$H$31,DATE(R$216,VLOOKUP(R$217,Qtrs,$D$44,FALSE),1)>=DATE($AJ48,HLOOKUP($AI48,Mths,$B$12,FALSE),1),DATE(R$216,VLOOKUP(R$217,Qtrs,$D$44,FALSE),1)<=DATE($AL48,HLOOKUP($AK48,Mths,$B$12,FALSE),HLOOKUP($AK48,Mths,$B$13,FALSE))),1,\n\nIF(AND(DATE(R$216,VLOOKUP(R$217,Qtrs,$D$44,FALSE),1)>=DATE($AO48,HLOOKUP($AN48,Mths,$B$12,FALSE),1),DATE(R$216,VLOOKUP(R$217,Qtrs,$D$44,FALSE),1)<=DATE($AQ48,HLOOKUP($AP48,Mths,$B$12,FALSE),HLOOKUP($AP48,Mths,$B$13,FALSE))),1,\"\")))","v":1},{"$f":"IF(OR($C238=\"\",HLOOKUP(Industry_Segment,Industry_Golive,$B47,FALSE)=\"\"),\"\",\n\nIF(AND(Industry_Segment=$H$31,DATE(R$216,VLOOKUP(S$217,Qtrs,$D$44,FALSE),1)>=DATE($AJ48,HLOOKUP($AI48,Mths,$B$12,FALSE),1),DATE(R$216,VLOOKUP(S$217,Qtrs,$D$44,FALSE),1)<=DATE($AL48,HLOOKUP($AK48,Mths,$B$12,FALSE),HLOOKUP($AK48,Mths,$B$13,FALSE))),1,\n\nIF(AND(DATE(R$216,VLOOKUP(S$217,Qtrs,$D$44,FALSE),1)>=DATE($AO48,HLOOKUP($AN48,Mths,$B$12,FALSE),1),DATE(R$216,VLOOKUP(S$217,Qtrs,$D$44,FALSE),1)<=DATE($AQ48,HLOOKUP($AP48,Mths,$B$12,FALSE),HLOOKUP($AP48,Mths,$B$13,FALSE))),1,\"\")))","v":1},{"$f":"IF(OR($C238=\"\",HLOOKUP(Industry_Segment,Industry_Golive,$B47,FALSE)=\"\"),\"\",\n\nIF(AND(Industry_Segment=$H$31,DATE(R$216,VLOOKUP(T$217,Qtrs,$D$44,FALSE),1)>=DATE($AJ48,HLOOKUP($AI48,Mths,$B$12,FALSE),1),DATE(R$216,VLOOKUP(T$217,Qtrs,$D$44,FALSE),1)<=DATE($AL48,HLOOKUP($AK48,Mths,$B$12,FALSE),HLOOKUP($AK48,Mths,$B$13,FALSE))),1,\n\nIF(AND(DATE(R$216,VLOOKUP(T$217,Qtrs,$D$44,FALSE),1)>=DATE($AO48,HLOOKUP($AN48,Mths,$B$12,FALSE),1),DATE(R$216,VLOOKUP(T$217,Qtrs,$D$44,FALSE),1)<=DATE($AQ48,HLOOKUP($AP48,Mths,$B$12,FALSE),HLOOKUP($AP48,Mths,$B$13,FALSE))),1,\"\")))","v":""},{"$f":"IF(OR($C238=\"\",HLOOKUP(Industry_Segment,Industry_Golive,$B47,FALSE)=\"\"),\"\",\n\nIF(AND(Industry_Segment=$H$31,DATE(R$216,VLOOKUP(U$217,Qtrs,$D$44,FALSE),1)>=DATE($AJ48,HLOOKUP($AI48,Mths,$B$12,FALSE),1),DATE(R$216,VLOOKUP(U$217,Qtrs,$D$44,FALSE),1)<=DATE($AL48,HLOOKUP($AK48,Mths,$B$12,FALSE),HLOOKUP($AK48,Mths,$B$13,FALSE))),1,\n\nIF(AND(DATE(R$216,VLOOKUP(U$217,Qtrs,$D$44,FALSE),1)>=DATE($AO48,HLOOKUP($AN48,Mths,$B$12,FALSE),1),DATE(R$216,VLOOKUP(U$217,Qtrs,$D$44,FALSE),1)<=DATE($AQ48,HLOOKUP($AP48,Mths,$B$12,FALSE),HLOOKUP($AP48,Mths,$B$13,FALSE))),1,\"\")))","v":""},{"$f":"IF(OR($C238=\"\",HLOOKUP(Industry_Segment,Industry_Golive,$B47,FALSE)=\"\"),\"\",\n\nIF(AND(Industry_Segment=$H$31,DATE(V$216,VLOOKUP(V$217,Qtrs,$D$44,FALSE),1)>=DATE($AJ48,HLOOKUP($AI48,Mths,$B$12,FALSE),1),DATE(V$216,VLOOKUP(V$217,Qtrs,$D$44,FALSE),1)<=DATE($AL48,HLOOKUP($AK48,Mths,$B$12,FALSE),HLOOKUP($AK48,Mths,$B$13,FALSE))),1,\n\nIF(AND(DATE(V$216,VLOOKUP(V$217,Qtrs,$D$44,FALSE),1)>=DATE($AO48,HLOOKUP($AN48,Mths,$B$12,FALSE),1),DATE(V$216,VLOOKUP(V$217,Qtrs,$D$44,FALSE),1)<=DATE($AQ48,HLOOKUP($AP48,Mths,$B$12,FALSE),HLOOKUP($AP48,Mths,$B$13,FALSE))),1,\"\")))","v":""},{"$f":"IF(OR($C238=\"\",HLOOKUP(Industry_Segment,Industry_Golive,$B47,FALSE)=\"\"),\"\",\n\nIF(AND(Industry_Segment=$H$31,DATE(V$216,VLOOKUP(W$217,Qtrs,$D$44,FALSE),1)>=DATE($AJ48,HLOOKUP($AI48,Mths,$B$12,FALSE),1),DATE(V$216,VLOOKUP(W$217,Qtrs,$D$44,FALSE),1)<=DATE($AL48,HLOOKUP($AK48,Mths,$B$12,FALSE),HLOOKUP($AK48,Mths,$B$13,FALSE))),1,\n\nIF(AND(DATE(V$216,VLOOKUP(W$217,Qtrs,$D$44,FALSE),1)>=DATE($AO48,HLOOKUP($AN48,Mths,$B$12,FALSE),1),DATE(V$216,VLOOKUP(W$217,Qtrs,$D$44,FALSE),1)<=DATE($AQ48,HLOOKUP($AP48,Mths,$B$12,FALSE),HLOOKUP($AP48,Mths,$B$13,FALSE))),1,\"\")))","v":""},{"$f":"IF(OR($C238=\"\",HLOOKUP(Industry_Segment,Industry_Golive,$B47,FALSE)=\"\"),\"\",\n\nIF(AND(Industry_Segment=$H$31,DATE(V$216,VLOOKUP(X$217,Qtrs,$D$44,FALSE),1)>=DATE($AJ48,HLOOKUP($AI48,Mths,$B$12,FALSE),1),DATE(V$216,VLOOKUP(X$217,Qtrs,$D$44,FALSE),1)<=DATE($AL48,HLOOKUP($AK48,Mths,$B$12,FALSE),HLOOKUP($AK48,Mths,$B$13,FALSE))),1,\n\nIF(AND(DATE(V$216,VLOOKUP(X$217,Qtrs,$D$44,FALSE),1)>=DATE($AO48,HLOOKUP($AN48,Mths,$B$12,FALSE),1),DATE(V$216,VLOOKUP(X$217,Qtrs,$D$44,FALSE),1)<=DATE($AQ48,HLOOKUP($AP48,Mths,$B$12,FALSE),HLOOKUP($AP48,Mths,$B$13,FALSE))),1,\"\")))","v":""},{"$f":"IF(OR($C238=\"\",HLOOKUP(Industry_Segment,Industry_Golive,$B47,FALSE)=\"\"),\"\",\n\nIF(AND(Industry_Segment=$H$31,DATE(V$216,VLOOKUP(Y$217,Qtrs,$D$44,FALSE),1)>=DATE($AJ48,HLOOKUP($AI48,Mths,$B$12,FALSE),1),DATE(V$216,VLOOKUP(Y$217,Qtrs,$D$44,FALSE),1)<=DATE($AL48,HLOOKUP($AK48,Mths,$B$12,FALSE),HLOOKUP($AK48,Mths,$B$13,FALSE))),1,\n\nIF(AND(DATE(V$216,VLOOKUP(Y$217,Qtrs,$D$44,FALSE),1)>=DATE($AO48,HLOOKUP($AN48,Mths,$B$12,FALSE),1),DATE(V$216,VLOOKUP(Y$217,Qtrs,$D$44,FALSE),1)<=DATE($AQ48,HLOOKUP($AP48,Mths,$B$12,FALSE),HLOOKUP($AP48,Mths,$B$13,FALSE))),1,\"\")))","v":""},{"$f":"IF(OR($C238=\"\",HLOOKUP(Industry_Segment,Industry_Golive,$B47,FALSE)=\"\"),\"\",\n\nIF(AND(Industry_Segment=$H$31,DATE(Z$216,VLOOKUP(Z$217,Qtrs,$D$44,FALSE),1)>=DATE($AJ48,HLOOKUP($AI48,Mths,$B$12,FALSE),1),DATE(Z$216,VLOOKUP(Z$217,Qtrs,$D$44,FALSE),1)<=DATE($AL48,HLOOKUP($AK48,Mths,$B$12,FALSE),HLOOKUP($AK48,Mths,$B$13,FALSE))),1,\n\nIF(AND(DATE(Z$216,VLOOKUP(Z$217,Qtrs,$D$44,FALSE),1)>=DATE($AO48,HLOOKUP($AN48,Mths,$B$12,FALSE),1),DATE(Z$216,VLOOKUP(Z$217,Qtrs,$D$44,FALSE),1)<=DATE($AQ48,HLOOKUP($AP48,Mths,$B$12,FALSE),HLOOKUP($AP48,Mths,$B$13,FALSE))),1,\"\")))","v":""},{"$f":"IF(OR($C238=\"\",HLOOKUP(Industry_Segment,Industry_Golive,$B47,FALSE)=\"\"),\"\",\n\nIF(AND(Industry_Segment=$H$31,DATE(Z$216,VLOOKUP(AA$217,Qtrs,$D$44,FALSE),1)>=DATE($AJ48,HLOOKUP($AI48,Mths,$B$12,FALSE),1),DATE(Z$216,VLOOKUP(AA$217,Qtrs,$D$44,FALSE),1)<=DATE($AL48,HLOOKUP($AK48,Mths,$B$12,FALSE),HLOOKUP($AK48,Mths,$B$13,FALSE))),1,\n\nIF(AND(DATE(Z$216,VLOOKUP(AA$217,Qtrs,$D$44,FALSE),1)>=DATE($AO48,HLOOKUP($AN48,Mths,$B$12,FALSE),1),DATE(Z$216,VLOOKUP(AA$217,Qtrs,$D$44,FALSE),1)<=DATE($AQ48,HLOOKUP($AP48,Mths,$B$12,FALSE),HLOOKUP($AP48,Mths,$B$13,FALSE))),1,\"\")))","v":""},{"$f":"IF(OR($C238=\"\",HLOOKUP(Industry_Segment,Industry_Golive,$B47,FALSE)=\"\"),\"\",\n\nIF(AND(Industry_Segment=$H$31,DATE(Z$216,VLOOKUP(AB$217,Qtrs,$D$44,FALSE),1)>=DATE($AJ48,HLOOKUP($AI48,Mths,$B$12,FALSE),1),DATE(Z$216,VLOOKUP(AB$217,Qtrs,$D$44,FALSE),1)<=DATE($AL48,HLOOKUP($AK48,Mths,$B$12,FALSE),HLOOKUP($AK48,Mths,$B$13,FALSE))),1,\n\nIF(AND(DATE(Z$216,VLOOKUP(AB$217,Qtrs,$D$44,FALSE),1)>=DATE($AO48,HLOOKUP($AN48,Mths,$B$12,FALSE),1),DATE(Z$216,VLOOKUP(AB$217,Qtrs,$D$44,FALSE),1)<=DATE($AQ48,HLOOKUP($AP48,Mths,$B$12,FALSE),HLOOKUP($AP48,Mths,$B$13,FALSE))),1,\"\")))","v":""},{"$f":"IF(OR($C238=\"\",HLOOKUP(Industry_Segment,Industry_Golive,$B47,FALSE)=\"\"),\"\",\n\nIF(AND(Industry_Segment=$H$31,DATE(Z$216,VLOOKUP(AC$217,Qtrs,$D$44,FALSE),1)>=DATE($AJ48,HLOOKUP($AI48,Mths,$B$12,FALSE),1),DATE(Z$216,VLOOKUP(AC$217,Qtrs,$D$44,FALSE),1)<=DATE($AL48,HLOOKUP($AK48,Mths,$B$12,FALSE),HLOOKUP($AK48,Mths,$B$13,FALSE))),1,\n\nIF(AND(DATE(Z$216,VLOOKUP(AC$217,Qtrs,$D$44,FALSE),1)>=DATE($AO48,HLOOKUP($AN48,Mths,$B$12,FALSE),1),DATE(Z$216,VLOOKUP(AC$217,Qtrs,$D$44,FALSE),1)<=DATE($AQ48,HLOOKUP($AP48,Mths,$B$12,FALSE),HLOOKUP($AP48,Mths,$B$13,FALSE))),1,\"\")))","v":""}]
[null,null,"I - Frequency Performance Payments","IT",1,"","","","","","","","","","","",null,1,"","","","","","","","","","",""]
[null,null,"I - Enhancing Reserve Information","IT",1,1,"","","","","","","","","","",null,1,1,"","","","","","","","","",""]
[null,null,"I - ST PASA Procedure & Recall Period","IT",1,"","","","","","","","","","","",null,1,"","","","","","","","","","",""]
[null,null,"I - Improving Security Frameworks","IT",1,1,1,1,"","","","","","","","",null,1,1,1,1,"","","","","","","",""]
[null,null,"I - Unlocking CER Benefits Through Flexible Trading","IT","","",1,1,1,1,1,"","","","","",null,"","",1,1,1,1,1,"","","","",""]
[null,null,"I - MSR (Accelerating Smart Meter Deployment - Package 1 & 2)","IT",1,1,1,"","","","","","","","","",null,1,1,1,"","","","","","","","",""]
[null,null,"I - Shortening the Settlement Cycle","IT","",1,1,1,1,1,"","","","","","",null,"",1,1,1,1,1,"","","","","",""]
[null,null,"I - Integrating Price Responsive Resources into the NEM","IT","",1,1,1,1,1,1,1,1,1,"","",null,"",1,1,1,1,1,1,1,1,1,"",""]
[null,null,"I - IDX (Foundation)","IT","",1,1,1,1,1,"","","","","","",null,"",1,1,1,1,1,"","","","","",""]
[null,null,"I - IDAM (Foundation)","IT","","",1,1,1,1,1,"","","","","",null,"","",1,1,1,1,1,"","","","",""]
[null,null,"I - MSR (Accelerating Smart Meter Deployment - Package 3)","IT","","",1,1,1,1,"","","","","","",null,"","",1,1,1,1,"","","","","",""]
[null,null,"A - Inter-regional SRAs for transmission loops (PEC-MI)","IT","","","",1,"","","","","","","","",null,"","","",1,"","","","","","","",""]
[null,null,"","IT","","","","","","","","","","","","",null,"","","","","","","","","","","",""]
[null,null,"","IT","","","","","","","","","","","","",null,"","","","","","","","","","","",""]
[null,null,"","IT","","","","","","","","","","","","",null,"","","","","","","","","","","",""]
[null,null,"","IT","","","","","","","","","","","","",null,"","","","","","","","","","","",""]
[null,null,"","IT","","","","","","","","","","","","",null,"","","","","","","","","","","",""]
[null,null,"","IT","","","","","","","","","","","","",null,"","","","","","","","","","","",""]
[null,null,"","IT","","","","","","","","","","","","",null,"","","","","","","","","","","",""]
[null,null,{"$f":"IF(C48=\"\",\"\",C48)","v":"I - SCADA Lite"},"TR",{"$f":"IF(OR($C258=\"\",HLOOKUP(Participant_Type,Overall_PI,$B47,FALSE)=\"\",HLOOKUP(Participant_Type,Mandatory_PI,$B47,FALSE)=\"N\"),\"\",IF(AND(DATE(E$216,VLOOKUP(E$217,Qtrs,$D$44,FALSE),1)>=DATE($BB48,HLOOKUP($BA48,Mths,$B$12,FALSE),1),DATE(E$216,VLOOKUP(E$217,Qtrs,$D$44,FALSE),1)<=DATE($BD48,HLOOKUP($BC48,Mths,$B$12,FALSE),HLOOKUP($BC48,Mths,$B$13,FALSE))),1,\"\"))","v":1},{"$f":"IF(OR($C258=\"\",HLOOKUP(Participant_Type,Overall_PI,$B47,FALSE)=\"\",HLOOKUP(Participant_Type,Mandatory_PI,$B47,FALSE)=\"N\"),\"\",IF(AND(DATE(E$216,VLOOKUP(F$217,Qtrs,$D$44,FALSE),1)>=DATE($BB48,HLOOKUP($BA48,Mths,$B$12,FALSE),1),DATE(E$216,VLOOKUP(F$217,Qtrs,$D$44,FALSE),1)<=DATE($BD48,HLOOKUP($BC48,Mths,$B$12,FALSE),HLOOKUP($BC48,Mths,$B$13,FALSE))),1,\"\"))","v":1},{"$f":"IF(OR($C258=\"\",HLOOKUP(Participant_Type,Overall_PI,$B47,FALSE)=\"\",HLOOKUP(Participant_Type,Mandatory_PI,$B47,FALSE)=\"N\"),\"\",IF(AND(DATE(E$216,VLOOKUP(G$217,Qtrs,$D$44,FALSE),1)>=DATE($BB48,HLOOKUP($BA48,Mths,$B$12,FALSE),1),DATE(E$216,VLOOKUP(G$217,Qtrs,$D$44,FALSE),1)<=DATE($BD48,HLOOKUP($BC48,Mths,$B$12,FALSE),HLOOKUP($BC48,Mths,$B$13,FALSE))),1,\"\"))","v":""},{"$f":"IF(OR($C258=\"\",HLOOKUP(Participant_Type,Overall_PI,$B47,FALSE)=\"\",HLOOKUP(Participant_Type,Mandatory_PI,$B47,FALSE)=\"N\"),\"\",IF(AND(DATE(E$216,VLOOKUP(H$217,Qtrs,$D$44,FALSE),1)>=DATE($BB48,HLOOKUP($BA48,Mths,$B$12,FALSE),1),DATE(E$216,VLOOKUP(H$217,Qtrs,$D$44,FALSE),1)<=DATE($BD48,HLOOKUP($BC48,Mths,$B$12,FALSE),HLOOKUP($BC48,Mths,$B$13,FALSE))),1,\"\"))","v":""},{"$f":"IF(OR($C258=\"\",HLOOKUP(Participant_Type,Overall_PI,$B47,FALSE)=\"\",HLOOKUP(Participant_Type,Mandatory_PI,$B47,FALSE)=\"N\"),\"\",IF(AND(DATE(I$216,VLOOKUP(I$217,Qtrs,$D$44,FALSE),1)>=DATE($BB48,HLOOKUP($BA48,Mths,$B$12,FALSE),1),DATE(I$216,VLOOKUP(I$217,Qtrs,$D$44,FALSE),1)<=DATE($BD48,HLOOKUP($BC48,Mths,$B$12,FALSE),HLOOKUP($BC48,Mths,$B$13,FALSE))),1,\"\"))","v":""},{"$f":"IF(OR($C258=\"\",HLOOKUP(Participant_Type,Overall_PI,$B47,FALSE)=\"\",HLOOKUP(Participant_Type,Mandatory_PI,$B47,FALSE)=\"N\"),\"\",IF(AND(DATE(I$216,VLOOKUP(J$217,Qtrs,$D$44,FALSE),1)>=DATE($BB48,HLOOKUP($BA48,Mths,$B$12,FALSE),1),DATE(I$216,VLOOKUP(J$217,Qtrs,$D$44,FALSE),1)<=DATE($BD48,HLOOKUP($BC48,Mths,$B$12,FALSE),HLOOKUP($BC48,Mths,$B$13,FALSE))),1,\"\"))","v":""},{"$f":"IF(OR($C258=\"\",HLOOKUP(Participant_Type,Overall_PI,$B47,FALSE)=\"\",HLOOKUP(Participant_Type,Mandatory_PI,$B47,FALSE)=\"N\"),\"\",IF(AND(DATE(I$216,VLOOKUP(K$217,Qtrs,$D$44,FALSE),1)>=DATE($BB48,HLOOKUP($BA48,Mths,$B$12,FALSE),1),DATE(I$216,VLOOKUP(K$217,Qtrs,$D$44,FALSE),1)<=DATE($BD48,HLOOKUP($BC48,Mths,$B$12,FALSE),HLOOKUP($BC48,Mths,$B$13,FALSE))),1,\"\"))","v":""},{"$f":"IF(OR($C258=\"\",HLOOKUP(Participant_Type,Overall_PI,$B47,FALSE)=\"\",HLOOKUP(Participant_Type,Mandatory_PI,$B47,FALSE)=\"N\"),\"\",IF(AND(DATE(I$216,VLOOKUP(L$217,Qtrs,$D$44,FALSE),1)>=DATE($BB48,HLOOKUP($BA48,Mths,$B$12,FALSE),1),DATE(I$216,VLOOKUP(L$217,Qtrs,$D$44,FALSE),1)<=DATE($BD48,HLOOKUP($BC48,Mths,$B$12,FALSE),HLOOKUP($BC48,Mths,$B$13,FALSE))),1,\"\"))","v":""},{"$f":"IF(OR($C258=\"\",HLOOKUP(Participant_Type,Overall_PI,$B47,FALSE)=\"\",HLOOKUP(Participant_Type,Mandatory_PI,$B47,FALSE)=\"N\"),\"\",IF(AND(DATE(M$216,VLOOKUP(M$217,Qtrs,$D$44,FALSE),1)>=DATE($BB48,HLOOKUP($BA48,Mths,$B$12,FALSE),1),DATE(M$216,VLOOKUP(M$217,Qtrs,$D$44,FALSE),1)<=DATE($BD48,HLOOKUP($BC48,Mths,$B$12,FALSE),HLOOKUP($BC48,Mths,$B$13,FALSE))),1,\"\"))","v":""},{"$f":"IF(OR($C258=\"\",HLOOKUP(Participant_Type,Overall_PI,$B47,FALSE)=\"\",HLOOKUP(Participant_Type,Mandatory_PI,$B47,FALSE)=\"N\"),\"\",IF(AND(DATE(M$216,VLOOKUP(N$217,Qtrs,$D$44,FALSE),1)>=DATE($BB48,HLOOKUP($BA48,Mths,$B$12,FALSE),1),DATE(M$216,VLOOKUP(N$217,Qtrs,$D$44,FALSE),1)<=DATE($BD48,HLOOKUP($BC48,Mths,$B$12,FALSE),HLOOKUP($BC48,Mths,$B$13,FALSE))),1,\"\"))","v":""},{"$f":"IF(OR($C258=\"\",HLOOKUP(Participant_Type,Overall_PI,$B47,FALSE)=\"\",HLOOKUP(Participant_Type,Mandatory_PI,$B47,FALSE)=\"N\"),\"\",IF(AND(DATE(M$216,VLOOKUP(O$217,Qtrs,$D$44,FALSE),1)>=DATE($BB48,HLOOKUP($BA48,Mths,$B$12,FALSE),1),DATE(M$216,VLOOKUP(O$217,Qtrs,$D$44,FALSE),1)<=DATE($BD48,HLOOKUP($BC48,Mths,$B$12,FALSE),HLOOKUP($BC48,Mths,$B$13,FALSE))),1,\"\"))","v":""},{"$f":"IF(OR($C258=\"\",HLOOKUP(Participant_Type,Overall_PI,$B47,FALSE)=\"\",HLOOKUP(Participant_Type,Mandatory_PI,$B47,FALSE)=\"N\"),\"\",IF(AND(DATE(M$216,VLOOKUP(P$217,Qtrs,$D$44,FALSE),1)>=DATE($BB48,HLOOKUP($BA48,Mths,$B$12,FALSE),1),DATE(M$216,VLOOKUP(P$217,Qtrs,$D$44,FALSE),1)<=DATE($BD48,HLOOKUP($BC48,Mths,$B$12,FALSE),HLOOKUP($BC48,Mths,$B$13,FALSE))),1,\"\"))","v":""},null,{"$f":"IF(OR($C258=\"\",HLOOKUP(Industry_Segment,Industry_Golive,$B47,FALSE)=\"\"),\"\",IF(AND(DATE(R$216,VLOOKUP(R$217,Qtrs,$D$44,FALSE),1)>=DATE($BB48,HLOOKUP($BA48,Mths,$B$12,FALSE),1),DATE(R$216,VLOOKUP(R$217,Qtrs,$D$44,FALSE),1)<=DATE($BD48,HLOOKUP($BC48,Mths,$B$12,FALSE),HLOOKUP($BC48,Mths,$B$13,FALSE))),1,\"\"))","v":1},{"$f":"IF(OR($C258=\"\",HLOOKUP(Industry_Segment,Industry_Golive,$B47,FALSE)=\"\"),\"\",IF(AND(DATE(R$216,VLOOKUP(S$217,Qtrs,$D$44,FALSE),1)>=DATE($BB48,HLOOKUP($BA48,Mths,$B$12,FALSE),1),DATE(R$216,VLOOKUP(S$217,Qtrs,$D$44,FALSE),1)<=DATE($BD48,HLOOKUP($BC48,Mths,$B$12,FALSE),HLOOKUP($BC48,Mths,$B$13,FALSE))),1,\"\"))","v":1},{"$f":"IF(OR($C258=\"\",HLOOKUP(Industry_Segment,Industry_Golive,$B47,FALSE)=\"\"),\"\",IF(AND(DATE(R$216,VLOOKUP(T$217,Qtrs,$D$44,FALSE),1)>=DATE($BB48,HLOOKUP($BA48,Mths,$B$12,FALSE),1),DATE(R$216,VLOOKUP(T$217,Qtrs,$D$44,FALSE),1)<=DATE($BD48,HLOOKUP($BC48,Mths,$B$12,FALSE),HLOOKUP($BC48,Mths,$B$13,FALSE))),1,\"\"))","v":""},{"$f":"IF(OR($C258=\"\",HLOOKUP(Industry_Segment,Industry_Golive,$B47,FALSE)=\"\"),\"\",IF(AND(DATE(R$216,VLOOKUP(U$217,Qtrs,$D$44,FALSE),1)>=DATE($BB48,HLOOKUP($BA48,Mths,$B$12,FALSE),1),DATE(R$216,VLOOKUP(U$217,Qtrs,$D$44,FALSE),1)<=DATE($BD48,HLOOKUP($BC48,Mths,$B$12,FALSE),HLOOKUP($BC48,Mths,$B$13,FALSE))),1,\"\"))","v":""},{"$f":"IF(OR($C258=\"\",HLOOKUP(Industry_Segment,Industry_Golive,$B47,FALSE)=\"\"),\"\",IF(AND(DATE(V$216,VLOOKUP(V$217,Qtrs,$D$44,FALSE),1)>=DATE($BB48,HLOOKUP($BA48,Mths,$B$12,FALSE),1),DATE(V$216,VLOOKUP(V$217,Qtrs,$D$44,FALSE),1)<=DATE($BD48,HLOOKUP($BC48,Mths,$B$12,FALSE),HLOOKUP($BC48,Mths,$B$13,FALSE))),1,\"\"))","v":""},{"$f":"IF(OR($C258=\"\",HLOOKUP(Industry_Segment,Industry_Golive,$B47,FALSE)=\"\"),\"\",IF(AND(DATE(V$216,VLOOKUP(W$217,Qtrs,$D$44,FALSE),1)>=DATE($BB48,HLOOKUP($BA48,Mths,$B$12,FALSE),1),DATE(V$216,VLOOKUP(W$217,Qtrs,$D$44,FALSE),1)<=DATE($BD48,HLOOKUP($BC48,Mths,$B$12,FALSE),HLOOKUP($BC48,Mths,$B$13,FALSE))),1,\"\"))","v":""},{"$f":"IF(OR($C258=\"\",HLOOKUP(Industry_Segment,Industry_Golive,$B47,FALSE)=\"\"),\"\",IF(AND(DATE(V$216,VLOOKUP(X$217,Qtrs,$D$44,FALSE),1)>=DATE($BB48,HLOOKUP($BA48,Mths,$B$12,FALSE),1),DATE(V$216,VLOOKUP(X$217,Qtrs,$D$44,FALSE),1)<=DATE($BD48,HLOOKUP($BC48,Mths,$B$12,FALSE),HLOOKUP($BC48,Mths,$B$13,FALSE))),1,\"\"))","v":""},{"$f":"IF(OR($C258=\"\",HLOOKUP(Industry_Segment,Industry_Golive,$B47,FALSE)=\"\"),\"\",IF(AND(DATE(V$216,VLOOKUP(Y$217,Qtrs,$D$44,FALSE),1)>=DATE($BB48,HLOOKUP($BA48,Mths,$B$12,FALSE),1),DATE(V$216,VLOOKUP(Y$217,Qtrs,$D$44,FALSE),1)<=DATE($BD48,HLOOKUP($BC48,Mths,$B$12,FALSE),HLOOKUP($BC48,Mths,$B$13,FALSE))),1,\"\"))","v":""},{"$f":"IF(OR($C258=\"\",HLOOKUP(Industry_Segment,Industry_Golive,$B47,FALSE)=\"\"),\"\",IF(AND(DATE(Z$216,VLOOKUP(Z$217,Qtrs,$D$44,FALSE),1)>=DATE($BB48,HLOOKUP($BA48,Mths,$B$12,FALSE),1),DATE(Z$216,VLOOKUP(Z$217,Qtrs,$D$44,FALSE),1)<=DATE($BD48,HLOOKUP($BC48,Mths,$B$12,FALSE),HLOOKUP($BC48,Mths,$B$13,FALSE))),1,\"\"))","v":""},{"$f":"IF(OR($C258=\"\",HLOOKUP(Industry_Segment,Industry_Golive,$B47,FALSE)=\"\"),\"\",IF(AND(DATE(Z$216,VLOOKUP(AA$217,Qtrs,$D$44,FALSE),1)>=DATE($BB48,HLOOKUP($BA48,Mths,$B$12,FALSE),1),DATE(Z$216,VLOOKUP(AA$217,Qtrs,$D$44,FALSE),1)<=DATE($BD48,HLOOKUP($BC48,Mths,$B$12,FALSE),HLOOKUP($BC48,Mths,$B$13,FALSE))),1,\"\"))","v":""},{"$f":"IF(OR($C258=\"\",HLOOKUP(Industry_Segment,Industry_Golive,$B47,FALSE)=\"\"),\"\",IF(AND(DATE(Z$216,VLOOKUP(AB$217,Qtrs,$D$44,FALSE),1)>=DATE($BB48,HLOOKUP($BA48,Mths,$B$12,FALSE),1),DATE(Z$216,VLOOKUP(AB$217,Qtrs,$D$44,FALSE),1)<=DATE($BD48,HLOOKUP($BC48,Mths,$B$12,FALSE),HLOOKUP($BC48,Mths,$B$13,FALSE))),1,\"\"))","v":""},{"$f":"IF(OR($C258=\"\",HLOOKUP(Industry_Segment,Industry_Golive,$B47,FALSE)=\"\"),\"\",IF(AND(DATE(Z$216,VLOOKUP(AC$217,Qtrs,$D$44,FALSE),1)>=DATE($BB48,HLOOKUP($BA48,Mths,$B$12,FALSE),1),DATE(Z$216,VLOOKUP(AC$217,Qtrs,$D$44,FALSE),1)<=DATE($BD48,HLOOKUP($BC48,Mths,$B$12,FALSE),HLOOKUP($BC48,Mths,$B$13,FALSE))),1,\"\"))","v":""}]
[null,null,"I - Frequency Performance Payments","TR",1,1,"","","","","","","","","","",null,1,1,"","","","","","","","","",""]
[null,null,"I - Enhancing Reserve Information","TR","",1,"","","","","","","","","","",null,"",1,"","","","","","","","","",""]
[null,null,"I - ST PASA Procedure & Recall Period","TR",1,1,"","","","","","","","","","",null,1,1,"","","","","","","","","",""]
[null,null,"I - Improving Security Frameworks","TR","","",1,1,"","","","","","","","",null,"","",1,1,"","","","","","","",""]
[null,null,"I - Unlocking CER Benefits Through Flexible Trading","TR","","","",1,1,1,1,1,"","","","",null,"","","",1,1,1,1,1,"","","",""]
[null,null,"I - MSR (Accelerating Smart Meter Deployment - Package 1 & 2)","TR",1,1,1,1,"","","","","","","","",null,1,1,1,1,"","","","","","","",""]
[null,null,"I - Shortening the Settlement Cycle","TR","","","","",1,1,"","","","","","",null,"","","","",1,1,"","","","","",""]
[null,null,"I - Integrating Price Responsive Resources into the NEM","TR","","","","","","",1,1,1,1,"","",null,"","","","","","",1,1,1,1,"",""]
[null,null,"I - IDX (Foundation)","TR","","",1,1,1,1,1,"","","","","",null,"","",1,1,1,1,1,"","","","",""]
[null,null,"I - IDAM (Foundation)","TR","","","",1,1,1,1,"","","","","",null,"","","",1,1,1,1,"","","","",""]
[null,null,"I - MSR (Accelerating Smart Meter Deployment - Package 3)","TR","","","","","",1,"","","","","","",null,"","","","","",1,"","","","","",""]
[null,null,"A - Inter-regional SRAs for transmission loops (PEC-MI)","TR","","","","",1,1,"","","","","","",null,"","","","",1,1,"","","","","",""]
[null,null,"","TR","","","","","","","","","","","","",null,"","","","","","","","","","","",""]
[null,null,"","TR","","","","","","","","","","","","",null,"","","","","","","","","","","",""]
[null,null,"","TR","","","","","","","","","","","","",null,"","","","","","","","","","","",""]
[null,null,"","TR","","","","","","","","","","","","",null,"","","","","","","","","","","",""]
[null,null,"","TR","","","","","","","","","","","","",null,"","","","","","","","","","","",""]
[null,null,"","TR","","","","","","","","","","","","",null,"","","","","","","","","","","",""]
[null,null,"","TR","","","","","","","","","","","","",null,"","","","","","","","","","","",""]
[null,null,{"$f":"IF(C48=\"\",\"\",C48)","v":"I - SCADA Lite"},"GO",{"$f":"IF(OR($C278=\"\",HLOOKUP(Participant_Type,Overall_PI,$B47,FALSE)=\"\",HLOOKUP(Participant_Type,Mandatory_PI,$B47,FALSE)=\"N\"),\"\",IF(AND(E$217=$BE48,E$216=$BF48),1,\"\"))","v":""},{"$f":"IF(OR($C278=\"\",HLOOKUP(Participant_Type,Overall_PI,$B47,FALSE)=\"\",HLOOKUP(Participant_Type,Mandatory_PI,$B47,FALSE)=\"N\"),\"\",IF(AND(F$217=$BE48,E$216=$BF48),1,\"\"))","v":1},{"$f":"IF(OR($C278=\"\",HLOOKUP(Participant_Type,Overall_PI,$B47,FALSE)=\"\",HLOOKUP(Participant_Type,Mandatory_PI,$B47,FALSE)=\"N\"),\"\",IF(AND(G$217=$BE48,E$216=$BF48),1,\"\"))","v":""},{"$f":"IF(OR($C278=\"\",HLOOKUP(Participant_Type,Overall_PI,$B47,FALSE)=\"\",HLOOKUP(Participant_Type,Mandatory_PI,$B47,FALSE)=\"N\"),\"\",IF(AND(H$217=$BE48,E$216=$BF48),1,\"\"))","v":""},{"$f":"IF(OR($C278=\"\",HLOOKUP(Participant_Type,Overall_PI,$B47,FALSE)=\"\",HLOOKUP(Participant_Type,Mandatory_PI,$B47,FALSE)=\"N\"),\"\",IF(AND(I$217=$BE48,I$216=$BF48),1,\"\"))","v":""},{"$f":"IF(OR($C278=\"\",HLOOKUP(Participant_Type,Overall_PI,$B47,FALSE)=\"\",HLOOKUP(Participant_Type,Mandatory_PI,$B47,FALSE)=\"N\"),\"\",IF(AND(J$217=$BE48,I$216=$BF48),1,\"\"))","v":""},{"$f":"IF(OR($C278=\"\",HLOOKUP(Participant_Type,Overall_PI,$B47,FALSE)=\"\",HLOOKUP(Participant_Type,Mandatory_PI,$B47,FALSE)=\"N\"),\"\",IF(AND(K$217=$BE48,I$216=$BF48),1,\"\"))","v":""},{"$f":"IF(OR($C278=\"\",HLOOKUP(Participant_Type,Overall_PI,$B47,FALSE)=\"\",HLOOKUP(Participant_Type,Mandatory_PI,$B47,FALSE)=\"N\"),\"\",IF(AND(L$217=$BE48,I$216=$BF48),1,\"\"))","v":""},{"$f":"IF(OR($C278=\"\",HLOOKUP(Participant_Type,Overall_PI,$B47,FALSE)=\"\",HLOOKUP(Participant_Type,Mandatory_PI,$B47,FALSE)=\"N\"),\"\",IF(AND(M$217=$BE48,M$216=$BF48),1,\"\"))","v":""},{"$f":"IF(OR($C278=\"\",HLOOKUP(Participant_Type,Overall_PI,$B47,FALSE)=\"\",HLOOKUP(Participant_Type,Mandatory_PI,$B47,FALSE)=\"N\"),\"\",IF(AND(N$217=$BE48,M$216=$BF48),1,\"\"))","v":""},{"$f":"IF(OR($C278=\"\",HLOOKUP(Participant_Type,Overall_PI,$B47,FALSE)=\"\",HLOOKUP(Participant_Type,Mandatory_PI,$B47,FALSE)=\"N\"),\"\",IF(AND(O$217=$BE48,M$216=$BF48),1,\"\"))","v":""},{"$f":"IF(OR($C278=\"\",HLOOKUP(Participant_Type,Overall_PI,$B47,FALSE)=\"\",HLOOKUP(Participant_Type,Mandatory_PI,$B47,FALSE)=\"N\"),\"\",IF(AND(P$217=$BE48,M$216=$BF48),1,\"\"))","v":""},null,{"$f":"IF(OR($C278=\"\",HLOOKUP(Industry_Segment,Industry_Golive,$B47,FALSE)=\"\"),\"\",IF(AND(R$217=$BE48,R$216=$BF48),1,\"\"))","v":""},{"$f":"IF(OR($C278=\"\",HLOOKUP(Industry_Segment,Industry_Golive,$B47,FALSE)=\"\"),\"\",IF(AND(S$217=$BE48,R$216=$BF48),1,\"\"))","v":1},{"$f":"IF(OR($C278=\"\",HLOOKUP(Industry_Segment,Industry_Golive,$B47,FALSE)=\"\"),\"\",IF(AND(T$217=$BE48,R$216=$BF48),1,\"\"))","v":""},{"$f":"IF(OR($C278=\"\",HLOOKUP(Industry_Segment,Industry_Golive,$B47,FALSE)=\"\"),\"\",IF(AND(U$217=$BE48,R$216=$BF48),1,\"\"))","v":""},{"$f":"IF(OR($C278=\"\",HLOOKUP(Industry_Segment,Industry_Golive,$B47,FALSE)=\"\"),\"\",IF(AND(V$217=$BE48,V$216=$BF48),1,\"\"))","v":""},{"$f":"IF(OR($C278=\"\",HLOOKUP(Industry_Segment,Industry_Golive,$B47,FALSE)=\"\"),\"\",IF(AND(W$217=$BE48,V$216=$BF48),1,\"\"))","v":""},{"$f":"IF(OR($C278=\"\",HLOOKUP(Industry_Segment,Industry_Golive,$B47,FALSE)=\"\"),\"\",IF(AND(X$217=$BE48,V$216=$BF48),1,\"\"))","v":""},{"$f":"IF(OR($C278=\"\",HLOOKUP(Industry_Segment,Industry_Golive,$B47,FALSE)=\"\"),\"\",IF(AND(Y$217=$BE48,V$216=$BF48),1,\"\"))","v":""},{"$f":"IF(OR($C278=\"\",HLOOKUP(Industry_Segment,Industry_Golive,$B47,FALSE)=\"\"),\"\",IF(AND(Z$217=$BE48,Z$216=$BF48),1,\"\"))","v":""},{"$f":"IF(OR($C278=\"\",HLOOKUP(Industry_Segment,Industry_Golive,$B47,FALSE)=\"\"),\"\",IF(AND(AA$217=$BE48,Z$216=$BF48),1,\"\"))","v":""},{"$f":"IF(OR($C278=\"\",HLOOKUP(Industry_Segment,Industry_Golive,$B47,FALSE)=\"\"),\"\",IF(AND(AB$217=$BE48,Z$216=$BF48),1,\"\"))","v":""},{"$f":"IF(OR($C278=\"\",HLOOKUP(Industry_Segment,Industry_Golive,$B47,FALSE)=\"\"),\"\",IF(AND(AC$217=$BE48,Z$216=$BF48),1,\"\"))","v":""}]
[null,null,"I - Frequency Performance Payments","GO","",1,"","","","","","","","","","",null,"",1,"","","","","","","","","",""]
[null,null,"I - Enhancing Reserve Information","GO","","",1,"","","","","","","","","",null,"","",1,"","","","","","","","",""]
[null,null,"I - ST PASA Procedure & Recall Period","GO","","",1,"","","","","","","","","",null,"","",1,"","","","","","","","",""]
[null,null,"I - Improving Security Frameworks","GO","","","",1,"","","","","","","","",null,"","","",1,"","","","","","","",""]
[null,null,"I - Unlocking CER Benefits Through Flexible Trading","GO","","","","","","","",1,"","","","",null,"","","","","","","",1,"","","",""]
[null,null,"I - MSR (Accelerating Smart Meter Deployment - Package 1 & 2)","GO","","","",1,"","","","","","","","",null,"","","",1,"","","","","","","",""]
[null,null,"I - Shortening the Settlement Cycle","GO","","","","","",1,"","","","","","",null,"","","","","",1,"","","","","",""]
[null,null,"I - Integrating Price Responsive Resources into the NEM","GO","","","","","","","","","",1,"","",null,"","","","","","","","","",1,"",""]
[null,null,"I - IDX (Foundation)","GO","","","","","","","","","","","","",null,"","","","","","","","","","","",""]
[null,null,"I - IDAM (Foundation)","GO","","","","","","","",1,"","","","",null,"","","","","","","",1,"","","",""]
[null,null,"I - MSR (Accelerating Smart Meter Deployment - Package 3)","GO","","","","","","",1,"","","","","",null,"","","","","","",1,"","","","",""]
[null,null,"A - Inter-regional SRAs for transmission loops (PEC-MI)","GO","","","","","","","",1,"","","","",null,"","","","","","","",1,"","","",""]
[null,null,"","GO","","","","","","","","","","","","",null,"","","","","","","","","","","",""]
[null,null,"","GO","","","","","","","","","","","","",null,"","","","","","","","","","","",""]
[null,null,"","GO","","","","","","","","","","","","",null,"","","","","","","","","","","",""]
[null,null,"","GO","","","","","","","","","","","","",null,"","","","","","","","","","","",""]
[null,null,"","GO","","","","","","","","","","","","",null,"","","","","","","","","","","",""]
[null,null,"","GO","","","","","","","","","","","","",null,"","","","","","","","","","","",""]
[null,null,"","GO","","","","","","","","","","","","",null,"","","","","","","","","","","",""]
[null,null,{"$f":"IF(C48=\"\",\"\",C48)","v":"I - SCADA Lite"},"FD",{"$f":"IF(OR($C298=\"\",HLOOKUP(Participant_Type,Overall_PI,$B47,FALSE)=\"\",HLOOKUP(Participant_Type,Mandatory_PI,$B47,FALSE)=\"N\"),\"\",IF(AND(E$217=$BG48,E$216=$BH48),1,\"\"))","v":""},{"$f":"IF(OR($C298=\"\",HLOOKUP(Participant_Type,Overall_PI,$B47,FALSE)=\"\",HLOOKUP(Participant_Type,Mandatory_PI,$B47,FALSE)=\"N\"),\"\",IF(AND(F$217=$BG48,E$216=$BH48),1,\"\"))","v":""},{"$f":"IF(OR($C298=\"\",HLOOKUP(Participant_Type,Overall_PI,$B47,FALSE)=\"\",HLOOKUP(Participant_Type,Mandatory_PI,$B47,FALSE)=\"N\"),\"\",IF(AND(G$217=$BG48,E$216=$BH48),1,\"\"))","v":""},{"$f":"IF(OR($C298=\"\",HLOOKUP(Participant_Type,Overall_PI,$B47,FALSE)=\"\",HLOOKUP(Participant_Type,Mandatory_PI,$B47,FALSE)=\"N\"),\"\",IF(AND(H$217=$BG48,E$216=$BH48),1,\"\"))","v":""},{"$f":"IF(OR($C298=\"\",HLOOKUP(Participant_Type,Overall_PI,$B47,FALSE)=\"\",HLOOKUP(Participant_Type,Mandatory_PI,$B47,FALSE)=\"N\"),\"\",IF(AND(I$217=$BG48,I$216=$BH48),1,\"\"))","v":""},{"$f":"IF(OR($C298=\"\",HLOOKUP(Participant_Type,Overall_PI,$B47,FALSE)=\"\",HLOOKUP(Participant_Type,Mandatory_PI,$B47,FALSE)=\"N\"),\"\",IF(AND(J$217=$BG48,I$216=$BH48),1,\"\"))","v":""},{"$f":"IF(OR($C298=\"\",HLOOKUP(Participant_Type,Overall_PI,$B47,FALSE)=\"\",HLOOKUP(Participant_Type,Mandatory_PI,$B47,FALSE)=\"N\"),\"\",IF(AND(K$217=$BG48,I$216=$BH48),1,\"\"))","v":""},{"$f":"IF(OR($C298=\"\",HLOOKUP(Participant_Type,Overall_PI,$B47,FALSE)=\"\",HLOOKUP(Participant_Type,Mandatory_PI,$B47,FALSE)=\"N\"),\"\",IF(AND(L$217=$BG48,I$216=$BH48),1,\"\"))","v":""},{"$f":"IF(OR($C298=\"\",HLOOKUP(Participant_Type,Overall_PI,$B47,FALSE)=\"\",HLOOKUP(Participant_Type,Mandatory_PI,$B47,FALSE)=\"N\"),\"\",IF(AND(M$217=$BG48,M$216=$BH48),1,\"\"))","v":""},{"$f":"IF(OR($C298=\"\",HLOOKUP(Participant_Type,Overall_PI,$B47,FALSE)=\"\",HLOOKUP(Participant_Type,Mandatory_PI,$B47,FALSE)=\"N\"),\"\",IF(AND(N$217=$BG48,M$216=$BH48),1,\"\"))","v":""},{"$f":"IF(OR($C298=\"\",HLOOKUP(Participant_Type,Overall_PI,$B47,FALSE)=\"\",HLOOKUP(Participant_Type,Mandatory_PI,$B47,FALSE)=\"N\"),\"\",IF(AND(O$217=$BG48,M$216=$BH48),1,\"\"))","v":""},{"$f":"IF(OR($C298=\"\",HLOOKUP(Participant_Type,Overall_PI,$B47,FALSE)=\"\",HLOOKUP(Participant_Type,Mandatory_PI,$B47,FALSE)=\"N\"),\"\",IF(AND(P$217=$BG48,M$216=$BH48),1,\"\"))","v":""},null,{"$f":"IF(OR($C298=\"\",HLOOKUP(Industry_Segment,Industry_Golive,$B47,FALSE)=\"\"),\"\",IF(AND(R$217=$BG48,R$216=$BH48),1,\"\"))","v":""},{"$f":"IF(OR($C298=\"\",HLOOKUP(Industry_Segment,Industry_Golive,$B47,FALSE)=\"\"),\"\",IF(AND(S$217=$BG48,R$216=$BH48),1,\"\"))","v":""},{"$f":"IF(OR($C298=\"\",HLOOKUP(Industry_Segment,Industry_Golive,$B47,FALSE)=\"\"),\"\",IF(AND(T$217=$BG48,R$216=$BH48),1,\"\"))","v":""},{"$f":"IF(OR($C298=\"\",HLOOKUP(Industry_Segment,Industry_Golive,$B47,FALSE)=\"\"),\"\",IF(AND(U$217=$BG48,R$216=$BH48),1,\"\"))","v":""},{"$f":"IF(OR($C298=\"\",HLOOKUP(Industry_Segment,Industry_Golive,$B47,FALSE)=\"\"),\"\",IF(AND(V$217=$BG48,V$216=$BH48),1,\"\"))","v":""},{"$f":"IF(OR($C298=\"\",HLOOKUP(Industry_Segment,Industry_Golive,$B47,FALSE)=\"\"),\"\",IF(AND(W$217=$BG48,V$216=$BH48),1,\"\"))","v":""},{"$f":"IF(OR($C298=\"\",HLOOKUP(Industry_Segment,Industry_Golive,$B47,FALSE)=\"\"),\"\",IF(AND(X$217=$BG48,V$216=$BH48),1,\"\"))","v":""},{"$f":"IF(OR($C298=\"\",HLOOKUP(Industry_Segment,Industry_Golive,$B47,FALSE)=\"\"),\"\",IF(AND(Y$217=$BG48,V$216=$BH48),1,\"\"))","v":""},{"$f":"IF(OR($C298=\"\",HLOOKUP(Industry_Segment,Industry_Golive,$B47,FALSE)=\"\"),\"\",IF(AND(Z$217=$BG48,Z$216=$BH48),1,\"\"))","v":""},{"$f":"IF(OR($C298=\"\",HLOOKUP(Industry_Segment,Industry_Golive,$B47,FALSE)=\"\"),\"\",IF(AND(AA$217=$BG48,Z$216=$BH48),1,\"\"))","v":""},{"$f":"IF(OR($C298=\"\",HLOOKUP(Industry_Segment,Industry_Golive,$B47,FALSE)=\"\"),\"\",IF(AND(AB$217=$BG48,Z$216=$BH48),1,\"\"))","v":""},{"$f":"IF(OR($C298=\"\",HLOOKUP(Industry_Segment,Industry_Golive,$B47,FALSE)=\"\"),\"\",IF(AND(AC$217=$BG48,Z$216=$BH48),1,\"\"))","v":""}]
[null,null,"I - Frequency Performance Payments","FD","","","","","","","","","","","","",null,"","","","","","","","","","","",""]
[null,null,"I - Enhancing Reserve Information","FD","","","","","","","","","","","","",null,"","","","","","","","","","","",""]
[null,null,"I - ST PASA Procedure & Recall Period","FD","","","","","","","","","","","","",null,"","","","","","","","","","","",""]
[null,null,"I - Improving Security Frameworks","FD","","","","","","","","","","","","",null,"","","","","","","","","","","",""]
[null,null,"I - Unlocking CER Benefits Through Flexible Trading","FD","","","","","","","","","","","","",null,"","","","","","","","","","","",""]
[null,null,"I - MSR (Accelerating Smart Meter Deployment - Package 1 & 2)","FD","","","","","","","","","","","","",null,"","","","","","","","","","","",""]
[null,null,"I - Shortening the Settlement Cycle","FD","","","","","","","","","","","","",null,"","","","","","","","","","","",""]
[null,null,"I - Integrating Price Responsive Resources into the NEM","FD","","","","","","","","","","","","",null,"","","","","","","","","","","",""]
[null,null,"I - IDX (Foundation)","FD","","","","","","","","","","","","",null,"","","","","","","","","","","",""]
[null,null,"I - IDAM (Foundation)","FD","","","","","","","","","","","","",null,"","","","","","","","","","","",""]
[null,null,"I - MSR (Accelerating Smart Meter Deployment - Package 3)","FD","","","","","","","","","","","","",null,"","","","","","","","","","","",""]
[null,null,"A - Inter-regional SRAs for transmission loops (PEC-MI)","FD","","",1,"","","","","","","","","",null,"","",1,"","","","","","","","",""]
[null,null,"","FD","","","","","","","","","","","","",null,"","","","","","","","","","","",""]
[null,null,"","FD","","","","","","","","","","","","",null,"","","","","","","","","","","",""]
[null,null,"","FD","","","","","","","","","","","","",null,"","","","","","","","","","","",""]
[null,null,"","FD","","","","","","","","","","","","",null,"","","","","","","","","","","",""]
[null,null,"","FD","","","","","","","","","","","","",null,"","","","","","","","","","","",""]
[null,null,"","FD","","","","","","","","","","","","",null,"","","","","","","","","","","",""]
[null,null,"","FD","","","","","","","","","","","","",null,"","","","","","","","","","","",""]
[]
[null,null,"Step","Industry Implementation - Flags"]
[null,null,null,"Step",{"$f":"Start_Yr","v":2025},null,null,null,{"$f":"E320+1","v":2026},null,null,null,{"$f":"I320+1","v":2027}]
[null,null,null,null,"Q1","Q2","Q3","Q4","Q1","Q2","Q3","Q4","Q1","Q2","Q3","Q4"]
[null,null,"Procedure & Guideline","PG",{"$f":"SUMIF($D$218:$D$297,$D322,E$218:E$297)","v":7},12,9,6,4,3,0,0,0,0,0,0]
[null,null,"IT Solution","IT",6,7,8,8,6,6,3,1,1,1,0,0]
[null,null,"Testing & Readiness","TR",4,5,3,5,5,6,4,2,1,1,0,0]
[null,null,"Go Live","GO",0,2,2,2,0,1,1,3,0,1,0,0]